{"text_format":"1","workbook":"xlsx","n_sheets":35,"sheets":["Menu","Programme","Espace Admin","Reseaux","Paramètres","Données","DS","ASBL","PS","RecapGlobal","Reseaux-mois","DS-mois","PS-mois","ASBL-mois","Reseaux-Période","DS-Période","PS-Période","ASBL-Période","Reseaux-Tranche age","Feuil1","Feuil2","Feuil3","Feuil4","Feuil5","DS-Tranche age","PS-Tranche age","ASBL-Tranche age","Reseaux-année","DS-année","PS-année","Feuil8","Feuil7","Feuil6","ASBL-année","Accès"],"not_rendered":{"charts":103,"images":13,"macros":1,"external_links":6,"defined_names":83,"comments":0,"pivot_tables":0},"unopened":[],"bounds":{"document_bytes":16777216,"sheet_cells":100000,"rows_first":2000,"rows_last":500,"rows_between":2000,"halvings":0,"cell_chars":16384,"cell_head_chars":4096},"cells_cut":0,"cells_raw":0,"read":"whole","date_system":"1900"}

{"sheet":"Menu","index":0,"n_rows":0,"n_cols":0,"rows_kept":0,"cut":false,"hidden":false,"merged":[]}

{"sheet":"Programme","index":1,"n_rows":1,"n_cols":1,"rows_kept":1,"cut":false,"hidden":false,"merged":[]}
[" "]

{"sheet":"Espace Admin","index":2,"n_rows":1,"n_cols":1,"rows_kept":1,"cut":false,"hidden":false,"merged":[]}
[" "]

{"sheet":"Reseaux","index":3,"n_rows":52,"n_cols":70,"rows_kept":52,"cut":false,"hidden":false,"merged":[[6,53,6,57],[6,59,6,63],[3,7,3,8],[6,17,6,21],[6,23,6,27],[5,41,5,70],[5,11,5,38],[0,10,0,14],[6,29,6,33],[0,4,0,5],[0,7,0,8],[1,4,1,5],[1,7,1,8],[5,4,5,8],[5,1,5,2],[8,53,8,57],[8,59,8,63],[8,65,8,69],[8,34,8,38],[8,41,8,45],[8,47,8,51],[6,65,6,69],[6,34,6,38],[8,11,8,15],[8,17,8,21],[6,11,6,15],[8,23,8,27],[8,29,8,33],[6,41,6,45],[6,47,6,51]]}
[null,null,null,null,"TOTAL MASCULIN",null,null,"TOTAL FEMININ",null,null,{"$f":"TODAY()","v":"2023-03-21"}]
[null,null,"Selectionnez l'année",null,{"$f":"SUMIFS(Tableau_Data[Masculin],Tableau_Data[Annee],Reseaux!C$3)","v":0},null,null,{"$f":"SUMIFS(Tableau_Data[Féminin],Tableau_Data[Annee],Reseaux!C$3)","v":0},null,null,null,{"$f":"SUMIFS(Tableau_Data[Masculin],Tableau_Data[Lieu d''intervention],$L$9,Tableau_Data[Annee],$F$3)","v":0},null,{"$f":"SUMIFS(Tableau_Data[Féminin],Tableau_Data[Lieu d''intervention],$L$9,Tableau_Data[Annee],$F$3)","v":0},null,{"$f":"SUM(L2:N2)","v":0},null,{"$f":"SUMIFS(Tableau_Data[Masculin],Tableau_Data[Lieu d''intervention],$R$9,Tableau_Data[Annee],$F$3)","v":0},null,{"$f":"SUMIFS(Tableau_Data[Féminin],Tableau_Data[Lieu d''intervention],$R$9,Tableau_Data[Annee],$F$3)","v":0},null,{"$f":"SUM(R2:T2)","v":0},null,{"$f":"SUMIFS(Tableau_Data[Masculin],Tableau_Data[Lieu d''intervention],$X$9,Tableau_Data[Annee],$F$3)","v":0},null,{"$f":"SUMIFS(Tableau_Data[Féminin],Tableau_Data[Lieu d''intervention],$X$9,Tableau_Data[Annee],$F$3)","v":0},null,{"$f":"SUM(X2:Z2)","v":0},null,{"$f":"SUMIFS(Tableau_Data[Masculin],Tableau_Data[Lieu d''intervention],$AD$9,Tableau_Data[Annee],$F$3)","v":0},null,{"$f":"SUMIFS(Tableau_Data[Féminin],Tableau_Data[Lieu d''intervention],$AD$9,Tableau_Data[Annee],$F$3)","v":0},null,{"$f":"SUM(AD2:AF2)","v":0},{"$f":"SUMIFS(Tableau_Data[Masculin],Tableau_Data[Thèmes],$AI$9,Tableau_Data[Annee],$F$3)","v":0},null,{"$f":"SUMIFS(Tableau_Data[Féminin],Tableau_Data[Thèmes],$AI$9,Tableau_Data[Annee],$F$3)","v":0},null,{"$f":"SUM(AI2:AK2)","v":0},null,null,{"$f":"SUMIFS(Tableau_Data[Masculin],Tableau_Data[Thèmes],$AP$9,Tableau_Data[Annee],$F$3)","v":0},null,{"$f":"SUMIFS(Tableau_Data[Féminin],Tableau_Data[Thèmes],$AP$9,Tableau_Data[Annee],$F$3)","v":0},null,{"$f":"SUM(AP2:AR2)","v":0},null,{"$f":"SUMIFS(Tableau_Data[Masculin],Tableau_Data[Thèmes],$AV$9,Tableau_Data[Annee],$F$3)","v":0},null,{"$f":"SUMIFS(Tableau_Data[Féminin],Tableau_Data[Thèmes],$AV$9,Tableau_Data[Annee],$F$3)","v":0},null,{"$f":"SUM(AV2:AX2)","v":0},null,{"$f":"SUMIFS(Tableau_Data[Masculin],Tableau_Data[Thèmes],$BB$9,Tableau_Data[Annee],$F$3)","v":0},null,{"$f":"SUMIFS(Tableau_Data[Féminin],Tableau_Data[Thèmes],$BB$9,Tableau_Data[Annee],$F$3)","v":0},null,{"$f":"SUM(BB2:BD2)","v":0},null,{"$f":"SUMIFS(Tableau_Data[Masculin],Tableau_Data[Thèmes],$BH$9,Tableau_Data[Annee],$F$3)","v":0},null,{"$f":"SUMIFS(Tableau_Data[Féminin],Tableau_Data[Thèmes],$BH$9,Tableau_Data[Annee],$F$3)","v":0},null,{"$f":"SUM(BH2:BJ2)","v":0},null,{"$f":"SUMIFS(Tableau_Data[Masculin],Tableau_Data[Thèmes],$BN$9,Tableau_Data[Annee],$F$3)","v":0},null,{"$f":"SUMIFS(Tableau_Data[Féminin],Tableau_Data[Thèmes],$BN$9,Tableau_Data[Annee],$F$3)","v":0},null,{"$f":"SUM(BN2:BP2)","v":0}]
[null,null,2019,null,null,{"$f":"C3","v":2019}]
[null,null,null,null,null,null,null,"Novembre",null,{"$f":"VLOOKUP(H4,Paramètres!$V$7:$W$18,2,0)","v":11}]
[]
[null,"Variales",null,null,"SEXE",null,null,null,null,null,null,"LIEU D'INTERVENTION",null,null,null,null,null,null,null,null,null,null,null,null,null,null,null,null,null,null,null,null,null,null,null,null,null,null,null,null,null,"THEMES TRAITES"]
[null,null,null,null,{"$f":"E10","v":"MASCULIN"},null,{"$f":"G10","v":"FEMININ"},null,null,null,null,{"$f":"L9","v":"ECOLE"},null,null,null,null,null,{"$f":"R9","v":"CENTRE DE SANTE"},null,null,null,null,null,{"$f":"X9","v":"COMMUNAUTE"},null,null,null,null,null,{"$f":"AD9","v":"CENTRE PVH"},null,null,null,null,{"$f":"AI9","v":"EGLISE"},null,null,null,null,null,null,{"$f":"AP9","v":"IST/VIH-SIDA"},null,null,null,null,null,{"$f":"AV9","v":"VSBG"},null,null,null,null,null,{"$f":"BB9","v":"PF"},null,null,null,null,null,{"$f":"BH9","v":"Autres thèmes SSRAJ"},null,null,null,null,null,{"$f":"BN9","v":0}]
[null,null,null,null,{"$f":"E52","v":0},null,{"$f":"G52","v":0},null,{"$f":"I52","v":0},null,null,{"$f":"L52","v":0},null,{"$f":"N52","v":0},null,{"$f":"P52","v":0},null,{"$f":"R52","v":0},null,0,null,0,null,0,0,0,0,0,null,0,null,0,null,{"$f":"AH52","v":0},{"$f":"AI52","v":0},null,{"$f":"AK52","v":0},null,{"$f":"AM52","v":0},null,null,{"$f":"AP52","v":0},null,{"$f":"AR52","v":0},null,{"$f":"AT52","v":0},null,{"$f":"AV52","v":0},null,{"$f":"AX52","v":0},null,{"$f":"AZ52","v":0},null,{"$f":"BB52","v":0},null,{"$f":"BD52","v":0},null,{"$f":"BF52","v":0},null,{"$f":"BH52","v":0},null,{"$f":"BJ52","v":0},null,{"$f":"BL52","v":0},null,{"$f":"BN52","v":0},null,{"$f":"BP52","v":0},null,{"$f":"BR52","v":0}]
[null,null,null,null,null,null,null,null,null,null,null,{"$f":"Paramètres!B7","v":"ECOLE"},null,null,null,null,null,{"$f":"Paramètres!B8","v":"CENTRE DE SANTE"},null,null,null,null,null,{"$f":"Paramètres!B9","v":"COMMUNAUTE"},null,null,null,null,null,{"$f":"Paramètres!B10","v":"CENTRE PVH"},null,null,null,null,{"$f":"Paramètres!B11","v":"EGLISE"},null,null,null,null,null,null,{"$f":"Paramètres!F7","v":"IST/VIH-SIDA"},null,null,null,null,null,{"$f":"Paramètres!F8","v":"VSBG"},null,null,null,null,null,{"$f":"Paramètres!F9","v":"PF"},null,null,null,null,null,{"$f":"Paramètres!F10","v":"Autres thèmes SSRAJ"},null,null,null,null,null,{"$f":"Paramètres!F11","v":0}]
[null,null,null,null,"MASCULIN",null,"FEMININ",null,null,null,null,"M",null,"F",null,null,null,"M",null,"F",null,null,null,"M",null,"F",null,null,null,"M",null,"F",null,null,"M",null,"F",null,null,null,null,"M",null,"F",null,null,null,"M",null,"F",null,null,null,"M",null,"F",null,null,null,"M",null,"F",null,null,null,"M",null,"F"]
[]
[null,1,{"$f":"Paramètres!M5","v":"CDS Muramvya"},null,{"$f":"SUMIFS(Tableau_Data[Masculin],Tableau_Data[Nom du CDS],Reseaux!$C12,Tableau_Data[Annee],Reseaux!$F$3,Tableau_Data[Mois],Reseaux!J$4)","v":0},null,{"$f":"SUMIFS(Tableau_Data[Féminin],Tableau_Data[Nom du CDS],Reseaux!$C12,Tableau_Data[Annee],Reseaux!$F$3,Tableau_Data[Mois],Reseaux!J$4)","v":0},null,{"$f":"SUM(E12:G12)","v":0},null,null,{"$f":"SUMIFS(Tableau_Data[Masculin],Tableau_Data[Nom du CDS],Reseaux!$C12,Tableau_Data[Lieu d''intervention],Reseaux!$L$9,Tableau_Data[Annee],Reseaux!$F$3,Tableau_Data[Mois],Reseaux!J$4)","v":0},null,{"$f":"SUMIFS(Tableau_Data[Féminin],Tableau_Data[Nom du CDS],Reseaux!$C12,Tableau_Data[Lieu d''intervention],Reseaux!$L$9,Tableau_Data[Annee],Reseaux!$F$3,Tableau_Data[Mois],Reseaux!J$4)","v":0},null,{"$f":"SUM(L12:N12)","v":0},null,{"$f":"SUMIFS(Tableau_Data[Masculin],Tableau_Data[Nom du CDS],Reseaux!$C12,Tableau_Data[Lieu d''intervention],Reseaux!$R$9,Tableau_Data[Annee],Reseaux!$F$3,Tableau_Data[Mois],Reseaux!J$4)","v":0},null,{"$f":"SUMIFS(Tableau_Data[Féminin],Tableau_Data[Nom du CDS],Reseaux!$C12,Tableau_Data[Lieu d''intervention],Reseaux!$R$9,Tableau_Data[Annee],Reseaux!$F$3,Tableau_Data[Mois],Reseaux!J$4)","v":0},null,{"$f":"SUM(R12:T12)","v":0},null,{"$f":"SUMIFS(Tableau_Data[Masculin],Tableau_Data[Nom du CDS],Reseaux!$C12,Tableau_Data[Lieu d''intervention],Reseaux!$X$9,Tableau_Data[Annee],Reseaux!$F$3,Tableau_Data[Mois],Reseaux!J$4)","v":0},null,{"$f":"SUMIFS(Tableau_Data[Féminin],Tableau_Data[Nom du CDS],Reseaux!$C12,Tableau_Data[Lieu d''intervention],Reseaux!$X$9,Tableau_Data[Annee],Reseaux!$F$3,Tableau_Data[Mois],Reseaux!J$4)","v":0},null,{"$f":"SUM(X12:Z12)","v":0},null,{"$f":"SUMIFS(Tableau_Data[Masculin],Tableau_Data[Nom du CDS],Reseaux!$C12,Tableau_Data[Lieu d''intervention],Reseaux!$AD$9,Tableau_Data[Annee],Reseaux!$F$3,Tableau_Data[Mois],Reseaux!J$4)","v":0},null,{"$f":"SUMIFS(Tableau_Data[Féminin],Tableau_Data[Nom du CDS],Reseaux!$C12,Tableau_Data[Lieu d''intervention],Reseaux!$AD$9,Tableau_Data[Annee],Reseaux!$F$3,Tableau_Data[Mois],Reseaux!J$4)","v":0},null,{"$f":"SUM(AD12:AF12)","v":0},{"$f":"SUMIFS(Tableau_Data[Masculin],Tableau_Data[Nom du CDS],Reseaux!$C12,Tableau_Data[Thèmes],Reseaux!$AI$9,Tableau_Data[Annee],Reseaux!$F$3,Tableau_Data[Mois],Reseaux!J$4)","v":0},null,{"$f":"SUMIFS(Tableau_Data[Féminin],Tableau_Data[Nom du CDS],Reseaux!$C12,Tableau_Data[Thèmes],Reseaux!$AI$9,Tableau_Data[Annee],Reseaux!$F$3,Tableau_Data[Mois],Reseaux!J$4)","v":0},null,{"$f":"SUM(AI12:AK12)","v":0},null,null,{"$f":"SUMIFS(Tableau_Data[Masculin],Tableau_Data[Nom du CDS],Reseaux!$C12,Tableau_Data[Thèmes],Reseaux!$AP$9,Tableau_Data[Annee],Reseaux!$F$3,Tableau_Data[Mois],Reseaux!J$4)","v":0},null,{"$f":"SUMIFS(Tableau_Data[Féminin],Tableau_Data[Nom du CDS],Reseaux!$C12,Tableau_Data[Thèmes],Reseaux!$AP$9,Tableau_Data[Annee],Reseaux!$F$3,Tableau_Data[Mois],Reseaux!J$4)","v":0},null,{"$f":"SUM(AP12:AR12)","v":0},null,{"$f":"SUMIFS(Tableau_Data[Masculin],Tableau_Data[Nom du CDS],Reseaux!$C12,Tableau_Data[Thèmes],Reseaux!$AV$9,Tableau_Data[Annee],Reseaux!$F$3,Tableau_Data[Mois],Reseaux!J$4)","v":0},null,{"$f":"SUMIFS(Tableau_Data[Féminin],Tableau_Data[Nom du CDS],Reseaux!$C12,Tableau_Data[Thèmes],Reseaux!$AV$9,Tableau_Data[Annee],Reseaux!$F$3,Tableau_Data[Mois],Reseaux!J$4)","v":0},null,{"$f":"SUM(AV12:AX12)","v":0},null,{"$f":"SUMIFS(Tableau_Data[Masculin],Tableau_Data[Nom du CDS],Reseaux!$C12,Tableau_Data[Thèmes],Reseaux!$BB$9,Tableau_Data[Annee],Reseaux!$F$3,Tableau_Data[Mois],Reseaux!J$4)","v":0},null,{"$f":"SUMIFS(Tableau_Data[Féminin],Tableau_Data[Nom du CDS],Reseaux!$C12,Tableau_Data[Thèmes],Reseaux!$BB$9,Tableau_Data[Annee],Reseaux!$F$3,Tableau_Data[Mois],Reseaux!$J$4)","v":0},null,{"$f":"SUM(BB12:BD12)","v":0},null,{"$f":"SUMIFS(Tableau_Data[Masculin],Tableau_Data[Nom du CDS],Reseaux!$C12,Tableau_Data[Thèmes],Reseaux!$BH$9,Tableau_Data[Annee],Reseaux!$F$3,Tableau_Data[Mois],Reseaux!$J$4)","v":0},null,{"$f":"SUMIFS(Tableau_Data[Féminin],Tableau_Data[Nom du CDS],Reseaux!$C12,Tableau_Data[Thèmes],Reseaux!$BH$9,Tableau_Data[Annee],Reseaux!$F$3,Tableau_Data[Mois],Reseaux!$J$4)","v":0},null,{"$f":"SUM(BH12:BJ12)","v":0},null,{"$f":"SUMIFS(Tableau_Data[Masculin],Tableau_Data[Nom du CDS],Reseaux!$C12,Tableau_Data[Thèmes],Reseaux!$BN$9,Tableau_Data[Annee],Reseaux!$F$3,Tableau_Data[Mois],Reseaux!$J$4)","v":0},null,{"$f":"SUMIFS(Tableau_Data[Féminin],Tableau_Data[Nom du CDS],Reseaux!$C12,Tableau_Data[Thèmes],Reseaux!$BN$9,Tableau_Data[Annee],Reseaux!$F$3,Tableau_Data[Mois],Reseaux!$J$4)","v":0},null,{"$f":"SUM(BN12:BP12)","v":0}]
[null,{"$f":"IF(Reseaux!B12=\"\",\"\",1+B12)","v":2},{"$f":"Paramètres!M6","v":"CDS Bugarama"},null,{"$f":"SUMIFS(Tableau_Data[Masculin],Tableau_Data[Nom du CDS],Reseaux!$C13,Tableau_Data[Annee],Reseaux!$F$3,Tableau_Data[Mois],Reseaux!J$4)","v":0},null,{"$f":"SUMIFS(Tableau_Data[Féminin],Tableau_Data[Nom du CDS],Reseaux!$C13,Tableau_Data[Annee],Reseaux!$F$3,Tableau_Data[Mois],Reseaux!J$4)","v":0},null,{"$f":"SUM(E13:G13)","v":0},null,null,{"$f":"SUMIFS(Tableau_Data[Masculin],Tableau_Data[Nom du CDS],Reseaux!$C13,Tableau_Data[Lieu d''intervention],Reseaux!$L$9,Tableau_Data[Annee],Reseaux!$F$3,Tableau_Data[Mois],Reseaux!J$4)","v":0},null,{"$f":"SUMIFS(Tableau_Data[Féminin],Tableau_Data[Nom du CDS],Reseaux!$C13,Tableau_Data[Lieu d''intervention],Reseaux!$L$9,Tableau_Data[Annee],Reseaux!$F$3,Tableau_Data[Mois],Reseaux!J$4)","v":0},null,{"$f":"SUM(L13:N13)","v":0},null,{"$f":"SUMIFS(Tableau_Data[Masculin],Tableau_Data[Nom du CDS],Reseaux!$C13,Tableau_Data[Lieu d''intervention],Reseaux!$R$9,Tableau_Data[Annee],Reseaux!$F$3,Tableau_Data[Mois],Reseaux!J$4)","v":0},null,{"$f":"SUMIFS(Tableau_Data[Féminin],Tableau_Data[Nom du CDS],Reseaux!$C13,Tableau_Data[Lieu d''intervention],Reseaux!$R$9,Tableau_Data[Annee],Reseaux!$F$3,Tableau_Data[Mois],Reseaux!J$4)","v":0},null,{"$f":"SUM(R13:T13)","v":0},null,{"$f":"SUMIFS(Tableau_Data[Masculin],Tableau_Data[Nom du CDS],Reseaux!$C13,Tableau_Data[Lieu d''intervention],Reseaux!$X$9,Tableau_Data[Annee],Reseaux!$F$3,Tableau_Data[Mois],Reseaux!J$4)","v":0},null,{"$f":"SUMIFS(Tableau_Data[Féminin],Tableau_Data[Nom du CDS],Reseaux!$C13,Tableau_Data[Lieu d''intervention],Reseaux!$X$9,Tableau_Data[Annee],Reseaux!$F$3,Tableau_Data[Mois],Reseaux!J$4)","v":0},null,{"$f":"SUM(X13:Z13)","v":0},null,{"$f":"SUMIFS(Tableau_Data[Masculin],Tableau_Data[Nom du CDS],Reseaux!$C13,Tableau_Data[Lieu d''intervention],Reseaux!$AD$9,Tableau_Data[Annee],Reseaux!$F$3,Tableau_Data[Mois],Reseaux!J$4)","v":0},null,{"$f":"SUMIFS(Tableau_Data[Féminin],Tableau_Data[Nom du CDS],Reseaux!$C13,Tableau_Data[Lieu d''intervention],Reseaux!$AD$9,Tableau_Data[Annee],Reseaux!$F$3,Tableau_Data[Mois],Reseaux!J$4)","v":0},null,{"$f":"SUM(AD13:AF13)","v":0},{"$f":"SUMIFS(Tableau_Data[Masculin],Tableau_Data[Nom du CDS],Reseaux!$C13,Tableau_Data[Thèmes],Reseaux!$AI$9,Tableau_Data[Annee],Reseaux!$F$3,Tableau_Data[Mois],Reseaux!J$4)","v":0},null,{"$f":"SUMIFS(Tableau_Data[Féminin],Tableau_Data[Nom du CDS],Reseaux!$C13,Tableau_Data[Thèmes],Reseaux!$AI$9,Tableau_Data[Annee],Reseaux!$F$3,Tableau_Data[Mois],Reseaux!J$4)","v":0},null,{"$f":"SUM(AI13:AK13)","v":0},null,null,{"$f":"SUMIFS(Tableau_Data[Masculin],Tableau_Data[Nom du CDS],Reseaux!$C13,Tableau_Data[Thèmes],Reseaux!$AP$9,Tableau_Data[Annee],Reseaux!$F$3,Tableau_Data[Mois],Reseaux!J$4)","v":0},null,{"$f":"SUMIFS(Tableau_Data[Féminin],Tableau_Data[Nom du CDS],Reseaux!$C13,Tableau_Data[Thèmes],Reseaux!$AP$9,Tableau_Data[Annee],Reseaux!$F$3,Tableau_Data[Mois],Reseaux!J$4)","v":0},null,{"$f":"SUM(AP13:AR13)","v":0},null,{"$f":"SUMIFS(Tableau_Data[Masculin],Tableau_Data[Nom du CDS],Reseaux!$C13,Tableau_Data[Thèmes],Reseaux!$AV$9,Tableau_Data[Annee],Reseaux!$F$3,Tableau_Data[Mois],Reseaux!J$4)","v":0},null,{"$f":"SUMIFS(Tableau_Data[Féminin],Tableau_Data[Nom du CDS],Reseaux!$C13,Tableau_Data[Thèmes],Reseaux!$AV$9,Tableau_Data[Annee],Reseaux!$F$3,Tableau_Data[Mois],Reseaux!J$4)","v":0},null,{"$f":"SUM(AV13:AX13)","v":0},null,{"$f":"SUMIFS(Tableau_Data[Masculin],Tableau_Data[Nom du CDS],Reseaux!$C13,Tableau_Data[Thèmes],Reseaux!$BB$9,Tableau_Data[Annee],Reseaux!$F$3,Tableau_Data[Mois],Reseaux!J$4)","v":0},null,{"$f":"SUMIFS(Tableau_Data[Féminin],Tableau_Data[Nom du CDS],Reseaux!$C13,Tableau_Data[Thèmes],Reseaux!$BB$9,Tableau_Data[Annee],Reseaux!$F$3,Tableau_Data[Mois],Reseaux!$J$4)","v":0},null,{"$f":"SUM(BB13:BD13)","v":0},null,{"$f":"SUMIFS(Tableau_Data[Masculin],Tableau_Data[Nom du CDS],Reseaux!$C13,Tableau_Data[Thèmes],Reseaux!$BH$9,Tableau_Data[Annee],Reseaux!$F$3,Tableau_Data[Mois],Reseaux!$J$4)","v":0},null,{"$f":"SUMIFS(Tableau_Data[Féminin],Tableau_Data[Nom du CDS],Reseaux!$C13,Tableau_Data[Thèmes],Reseaux!$BH$9,Tableau_Data[Annee],Reseaux!$F$3,Tableau_Data[Mois],Reseaux!$J$4)","v":0},null,{"$f":"SUM(BH13:BJ13)","v":0},null,{"$f":"SUMIFS(Tableau_Data[Masculin],Tableau_Data[Nom du CDS],Reseaux!$C13,Tableau_Data[Thèmes],Reseaux!$BN$9,Tableau_Data[Annee],Reseaux!$F$3,Tableau_Data[Mois],Reseaux!$J$4)","v":0},null,{"$f":"SUMIFS(Tableau_Data[Féminin],Tableau_Data[Nom du CDS],Reseaux!$C13,Tableau_Data[Thèmes],Reseaux!$BN$9,Tableau_Data[Annee],Reseaux!$F$3,Tableau_Data[Mois],Reseaux!$J$4)","v":0},null,{"$f":"SUM(BN13:BP13)","v":0}]
[null,{"$f":"IF(Reseaux!B13=\"\",\"\",1+B13)","v":3},{"$f":"Paramètres!M7","v":"CDS Rweza"},null,{"$f":"SUMIFS(Tableau_Data[Masculin],Tableau_Data[Nom du CDS],Reseaux!$C14,Tableau_Data[Annee],Reseaux!$F$3,Tableau_Data[Mois],Reseaux!J$4)","v":0},null,{"$f":"SUMIFS(Tableau_Data[Féminin],Tableau_Data[Nom du CDS],Reseaux!$C14,Tableau_Data[Annee],Reseaux!$F$3,Tableau_Data[Mois],Reseaux!J$4)","v":0},null,0,null,null,{"$f":"SUMIFS(Tableau_Data[Masculin],Tableau_Data[Nom du CDS],Reseaux!$C14,Tableau_Data[Lieu d''intervention],Reseaux!$L$9,Tableau_Data[Annee],Reseaux!$F$3,Tableau_Data[Mois],Reseaux!J$4)","v":0},null,{"$f":"SUMIFS(Tableau_Data[Féminin],Tableau_Data[Nom du CDS],Reseaux!$C14,Tableau_Data[Lieu d''intervention],Reseaux!$L$9,Tableau_Data[Annee],Reseaux!$F$3,Tableau_Data[Mois],Reseaux!J$4)","v":0},null,0,null,{"$f":"SUMIFS(Tableau_Data[Masculin],Tableau_Data[Nom du CDS],Reseaux!$C14,Tableau_Data[Lieu d''intervention],Reseaux!$R$9,Tableau_Data[Annee],Reseaux!$F$3,Tableau_Data[Mois],Reseaux!J$4)","v":0},null,{"$f":"SUMIFS(Tableau_Data[Féminin],Tableau_Data[Nom du CDS],Reseaux!$C14,Tableau_Data[Lieu d''intervention],Reseaux!$R$9,Tableau_Data[Annee],Reseaux!$F$3,Tableau_Data[Mois],Reseaux!J$4)","v":0},null,0,null,{"$f":"SUMIFS(Tableau_Data[Masculin],Tableau_Data[Nom du CDS],Reseaux!$C14,Tableau_Data[Lieu d''intervention],Reseaux!$X$9,Tableau_Data[Annee],Reseaux!$F$3,Tableau_Data[Mois],Reseaux!J$4)","v":0},null,{"$f":"SUMIFS(Tableau_Data[Féminin],Tableau_Data[Nom du CDS],Reseaux!$C14,Tableau_Data[Lieu d''intervention],Reseaux!$X$9,Tableau_Data[Annee],Reseaux!$F$3,Tableau_Data[Mois],Reseaux!J$4)","v":0},null,0,null,{"$f":"SUMIFS(Tableau_Data[Masculin],Tableau_Data[Nom du CDS],Reseaux!$C14,Tableau_Data[Lieu d''intervention],Reseaux!$AD$9,Tableau_Data[Annee],Reseaux!$F$3,Tableau_Data[Mois],Reseaux!J$4)","v":0},null,{"$f":"SUMIFS(Tableau_Data[Féminin],Tableau_Data[Nom du CDS],Reseaux!$C14,Tableau_Data[Lieu d''intervention],Reseaux!$AD$9,Tableau_Data[Annee],Reseaux!$F$3,Tableau_Data[Mois],Reseaux!J$4)","v":0},null,0,{"$f":"SUMIFS(Tableau_Data[Masculin],Tableau_Data[Nom du CDS],Reseaux!$C14,Tableau_Data[Thèmes],Reseaux!$AI$9,Tableau_Data[Annee],Reseaux!$F$3,Tableau_Data[Mois],Reseaux!J$4)","v":0},null,{"$f":"SUMIFS(Tableau_Data[Féminin],Tableau_Data[Nom du CDS],Reseaux!$C14,Tableau_Data[Thèmes],Reseaux!$AI$9,Tableau_Data[Annee],Reseaux!$F$3,Tableau_Data[Mois],Reseaux!J$4)","v":0},null,0,null,null,{"$f":"SUMIFS(Tableau_Data[Masculin],Tableau_Data[Nom du CDS],Reseaux!$C14,Tableau_Data[Thèmes],Reseaux!$AP$9,Tableau_Data[Annee],Reseaux!$F$3,Tableau_Data[Mois],Reseaux!J$4)","v":0},null,{"$f":"SUMIFS(Tableau_Data[Féminin],Tableau_Data[Nom du CDS],Reseaux!$C14,Tableau_Data[Thèmes],Reseaux!$AP$9,Tableau_Data[Annee],Reseaux!$F$3,Tableau_Data[Mois],Reseaux!J$4)","v":0},null,0,null,{"$f":"SUMIFS(Tableau_Data[Masculin],Tableau_Data[Nom du CDS],Reseaux!$C14,Tableau_Data[Thèmes],Reseaux!$AV$9,Tableau_Data[Annee],Reseaux!$F$3,Tableau_Data[Mois],Reseaux!J$4)","v":0},null,{"$f":"SUMIFS(Tableau_Data[Féminin],Tableau_Data[Nom du CDS],Reseaux!$C14,Tableau_Data[Thèmes],Reseaux!$AV$9,Tableau_Data[Annee],Reseaux!$F$3,Tableau_Data[Mois],Reseaux!J$4)","v":0},null,0,null,{"$f":"SUMIFS(Tableau_Data[Masculin],Tableau_Data[Nom du CDS],Reseaux!$C14,Tableau_Data[Thèmes],Reseaux!$BB$9,Tableau_Data[Annee],Reseaux!$F$3,Tableau_Data[Mois],Reseaux!J$4)","v":0},null,{"$f":"SUMIFS(Tableau_Data[Féminin],Tableau_Data[Nom du CDS],Reseaux!$C14,Tableau_Data[Thèmes],Reseaux!$BB$9,Tableau_Data[Annee],Reseaux!$F$3,Tableau_Data[Mois],Reseaux!$J$4)","v":0},null,0,null,{"$f":"SUMIFS(Tableau_Data[Masculin],Tableau_Data[Nom du CDS],Reseaux!$C14,Tableau_Data[Thèmes],Reseaux!$BH$9,Tableau_Data[Annee],Reseaux!$F$3,Tableau_Data[Mois],Reseaux!$J$4)","v":0},null,{"$f":"SUMIFS(Tableau_Data[Féminin],Tableau_Data[Nom du CDS],Reseaux!$C14,Tableau_Data[Thèmes],Reseaux!$BH$9,Tableau_Data[Annee],Reseaux!$F$3,Tableau_Data[Mois],Reseaux!$J$4)","v":0},null,0,null,{"$f":"SUMIFS(Tableau_Data[Masculin],Tableau_Data[Nom du CDS],Reseaux!$C14,Tableau_Data[Thèmes],Reseaux!$BN$9,Tableau_Data[Annee],Reseaux!$F$3,Tableau_Data[Mois],Reseaux!$J$4)","v":0},null,{"$f":"SUMIFS(Tableau_Data[Féminin],Tableau_Data[Nom du CDS],Reseaux!$C14,Tableau_Data[Thèmes],Reseaux!$BN$9,Tableau_Data[Annee],Reseaux!$F$3,Tableau_Data[Mois],Reseaux!$J$4)","v":0},null,0]
[null,{"$f":"IF(Reseaux!B14=\"\",\"\",1+B14)","v":4},{"$f":"Paramètres!M8","v":"CDS Teza"},null,{"$f":"SUMIFS(Tableau_Data[Masculin],Tableau_Data[Nom du CDS],Reseaux!$C15,Tableau_Data[Annee],Reseaux!$F$3,Tableau_Data[Mois],Reseaux!J$4)","v":0},null,{"$f":"SUMIFS(Tableau_Data[Féminin],Tableau_Data[Nom du CDS],Reseaux!$C15,Tableau_Data[Annee],Reseaux!$F$3,Tableau_Data[Mois],Reseaux!J$4)","v":0},null,0,null,null,{"$f":"SUMIFS(Tableau_Data[Masculin],Tableau_Data[Nom du CDS],Reseaux!$C15,Tableau_Data[Lieu d''intervention],Reseaux!$L$9,Tableau_Data[Annee],Reseaux!$F$3,Tableau_Data[Mois],Reseaux!J$4)","v":0},null,{"$f":"SUMIFS(Tableau_Data[Féminin],Tableau_Data[Nom du CDS],Reseaux!$C15,Tableau_Data[Lieu d''intervention],Reseaux!$L$9,Tableau_Data[Annee],Reseaux!$F$3,Tableau_Data[Mois],Reseaux!J$4)","v":0},null,0,null,{"$f":"SUMIFS(Tableau_Data[Masculin],Tableau_Data[Nom du CDS],Reseaux!$C15,Tableau_Data[Lieu d''intervention],Reseaux!$R$9,Tableau_Data[Annee],Reseaux!$F$3,Tableau_Data[Mois],Reseaux!J$4)","v":0},null,{"$f":"SUMIFS(Tableau_Data[Féminin],Tableau_Data[Nom du CDS],Reseaux!$C15,Tableau_Data[Lieu d''intervention],Reseaux!$R$9,Tableau_Data[Annee],Reseaux!$F$3,Tableau_Data[Mois],Reseaux!J$4)","v":0},null,0,null,{"$f":"SUMIFS(Tableau_Data[Masculin],Tableau_Data[Nom du CDS],Reseaux!$C15,Tableau_Data[Lieu d''intervention],Reseaux!$X$9,Tableau_Data[Annee],Reseaux!$F$3,Tableau_Data[Mois],Reseaux!J$4)","v":0},null,{"$f":"SUMIFS(Tableau_Data[Féminin],Tableau_Data[Nom du CDS],Reseaux!$C15,Tableau_Data[Lieu d''intervention],Reseaux!$X$9,Tableau_Data[Annee],Reseaux!$F$3,Tableau_Data[Mois],Reseaux!J$4)","v":0},null,0,null,{"$f":"SUMIFS(Tableau_Data[Masculin],Tableau_Data[Nom du CDS],Reseaux!$C15,Tableau_Data[Lieu d''intervention],Reseaux!$AD$9,Tableau_Data[Annee],Reseaux!$F$3,Tableau_Data[Mois],Reseaux!J$4)","v":0},null,{"$f":"SUMIFS(Tableau_Data[Féminin],Tableau_Data[Nom du CDS],Reseaux!$C15,Tableau_Data[Lieu d''intervention],Reseaux!$AD$9,Tableau_Data[Annee],Reseaux!$F$3,Tableau_Data[Mois],Reseaux!J$4)","v":0},null,0,{"$f":"SUMIFS(Tableau_Data[Masculin],Tableau_Data[Nom du CDS],Reseaux!$C15,Tableau_Data[Thèmes],Reseaux!$AI$9,Tableau_Data[Annee],Reseaux!$F$3,Tableau_Data[Mois],Reseaux!J$4)","v":0},null,{"$f":"SUMIFS(Tableau_Data[Féminin],Tableau_Data[Nom du CDS],Reseaux!$C15,Tableau_Data[Thèmes],Reseaux!$AI$9,Tableau_Data[Annee],Reseaux!$F$3,Tableau_Data[Mois],Reseaux!J$4)","v":0},null,0,null,null,{"$f":"SUMIFS(Tableau_Data[Masculin],Tableau_Data[Nom du CDS],Reseaux!$C15,Tableau_Data[Thèmes],Reseaux!$AP$9,Tableau_Data[Annee],Reseaux!$F$3,Tableau_Data[Mois],Reseaux!J$4)","v":0},null,{"$f":"SUMIFS(Tableau_Data[Féminin],Tableau_Data[Nom du CDS],Reseaux!$C15,Tableau_Data[Thèmes],Reseaux!$AP$9,Tableau_Data[Annee],Reseaux!$F$3,Tableau_Data[Mois],Reseaux!J$4)","v":0},null,0,null,{"$f":"SUMIFS(Tableau_Data[Masculin],Tableau_Data[Nom du CDS],Reseaux!$C15,Tableau_Data[Thèmes],Reseaux!$AV$9,Tableau_Data[Annee],Reseaux!$F$3,Tableau_Data[Mois],Reseaux!J$4)","v":0},null,{"$f":"SUMIFS(Tableau_Data[Féminin],Tableau_Data[Nom du CDS],Reseaux!$C15,Tableau_Data[Thèmes],Reseaux!$AV$9,Tableau_Data[Annee],Reseaux!$F$3,Tableau_Data[Mois],Reseaux!J$4)","v":0},null,0,null,{"$f":"SUMIFS(Tableau_Data[Masculin],Tableau_Data[Nom du CDS],Reseaux!$C15,Tableau_Data[Thèmes],Reseaux!$BB$9,Tableau_Data[Annee],Reseaux!$F$3,Tableau_Data[Mois],Reseaux!J$4)","v":0},null,{"$f":"SUMIFS(Tableau_Data[Féminin],Tableau_Data[Nom du CDS],Reseaux!$C15,Tableau_Data[Thèmes],Reseaux!$BB$9,Tableau_Data[Annee],Reseaux!$F$3,Tableau_Data[Mois],Reseaux!$J$4)","v":0},null,0,null,{"$f":"SUMIFS(Tableau_Data[Masculin],Tableau_Data[Nom du CDS],Reseaux!$C15,Tableau_Data[Thèmes],Reseaux!$BH$9,Tableau_Data[Annee],Reseaux!$F$3,Tableau_Data[Mois],Reseaux!$J$4)","v":0},null,{"$f":"SUMIFS(Tableau_Data[Féminin],Tableau_Data[Nom du CDS],Reseaux!$C15,Tableau_Data[Thèmes],Reseaux!$BH$9,Tableau_Data[Annee],Reseaux!$F$3,Tableau_Data[Mois],Reseaux!$J$4)","v":0},null,0,null,{"$f":"SUMIFS(Tableau_Data[Masculin],Tableau_Data[Nom du CDS],Reseaux!$C15,Tableau_Data[Thèmes],Reseaux!$BN$9,Tableau_Data[Annee],Reseaux!$F$3,Tableau_Data[Mois],Reseaux!$J$4)","v":0},null,{"$f":"SUMIFS(Tableau_Data[Féminin],Tableau_Data[Nom du CDS],Reseaux!$C15,Tableau_Data[Thèmes],Reseaux!$BN$9,Tableau_Data[Annee],Reseaux!$F$3,Tableau_Data[Mois],Reseaux!$J$4)","v":0},null,0]
[null,{"$f":"IF(Reseaux!B15=\"\",\"\",1+B15)","v":5},{"$f":"Paramètres!M9","v":"CDS Giko"},null,{"$f":"SUMIFS(Tableau_Data[Masculin],Tableau_Data[Nom du CDS],Reseaux!$C16,Tableau_Data[Annee],Reseaux!$F$3,Tableau_Data[Mois],Reseaux!J$4)","v":0},null,{"$f":"SUMIFS(Tableau_Data[Féminin],Tableau_Data[Nom du CDS],Reseaux!$C16,Tableau_Data[Annee],Reseaux!$F$3,Tableau_Data[Mois],Reseaux!J$4)","v":0},null,0,null,null,{"$f":"SUMIFS(Tableau_Data[Masculin],Tableau_Data[Nom du CDS],Reseaux!$C16,Tableau_Data[Lieu d''intervention],Reseaux!$L$9,Tableau_Data[Annee],Reseaux!$F$3,Tableau_Data[Mois],Reseaux!J$4)","v":0},null,{"$f":"SUMIFS(Tableau_Data[Féminin],Tableau_Data[Nom du CDS],Reseaux!$C16,Tableau_Data[Lieu d''intervention],Reseaux!$L$9,Tableau_Data[Annee],Reseaux!$F$3,Tableau_Data[Mois],Reseaux!J$4)","v":0},null,0,null,{"$f":"SUMIFS(Tableau_Data[Masculin],Tableau_Data[Nom du CDS],Reseaux!$C16,Tableau_Data[Lieu d''intervention],Reseaux!$R$9,Tableau_Data[Annee],Reseaux!$F$3,Tableau_Data[Mois],Reseaux!J$4)","v":0},null,{"$f":"SUMIFS(Tableau_Data[Féminin],Tableau_Data[Nom du CDS],Reseaux!$C16,Tableau_Data[Lieu d''intervention],Reseaux!$R$9,Tableau_Data[Annee],Reseaux!$F$3,Tableau_Data[Mois],Reseaux!J$4)","v":0},null,0,null,{"$f":"SUMIFS(Tableau_Data[Masculin],Tableau_Data[Nom du CDS],Reseaux!$C16,Tableau_Data[Lieu d''intervention],Reseaux!$X$9,Tableau_Data[Annee],Reseaux!$F$3,Tableau_Data[Mois],Reseaux!J$4)","v":0},null,{"$f":"SUMIFS(Tableau_Data[Féminin],Tableau_Data[Nom du CDS],Reseaux!$C16,Tableau_Data[Lieu d''intervention],Reseaux!$X$9,Tableau_Data[Annee],Reseaux!$F$3,Tableau_Data[Mois],Reseaux!J$4)","v":0},null,0,null,{"$f":"SUMIFS(Tableau_Data[Masculin],Tableau_Data[Nom du CDS],Reseaux!$C16,Tableau_Data[Lieu d''intervention],Reseaux!$AD$9,Tableau_Data[Annee],Reseaux!$F$3,Tableau_Data[Mois],Reseaux!J$4)","v":0},null,{"$f":"SUMIFS(Tableau_Data[Féminin],Tableau_Data[Nom du CDS],Reseaux!$C16,Tableau_Data[Lieu d''intervention],Reseaux!$AD$9,Tableau_Data[Annee],Reseaux!$F$3,Tableau_Data[Mois],Reseaux!J$4)","v":0},null,0,{"$f":"SUMIFS(Tableau_Data[Masculin],Tableau_Data[Nom du CDS],Reseaux!$C16,Tableau_Data[Thèmes],Reseaux!$AI$9,Tableau_Data[Annee],Reseaux!$F$3,Tableau_Data[Mois],Reseaux!J$4)","v":0},null,{"$f":"SUMIFS(Tableau_Data[Féminin],Tableau_Data[Nom du CDS],Reseaux!$C16,Tableau_Data[Thèmes],Reseaux!$AI$9,Tableau_Data[Annee],Reseaux!$F$3,Tableau_Data[Mois],Reseaux!J$4)","v":0},null,0,null,null,{"$f":"SUMIFS(Tableau_Data[Masculin],Tableau_Data[Nom du CDS],Reseaux!$C16,Tableau_Data[Thèmes],Reseaux!$AP$9,Tableau_Data[Annee],Reseaux!$F$3,Tableau_Data[Mois],Reseaux!J$4)","v":0},null,{"$f":"SUMIFS(Tableau_Data[Féminin],Tableau_Data[Nom du CDS],Reseaux!$C16,Tableau_Data[Thèmes],Reseaux!$AP$9,Tableau_Data[Annee],Reseaux!$F$3,Tableau_Data[Mois],Reseaux!J$4)","v":0},null,0,null,{"$f":"SUMIFS(Tableau_Data[Masculin],Tableau_Data[Nom du CDS],Reseaux!$C16,Tableau_Data[Thèmes],Reseaux!$AV$9,Tableau_Data[Annee],Reseaux!$F$3,Tableau_Data[Mois],Reseaux!J$4)","v":0},null,{"$f":"SUMIFS(Tableau_Data[Féminin],Tableau_Data[Nom du CDS],Reseaux!$C16,Tableau_Data[Thèmes],Reseaux!$AV$9,Tableau_Data[Annee],Reseaux!$F$3,Tableau_Data[Mois],Reseaux!J$4)","v":0},null,0,null,{"$f":"SUMIFS(Tableau_Data[Masculin],Tableau_Data[Nom du CDS],Reseaux!$C16,Tableau_Data[Thèmes],Reseaux!$BB$9,Tableau_Data[Annee],Reseaux!$F$3,Tableau_Data[Mois],Reseaux!J$4)","v":0},null,{"$f":"SUMIFS(Tableau_Data[Féminin],Tableau_Data[Nom du CDS],Reseaux!$C16,Tableau_Data[Thèmes],Reseaux!$BB$9,Tableau_Data[Annee],Reseaux!$F$3,Tableau_Data[Mois],Reseaux!$J$4)","v":0},null,0,null,{"$f":"SUMIFS(Tableau_Data[Masculin],Tableau_Data[Nom du CDS],Reseaux!$C16,Tableau_Data[Thèmes],Reseaux!$BH$9,Tableau_Data[Annee],Reseaux!$F$3,Tableau_Data[Mois],Reseaux!$J$4)","v":0},null,{"$f":"SUMIFS(Tableau_Data[Féminin],Tableau_Data[Nom du CDS],Reseaux!$C16,Tableau_Data[Thèmes],Reseaux!$BH$9,Tableau_Data[Annee],Reseaux!$F$3,Tableau_Data[Mois],Reseaux!$J$4)","v":0},null,0,null,{"$f":"SUMIFS(Tableau_Data[Masculin],Tableau_Data[Nom du CDS],Reseaux!$C16,Tableau_Data[Thèmes],Reseaux!$BN$9,Tableau_Data[Annee],Reseaux!$F$3,Tableau_Data[Mois],Reseaux!$J$4)","v":0},null,{"$f":"SUMIFS(Tableau_Data[Féminin],Tableau_Data[Nom du CDS],Reseaux!$C16,Tableau_Data[Thèmes],Reseaux!$BN$9,Tableau_Data[Annee],Reseaux!$F$3,Tableau_Data[Mois],Reseaux!$J$4)","v":0},null,0]
[null,{"$f":"IF(Reseaux!B16=\"\",\"\",1+B16)","v":6},{"$f":"Paramètres!M10","v":"CDS Kivoga"},null,{"$f":"SUMIFS(Tableau_Data[Masculin],Tableau_Data[Nom du CDS],Reseaux!$C17,Tableau_Data[Annee],Reseaux!$F$3,Tableau_Data[Mois],Reseaux!J$4)","v":0},null,{"$f":"SUMIFS(Tableau_Data[Féminin],Tableau_Data[Nom du CDS],Reseaux!$C17,Tableau_Data[Annee],Reseaux!$F$3,Tableau_Data[Mois],Reseaux!J$4)","v":0},null,0,null,null,{"$f":"SUMIFS(Tableau_Data[Masculin],Tableau_Data[Nom du CDS],Reseaux!$C17,Tableau_Data[Lieu d''intervention],Reseaux!$L$9,Tableau_Data[Annee],Reseaux!$F$3,Tableau_Data[Mois],Reseaux!J$4)","v":0},null,{"$f":"SUMIFS(Tableau_Data[Féminin],Tableau_Data[Nom du CDS],Reseaux!$C17,Tableau_Data[Lieu d''intervention],Reseaux!$L$9,Tableau_Data[Annee],Reseaux!$F$3,Tableau_Data[Mois],Reseaux!J$4)","v":0},null,0,null,{"$f":"SUMIFS(Tableau_Data[Masculin],Tableau_Data[Nom du CDS],Reseaux!$C17,Tableau_Data[Lieu d''intervention],Reseaux!$R$9,Tableau_Data[Annee],Reseaux!$F$3,Tableau_Data[Mois],Reseaux!J$4)","v":0},null,{"$f":"SUMIFS(Tableau_Data[Féminin],Tableau_Data[Nom du CDS],Reseaux!$C17,Tableau_Data[Lieu d''intervention],Reseaux!$R$9,Tableau_Data[Annee],Reseaux!$F$3,Tableau_Data[Mois],Reseaux!J$4)","v":0},null,0,null,{"$f":"SUMIFS(Tableau_Data[Masculin],Tableau_Data[Nom du CDS],Reseaux!$C17,Tableau_Data[Lieu d''intervention],Reseaux!$X$9,Tableau_Data[Annee],Reseaux!$F$3,Tableau_Data[Mois],Reseaux!J$4)","v":0},null,{"$f":"SUMIFS(Tableau_Data[Féminin],Tableau_Data[Nom du CDS],Reseaux!$C17,Tableau_Data[Lieu d''intervention],Reseaux!$X$9,Tableau_Data[Annee],Reseaux!$F$3,Tableau_Data[Mois],Reseaux!J$4)","v":0},null,0,null,{"$f":"SUMIFS(Tableau_Data[Masculin],Tableau_Data[Nom du CDS],Reseaux!$C17,Tableau_Data[Lieu d''intervention],Reseaux!$AD$9,Tableau_Data[Annee],Reseaux!$F$3,Tableau_Data[Mois],Reseaux!J$4)","v":0},null,{"$f":"SUMIFS(Tableau_Data[Féminin],Tableau_Data[Nom du CDS],Reseaux!$C17,Tableau_Data[Lieu d''intervention],Reseaux!$AD$9,Tableau_Data[Annee],Reseaux!$F$3,Tableau_Data[Mois],Reseaux!J$4)","v":0},null,0,{"$f":"SUMIFS(Tableau_Data[Masculin],Tableau_Data[Nom du CDS],Reseaux!$C17,Tableau_Data[Thèmes],Reseaux!$AI$9,Tableau_Data[Annee],Reseaux!$F$3,Tableau_Data[Mois],Reseaux!J$4)","v":0},null,{"$f":"SUMIFS(Tableau_Data[Féminin],Tableau_Data[Nom du CDS],Reseaux!$C17,Tableau_Data[Thèmes],Reseaux!$AI$9,Tableau_Data[Annee],Reseaux!$F$3,Tableau_Data[Mois],Reseaux!J$4)","v":0},null,0,null,null,{"$f":"SUMIFS(Tableau_Data[Masculin],Tableau_Data[Nom du CDS],Reseaux!$C17,Tableau_Data[Thèmes],Reseaux!$AP$9,Tableau_Data[Annee],Reseaux!$F$3,Tableau_Data[Mois],Reseaux!J$4)","v":0},null,{"$f":"SUMIFS(Tableau_Data[Féminin],Tableau_Data[Nom du CDS],Reseaux!$C17,Tableau_Data[Thèmes],Reseaux!$AP$9,Tableau_Data[Annee],Reseaux!$F$3,Tableau_Data[Mois],Reseaux!J$4)","v":0},null,0,null,{"$f":"SUMIFS(Tableau_Data[Masculin],Tableau_Data[Nom du CDS],Reseaux!$C17,Tableau_Data[Thèmes],Reseaux!$AV$9,Tableau_Data[Annee],Reseaux!$F$3,Tableau_Data[Mois],Reseaux!J$4)","v":0},null,{"$f":"SUMIFS(Tableau_Data[Féminin],Tableau_Data[Nom du CDS],Reseaux!$C17,Tableau_Data[Thèmes],Reseaux!$AV$9,Tableau_Data[Annee],Reseaux!$F$3,Tableau_Data[Mois],Reseaux!J$4)","v":0},null,0,null,{"$f":"SUMIFS(Tableau_Data[Masculin],Tableau_Data[Nom du CDS],Reseaux!$C17,Tableau_Data[Thèmes],Reseaux!$BB$9,Tableau_Data[Annee],Reseaux!$F$3,Tableau_Data[Mois],Reseaux!J$4)","v":0},null,{"$f":"SUMIFS(Tableau_Data[Féminin],Tableau_Data[Nom du CDS],Reseaux!$C17,Tableau_Data[Thèmes],Reseaux!$BB$9,Tableau_Data[Annee],Reseaux!$F$3,Tableau_Data[Mois],Reseaux!$J$4)","v":0},null,0,null,{"$f":"SUMIFS(Tableau_Data[Masculin],Tableau_Data[Nom du CDS],Reseaux!$C17,Tableau_Data[Thèmes],Reseaux!$BH$9,Tableau_Data[Annee],Reseaux!$F$3,Tableau_Data[Mois],Reseaux!$J$4)","v":0},null,{"$f":"SUMIFS(Tableau_Data[Féminin],Tableau_Data[Nom du CDS],Reseaux!$C17,Tableau_Data[Thèmes],Reseaux!$BH$9,Tableau_Data[Annee],Reseaux!$F$3,Tableau_Data[Mois],Reseaux!$J$4)","v":0},null,0,null,{"$f":"SUMIFS(Tableau_Data[Masculin],Tableau_Data[Nom du CDS],Reseaux!$C17,Tableau_Data[Thèmes],Reseaux!$BN$9,Tableau_Data[Annee],Reseaux!$F$3,Tableau_Data[Mois],Reseaux!$J$4)","v":0},null,{"$f":"SUMIFS(Tableau_Data[Féminin],Tableau_Data[Nom du CDS],Reseaux!$C17,Tableau_Data[Thèmes],Reseaux!$BN$9,Tableau_Data[Annee],Reseaux!$F$3,Tableau_Data[Mois],Reseaux!$J$4)","v":0},null,0]
[null,{"$f":"IF(Reseaux!B17=\"\",\"\",1+B17)","v":7},{"$f":"Paramètres!M11","v":"CDS Rugari"},null,{"$f":"SUMIFS(Tableau_Data[Masculin],Tableau_Data[Nom du CDS],Reseaux!$C18,Tableau_Data[Annee],Reseaux!$F$3,Tableau_Data[Mois],Reseaux!J$4)","v":0},null,{"$f":"SUMIFS(Tableau_Data[Féminin],Tableau_Data[Nom du CDS],Reseaux!$C18,Tableau_Data[Annee],Reseaux!$F$3,Tableau_Data[Mois],Reseaux!J$4)","v":0},null,0,null,null,{"$f":"SUMIFS(Tableau_Data[Masculin],Tableau_Data[Nom du CDS],Reseaux!$C18,Tableau_Data[Lieu d''intervention],Reseaux!$L$9,Tableau_Data[Annee],Reseaux!$F$3,Tableau_Data[Mois],Reseaux!J$4)","v":0},null,{"$f":"SUMIFS(Tableau_Data[Féminin],Tableau_Data[Nom du CDS],Reseaux!$C18,Tableau_Data[Lieu d''intervention],Reseaux!$L$9,Tableau_Data[Annee],Reseaux!$F$3,Tableau_Data[Mois],Reseaux!J$4)","v":0},null,0,null,{"$f":"SUMIFS(Tableau_Data[Masculin],Tableau_Data[Nom du CDS],Reseaux!$C18,Tableau_Data[Lieu d''intervention],Reseaux!$R$9,Tableau_Data[Annee],Reseaux!$F$3,Tableau_Data[Mois],Reseaux!J$4)","v":0},null,{"$f":"SUMIFS(Tableau_Data[Féminin],Tableau_Data[Nom du CDS],Reseaux!$C18,Tableau_Data[Lieu d''intervention],Reseaux!$R$9,Tableau_Data[Annee],Reseaux!$F$3,Tableau_Data[Mois],Reseaux!J$4)","v":0},null,0,null,{"$f":"SUMIFS(Tableau_Data[Masculin],Tableau_Data[Nom du CDS],Reseaux!$C18,Tableau_Data[Lieu d''intervention],Reseaux!$X$9,Tableau_Data[Annee],Reseaux!$F$3,Tableau_Data[Mois],Reseaux!J$4)","v":0},null,{"$f":"SUMIFS(Tableau_Data[Féminin],Tableau_Data[Nom du CDS],Reseaux!$C18,Tableau_Data[Lieu d''intervention],Reseaux!$X$9,Tableau_Data[Annee],Reseaux!$F$3,Tableau_Data[Mois],Reseaux!J$4)","v":0},null,0,null,{"$f":"SUMIFS(Tableau_Data[Masculin],Tableau_Data[Nom du CDS],Reseaux!$C18,Tableau_Data[Lieu d''intervention],Reseaux!$AD$9,Tableau_Data[Annee],Reseaux!$F$3,Tableau_Data[Mois],Reseaux!J$4)","v":0},null,{"$f":"SUMIFS(Tableau_Data[Féminin],Tableau_Data[Nom du CDS],Reseaux!$C18,Tableau_Data[Lieu d''intervention],Reseaux!$AD$9,Tableau_Data[Annee],Reseaux!$F$3,Tableau_Data[Mois],Reseaux!J$4)","v":0},null,0,{"$f":"SUMIFS(Tableau_Data[Masculin],Tableau_Data[Nom du CDS],Reseaux!$C18,Tableau_Data[Thèmes],Reseaux!$AI$9,Tableau_Data[Annee],Reseaux!$F$3,Tableau_Data[Mois],Reseaux!J$4)","v":0},null,{"$f":"SUMIFS(Tableau_Data[Féminin],Tableau_Data[Nom du CDS],Reseaux!$C18,Tableau_Data[Thèmes],Reseaux!$AI$9,Tableau_Data[Annee],Reseaux!$F$3,Tableau_Data[Mois],Reseaux!J$4)","v":0},null,0,null,null,{"$f":"SUMIFS(Tableau_Data[Masculin],Tableau_Data[Nom du CDS],Reseaux!$C18,Tableau_Data[Thèmes],Reseaux!$AP$9,Tableau_Data[Annee],Reseaux!$F$3,Tableau_Data[Mois],Reseaux!J$4)","v":0},null,{"$f":"SUMIFS(Tableau_Data[Féminin],Tableau_Data[Nom du CDS],Reseaux!$C18,Tableau_Data[Thèmes],Reseaux!$AP$9,Tableau_Data[Annee],Reseaux!$F$3,Tableau_Data[Mois],Reseaux!J$4)","v":0},null,0,null,{"$f":"SUMIFS(Tableau_Data[Masculin],Tableau_Data[Nom du CDS],Reseaux!$C18,Tableau_Data[Thèmes],Reseaux!$AV$9,Tableau_Data[Annee],Reseaux!$F$3,Tableau_Data[Mois],Reseaux!J$4)","v":0},null,{"$f":"SUMIFS(Tableau_Data[Féminin],Tableau_Data[Nom du CDS],Reseaux!$C18,Tableau_Data[Thèmes],Reseaux!$AV$9,Tableau_Data[Annee],Reseaux!$F$3,Tableau_Data[Mois],Reseaux!J$4)","v":0},null,0,null,{"$f":"SUMIFS(Tableau_Data[Masculin],Tableau_Data[Nom du CDS],Reseaux!$C18,Tableau_Data[Thèmes],Reseaux!$BB$9,Tableau_Data[Annee],Reseaux!$F$3,Tableau_Data[Mois],Reseaux!J$4)","v":0},null,{"$f":"SUMIFS(Tableau_Data[Féminin],Tableau_Data[Nom du CDS],Reseaux!$C18,Tableau_Data[Thèmes],Reseaux!$BB$9,Tableau_Data[Annee],Reseaux!$F$3,Tableau_Data[Mois],Reseaux!$J$4)","v":0},null,0,null,{"$f":"SUMIFS(Tableau_Data[Masculin],Tableau_Data[Nom du CDS],Reseaux!$C18,Tableau_Data[Thèmes],Reseaux!$BH$9,Tableau_Data[Annee],Reseaux!$F$3,Tableau_Data[Mois],Reseaux!$J$4)","v":0},null,{"$f":"SUMIFS(Tableau_Data[Féminin],Tableau_Data[Nom du CDS],Reseaux!$C18,Tableau_Data[Thèmes],Reseaux!$BH$9,Tableau_Data[Annee],Reseaux!$F$3,Tableau_Data[Mois],Reseaux!$J$4)","v":0},null,0,null,{"$f":"SUMIFS(Tableau_Data[Masculin],Tableau_Data[Nom du CDS],Reseaux!$C18,Tableau_Data[Thèmes],Reseaux!$BN$9,Tableau_Data[Annee],Reseaux!$F$3,Tableau_Data[Mois],Reseaux!$J$4)","v":0},null,{"$f":"SUMIFS(Tableau_Data[Féminin],Tableau_Data[Nom du CDS],Reseaux!$C18,Tableau_Data[Thèmes],Reseaux!$BN$9,Tableau_Data[Annee],Reseaux!$F$3,Tableau_Data[Mois],Reseaux!$J$4)","v":0},null,0]
[null,{"$f":"IF(Reseaux!B18=\"\",\"\",1+B18)","v":8},{"$f":"Paramètres!M12","v":"CDS Kaniga"},null,{"$f":"SUMIFS(Tableau_Data[Masculin],Tableau_Data[Nom du CDS],Reseaux!$C19,Tableau_Data[Annee],Reseaux!$F$3,Tableau_Data[Mois],Reseaux!J$4)","v":0},null,{"$f":"SUMIFS(Tableau_Data[Féminin],Tableau_Data[Nom du CDS],Reseaux!$C19,Tableau_Data[Annee],Reseaux!$F$3,Tableau_Data[Mois],Reseaux!J$4)","v":0},null,0,null,null,{"$f":"SUMIFS(Tableau_Data[Masculin],Tableau_Data[Nom du CDS],Reseaux!$C19,Tableau_Data[Lieu d''intervention],Reseaux!$L$9,Tableau_Data[Annee],Reseaux!$F$3,Tableau_Data[Mois],Reseaux!J$4)","v":0},null,{"$f":"SUMIFS(Tableau_Data[Féminin],Tableau_Data[Nom du CDS],Reseaux!$C19,Tableau_Data[Lieu d''intervention],Reseaux!$L$9,Tableau_Data[Annee],Reseaux!$F$3,Tableau_Data[Mois],Reseaux!J$4)","v":0},null,0,null,{"$f":"SUMIFS(Tableau_Data[Masculin],Tableau_Data[Nom du CDS],Reseaux!$C19,Tableau_Data[Lieu d''intervention],Reseaux!$R$9,Tableau_Data[Annee],Reseaux!$F$3,Tableau_Data[Mois],Reseaux!J$4)","v":0},null,{"$f":"SUMIFS(Tableau_Data[Féminin],Tableau_Data[Nom du CDS],Reseaux!$C19,Tableau_Data[Lieu d''intervention],Reseaux!$R$9,Tableau_Data[Annee],Reseaux!$F$3,Tableau_Data[Mois],Reseaux!J$4)","v":0},null,0,null,{"$f":"SUMIFS(Tableau_Data[Masculin],Tableau_Data[Nom du CDS],Reseaux!$C19,Tableau_Data[Lieu d''intervention],Reseaux!$X$9,Tableau_Data[Annee],Reseaux!$F$3,Tableau_Data[Mois],Reseaux!J$4)","v":0},null,{"$f":"SUMIFS(Tableau_Data[Féminin],Tableau_Data[Nom du CDS],Reseaux!$C19,Tableau_Data[Lieu d''intervention],Reseaux!$X$9,Tableau_Data[Annee],Reseaux!$F$3,Tableau_Data[Mois],Reseaux!J$4)","v":0},null,0,null,{"$f":"SUMIFS(Tableau_Data[Masculin],Tableau_Data[Nom du CDS],Reseaux!$C19,Tableau_Data[Lieu d''intervention],Reseaux!$AD$9,Tableau_Data[Annee],Reseaux!$F$3,Tableau_Data[Mois],Reseaux!J$4)","v":0},null,{"$f":"SUMIFS(Tableau_Data[Féminin],Tableau_Data[Nom du CDS],Reseaux!$C19,Tableau_Data[Lieu d''intervention],Reseaux!$AD$9,Tableau_Data[Annee],Reseaux!$F$3,Tableau_Data[Mois],Reseaux!J$4)","v":0},null,0,{"$f":"SUMIFS(Tableau_Data[Masculin],Tableau_Data[Nom du CDS],Reseaux!$C19,Tableau_Data[Thèmes],Reseaux!$AI$9,Tableau_Data[Annee],Reseaux!$F$3,Tableau_Data[Mois],Reseaux!J$4)","v":0},null,{"$f":"SUMIFS(Tableau_Data[Féminin],Tableau_Data[Nom du CDS],Reseaux!$C19,Tableau_Data[Thèmes],Reseaux!$AI$9,Tableau_Data[Annee],Reseaux!$F$3,Tableau_Data[Mois],Reseaux!J$4)","v":0},null,0,null,null,{"$f":"SUMIFS(Tableau_Data[Masculin],Tableau_Data[Nom du CDS],Reseaux!$C19,Tableau_Data[Thèmes],Reseaux!$AP$9,Tableau_Data[Annee],Reseaux!$F$3,Tableau_Data[Mois],Reseaux!J$4)","v":0},null,{"$f":"SUMIFS(Tableau_Data[Féminin],Tableau_Data[Nom du CDS],Reseaux!$C19,Tableau_Data[Thèmes],Reseaux!$AP$9,Tableau_Data[Annee],Reseaux!$F$3,Tableau_Data[Mois],Reseaux!J$4)","v":0},null,0,null,{"$f":"SUMIFS(Tableau_Data[Masculin],Tableau_Data[Nom du CDS],Reseaux!$C19,Tableau_Data[Thèmes],Reseaux!$AV$9,Tableau_Data[Annee],Reseaux!$F$3,Tableau_Data[Mois],Reseaux!J$4)","v":0},null,{"$f":"SUMIFS(Tableau_Data[Féminin],Tableau_Data[Nom du CDS],Reseaux!$C19,Tableau_Data[Thèmes],Reseaux!$AV$9,Tableau_Data[Annee],Reseaux!$F$3,Tableau_Data[Mois],Reseaux!J$4)","v":0},null,0,null,{"$f":"SUMIFS(Tableau_Data[Masculin],Tableau_Data[Nom du CDS],Reseaux!$C19,Tableau_Data[Thèmes],Reseaux!$BB$9,Tableau_Data[Annee],Reseaux!$F$3,Tableau_Data[Mois],Reseaux!J$4)","v":0},null,{"$f":"SUMIFS(Tableau_Data[Féminin],Tableau_Data[Nom du CDS],Reseaux!$C19,Tableau_Data[Thèmes],Reseaux!$BB$9,Tableau_Data[Annee],Reseaux!$F$3,Tableau_Data[Mois],Reseaux!$J$4)","v":0},null,0,null,{"$f":"SUMIFS(Tableau_Data[Masculin],Tableau_Data[Nom du CDS],Reseaux!$C19,Tableau_Data[Thèmes],Reseaux!$BH$9,Tableau_Data[Annee],Reseaux!$F$3,Tableau_Data[Mois],Reseaux!$J$4)","v":0},null,{"$f":"SUMIFS(Tableau_Data[Féminin],Tableau_Data[Nom du CDS],Reseaux!$C19,Tableau_Data[Thèmes],Reseaux!$BH$9,Tableau_Data[Annee],Reseaux!$F$3,Tableau_Data[Mois],Reseaux!$J$4)","v":0},null,0,null,{"$f":"SUMIFS(Tableau_Data[Masculin],Tableau_Data[Nom du CDS],Reseaux!$C19,Tableau_Data[Thèmes],Reseaux!$BN$9,Tableau_Data[Annee],Reseaux!$F$3,Tableau_Data[Mois],Reseaux!$J$4)","v":0},null,{"$f":"SUMIFS(Tableau_Data[Féminin],Tableau_Data[Nom du CDS],Reseaux!$C19,Tableau_Data[Thèmes],Reseaux!$BN$9,Tableau_Data[Annee],Reseaux!$F$3,Tableau_Data[Mois],Reseaux!$J$4)","v":0},null,0]
[null,{"$f":"IF(Reseaux!B19=\"\",\"\",1+B19)","v":9},{"$f":"Paramètres!M13","v":"CDS Munyinya"},null,{"$f":"SUMIFS(Tableau_Data[Masculin],Tableau_Data[Nom du CDS],Reseaux!$C20,Tableau_Data[Annee],Reseaux!$F$3,Tableau_Data[Mois],Reseaux!J$4)","v":0},null,{"$f":"SUMIFS(Tableau_Data[Féminin],Tableau_Data[Nom du CDS],Reseaux!$C20,Tableau_Data[Annee],Reseaux!$F$3,Tableau_Data[Mois],Reseaux!J$4)","v":0},null,0,null,null,{"$f":"SUMIFS(Tableau_Data[Masculin],Tableau_Data[Nom du CDS],Reseaux!$C20,Tableau_Data[Lieu d''intervention],Reseaux!$L$9,Tableau_Data[Annee],Reseaux!$F$3,Tableau_Data[Mois],Reseaux!J$4)","v":0},null,{"$f":"SUMIFS(Tableau_Data[Féminin],Tableau_Data[Nom du CDS],Reseaux!$C20,Tableau_Data[Lieu d''intervention],Reseaux!$L$9,Tableau_Data[Annee],Reseaux!$F$3,Tableau_Data[Mois],Reseaux!J$4)","v":0},null,0,null,{"$f":"SUMIFS(Tableau_Data[Masculin],Tableau_Data[Nom du CDS],Reseaux!$C20,Tableau_Data[Lieu d''intervention],Reseaux!$R$9,Tableau_Data[Annee],Reseaux!$F$3,Tableau_Data[Mois],Reseaux!J$4)","v":0},null,{"$f":"SUMIFS(Tableau_Data[Féminin],Tableau_Data[Nom du CDS],Reseaux!$C20,Tableau_Data[Lieu d''intervention],Reseaux!$R$9,Tableau_Data[Annee],Reseaux!$F$3,Tableau_Data[Mois],Reseaux!J$4)","v":0},null,0,null,{"$f":"SUMIFS(Tableau_Data[Masculin],Tableau_Data[Nom du CDS],Reseaux!$C20,Tableau_Data[Lieu d''intervention],Reseaux!$X$9,Tableau_Data[Annee],Reseaux!$F$3,Tableau_Data[Mois],Reseaux!J$4)","v":0},null,{"$f":"SUMIFS(Tableau_Data[Féminin],Tableau_Data[Nom du CDS],Reseaux!$C20,Tableau_Data[Lieu d''intervention],Reseaux!$X$9,Tableau_Data[Annee],Reseaux!$F$3,Tableau_Data[Mois],Reseaux!J$4)","v":0},null,0,null,{"$f":"SUMIFS(Tableau_Data[Masculin],Tableau_Data[Nom du CDS],Reseaux!$C20,Tableau_Data[Lieu d''intervention],Reseaux!$AD$9,Tableau_Data[Annee],Reseaux!$F$3,Tableau_Data[Mois],Reseaux!J$4)","v":0},null,{"$f":"SUMIFS(Tableau_Data[Féminin],Tableau_Data[Nom du CDS],Reseaux!$C20,Tableau_Data[Lieu d''intervention],Reseaux!$AD$9,Tableau_Data[Annee],Reseaux!$F$3,Tableau_Data[Mois],Reseaux!J$4)","v":0},null,0,{"$f":"SUMIFS(Tableau_Data[Masculin],Tableau_Data[Nom du CDS],Reseaux!$C20,Tableau_Data[Thèmes],Reseaux!$AI$9,Tableau_Data[Annee],Reseaux!$F$3,Tableau_Data[Mois],Reseaux!J$4)","v":0},null,{"$f":"SUMIFS(Tableau_Data[Féminin],Tableau_Data[Nom du CDS],Reseaux!$C20,Tableau_Data[Thèmes],Reseaux!$AI$9,Tableau_Data[Annee],Reseaux!$F$3,Tableau_Data[Mois],Reseaux!J$4)","v":0},null,0,null,null,{"$f":"SUMIFS(Tableau_Data[Masculin],Tableau_Data[Nom du CDS],Reseaux!$C20,Tableau_Data[Thèmes],Reseaux!$AP$9,Tableau_Data[Annee],Reseaux!$F$3,Tableau_Data[Mois],Reseaux!J$4)","v":0},null,{"$f":"SUMIFS(Tableau_Data[Féminin],Tableau_Data[Nom du CDS],Reseaux!$C20,Tableau_Data[Thèmes],Reseaux!$AP$9,Tableau_Data[Annee],Reseaux!$F$3,Tableau_Data[Mois],Reseaux!J$4)","v":0},null,0,null,{"$f":"SUMIFS(Tableau_Data[Masculin],Tableau_Data[Nom du CDS],Reseaux!$C20,Tableau_Data[Thèmes],Reseaux!$AV$9,Tableau_Data[Annee],Reseaux!$F$3,Tableau_Data[Mois],Reseaux!J$4)","v":0},null,{"$f":"SUMIFS(Tableau_Data[Féminin],Tableau_Data[Nom du CDS],Reseaux!$C20,Tableau_Data[Thèmes],Reseaux!$AV$9,Tableau_Data[Annee],Reseaux!$F$3,Tableau_Data[Mois],Reseaux!J$4)","v":0},null,0,null,{"$f":"SUMIFS(Tableau_Data[Masculin],Tableau_Data[Nom du CDS],Reseaux!$C20,Tableau_Data[Thèmes],Reseaux!$BB$9,Tableau_Data[Annee],Reseaux!$F$3,Tableau_Data[Mois],Reseaux!J$4)","v":0},null,{"$f":"SUMIFS(Tableau_Data[Féminin],Tableau_Data[Nom du CDS],Reseaux!$C20,Tableau_Data[Thèmes],Reseaux!$BB$9,Tableau_Data[Annee],Reseaux!$F$3,Tableau_Data[Mois],Reseaux!$J$4)","v":0},null,0,null,{"$f":"SUMIFS(Tableau_Data[Masculin],Tableau_Data[Nom du CDS],Reseaux!$C20,Tableau_Data[Thèmes],Reseaux!$BH$9,Tableau_Data[Annee],Reseaux!$F$3,Tableau_Data[Mois],Reseaux!$J$4)","v":0},null,{"$f":"SUMIFS(Tableau_Data[Féminin],Tableau_Data[Nom du CDS],Reseaux!$C20,Tableau_Data[Thèmes],Reseaux!$BH$9,Tableau_Data[Annee],Reseaux!$F$3,Tableau_Data[Mois],Reseaux!$J$4)","v":0},null,0,null,{"$f":"SUMIFS(Tableau_Data[Masculin],Tableau_Data[Nom du CDS],Reseaux!$C20,Tableau_Data[Thèmes],Reseaux!$BN$9,Tableau_Data[Annee],Reseaux!$F$3,Tableau_Data[Mois],Reseaux!$J$4)","v":0},null,{"$f":"SUMIFS(Tableau_Data[Féminin],Tableau_Data[Nom du CDS],Reseaux!$C20,Tableau_Data[Thèmes],Reseaux!$BN$9,Tableau_Data[Annee],Reseaux!$F$3,Tableau_Data[Mois],Reseaux!$J$4)","v":0},null,0]
[null,{"$f":"IF(Reseaux!B20=\"\",\"\",1+B20)","v":10},{"$f":"Paramètres!M14","v":"CDS Marumane"},null,{"$f":"SUMIFS(Tableau_Data[Masculin],Tableau_Data[Nom du CDS],Reseaux!$C21,Tableau_Data[Annee],Reseaux!$F$3,Tableau_Data[Mois],Reseaux!J$4)","v":0},null,{"$f":"SUMIFS(Tableau_Data[Féminin],Tableau_Data[Nom du CDS],Reseaux!$C21,Tableau_Data[Annee],Reseaux!$F$3,Tableau_Data[Mois],Reseaux!J$4)","v":0},null,0,null,null,{"$f":"SUMIFS(Tableau_Data[Masculin],Tableau_Data[Nom du CDS],Reseaux!$C21,Tableau_Data[Lieu d''intervention],Reseaux!$L$9,Tableau_Data[Annee],Reseaux!$F$3,Tableau_Data[Mois],Reseaux!J$4)","v":0},null,{"$f":"SUMIFS(Tableau_Data[Féminin],Tableau_Data[Nom du CDS],Reseaux!$C21,Tableau_Data[Lieu d''intervention],Reseaux!$L$9,Tableau_Data[Annee],Reseaux!$F$3,Tableau_Data[Mois],Reseaux!J$4)","v":0},null,0,null,{"$f":"SUMIFS(Tableau_Data[Masculin],Tableau_Data[Nom du CDS],Reseaux!$C21,Tableau_Data[Lieu d''intervention],Reseaux!$R$9,Tableau_Data[Annee],Reseaux!$F$3,Tableau_Data[Mois],Reseaux!J$4)","v":0},null,{"$f":"SUMIFS(Tableau_Data[Féminin],Tableau_Data[Nom du CDS],Reseaux!$C21,Tableau_Data[Lieu d''intervention],Reseaux!$R$9,Tableau_Data[Annee],Reseaux!$F$3,Tableau_Data[Mois],Reseaux!J$4)","v":0},null,0,null,{"$f":"SUMIFS(Tableau_Data[Masculin],Tableau_Data[Nom du CDS],Reseaux!$C21,Tableau_Data[Lieu d''intervention],Reseaux!$X$9,Tableau_Data[Annee],Reseaux!$F$3,Tableau_Data[Mois],Reseaux!J$4)","v":0},null,{"$f":"SUMIFS(Tableau_Data[Féminin],Tableau_Data[Nom du CDS],Reseaux!$C21,Tableau_Data[Lieu d''intervention],Reseaux!$X$9,Tableau_Data[Annee],Reseaux!$F$3,Tableau_Data[Mois],Reseaux!J$4)","v":0},null,0,null,{"$f":"SUMIFS(Tableau_Data[Masculin],Tableau_Data[Nom du CDS],Reseaux!$C21,Tableau_Data[Lieu d''intervention],Reseaux!$AD$9,Tableau_Data[Annee],Reseaux!$F$3,Tableau_Data[Mois],Reseaux!J$4)","v":0},null,{"$f":"SUMIFS(Tableau_Data[Féminin],Tableau_Data[Nom du CDS],Reseaux!$C21,Tableau_Data[Lieu d''intervention],Reseaux!$AD$9,Tableau_Data[Annee],Reseaux!$F$3,Tableau_Data[Mois],Reseaux!J$4)","v":0},null,0,{"$f":"SUMIFS(Tableau_Data[Masculin],Tableau_Data[Nom du CDS],Reseaux!$C21,Tableau_Data[Thèmes],Reseaux!$AI$9,Tableau_Data[Annee],Reseaux!$F$3,Tableau_Data[Mois],Reseaux!J$4)","v":0},null,{"$f":"SUMIFS(Tableau_Data[Féminin],Tableau_Data[Nom du CDS],Reseaux!$C21,Tableau_Data[Thèmes],Reseaux!$AI$9,Tableau_Data[Annee],Reseaux!$F$3,Tableau_Data[Mois],Reseaux!J$4)","v":0},null,0,null,null,{"$f":"SUMIFS(Tableau_Data[Masculin],Tableau_Data[Nom du CDS],Reseaux!$C21,Tableau_Data[Thèmes],Reseaux!$AP$9,Tableau_Data[Annee],Reseaux!$F$3,Tableau_Data[Mois],Reseaux!J$4)","v":0},null,{"$f":"SUMIFS(Tableau_Data[Féminin],Tableau_Data[Nom du CDS],Reseaux!$C21,Tableau_Data[Thèmes],Reseaux!$AP$9,Tableau_Data[Annee],Reseaux!$F$3,Tableau_Data[Mois],Reseaux!J$4)","v":0},null,0,null,{"$f":"SUMIFS(Tableau_Data[Masculin],Tableau_Data[Nom du CDS],Reseaux!$C21,Tableau_Data[Thèmes],Reseaux!$AV$9,Tableau_Data[Annee],Reseaux!$F$3,Tableau_Data[Mois],Reseaux!J$4)","v":0},null,{"$f":"SUMIFS(Tableau_Data[Féminin],Tableau_Data[Nom du CDS],Reseaux!$C21,Tableau_Data[Thèmes],Reseaux!$AV$9,Tableau_Data[Annee],Reseaux!$F$3,Tableau_Data[Mois],Reseaux!J$4)","v":0},null,0,null,{"$f":"SUMIFS(Tableau_Data[Masculin],Tableau_Data[Nom du CDS],Reseaux!$C21,Tableau_Data[Thèmes],Reseaux!$BB$9,Tableau_Data[Annee],Reseaux!$F$3,Tableau_Data[Mois],Reseaux!J$4)","v":0},null,{"$f":"SUMIFS(Tableau_Data[Féminin],Tableau_Data[Nom du CDS],Reseaux!$C21,Tableau_Data[Thèmes],Reseaux!$BB$9,Tableau_Data[Annee],Reseaux!$F$3,Tableau_Data[Mois],Reseaux!$J$4)","v":0},null,0,null,{"$f":"SUMIFS(Tableau_Data[Masculin],Tableau_Data[Nom du CDS],Reseaux!$C21,Tableau_Data[Thèmes],Reseaux!$BH$9,Tableau_Data[Annee],Reseaux!$F$3,Tableau_Data[Mois],Reseaux!$J$4)","v":0},null,{"$f":"SUMIFS(Tableau_Data[Féminin],Tableau_Data[Nom du CDS],Reseaux!$C21,Tableau_Data[Thèmes],Reseaux!$BH$9,Tableau_Data[Annee],Reseaux!$F$3,Tableau_Data[Mois],Reseaux!$J$4)","v":0},null,0,null,{"$f":"SUMIFS(Tableau_Data[Masculin],Tableau_Data[Nom du CDS],Reseaux!$C21,Tableau_Data[Thèmes],Reseaux!$BN$9,Tableau_Data[Annee],Reseaux!$F$3,Tableau_Data[Mois],Reseaux!$J$4)","v":0},null,{"$f":"SUMIFS(Tableau_Data[Féminin],Tableau_Data[Nom du CDS],Reseaux!$C21,Tableau_Data[Thèmes],Reseaux!$BN$9,Tableau_Data[Annee],Reseaux!$F$3,Tableau_Data[Mois],Reseaux!$J$4)","v":0},null,0]
[null,{"$f":"IF(Reseaux!B21=\"\",\"\",1+B21)","v":11},{"$f":"Paramètres!M15","v":"CDS Fota"},null,{"$f":"SUMIFS(Tableau_Data[Masculin],Tableau_Data[Nom du CDS],Reseaux!$C22,Tableau_Data[Annee],Reseaux!$F$3,Tableau_Data[Mois],Reseaux!J$4)","v":0},null,{"$f":"SUMIFS(Tableau_Data[Féminin],Tableau_Data[Nom du CDS],Reseaux!$C22,Tableau_Data[Annee],Reseaux!$F$3,Tableau_Data[Mois],Reseaux!J$4)","v":0},null,0,null,null,{"$f":"SUMIFS(Tableau_Data[Masculin],Tableau_Data[Nom du CDS],Reseaux!$C22,Tableau_Data[Lieu d''intervention],Reseaux!$L$9,Tableau_Data[Annee],Reseaux!$F$3,Tableau_Data[Mois],Reseaux!J$4)","v":0},null,{"$f":"SUMIFS(Tableau_Data[Féminin],Tableau_Data[Nom du CDS],Reseaux!$C22,Tableau_Data[Lieu d''intervention],Reseaux!$L$9,Tableau_Data[Annee],Reseaux!$F$3,Tableau_Data[Mois],Reseaux!J$4)","v":0},null,0,null,{"$f":"SUMIFS(Tableau_Data[Masculin],Tableau_Data[Nom du CDS],Reseaux!$C22,Tableau_Data[Lieu d''intervention],Reseaux!$R$9,Tableau_Data[Annee],Reseaux!$F$3,Tableau_Data[Mois],Reseaux!J$4)","v":0},null,{"$f":"SUMIFS(Tableau_Data[Féminin],Tableau_Data[Nom du CDS],Reseaux!$C22,Tableau_Data[Lieu d''intervention],Reseaux!$R$9,Tableau_Data[Annee],Reseaux!$F$3,Tableau_Data[Mois],Reseaux!J$4)","v":0},null,0,null,{"$f":"SUMIFS(Tableau_Data[Masculin],Tableau_Data[Nom du CDS],Reseaux!$C22,Tableau_Data[Lieu d''intervention],Reseaux!$X$9,Tableau_Data[Annee],Reseaux!$F$3,Tableau_Data[Mois],Reseaux!J$4)","v":0},null,{"$f":"SUMIFS(Tableau_Data[Féminin],Tableau_Data[Nom du CDS],Reseaux!$C22,Tableau_Data[Lieu d''intervention],Reseaux!$X$9,Tableau_Data[Annee],Reseaux!$F$3,Tableau_Data[Mois],Reseaux!J$4)","v":0},null,0,null,{"$f":"SUMIFS(Tableau_Data[Masculin],Tableau_Data[Nom du CDS],Reseaux!$C22,Tableau_Data[Lieu d''intervention],Reseaux!$AD$9,Tableau_Data[Annee],Reseaux!$F$3,Tableau_Data[Mois],Reseaux!J$4)","v":0},null,{"$f":"SUMIFS(Tableau_Data[Féminin],Tableau_Data[Nom du CDS],Reseaux!$C22,Tableau_Data[Lieu d''intervention],Reseaux!$AD$9,Tableau_Data[Annee],Reseaux!$F$3,Tableau_Data[Mois],Reseaux!J$4)","v":0},null,0,{"$f":"SUMIFS(Tableau_Data[Masculin],Tableau_Data[Nom du CDS],Reseaux!$C22,Tableau_Data[Thèmes],Reseaux!$AI$9,Tableau_Data[Annee],Reseaux!$F$3,Tableau_Data[Mois],Reseaux!J$4)","v":0},null,{"$f":"SUMIFS(Tableau_Data[Féminin],Tableau_Data[Nom du CDS],Reseaux!$C22,Tableau_Data[Thèmes],Reseaux!$AI$9,Tableau_Data[Annee],Reseaux!$F$3,Tableau_Data[Mois],Reseaux!J$4)","v":0},null,0,null,null,{"$f":"SUMIFS(Tableau_Data[Masculin],Tableau_Data[Nom du CDS],Reseaux!$C22,Tableau_Data[Thèmes],Reseaux!$AP$9,Tableau_Data[Annee],Reseaux!$F$3,Tableau_Data[Mois],Reseaux!J$4)","v":0},null,{"$f":"SUMIFS(Tableau_Data[Féminin],Tableau_Data[Nom du CDS],Reseaux!$C22,Tableau_Data[Thèmes],Reseaux!$AP$9,Tableau_Data[Annee],Reseaux!$F$3,Tableau_Data[Mois],Reseaux!J$4)","v":0},null,0,null,{"$f":"SUMIFS(Tableau_Data[Masculin],Tableau_Data[Nom du CDS],Reseaux!$C22,Tableau_Data[Thèmes],Reseaux!$AV$9,Tableau_Data[Annee],Reseaux!$F$3,Tableau_Data[Mois],Reseaux!J$4)","v":0},null,{"$f":"SUMIFS(Tableau_Data[Féminin],Tableau_Data[Nom du CDS],Reseaux!$C22,Tableau_Data[Thèmes],Reseaux!$AV$9,Tableau_Data[Annee],Reseaux!$F$3,Tableau_Data[Mois],Reseaux!J$4)","v":0},null,0,null,{"$f":"SUMIFS(Tableau_Data[Masculin],Tableau_Data[Nom du CDS],Reseaux!$C22,Tableau_Data[Thèmes],Reseaux!$BB$9,Tableau_Data[Annee],Reseaux!$F$3,Tableau_Data[Mois],Reseaux!J$4)","v":0},null,{"$f":"SUMIFS(Tableau_Data[Féminin],Tableau_Data[Nom du CDS],Reseaux!$C22,Tableau_Data[Thèmes],Reseaux!$BB$9,Tableau_Data[Annee],Reseaux!$F$3,Tableau_Data[Mois],Reseaux!$J$4)","v":0},null,0,null,{"$f":"SUMIFS(Tableau_Data[Masculin],Tableau_Data[Nom du CDS],Reseaux!$C22,Tableau_Data[Thèmes],Reseaux!$BH$9,Tableau_Data[Annee],Reseaux!$F$3,Tableau_Data[Mois],Reseaux!$J$4)","v":0},null,{"$f":"SUMIFS(Tableau_Data[Féminin],Tableau_Data[Nom du CDS],Reseaux!$C22,Tableau_Data[Thèmes],Reseaux!$BH$9,Tableau_Data[Annee],Reseaux!$F$3,Tableau_Data[Mois],Reseaux!$J$4)","v":0},null,0,null,{"$f":"SUMIFS(Tableau_Data[Masculin],Tableau_Data[Nom du CDS],Reseaux!$C22,Tableau_Data[Thèmes],Reseaux!$BN$9,Tableau_Data[Annee],Reseaux!$F$3,Tableau_Data[Mois],Reseaux!$J$4)","v":0},null,{"$f":"SUMIFS(Tableau_Data[Féminin],Tableau_Data[Nom du CDS],Reseaux!$C22,Tableau_Data[Thèmes],Reseaux!$BN$9,Tableau_Data[Annee],Reseaux!$F$3,Tableau_Data[Mois],Reseaux!$J$4)","v":0},null,0]
[null,{"$f":"IF(Reseaux!B22=\"\",\"\",1+B22)","v":12},{"$f":"Paramètres!M16","v":"CDS Gisozi"},null,{"$f":"SUMIFS(Tableau_Data[Masculin],Tableau_Data[Nom du CDS],Reseaux!$C23,Tableau_Data[Annee],Reseaux!$F$3,Tableau_Data[Mois],Reseaux!J$4)","v":0},null,{"$f":"SUMIFS(Tableau_Data[Féminin],Tableau_Data[Nom du CDS],Reseaux!$C23,Tableau_Data[Annee],Reseaux!$F$3,Tableau_Data[Mois],Reseaux!J$4)","v":0},null,0,null,null,{"$f":"SUMIFS(Tableau_Data[Masculin],Tableau_Data[Nom du CDS],Reseaux!$C23,Tableau_Data[Lieu d''intervention],Reseaux!$L$9,Tableau_Data[Annee],Reseaux!$F$3,Tableau_Data[Mois],Reseaux!J$4)","v":0},null,{"$f":"SUMIFS(Tableau_Data[Féminin],Tableau_Data[Nom du CDS],Reseaux!$C23,Tableau_Data[Lieu d''intervention],Reseaux!$L$9,Tableau_Data[Annee],Reseaux!$F$3,Tableau_Data[Mois],Reseaux!J$4)","v":0},null,0,null,{"$f":"SUMIFS(Tableau_Data[Masculin],Tableau_Data[Nom du CDS],Reseaux!$C23,Tableau_Data[Lieu d''intervention],Reseaux!$R$9,Tableau_Data[Annee],Reseaux!$F$3,Tableau_Data[Mois],Reseaux!J$4)","v":0},null,{"$f":"SUMIFS(Tableau_Data[Féminin],Tableau_Data[Nom du CDS],Reseaux!$C23,Tableau_Data[Lieu d''intervention],Reseaux!$R$9,Tableau_Data[Annee],Reseaux!$F$3,Tableau_Data[Mois],Reseaux!J$4)","v":0},null,0,null,{"$f":"SUMIFS(Tableau_Data[Masculin],Tableau_Data[Nom du CDS],Reseaux!$C23,Tableau_Data[Lieu d''intervention],Reseaux!$X$9,Tableau_Data[Annee],Reseaux!$F$3,Tableau_Data[Mois],Reseaux!J$4)","v":0},null,{"$f":"SUMIFS(Tableau_Data[Féminin],Tableau_Data[Nom du CDS],Reseaux!$C23,Tableau_Data[Lieu d''intervention],Reseaux!$X$9,Tableau_Data[Annee],Reseaux!$F$3,Tableau_Data[Mois],Reseaux!J$4)","v":0},null,0,null,{"$f":"SUMIFS(Tableau_Data[Masculin],Tableau_Data[Nom du CDS],Reseaux!$C23,Tableau_Data[Lieu d''intervention],Reseaux!$AD$9,Tableau_Data[Annee],Reseaux!$F$3,Tableau_Data[Mois],Reseaux!J$4)","v":0},null,{"$f":"SUMIFS(Tableau_Data[Féminin],Tableau_Data[Nom du CDS],Reseaux!$C23,Tableau_Data[Lieu d''intervention],Reseaux!$AD$9,Tableau_Data[Annee],Reseaux!$F$3,Tableau_Data[Mois],Reseaux!J$4)","v":0},null,0,{"$f":"SUMIFS(Tableau_Data[Masculin],Tableau_Data[Nom du CDS],Reseaux!$C23,Tableau_Data[Thèmes],Reseaux!$AI$9,Tableau_Data[Annee],Reseaux!$F$3,Tableau_Data[Mois],Reseaux!J$4)","v":0},null,{"$f":"SUMIFS(Tableau_Data[Féminin],Tableau_Data[Nom du CDS],Reseaux!$C23,Tableau_Data[Thèmes],Reseaux!$AI$9,Tableau_Data[Annee],Reseaux!$F$3,Tableau_Data[Mois],Reseaux!J$4)","v":0},null,0,null,null,{"$f":"SUMIFS(Tableau_Data[Masculin],Tableau_Data[Nom du CDS],Reseaux!$C23,Tableau_Data[Thèmes],Reseaux!$AP$9,Tableau_Data[Annee],Reseaux!$F$3,Tableau_Data[Mois],Reseaux!J$4)","v":0},null,{"$f":"SUMIFS(Tableau_Data[Féminin],Tableau_Data[Nom du CDS],Reseaux!$C23,Tableau_Data[Thèmes],Reseaux!$AP$9,Tableau_Data[Annee],Reseaux!$F$3,Tableau_Data[Mois],Reseaux!J$4)","v":0},null,0,null,{"$f":"SUMIFS(Tableau_Data[Masculin],Tableau_Data[Nom du CDS],Reseaux!$C23,Tableau_Data[Thèmes],Reseaux!$AV$9,Tableau_Data[Annee],Reseaux!$F$3,Tableau_Data[Mois],Reseaux!J$4)","v":0},null,{"$f":"SUMIFS(Tableau_Data[Féminin],Tableau_Data[Nom du CDS],Reseaux!$C23,Tableau_Data[Thèmes],Reseaux!$AV$9,Tableau_Data[Annee],Reseaux!$F$3,Tableau_Data[Mois],Reseaux!J$4)","v":0},null,0,null,{"$f":"SUMIFS(Tableau_Data[Masculin],Tableau_Data[Nom du CDS],Reseaux!$C23,Tableau_Data[Thèmes],Reseaux!$BB$9,Tableau_Data[Annee],Reseaux!$F$3,Tableau_Data[Mois],Reseaux!J$4)","v":0},null,{"$f":"SUMIFS(Tableau_Data[Féminin],Tableau_Data[Nom du CDS],Reseaux!$C23,Tableau_Data[Thèmes],Reseaux!$BB$9,Tableau_Data[Annee],Reseaux!$F$3,Tableau_Data[Mois],Reseaux!$J$4)","v":0},null,0,null,{"$f":"SUMIFS(Tableau_Data[Masculin],Tableau_Data[Nom du CDS],Reseaux!$C23,Tableau_Data[Thèmes],Reseaux!$BH$9,Tableau_Data[Annee],Reseaux!$F$3,Tableau_Data[Mois],Reseaux!$J$4)","v":0},null,{"$f":"SUMIFS(Tableau_Data[Féminin],Tableau_Data[Nom du CDS],Reseaux!$C23,Tableau_Data[Thèmes],Reseaux!$BH$9,Tableau_Data[Annee],Reseaux!$F$3,Tableau_Data[Mois],Reseaux!$J$4)","v":0},null,0,null,{"$f":"SUMIFS(Tableau_Data[Masculin],Tableau_Data[Nom du CDS],Reseaux!$C23,Tableau_Data[Thèmes],Reseaux!$BN$9,Tableau_Data[Annee],Reseaux!$F$3,Tableau_Data[Mois],Reseaux!$J$4)","v":0},null,{"$f":"SUMIFS(Tableau_Data[Féminin],Tableau_Data[Nom du CDS],Reseaux!$C23,Tableau_Data[Thèmes],Reseaux!$BN$9,Tableau_Data[Annee],Reseaux!$F$3,Tableau_Data[Mois],Reseaux!$J$4)","v":0},null,0]
[null,{"$f":"IF(Reseaux!B23=\"\",\"\",1+B23)","v":13},{"$f":"Paramètres!M17","v":"CDS Yanza"},null,{"$f":"SUMIFS(Tableau_Data[Masculin],Tableau_Data[Nom du CDS],Reseaux!$C24,Tableau_Data[Annee],Reseaux!$F$3,Tableau_Data[Mois],Reseaux!J$4)","v":0},null,{"$f":"SUMIFS(Tableau_Data[Féminin],Tableau_Data[Nom du CDS],Reseaux!$C24,Tableau_Data[Annee],Reseaux!$F$3,Tableau_Data[Mois],Reseaux!J$4)","v":0},null,0,null,null,{"$f":"SUMIFS(Tableau_Data[Masculin],Tableau_Data[Nom du CDS],Reseaux!$C24,Tableau_Data[Lieu d''intervention],Reseaux!$L$9,Tableau_Data[Annee],Reseaux!$F$3,Tableau_Data[Mois],Reseaux!J$4)","v":0},null,{"$f":"SUMIFS(Tableau_Data[Féminin],Tableau_Data[Nom du CDS],Reseaux!$C24,Tableau_Data[Lieu d''intervention],Reseaux!$L$9,Tableau_Data[Annee],Reseaux!$F$3,Tableau_Data[Mois],Reseaux!J$4)","v":0},null,0,null,{"$f":"SUMIFS(Tableau_Data[Masculin],Tableau_Data[Nom du CDS],Reseaux!$C24,Tableau_Data[Lieu d''intervention],Reseaux!$R$9,Tableau_Data[Annee],Reseaux!$F$3,Tableau_Data[Mois],Reseaux!J$4)","v":0},null,{"$f":"SUMIFS(Tableau_Data[Féminin],Tableau_Data[Nom du CDS],Reseaux!$C24,Tableau_Data[Lieu d''intervention],Reseaux!$R$9,Tableau_Data[Annee],Reseaux!$F$3,Tableau_Data[Mois],Reseaux!J$4)","v":0},null,0,null,{"$f":"SUMIFS(Tableau_Data[Masculin],Tableau_Data[Nom du CDS],Reseaux!$C24,Tableau_Data[Lieu d''intervention],Reseaux!$X$9,Tableau_Data[Annee],Reseaux!$F$3,Tableau_Data[Mois],Reseaux!J$4)","v":0},null,{"$f":"SUMIFS(Tableau_Data[Féminin],Tableau_Data[Nom du CDS],Reseaux!$C24,Tableau_Data[Lieu d''intervention],Reseaux!$X$9,Tableau_Data[Annee],Reseaux!$F$3,Tableau_Data[Mois],Reseaux!J$4)","v":0},null,0,null,{"$f":"SUMIFS(Tableau_Data[Masculin],Tableau_Data[Nom du CDS],Reseaux!$C24,Tableau_Data[Lieu d''intervention],Reseaux!$AD$9,Tableau_Data[Annee],Reseaux!$F$3,Tableau_Data[Mois],Reseaux!J$4)","v":0},null,{"$f":"SUMIFS(Tableau_Data[Féminin],Tableau_Data[Nom du CDS],Reseaux!$C24,Tableau_Data[Lieu d''intervention],Reseaux!$AD$9,Tableau_Data[Annee],Reseaux!$F$3,Tableau_Data[Mois],Reseaux!J$4)","v":0},null,0,{"$f":"SUMIFS(Tableau_Data[Masculin],Tableau_Data[Nom du CDS],Reseaux!$C24,Tableau_Data[Thèmes],Reseaux!$AI$9,Tableau_Data[Annee],Reseaux!$F$3,Tableau_Data[Mois],Reseaux!J$4)","v":0},null,{"$f":"SUMIFS(Tableau_Data[Féminin],Tableau_Data[Nom du CDS],Reseaux!$C24,Tableau_Data[Thèmes],Reseaux!$AI$9,Tableau_Data[Annee],Reseaux!$F$3,Tableau_Data[Mois],Reseaux!J$4)","v":0},null,0,null,null,{"$f":"SUMIFS(Tableau_Data[Masculin],Tableau_Data[Nom du CDS],Reseaux!$C24,Tableau_Data[Thèmes],Reseaux!$AP$9,Tableau_Data[Annee],Reseaux!$F$3,Tableau_Data[Mois],Reseaux!J$4)","v":0},null,{"$f":"SUMIFS(Tableau_Data[Féminin],Tableau_Data[Nom du CDS],Reseaux!$C24,Tableau_Data[Thèmes],Reseaux!$AP$9,Tableau_Data[Annee],Reseaux!$F$3,Tableau_Data[Mois],Reseaux!J$4)","v":0},null,0,null,{"$f":"SUMIFS(Tableau_Data[Masculin],Tableau_Data[Nom du CDS],Reseaux!$C24,Tableau_Data[Thèmes],Reseaux!$AV$9,Tableau_Data[Annee],Reseaux!$F$3,Tableau_Data[Mois],Reseaux!J$4)","v":0},null,{"$f":"SUMIFS(Tableau_Data[Féminin],Tableau_Data[Nom du CDS],Reseaux!$C24,Tableau_Data[Thèmes],Reseaux!$AV$9,Tableau_Data[Annee],Reseaux!$F$3,Tableau_Data[Mois],Reseaux!J$4)","v":0},null,0,null,{"$f":"SUMIFS(Tableau_Data[Masculin],Tableau_Data[Nom du CDS],Reseaux!$C24,Tableau_Data[Thèmes],Reseaux!$BB$9,Tableau_Data[Annee],Reseaux!$F$3,Tableau_Data[Mois],Reseaux!J$4)","v":0},null,{"$f":"SUMIFS(Tableau_Data[Féminin],Tableau_Data[Nom du CDS],Reseaux!$C24,Tableau_Data[Thèmes],Reseaux!$BB$9,Tableau_Data[Annee],Reseaux!$F$3,Tableau_Data[Mois],Reseaux!$J$4)","v":0},null,0,null,{"$f":"SUMIFS(Tableau_Data[Masculin],Tableau_Data[Nom du CDS],Reseaux!$C24,Tableau_Data[Thèmes],Reseaux!$BH$9,Tableau_Data[Annee],Reseaux!$F$3,Tableau_Data[Mois],Reseaux!$J$4)","v":0},null,{"$f":"SUMIFS(Tableau_Data[Féminin],Tableau_Data[Nom du CDS],Reseaux!$C24,Tableau_Data[Thèmes],Reseaux!$BH$9,Tableau_Data[Annee],Reseaux!$F$3,Tableau_Data[Mois],Reseaux!$J$4)","v":0},null,0,null,{"$f":"SUMIFS(Tableau_Data[Masculin],Tableau_Data[Nom du CDS],Reseaux!$C24,Tableau_Data[Thèmes],Reseaux!$BN$9,Tableau_Data[Annee],Reseaux!$F$3,Tableau_Data[Mois],Reseaux!$J$4)","v":0},null,{"$f":"SUMIFS(Tableau_Data[Féminin],Tableau_Data[Nom du CDS],Reseaux!$C24,Tableau_Data[Thèmes],Reseaux!$BN$9,Tableau_Data[Annee],Reseaux!$F$3,Tableau_Data[Mois],Reseaux!$J$4)","v":0},null,0]
[null,{"$f":"IF(Reseaux!B24=\"\",\"\",1+B24)","v":14},{"$f":"Paramètres!M18","v":"CDS Buziracanda"},null,{"$f":"SUMIFS(Tableau_Data[Masculin],Tableau_Data[Nom du CDS],Reseaux!$C25,Tableau_Data[Annee],Reseaux!$F$3,Tableau_Data[Mois],Reseaux!J$4)","v":0},null,{"$f":"SUMIFS(Tableau_Data[Féminin],Tableau_Data[Nom du CDS],Reseaux!$C25,Tableau_Data[Annee],Reseaux!$F$3,Tableau_Data[Mois],Reseaux!J$4)","v":0},null,0,null,null,{"$f":"SUMIFS(Tableau_Data[Masculin],Tableau_Data[Nom du CDS],Reseaux!$C25,Tableau_Data[Lieu d''intervention],Reseaux!$L$9,Tableau_Data[Annee],Reseaux!$F$3,Tableau_Data[Mois],Reseaux!J$4)","v":0},null,{"$f":"SUMIFS(Tableau_Data[Féminin],Tableau_Data[Nom du CDS],Reseaux!$C25,Tableau_Data[Lieu d''intervention],Reseaux!$L$9,Tableau_Data[Annee],Reseaux!$F$3,Tableau_Data[Mois],Reseaux!J$4)","v":0},null,0,null,{"$f":"SUMIFS(Tableau_Data[Masculin],Tableau_Data[Nom du CDS],Reseaux!$C25,Tableau_Data[Lieu d''intervention],Reseaux!$R$9,Tableau_Data[Annee],Reseaux!$F$3,Tableau_Data[Mois],Reseaux!J$4)","v":0},null,{"$f":"SUMIFS(Tableau_Data[Féminin],Tableau_Data[Nom du CDS],Reseaux!$C25,Tableau_Data[Lieu d''intervention],Reseaux!$R$9,Tableau_Data[Annee],Reseaux!$F$3,Tableau_Data[Mois],Reseaux!J$4)","v":0},null,0,null,{"$f":"SUMIFS(Tableau_Data[Masculin],Tableau_Data[Nom du CDS],Reseaux!$C25,Tableau_Data[Lieu d''intervention],Reseaux!$X$9,Tableau_Data[Annee],Reseaux!$F$3,Tableau_Data[Mois],Reseaux!J$4)","v":0},null,{"$f":"SUMIFS(Tableau_Data[Féminin],Tableau_Data[Nom du CDS],Reseaux!$C25,Tableau_Data[Lieu d''intervention],Reseaux!$X$9,Tableau_Data[Annee],Reseaux!$F$3,Tableau_Data[Mois],Reseaux!J$4)","v":0},null,0,null,{"$f":"SUMIFS(Tableau_Data[Masculin],Tableau_Data[Nom du CDS],Reseaux!$C25,Tableau_Data[Lieu d''intervention],Reseaux!$AD$9,Tableau_Data[Annee],Reseaux!$F$3,Tableau_Data[Mois],Reseaux!J$4)","v":0},null,{"$f":"SUMIFS(Tableau_Data[Féminin],Tableau_Data[Nom du CDS],Reseaux!$C25,Tableau_Data[Lieu d''intervention],Reseaux!$AD$9,Tableau_Data[Annee],Reseaux!$F$3,Tableau_Data[Mois],Reseaux!J$4)","v":0},null,0,{"$f":"SUMIFS(Tableau_Data[Masculin],Tableau_Data[Nom du CDS],Reseaux!$C25,Tableau_Data[Thèmes],Reseaux!$AI$9,Tableau_Data[Annee],Reseaux!$F$3,Tableau_Data[Mois],Reseaux!J$4)","v":0},null,{"$f":"SUMIFS(Tableau_Data[Féminin],Tableau_Data[Nom du CDS],Reseaux!$C25,Tableau_Data[Thèmes],Reseaux!$AI$9,Tableau_Data[Annee],Reseaux!$F$3,Tableau_Data[Mois],Reseaux!J$4)","v":0},null,0,null,null,{"$f":"SUMIFS(Tableau_Data[Masculin],Tableau_Data[Nom du CDS],Reseaux!$C25,Tableau_Data[Thèmes],Reseaux!$AP$9,Tableau_Data[Annee],Reseaux!$F$3,Tableau_Data[Mois],Reseaux!J$4)","v":0},null,{"$f":"SUMIFS(Tableau_Data[Féminin],Tableau_Data[Nom du CDS],Reseaux!$C25,Tableau_Data[Thèmes],Reseaux!$AP$9,Tableau_Data[Annee],Reseaux!$F$3,Tableau_Data[Mois],Reseaux!J$4)","v":0},null,0,null,{"$f":"SUMIFS(Tableau_Data[Masculin],Tableau_Data[Nom du CDS],Reseaux!$C25,Tableau_Data[Thèmes],Reseaux!$AV$9,Tableau_Data[Annee],Reseaux!$F$3,Tableau_Data[Mois],Reseaux!J$4)","v":0},null,{"$f":"SUMIFS(Tableau_Data[Féminin],Tableau_Data[Nom du CDS],Reseaux!$C25,Tableau_Data[Thèmes],Reseaux!$AV$9,Tableau_Data[Annee],Reseaux!$F$3,Tableau_Data[Mois],Reseaux!J$4)","v":0},null,0,null,{"$f":"SUMIFS(Tableau_Data[Masculin],Tableau_Data[Nom du CDS],Reseaux!$C25,Tableau_Data[Thèmes],Reseaux!$BB$9,Tableau_Data[Annee],Reseaux!$F$3,Tableau_Data[Mois],Reseaux!J$4)","v":0},null,{"$f":"SUMIFS(Tableau_Data[Féminin],Tableau_Data[Nom du CDS],Reseaux!$C25,Tableau_Data[Thèmes],Reseaux!$BB$9,Tableau_Data[Annee],Reseaux!$F$3,Tableau_Data[Mois],Reseaux!$J$4)","v":0},null,0,null,{"$f":"SUMIFS(Tableau_Data[Masculin],Tableau_Data[Nom du CDS],Reseaux!$C25,Tableau_Data[Thèmes],Reseaux!$BH$9,Tableau_Data[Annee],Reseaux!$F$3,Tableau_Data[Mois],Reseaux!$J$4)","v":0},null,{"$f":"SUMIFS(Tableau_Data[Féminin],Tableau_Data[Nom du CDS],Reseaux!$C25,Tableau_Data[Thèmes],Reseaux!$BH$9,Tableau_Data[Annee],Reseaux!$F$3,Tableau_Data[Mois],Reseaux!$J$4)","v":0},null,0,null,{"$f":"SUMIFS(Tableau_Data[Masculin],Tableau_Data[Nom du CDS],Reseaux!$C25,Tableau_Data[Thèmes],Reseaux!$BN$9,Tableau_Data[Annee],Reseaux!$F$3,Tableau_Data[Mois],Reseaux!$J$4)","v":0},null,{"$f":"SUMIFS(Tableau_Data[Féminin],Tableau_Data[Nom du CDS],Reseaux!$C25,Tableau_Data[Thèmes],Reseaux!$BN$9,Tableau_Data[Annee],Reseaux!$F$3,Tableau_Data[Mois],Reseaux!$J$4)","v":0},null,0]
[null,{"$f":"IF(Reseaux!B25=\"\",\"\",1+B25)","v":15},{"$f":"Paramètres!M19","v":"CDS Gitara"},null,{"$f":"SUMIFS(Tableau_Data[Masculin],Tableau_Data[Nom du CDS],Reseaux!$C26,Tableau_Data[Annee],Reseaux!$F$3,Tableau_Data[Mois],Reseaux!J$4)","v":0},null,{"$f":"SUMIFS(Tableau_Data[Féminin],Tableau_Data[Nom du CDS],Reseaux!$C26,Tableau_Data[Annee],Reseaux!$F$3,Tableau_Data[Mois],Reseaux!J$4)","v":0},null,0,null,null,{"$f":"SUMIFS(Tableau_Data[Masculin],Tableau_Data[Nom du CDS],Reseaux!$C26,Tableau_Data[Lieu d''intervention],Reseaux!$L$9,Tableau_Data[Annee],Reseaux!$F$3,Tableau_Data[Mois],Reseaux!J$4)","v":0},null,{"$f":"SUMIFS(Tableau_Data[Féminin],Tableau_Data[Nom du CDS],Reseaux!$C26,Tableau_Data[Lieu d''intervention],Reseaux!$L$9,Tableau_Data[Annee],Reseaux!$F$3,Tableau_Data[Mois],Reseaux!J$4)","v":0},null,0,null,{"$f":"SUMIFS(Tableau_Data[Masculin],Tableau_Data[Nom du CDS],Reseaux!$C26,Tableau_Data[Lieu d''intervention],Reseaux!$R$9,Tableau_Data[Annee],Reseaux!$F$3,Tableau_Data[Mois],Reseaux!J$4)","v":0},null,{"$f":"SUMIFS(Tableau_Data[Féminin],Tableau_Data[Nom du CDS],Reseaux!$C26,Tableau_Data[Lieu d''intervention],Reseaux!$R$9,Tableau_Data[Annee],Reseaux!$F$3,Tableau_Data[Mois],Reseaux!J$4)","v":0},null,0,null,{"$f":"SUMIFS(Tableau_Data[Masculin],Tableau_Data[Nom du CDS],Reseaux!$C26,Tableau_Data[Lieu d''intervention],Reseaux!$X$9,Tableau_Data[Annee],Reseaux!$F$3,Tableau_Data[Mois],Reseaux!J$4)","v":0},null,{"$f":"SUMIFS(Tableau_Data[Féminin],Tableau_Data[Nom du CDS],Reseaux!$C26,Tableau_Data[Lieu d''intervention],Reseaux!$X$9,Tableau_Data[Annee],Reseaux!$F$3,Tableau_Data[Mois],Reseaux!J$4)","v":0},null,0,null,{"$f":"SUMIFS(Tableau_Data[Masculin],Tableau_Data[Nom du CDS],Reseaux!$C26,Tableau_Data[Lieu d''intervention],Reseaux!$AD$9,Tableau_Data[Annee],Reseaux!$F$3,Tableau_Data[Mois],Reseaux!J$4)","v":0},null,{"$f":"SUMIFS(Tableau_Data[Féminin],Tableau_Data[Nom du CDS],Reseaux!$C26,Tableau_Data[Lieu d''intervention],Reseaux!$AD$9,Tableau_Data[Annee],Reseaux!$F$3,Tableau_Data[Mois],Reseaux!J$4)","v":0},null,0,{"$f":"SUMIFS(Tableau_Data[Masculin],Tableau_Data[Nom du CDS],Reseaux!$C26,Tableau_Data[Thèmes],Reseaux!$AI$9,Tableau_Data[Annee],Reseaux!$F$3,Tableau_Data[Mois],Reseaux!J$4)","v":0},null,{"$f":"SUMIFS(Tableau_Data[Féminin],Tableau_Data[Nom du CDS],Reseaux!$C26,Tableau_Data[Thèmes],Reseaux!$AI$9,Tableau_Data[Annee],Reseaux!$F$3,Tableau_Data[Mois],Reseaux!J$4)","v":0},null,0,null,null,{"$f":"SUMIFS(Tableau_Data[Masculin],Tableau_Data[Nom du CDS],Reseaux!$C26,Tableau_Data[Thèmes],Reseaux!$AP$9,Tableau_Data[Annee],Reseaux!$F$3,Tableau_Data[Mois],Reseaux!J$4)","v":0},null,{"$f":"SUMIFS(Tableau_Data[Féminin],Tableau_Data[Nom du CDS],Reseaux!$C26,Tableau_Data[Thèmes],Reseaux!$AP$9,Tableau_Data[Annee],Reseaux!$F$3,Tableau_Data[Mois],Reseaux!J$4)","v":0},null,0,null,{"$f":"SUMIFS(Tableau_Data[Masculin],Tableau_Data[Nom du CDS],Reseaux!$C26,Tableau_Data[Thèmes],Reseaux!$AV$9,Tableau_Data[Annee],Reseaux!$F$3,Tableau_Data[Mois],Reseaux!J$4)","v":0},null,{"$f":"SUMIFS(Tableau_Data[Féminin],Tableau_Data[Nom du CDS],Reseaux!$C26,Tableau_Data[Thèmes],Reseaux!$AV$9,Tableau_Data[Annee],Reseaux!$F$3,Tableau_Data[Mois],Reseaux!J$4)","v":0},null,0,null,{"$f":"SUMIFS(Tableau_Data[Masculin],Tableau_Data[Nom du CDS],Reseaux!$C26,Tableau_Data[Thèmes],Reseaux!$BB$9,Tableau_Data[Annee],Reseaux!$F$3,Tableau_Data[Mois],Reseaux!J$4)","v":0},null,{"$f":"SUMIFS(Tableau_Data[Féminin],Tableau_Data[Nom du CDS],Reseaux!$C26,Tableau_Data[Thèmes],Reseaux!$BB$9,Tableau_Data[Annee],Reseaux!$F$3,Tableau_Data[Mois],Reseaux!$J$4)","v":0},null,0,null,{"$f":"SUMIFS(Tableau_Data[Masculin],Tableau_Data[Nom du CDS],Reseaux!$C26,Tableau_Data[Thèmes],Reseaux!$BH$9,Tableau_Data[Annee],Reseaux!$F$3,Tableau_Data[Mois],Reseaux!$J$4)","v":0},null,{"$f":"SUMIFS(Tableau_Data[Féminin],Tableau_Data[Nom du CDS],Reseaux!$C26,Tableau_Data[Thèmes],Reseaux!$BH$9,Tableau_Data[Annee],Reseaux!$F$3,Tableau_Data[Mois],Reseaux!$J$4)","v":0},null,0,null,{"$f":"SUMIFS(Tableau_Data[Masculin],Tableau_Data[Nom du CDS],Reseaux!$C26,Tableau_Data[Thèmes],Reseaux!$BN$9,Tableau_Data[Annee],Reseaux!$F$3,Tableau_Data[Mois],Reseaux!$J$4)","v":0},null,{"$f":"SUMIFS(Tableau_Data[Féminin],Tableau_Data[Nom du CDS],Reseaux!$C26,Tableau_Data[Thèmes],Reseaux!$BN$9,Tableau_Data[Annee],Reseaux!$F$3,Tableau_Data[Mois],Reseaux!$J$4)","v":0},null,0]
[null,{"$f":"IF(Reseaux!B26=\"\",\"\",1+B26)","v":16},{"$f":"Paramètres!M20","v":"CDS Nyabihanga"},null,{"$f":"SUMIFS(Tableau_Data[Masculin],Tableau_Data[Nom du CDS],Reseaux!$C27,Tableau_Data[Annee],Reseaux!$F$3,Tableau_Data[Mois],Reseaux!J$4)","v":0},null,{"$f":"SUMIFS(Tableau_Data[Féminin],Tableau_Data[Nom du CDS],Reseaux!$C27,Tableau_Data[Annee],Reseaux!$F$3,Tableau_Data[Mois],Reseaux!J$4)","v":0},null,0,null,null,{"$f":"SUMIFS(Tableau_Data[Masculin],Tableau_Data[Nom du CDS],Reseaux!$C27,Tableau_Data[Lieu d''intervention],Reseaux!$L$9,Tableau_Data[Annee],Reseaux!$F$3,Tableau_Data[Mois],Reseaux!J$4)","v":0},null,{"$f":"SUMIFS(Tableau_Data[Féminin],Tableau_Data[Nom du CDS],Reseaux!$C27,Tableau_Data[Lieu d''intervention],Reseaux!$L$9,Tableau_Data[Annee],Reseaux!$F$3,Tableau_Data[Mois],Reseaux!J$4)","v":0},null,0,null,{"$f":"SUMIFS(Tableau_Data[Masculin],Tableau_Data[Nom du CDS],Reseaux!$C27,Tableau_Data[Lieu d''intervention],Reseaux!$R$9,Tableau_Data[Annee],Reseaux!$F$3,Tableau_Data[Mois],Reseaux!J$4)","v":0},null,{"$f":"SUMIFS(Tableau_Data[Féminin],Tableau_Data[Nom du CDS],Reseaux!$C27,Tableau_Data[Lieu d''intervention],Reseaux!$R$9,Tableau_Data[Annee],Reseaux!$F$3,Tableau_Data[Mois],Reseaux!J$4)","v":0},null,0,null,{"$f":"SUMIFS(Tableau_Data[Masculin],Tableau_Data[Nom du CDS],Reseaux!$C27,Tableau_Data[Lieu d''intervention],Reseaux!$X$9,Tableau_Data[Annee],Reseaux!$F$3,Tableau_Data[Mois],Reseaux!J$4)","v":0},null,{"$f":"SUMIFS(Tableau_Data[Féminin],Tableau_Data[Nom du CDS],Reseaux!$C27,Tableau_Data[Lieu d''intervention],Reseaux!$X$9,Tableau_Data[Annee],Reseaux!$F$3,Tableau_Data[Mois],Reseaux!J$4)","v":0},null,0,null,{"$f":"SUMIFS(Tableau_Data[Masculin],Tableau_Data[Nom du CDS],Reseaux!$C27,Tableau_Data[Lieu d''intervention],Reseaux!$AD$9,Tableau_Data[Annee],Reseaux!$F$3,Tableau_Data[Mois],Reseaux!J$4)","v":0},null,{"$f":"SUMIFS(Tableau_Data[Féminin],Tableau_Data[Nom du CDS],Reseaux!$C27,Tableau_Data[Lieu d''intervention],Reseaux!$AD$9,Tableau_Data[Annee],Reseaux!$F$3,Tableau_Data[Mois],Reseaux!J$4)","v":0},null,0,{"$f":"SUMIFS(Tableau_Data[Masculin],Tableau_Data[Nom du CDS],Reseaux!$C27,Tableau_Data[Thèmes],Reseaux!$AI$9,Tableau_Data[Annee],Reseaux!$F$3,Tableau_Data[Mois],Reseaux!J$4)","v":0},null,{"$f":"SUMIFS(Tableau_Data[Féminin],Tableau_Data[Nom du CDS],Reseaux!$C27,Tableau_Data[Thèmes],Reseaux!$AI$9,Tableau_Data[Annee],Reseaux!$F$3,Tableau_Data[Mois],Reseaux!J$4)","v":0},null,0,null,null,{"$f":"SUMIFS(Tableau_Data[Masculin],Tableau_Data[Nom du CDS],Reseaux!$C27,Tableau_Data[Thèmes],Reseaux!$AP$9,Tableau_Data[Annee],Reseaux!$F$3,Tableau_Data[Mois],Reseaux!J$4)","v":0},null,{"$f":"SUMIFS(Tableau_Data[Féminin],Tableau_Data[Nom du CDS],Reseaux!$C27,Tableau_Data[Thèmes],Reseaux!$AP$9,Tableau_Data[Annee],Reseaux!$F$3,Tableau_Data[Mois],Reseaux!J$4)","v":0},null,0,null,{"$f":"SUMIFS(Tableau_Data[Masculin],Tableau_Data[Nom du CDS],Reseaux!$C27,Tableau_Data[Thèmes],Reseaux!$AV$9,Tableau_Data[Annee],Reseaux!$F$3,Tableau_Data[Mois],Reseaux!J$4)","v":0},null,{"$f":"SUMIFS(Tableau_Data[Féminin],Tableau_Data[Nom du CDS],Reseaux!$C27,Tableau_Data[Thèmes],Reseaux!$AV$9,Tableau_Data[Annee],Reseaux!$F$3,Tableau_Data[Mois],Reseaux!J$4)","v":0},null,0,null,{"$f":"SUMIFS(Tableau_Data[Masculin],Tableau_Data[Nom du CDS],Reseaux!$C27,Tableau_Data[Thèmes],Reseaux!$BB$9,Tableau_Data[Annee],Reseaux!$F$3,Tableau_Data[Mois],Reseaux!J$4)","v":0},null,{"$f":"SUMIFS(Tableau_Data[Féminin],Tableau_Data[Nom du CDS],Reseaux!$C27,Tableau_Data[Thèmes],Reseaux!$BB$9,Tableau_Data[Annee],Reseaux!$F$3,Tableau_Data[Mois],Reseaux!$J$4)","v":0},null,0,null,{"$f":"SUMIFS(Tableau_Data[Masculin],Tableau_Data[Nom du CDS],Reseaux!$C27,Tableau_Data[Thèmes],Reseaux!$BH$9,Tableau_Data[Annee],Reseaux!$F$3,Tableau_Data[Mois],Reseaux!$J$4)","v":0},null,{"$f":"SUMIFS(Tableau_Data[Féminin],Tableau_Data[Nom du CDS],Reseaux!$C27,Tableau_Data[Thèmes],Reseaux!$BH$9,Tableau_Data[Annee],Reseaux!$F$3,Tableau_Data[Mois],Reseaux!$J$4)","v":0},null,0,null,{"$f":"SUMIFS(Tableau_Data[Masculin],Tableau_Data[Nom du CDS],Reseaux!$C27,Tableau_Data[Thèmes],Reseaux!$BN$9,Tableau_Data[Annee],Reseaux!$F$3,Tableau_Data[Mois],Reseaux!$J$4)","v":0},null,{"$f":"SUMIFS(Tableau_Data[Féminin],Tableau_Data[Nom du CDS],Reseaux!$C27,Tableau_Data[Thèmes],Reseaux!$BN$9,Tableau_Data[Annee],Reseaux!$F$3,Tableau_Data[Mois],Reseaux!$J$4)","v":0},null,0]
[null,{"$f":"IF(Reseaux!B27=\"\",\"\",1+B27)","v":17},{"$f":"Paramètres!M21","v":"CDS Muyebe"},null,{"$f":"SUMIFS(Tableau_Data[Masculin],Tableau_Data[Nom du CDS],Reseaux!$C28,Tableau_Data[Annee],Reseaux!$F$3,Tableau_Data[Mois],Reseaux!J$4)","v":0},null,{"$f":"SUMIFS(Tableau_Data[Féminin],Tableau_Data[Nom du CDS],Reseaux!$C28,Tableau_Data[Annee],Reseaux!$F$3,Tableau_Data[Mois],Reseaux!J$4)","v":0},null,0,null,null,{"$f":"SUMIFS(Tableau_Data[Masculin],Tableau_Data[Nom du CDS],Reseaux!$C28,Tableau_Data[Lieu d''intervention],Reseaux!$L$9,Tableau_Data[Annee],Reseaux!$F$3,Tableau_Data[Mois],Reseaux!J$4)","v":0},null,{"$f":"SUMIFS(Tableau_Data[Féminin],Tableau_Data[Nom du CDS],Reseaux!$C28,Tableau_Data[Lieu d''intervention],Reseaux!$L$9,Tableau_Data[Annee],Reseaux!$F$3,Tableau_Data[Mois],Reseaux!J$4)","v":0},null,0,null,{"$f":"SUMIFS(Tableau_Data[Masculin],Tableau_Data[Nom du CDS],Reseaux!$C28,Tableau_Data[Lieu d''intervention],Reseaux!$R$9,Tableau_Data[Annee],Reseaux!$F$3,Tableau_Data[Mois],Reseaux!J$4)","v":0},null,{"$f":"SUMIFS(Tableau_Data[Féminin],Tableau_Data[Nom du CDS],Reseaux!$C28,Tableau_Data[Lieu d''intervention],Reseaux!$R$9,Tableau_Data[Annee],Reseaux!$F$3,Tableau_Data[Mois],Reseaux!J$4)","v":0},null,0,null,{"$f":"SUMIFS(Tableau_Data[Masculin],Tableau_Data[Nom du CDS],Reseaux!$C28,Tableau_Data[Lieu d''intervention],Reseaux!$X$9,Tableau_Data[Annee],Reseaux!$F$3,Tableau_Data[Mois],Reseaux!J$4)","v":0},null,{"$f":"SUMIFS(Tableau_Data[Féminin],Tableau_Data[Nom du CDS],Reseaux!$C28,Tableau_Data[Lieu d''intervention],Reseaux!$X$9,Tableau_Data[Annee],Reseaux!$F$3,Tableau_Data[Mois],Reseaux!J$4)","v":0},null,0,null,{"$f":"SUMIFS(Tableau_Data[Masculin],Tableau_Data[Nom du CDS],Reseaux!$C28,Tableau_Data[Lieu d''intervention],Reseaux!$AD$9,Tableau_Data[Annee],Reseaux!$F$3,Tableau_Data[Mois],Reseaux!J$4)","v":0},null,{"$f":"SUMIFS(Tableau_Data[Féminin],Tableau_Data[Nom du CDS],Reseaux!$C28,Tableau_Data[Lieu d''intervention],Reseaux!$AD$9,Tableau_Data[Annee],Reseaux!$F$3,Tableau_Data[Mois],Reseaux!J$4)","v":0},null,0,{"$f":"SUMIFS(Tableau_Data[Masculin],Tableau_Data[Nom du CDS],Reseaux!$C28,Tableau_Data[Thèmes],Reseaux!$AI$9,Tableau_Data[Annee],Reseaux!$F$3,Tableau_Data[Mois],Reseaux!J$4)","v":0},null,{"$f":"SUMIFS(Tableau_Data[Féminin],Tableau_Data[Nom du CDS],Reseaux!$C28,Tableau_Data[Thèmes],Reseaux!$AI$9,Tableau_Data[Annee],Reseaux!$F$3,Tableau_Data[Mois],Reseaux!J$4)","v":0},null,0,null,null,{"$f":"SUMIFS(Tableau_Data[Masculin],Tableau_Data[Nom du CDS],Reseaux!$C28,Tableau_Data[Thèmes],Reseaux!$AP$9,Tableau_Data[Annee],Reseaux!$F$3,Tableau_Data[Mois],Reseaux!J$4)","v":0},null,{"$f":"SUMIFS(Tableau_Data[Féminin],Tableau_Data[Nom du CDS],Reseaux!$C28,Tableau_Data[Thèmes],Reseaux!$AP$9,Tableau_Data[Annee],Reseaux!$F$3,Tableau_Data[Mois],Reseaux!J$4)","v":0},null,0,null,{"$f":"SUMIFS(Tableau_Data[Masculin],Tableau_Data[Nom du CDS],Reseaux!$C28,Tableau_Data[Thèmes],Reseaux!$AV$9,Tableau_Data[Annee],Reseaux!$F$3,Tableau_Data[Mois],Reseaux!J$4)","v":0},null,{"$f":"SUMIFS(Tableau_Data[Féminin],Tableau_Data[Nom du CDS],Reseaux!$C28,Tableau_Data[Thèmes],Reseaux!$AV$9,Tableau_Data[Annee],Reseaux!$F$3,Tableau_Data[Mois],Reseaux!J$4)","v":0},null,0,null,{"$f":"SUMIFS(Tableau_Data[Masculin],Tableau_Data[Nom du CDS],Reseaux!$C28,Tableau_Data[Thèmes],Reseaux!$BB$9,Tableau_Data[Annee],Reseaux!$F$3,Tableau_Data[Mois],Reseaux!J$4)","v":0},null,{"$f":"SUMIFS(Tableau_Data[Féminin],Tableau_Data[Nom du CDS],Reseaux!$C28,Tableau_Data[Thèmes],Reseaux!$BB$9,Tableau_Data[Annee],Reseaux!$F$3,Tableau_Data[Mois],Reseaux!$J$4)","v":0},null,0,null,{"$f":"SUMIFS(Tableau_Data[Masculin],Tableau_Data[Nom du CDS],Reseaux!$C28,Tableau_Data[Thèmes],Reseaux!$BH$9,Tableau_Data[Annee],Reseaux!$F$3,Tableau_Data[Mois],Reseaux!$J$4)","v":0},null,{"$f":"SUMIFS(Tableau_Data[Féminin],Tableau_Data[Nom du CDS],Reseaux!$C28,Tableau_Data[Thèmes],Reseaux!$BH$9,Tableau_Data[Annee],Reseaux!$F$3,Tableau_Data[Mois],Reseaux!$J$4)","v":0},null,0,null,{"$f":"SUMIFS(Tableau_Data[Masculin],Tableau_Data[Nom du CDS],Reseaux!$C28,Tableau_Data[Thèmes],Reseaux!$BN$9,Tableau_Data[Annee],Reseaux!$F$3,Tableau_Data[Mois],Reseaux!$J$4)","v":0},null,{"$f":"SUMIFS(Tableau_Data[Féminin],Tableau_Data[Nom du CDS],Reseaux!$C28,Tableau_Data[Thèmes],Reseaux!$BN$9,Tableau_Data[Annee],Reseaux!$F$3,Tableau_Data[Mois],Reseaux!$J$4)","v":0},null,0]
[null,{"$f":"IF(Reseaux!B28=\"\",\"\",1+B28)","v":18},{"$f":"Paramètres!M22","v":"CDS Croix Rouge"},null,{"$f":"SUMIFS(Tableau_Data[Masculin],Tableau_Data[Nom du CDS],Reseaux!$C29,Tableau_Data[Annee],Reseaux!$F$3,Tableau_Data[Mois],Reseaux!J$4)","v":0},null,{"$f":"SUMIFS(Tableau_Data[Féminin],Tableau_Data[Nom du CDS],Reseaux!$C29,Tableau_Data[Annee],Reseaux!$F$3,Tableau_Data[Mois],Reseaux!J$4)","v":0},null,0,null,null,{"$f":"SUMIFS(Tableau_Data[Masculin],Tableau_Data[Nom du CDS],Reseaux!$C29,Tableau_Data[Lieu d''intervention],Reseaux!$L$9,Tableau_Data[Annee],Reseaux!$F$3,Tableau_Data[Mois],Reseaux!J$4)","v":0},null,{"$f":"SUMIFS(Tableau_Data[Féminin],Tableau_Data[Nom du CDS],Reseaux!$C29,Tableau_Data[Lieu d''intervention],Reseaux!$L$9,Tableau_Data[Annee],Reseaux!$F$3,Tableau_Data[Mois],Reseaux!J$4)","v":0},null,0,null,{"$f":"SUMIFS(Tableau_Data[Masculin],Tableau_Data[Nom du CDS],Reseaux!$C29,Tableau_Data[Lieu d''intervention],Reseaux!$R$9,Tableau_Data[Annee],Reseaux!$F$3,Tableau_Data[Mois],Reseaux!J$4)","v":0},null,{"$f":"SUMIFS(Tableau_Data[Féminin],Tableau_Data[Nom du CDS],Reseaux!$C29,Tableau_Data[Lieu d''intervention],Reseaux!$R$9,Tableau_Data[Annee],Reseaux!$F$3,Tableau_Data[Mois],Reseaux!J$4)","v":0},null,0,null,{"$f":"SUMIFS(Tableau_Data[Masculin],Tableau_Data[Nom du CDS],Reseaux!$C29,Tableau_Data[Lieu d''intervention],Reseaux!$X$9,Tableau_Data[Annee],Reseaux!$F$3,Tableau_Data[Mois],Reseaux!J$4)","v":0},null,{"$f":"SUMIFS(Tableau_Data[Féminin],Tableau_Data[Nom du CDS],Reseaux!$C29,Tableau_Data[Lieu d''intervention],Reseaux!$X$9,Tableau_Data[Annee],Reseaux!$F$3,Tableau_Data[Mois],Reseaux!J$4)","v":0},null,0,null,{"$f":"SUMIFS(Tableau_Data[Masculin],Tableau_Data[Nom du CDS],Reseaux!$C29,Tableau_Data[Lieu d''intervention],Reseaux!$AD$9,Tableau_Data[Annee],Reseaux!$F$3,Tableau_Data[Mois],Reseaux!J$4)","v":0},null,{"$f":"SUMIFS(Tableau_Data[Féminin],Tableau_Data[Nom du CDS],Reseaux!$C29,Tableau_Data[Lieu d''intervention],Reseaux!$AD$9,Tableau_Data[Annee],Reseaux!$F$3,Tableau_Data[Mois],Reseaux!J$4)","v":0},null,0,{"$f":"SUMIFS(Tableau_Data[Masculin],Tableau_Data[Nom du CDS],Reseaux!$C29,Tableau_Data[Thèmes],Reseaux!$AI$9,Tableau_Data[Annee],Reseaux!$F$3,Tableau_Data[Mois],Reseaux!J$4)","v":0},null,{"$f":"SUMIFS(Tableau_Data[Féminin],Tableau_Data[Nom du CDS],Reseaux!$C29,Tableau_Data[Thèmes],Reseaux!$AI$9,Tableau_Data[Annee],Reseaux!$F$3,Tableau_Data[Mois],Reseaux!J$4)","v":0},null,0,null,null,{"$f":"SUMIFS(Tableau_Data[Masculin],Tableau_Data[Nom du CDS],Reseaux!$C29,Tableau_Data[Thèmes],Reseaux!$AP$9,Tableau_Data[Annee],Reseaux!$F$3,Tableau_Data[Mois],Reseaux!J$4)","v":0},null,{"$f":"SUMIFS(Tableau_Data[Féminin],Tableau_Data[Nom du CDS],Reseaux!$C29,Tableau_Data[Thèmes],Reseaux!$AP$9,Tableau_Data[Annee],Reseaux!$F$3,Tableau_Data[Mois],Reseaux!J$4)","v":0},null,0,null,{"$f":"SUMIFS(Tableau_Data[Masculin],Tableau_Data[Nom du CDS],Reseaux!$C29,Tableau_Data[Thèmes],Reseaux!$AV$9,Tableau_Data[Annee],Reseaux!$F$3,Tableau_Data[Mois],Reseaux!J$4)","v":0},null,{"$f":"SUMIFS(Tableau_Data[Féminin],Tableau_Data[Nom du CDS],Reseaux!$C29,Tableau_Data[Thèmes],Reseaux!$AV$9,Tableau_Data[Annee],Reseaux!$F$3,Tableau_Data[Mois],Reseaux!J$4)","v":0},null,0,null,{"$f":"SUMIFS(Tableau_Data[Masculin],Tableau_Data[Nom du CDS],Reseaux!$C29,Tableau_Data[Thèmes],Reseaux!$BB$9,Tableau_Data[Annee],Reseaux!$F$3,Tableau_Data[Mois],Reseaux!J$4)","v":0},null,{"$f":"SUMIFS(Tableau_Data[Féminin],Tableau_Data[Nom du CDS],Reseaux!$C29,Tableau_Data[Thèmes],Reseaux!$BB$9,Tableau_Data[Annee],Reseaux!$F$3,Tableau_Data[Mois],Reseaux!$J$4)","v":0},null,0,null,{"$f":"SUMIFS(Tableau_Data[Masculin],Tableau_Data[Nom du CDS],Reseaux!$C29,Tableau_Data[Thèmes],Reseaux!$BH$9,Tableau_Data[Annee],Reseaux!$F$3,Tableau_Data[Mois],Reseaux!$J$4)","v":0},null,{"$f":"SUMIFS(Tableau_Data[Féminin],Tableau_Data[Nom du CDS],Reseaux!$C29,Tableau_Data[Thèmes],Reseaux!$BH$9,Tableau_Data[Annee],Reseaux!$F$3,Tableau_Data[Mois],Reseaux!$J$4)","v":0},null,0,null,{"$f":"SUMIFS(Tableau_Data[Masculin],Tableau_Data[Nom du CDS],Reseaux!$C29,Tableau_Data[Thèmes],Reseaux!$BN$9,Tableau_Data[Annee],Reseaux!$F$3,Tableau_Data[Mois],Reseaux!$J$4)","v":0},null,{"$f":"SUMIFS(Tableau_Data[Féminin],Tableau_Data[Nom du CDS],Reseaux!$C29,Tableau_Data[Thèmes],Reseaux!$BN$9,Tableau_Data[Annee],Reseaux!$F$3,Tableau_Data[Mois],Reseaux!$J$4)","v":0},null,0]
[null,{"$f":"IF(Reseaux!B29=\"\",\"\",1+B29)","v":19},{"$f":"Paramètres!M23","v":"CDS Kanka"},null,{"$f":"SUMIFS(Tableau_Data[Masculin],Tableau_Data[Nom du CDS],Reseaux!$C30,Tableau_Data[Annee],Reseaux!$F$3,Tableau_Data[Mois],Reseaux!J$4)","v":0},null,{"$f":"SUMIFS(Tableau_Data[Féminin],Tableau_Data[Nom du CDS],Reseaux!$C30,Tableau_Data[Annee],Reseaux!$F$3,Tableau_Data[Mois],Reseaux!J$4)","v":0},null,0,null,null,{"$f":"SUMIFS(Tableau_Data[Masculin],Tableau_Data[Nom du CDS],Reseaux!$C30,Tableau_Data[Lieu d''intervention],Reseaux!$L$9,Tableau_Data[Annee],Reseaux!$F$3,Tableau_Data[Mois],Reseaux!J$4)","v":0},null,{"$f":"SUMIFS(Tableau_Data[Féminin],Tableau_Data[Nom du CDS],Reseaux!$C30,Tableau_Data[Lieu d''intervention],Reseaux!$L$9,Tableau_Data[Annee],Reseaux!$F$3,Tableau_Data[Mois],Reseaux!J$4)","v":0},null,0,null,{"$f":"SUMIFS(Tableau_Data[Masculin],Tableau_Data[Nom du CDS],Reseaux!$C30,Tableau_Data[Lieu d''intervention],Reseaux!$R$9,Tableau_Data[Annee],Reseaux!$F$3,Tableau_Data[Mois],Reseaux!J$4)","v":0},null,{"$f":"SUMIFS(Tableau_Data[Féminin],Tableau_Data[Nom du CDS],Reseaux!$C30,Tableau_Data[Lieu d''intervention],Reseaux!$R$9,Tableau_Data[Annee],Reseaux!$F$3,Tableau_Data[Mois],Reseaux!J$4)","v":0},null,0,null,{"$f":"SUMIFS(Tableau_Data[Masculin],Tableau_Data[Nom du CDS],Reseaux!$C30,Tableau_Data[Lieu d''intervention],Reseaux!$X$9,Tableau_Data[Annee],Reseaux!$F$3,Tableau_Data[Mois],Reseaux!J$4)","v":0},null,{"$f":"SUMIFS(Tableau_Data[Féminin],Tableau_Data[Nom du CDS],Reseaux!$C30,Tableau_Data[Lieu d''intervention],Reseaux!$X$9,Tableau_Data[Annee],Reseaux!$F$3,Tableau_Data[Mois],Reseaux!J$4)","v":0},null,0,null,{"$f":"SUMIFS(Tableau_Data[Masculin],Tableau_Data[Nom du CDS],Reseaux!$C30,Tableau_Data[Lieu d''intervention],Reseaux!$AD$9,Tableau_Data[Annee],Reseaux!$F$3,Tableau_Data[Mois],Reseaux!J$4)","v":0},null,{"$f":"SUMIFS(Tableau_Data[Féminin],Tableau_Data[Nom du CDS],Reseaux!$C30,Tableau_Data[Lieu d''intervention],Reseaux!$AD$9,Tableau_Data[Annee],Reseaux!$F$3,Tableau_Data[Mois],Reseaux!J$4)","v":0},null,0,{"$f":"SUMIFS(Tableau_Data[Masculin],Tableau_Data[Nom du CDS],Reseaux!$C30,Tableau_Data[Thèmes],Reseaux!$AI$9,Tableau_Data[Annee],Reseaux!$F$3,Tableau_Data[Mois],Reseaux!J$4)","v":0},null,{"$f":"SUMIFS(Tableau_Data[Féminin],Tableau_Data[Nom du CDS],Reseaux!$C30,Tableau_Data[Thèmes],Reseaux!$AI$9,Tableau_Data[Annee],Reseaux!$F$3,Tableau_Data[Mois],Reseaux!J$4)","v":0},null,0,null,null,{"$f":"SUMIFS(Tableau_Data[Masculin],Tableau_Data[Nom du CDS],Reseaux!$C30,Tableau_Data[Thèmes],Reseaux!$AP$9,Tableau_Data[Annee],Reseaux!$F$3,Tableau_Data[Mois],Reseaux!J$4)","v":0},null,{"$f":"SUMIFS(Tableau_Data[Féminin],Tableau_Data[Nom du CDS],Reseaux!$C30,Tableau_Data[Thèmes],Reseaux!$AP$9,Tableau_Data[Annee],Reseaux!$F$3,Tableau_Data[Mois],Reseaux!J$4)","v":0},null,0,null,{"$f":"SUMIFS(Tableau_Data[Masculin],Tableau_Data[Nom du CDS],Reseaux!$C30,Tableau_Data[Thèmes],Reseaux!$AV$9,Tableau_Data[Annee],Reseaux!$F$3,Tableau_Data[Mois],Reseaux!J$4)","v":0},null,{"$f":"SUMIFS(Tableau_Data[Féminin],Tableau_Data[Nom du CDS],Reseaux!$C30,Tableau_Data[Thèmes],Reseaux!$AV$9,Tableau_Data[Annee],Reseaux!$F$3,Tableau_Data[Mois],Reseaux!J$4)","v":0},null,0,null,{"$f":"SUMIFS(Tableau_Data[Masculin],Tableau_Data[Nom du CDS],Reseaux!$C30,Tableau_Data[Thèmes],Reseaux!$BB$9,Tableau_Data[Annee],Reseaux!$F$3,Tableau_Data[Mois],Reseaux!J$4)","v":0},null,{"$f":"SUMIFS(Tableau_Data[Féminin],Tableau_Data[Nom du CDS],Reseaux!$C30,Tableau_Data[Thèmes],Reseaux!$BB$9,Tableau_Data[Annee],Reseaux!$F$3,Tableau_Data[Mois],Reseaux!$J$4)","v":0},null,0,null,{"$f":"SUMIFS(Tableau_Data[Masculin],Tableau_Data[Nom du CDS],Reseaux!$C30,Tableau_Data[Thèmes],Reseaux!$BH$9,Tableau_Data[Annee],Reseaux!$F$3,Tableau_Data[Mois],Reseaux!$J$4)","v":0},null,{"$f":"SUMIFS(Tableau_Data[Féminin],Tableau_Data[Nom du CDS],Reseaux!$C30,Tableau_Data[Thèmes],Reseaux!$BH$9,Tableau_Data[Annee],Reseaux!$F$3,Tableau_Data[Mois],Reseaux!$J$4)","v":0},null,0,null,{"$f":"SUMIFS(Tableau_Data[Masculin],Tableau_Data[Nom du CDS],Reseaux!$C30,Tableau_Data[Thèmes],Reseaux!$BN$9,Tableau_Data[Annee],Reseaux!$F$3,Tableau_Data[Mois],Reseaux!$J$4)","v":0},null,{"$f":"SUMIFS(Tableau_Data[Féminin],Tableau_Data[Nom du CDS],Reseaux!$C30,Tableau_Data[Thèmes],Reseaux!$BN$9,Tableau_Data[Annee],Reseaux!$F$3,Tableau_Data[Mois],Reseaux!$J$4)","v":0},null,0]
[null,{"$f":"IF(Reseaux!B30=\"\",\"\",1+B30)","v":20},{"$f":"Paramètres!M24","v":"CDS Bukinga"},null,{"$f":"SUMIFS(Tableau_Data[Masculin],Tableau_Data[Nom du CDS],Reseaux!$C31,Tableau_Data[Annee],Reseaux!$F$3,Tableau_Data[Mois],Reseaux!J$4)","v":0},null,{"$f":"SUMIFS(Tableau_Data[Féminin],Tableau_Data[Nom du CDS],Reseaux!$C31,Tableau_Data[Annee],Reseaux!$F$3,Tableau_Data[Mois],Reseaux!J$4)","v":0},null,0,null,null,{"$f":"SUMIFS(Tableau_Data[Masculin],Tableau_Data[Nom du CDS],Reseaux!$C31,Tableau_Data[Lieu d''intervention],Reseaux!$L$9,Tableau_Data[Annee],Reseaux!$F$3,Tableau_Data[Mois],Reseaux!J$4)","v":0},null,{"$f":"SUMIFS(Tableau_Data[Féminin],Tableau_Data[Nom du CDS],Reseaux!$C31,Tableau_Data[Lieu d''intervention],Reseaux!$L$9,Tableau_Data[Annee],Reseaux!$F$3,Tableau_Data[Mois],Reseaux!J$4)","v":0},null,0,null,{"$f":"SUMIFS(Tableau_Data[Masculin],Tableau_Data[Nom du CDS],Reseaux!$C31,Tableau_Data[Lieu d''intervention],Reseaux!$R$9,Tableau_Data[Annee],Reseaux!$F$3,Tableau_Data[Mois],Reseaux!J$4)","v":0},null,{"$f":"SUMIFS(Tableau_Data[Féminin],Tableau_Data[Nom du CDS],Reseaux!$C31,Tableau_Data[Lieu d''intervention],Reseaux!$R$9,Tableau_Data[Annee],Reseaux!$F$3,Tableau_Data[Mois],Reseaux!J$4)","v":0},null,0,null,{"$f":"SUMIFS(Tableau_Data[Masculin],Tableau_Data[Nom du CDS],Reseaux!$C31,Tableau_Data[Lieu d''intervention],Reseaux!$X$9,Tableau_Data[Annee],Reseaux!$F$3,Tableau_Data[Mois],Reseaux!J$4)","v":0},null,{"$f":"SUMIFS(Tableau_Data[Féminin],Tableau_Data[Nom du CDS],Reseaux!$C31,Tableau_Data[Lieu d''intervention],Reseaux!$X$9,Tableau_Data[Annee],Reseaux!$F$3,Tableau_Data[Mois],Reseaux!J$4)","v":0},null,0,null,{"$f":"SUMIFS(Tableau_Data[Masculin],Tableau_Data[Nom du CDS],Reseaux!$C31,Tableau_Data[Lieu d''intervention],Reseaux!$AD$9,Tableau_Data[Annee],Reseaux!$F$3,Tableau_Data[Mois],Reseaux!J$4)","v":0},null,{"$f":"SUMIFS(Tableau_Data[Féminin],Tableau_Data[Nom du CDS],Reseaux!$C31,Tableau_Data[Lieu d''intervention],Reseaux!$AD$9,Tableau_Data[Annee],Reseaux!$F$3,Tableau_Data[Mois],Reseaux!J$4)","v":0},null,0,{"$f":"SUMIFS(Tableau_Data[Masculin],Tableau_Data[Nom du CDS],Reseaux!$C31,Tableau_Data[Thèmes],Reseaux!$AI$9,Tableau_Data[Annee],Reseaux!$F$3,Tableau_Data[Mois],Reseaux!J$4)","v":0},null,{"$f":"SUMIFS(Tableau_Data[Féminin],Tableau_Data[Nom du CDS],Reseaux!$C31,Tableau_Data[Thèmes],Reseaux!$AI$9,Tableau_Data[Annee],Reseaux!$F$3,Tableau_Data[Mois],Reseaux!J$4)","v":0},null,0,null,null,{"$f":"SUMIFS(Tableau_Data[Masculin],Tableau_Data[Nom du CDS],Reseaux!$C31,Tableau_Data[Thèmes],Reseaux!$AP$9,Tableau_Data[Annee],Reseaux!$F$3,Tableau_Data[Mois],Reseaux!J$4)","v":0},null,{"$f":"SUMIFS(Tableau_Data[Féminin],Tableau_Data[Nom du CDS],Reseaux!$C31,Tableau_Data[Thèmes],Reseaux!$AP$9,Tableau_Data[Annee],Reseaux!$F$3,Tableau_Data[Mois],Reseaux!J$4)","v":0},null,0,null,{"$f":"SUMIFS(Tableau_Data[Masculin],Tableau_Data[Nom du CDS],Reseaux!$C31,Tableau_Data[Thèmes],Reseaux!$AV$9,Tableau_Data[Annee],Reseaux!$F$3,Tableau_Data[Mois],Reseaux!J$4)","v":0},null,{"$f":"SUMIFS(Tableau_Data[Féminin],Tableau_Data[Nom du CDS],Reseaux!$C31,Tableau_Data[Thèmes],Reseaux!$AV$9,Tableau_Data[Annee],Reseaux!$F$3,Tableau_Data[Mois],Reseaux!J$4)","v":0},null,0,null,{"$f":"SUMIFS(Tableau_Data[Masculin],Tableau_Data[Nom du CDS],Reseaux!$C31,Tableau_Data[Thèmes],Reseaux!$BB$9,Tableau_Data[Annee],Reseaux!$F$3,Tableau_Data[Mois],Reseaux!J$4)","v":0},null,{"$f":"SUMIFS(Tableau_Data[Féminin],Tableau_Data[Nom du CDS],Reseaux!$C31,Tableau_Data[Thèmes],Reseaux!$BB$9,Tableau_Data[Annee],Reseaux!$F$3,Tableau_Data[Mois],Reseaux!$J$4)","v":0},null,0,null,{"$f":"SUMIFS(Tableau_Data[Masculin],Tableau_Data[Nom du CDS],Reseaux!$C31,Tableau_Data[Thèmes],Reseaux!$BH$9,Tableau_Data[Annee],Reseaux!$F$3,Tableau_Data[Mois],Reseaux!$J$4)","v":0},null,{"$f":"SUMIFS(Tableau_Data[Féminin],Tableau_Data[Nom du CDS],Reseaux!$C31,Tableau_Data[Thèmes],Reseaux!$BH$9,Tableau_Data[Annee],Reseaux!$F$3,Tableau_Data[Mois],Reseaux!$J$4)","v":0},null,0,null,{"$f":"SUMIFS(Tableau_Data[Masculin],Tableau_Data[Nom du CDS],Reseaux!$C31,Tableau_Data[Thèmes],Reseaux!$BN$9,Tableau_Data[Annee],Reseaux!$F$3,Tableau_Data[Mois],Reseaux!$J$4)","v":0},null,{"$f":"SUMIFS(Tableau_Data[Féminin],Tableau_Data[Nom du CDS],Reseaux!$C31,Tableau_Data[Thèmes],Reseaux!$BN$9,Tableau_Data[Annee],Reseaux!$F$3,Tableau_Data[Mois],Reseaux!$J$4)","v":0},null,0]
[null,{"$f":"IF(Reseaux!B31=\"\",\"\",1+B31)","v":21},{"$f":"Paramètres!M25","v":"CDS Giheta"},null,{"$f":"SUMIFS(Tableau_Data[Masculin],Tableau_Data[Nom du CDS],Reseaux!$C32,Tableau_Data[Annee],Reseaux!$F$3,Tableau_Data[Mois],Reseaux!J$4)","v":0},null,{"$f":"SUMIFS(Tableau_Data[Féminin],Tableau_Data[Nom du CDS],Reseaux!$C32,Tableau_Data[Annee],Reseaux!$F$3,Tableau_Data[Mois],Reseaux!J$4)","v":0},null,{"$f":"SUM(E32:G32)","v":0},null,null,{"$f":"SUMIFS(Tableau_Data[Masculin],Tableau_Data[Nom du CDS],Reseaux!$C32,Tableau_Data[Lieu d''intervention],Reseaux!$L$9,Tableau_Data[Annee],Reseaux!$F$3,Tableau_Data[Mois],Reseaux!J$4)","v":0},null,{"$f":"SUMIFS(Tableau_Data[Féminin],Tableau_Data[Nom du CDS],Reseaux!$C32,Tableau_Data[Lieu d''intervention],Reseaux!$L$9,Tableau_Data[Annee],Reseaux!$F$3,Tableau_Data[Mois],Reseaux!J$4)","v":0},null,0,null,{"$f":"SUMIFS(Tableau_Data[Masculin],Tableau_Data[Nom du CDS],Reseaux!$C32,Tableau_Data[Lieu d''intervention],Reseaux!$R$9,Tableau_Data[Annee],Reseaux!$F$3,Tableau_Data[Mois],Reseaux!J$4)","v":0},null,{"$f":"SUMIFS(Tableau_Data[Féminin],Tableau_Data[Nom du CDS],Reseaux!$C32,Tableau_Data[Lieu d''intervention],Reseaux!$R$9,Tableau_Data[Annee],Reseaux!$F$3,Tableau_Data[Mois],Reseaux!J$4)","v":0},null,0,null,{"$f":"SUMIFS(Tableau_Data[Masculin],Tableau_Data[Nom du CDS],Reseaux!$C32,Tableau_Data[Lieu d''intervention],Reseaux!$X$9,Tableau_Data[Annee],Reseaux!$F$3,Tableau_Data[Mois],Reseaux!J$4)","v":0},null,{"$f":"SUMIFS(Tableau_Data[Féminin],Tableau_Data[Nom du CDS],Reseaux!$C32,Tableau_Data[Lieu d''intervention],Reseaux!$X$9,Tableau_Data[Annee],Reseaux!$F$3,Tableau_Data[Mois],Reseaux!J$4)","v":0},null,0,null,{"$f":"SUMIFS(Tableau_Data[Masculin],Tableau_Data[Nom du CDS],Reseaux!$C32,Tableau_Data[Lieu d''intervention],Reseaux!$AD$9,Tableau_Data[Annee],Reseaux!$F$3,Tableau_Data[Mois],Reseaux!J$4)","v":0},null,{"$f":"SUMIFS(Tableau_Data[Féminin],Tableau_Data[Nom du CDS],Reseaux!$C32,Tableau_Data[Lieu d''intervention],Reseaux!$AD$9,Tableau_Data[Annee],Reseaux!$F$3,Tableau_Data[Mois],Reseaux!J$4)","v":0},null,0,{"$f":"SUMIFS(Tableau_Data[Masculin],Tableau_Data[Nom du CDS],Reseaux!$C32,Tableau_Data[Thèmes],Reseaux!$AI$9,Tableau_Data[Annee],Reseaux!$F$3,Tableau_Data[Mois],Reseaux!J$4)","v":0},null,{"$f":"SUMIFS(Tableau_Data[Féminin],Tableau_Data[Nom du CDS],Reseaux!$C32,Tableau_Data[Thèmes],Reseaux!$AI$9,Tableau_Data[Annee],Reseaux!$F$3,Tableau_Data[Mois],Reseaux!J$4)","v":0},null,0,null,null,{"$f":"SUMIFS(Tableau_Data[Masculin],Tableau_Data[Nom du CDS],Reseaux!$C32,Tableau_Data[Thèmes],Reseaux!$AP$9,Tableau_Data[Annee],Reseaux!$F$3,Tableau_Data[Mois],Reseaux!J$4)","v":0},null,{"$f":"SUMIFS(Tableau_Data[Féminin],Tableau_Data[Nom du CDS],Reseaux!$C32,Tableau_Data[Thèmes],Reseaux!$AP$9,Tableau_Data[Annee],Reseaux!$F$3,Tableau_Data[Mois],Reseaux!J$4)","v":0},null,0,null,{"$f":"SUMIFS(Tableau_Data[Masculin],Tableau_Data[Nom du CDS],Reseaux!$C32,Tableau_Data[Thèmes],Reseaux!$AV$9,Tableau_Data[Annee],Reseaux!$F$3,Tableau_Data[Mois],Reseaux!J$4)","v":0},null,{"$f":"SUMIFS(Tableau_Data[Féminin],Tableau_Data[Nom du CDS],Reseaux!$C32,Tableau_Data[Thèmes],Reseaux!$AV$9,Tableau_Data[Annee],Reseaux!$F$3,Tableau_Data[Mois],Reseaux!J$4)","v":0},null,0,null,{"$f":"SUMIFS(Tableau_Data[Masculin],Tableau_Data[Nom du CDS],Reseaux!$C32,Tableau_Data[Thèmes],Reseaux!$BB$9,Tableau_Data[Annee],Reseaux!$F$3,Tableau_Data[Mois],Reseaux!J$4)","v":0},null,{"$f":"SUMIFS(Tableau_Data[Féminin],Tableau_Data[Nom du CDS],Reseaux!$C32,Tableau_Data[Thèmes],Reseaux!$BB$9,Tableau_Data[Annee],Reseaux!$F$3,Tableau_Data[Mois],Reseaux!$J$4)","v":0},null,0,null,{"$f":"SUMIFS(Tableau_Data[Masculin],Tableau_Data[Nom du CDS],Reseaux!$C32,Tableau_Data[Thèmes],Reseaux!$BH$9,Tableau_Data[Annee],Reseaux!$F$3,Tableau_Data[Mois],Reseaux!$J$4)","v":0},null,{"$f":"SUMIFS(Tableau_Data[Féminin],Tableau_Data[Nom du CDS],Reseaux!$C32,Tableau_Data[Thèmes],Reseaux!$BH$9,Tableau_Data[Annee],Reseaux!$F$3,Tableau_Data[Mois],Reseaux!$J$4)","v":0},null,0,null,{"$f":"SUMIFS(Tableau_Data[Masculin],Tableau_Data[Nom du CDS],Reseaux!$C32,Tableau_Data[Thèmes],Reseaux!$BN$9,Tableau_Data[Annee],Reseaux!$F$3,Tableau_Data[Mois],Reseaux!$J$4)","v":0},null,{"$f":"SUMIFS(Tableau_Data[Féminin],Tableau_Data[Nom du CDS],Reseaux!$C32,Tableau_Data[Thèmes],Reseaux!$BN$9,Tableau_Data[Annee],Reseaux!$F$3,Tableau_Data[Mois],Reseaux!$J$4)","v":0},null,0]
[null,{"$f":"IF(Reseaux!B32=\"\",\"\",1+B32)","v":22},{"$f":"Paramètres!M26","v":"CDS Gasunu"},null,{"$f":"SUMIFS(Tableau_Data[Masculin],Tableau_Data[Nom du CDS],Reseaux!$C33,Tableau_Data[Annee],Reseaux!$F$3,Tableau_Data[Mois],Reseaux!J$4)","v":0},null,{"$f":"SUMIFS(Tableau_Data[Féminin],Tableau_Data[Nom du CDS],Reseaux!$C33,Tableau_Data[Annee],Reseaux!$F$3,Tableau_Data[Mois],Reseaux!J$4)","v":0},null,0,null,null,{"$f":"SUMIFS(Tableau_Data[Masculin],Tableau_Data[Nom du CDS],Reseaux!$C33,Tableau_Data[Lieu d''intervention],Reseaux!$L$9,Tableau_Data[Annee],Reseaux!$F$3,Tableau_Data[Mois],Reseaux!J$4)","v":0},null,{"$f":"SUMIFS(Tableau_Data[Féminin],Tableau_Data[Nom du CDS],Reseaux!$C33,Tableau_Data[Lieu d''intervention],Reseaux!$L$9,Tableau_Data[Annee],Reseaux!$F$3,Tableau_Data[Mois],Reseaux!J$4)","v":0},null,0,null,{"$f":"SUMIFS(Tableau_Data[Masculin],Tableau_Data[Nom du CDS],Reseaux!$C33,Tableau_Data[Lieu d''intervention],Reseaux!$R$9,Tableau_Data[Annee],Reseaux!$F$3,Tableau_Data[Mois],Reseaux!J$4)","v":0},null,{"$f":"SUMIFS(Tableau_Data[Féminin],Tableau_Data[Nom du CDS],Reseaux!$C33,Tableau_Data[Lieu d''intervention],Reseaux!$R$9,Tableau_Data[Annee],Reseaux!$F$3,Tableau_Data[Mois],Reseaux!J$4)","v":0},null,0,null,{"$f":"SUMIFS(Tableau_Data[Masculin],Tableau_Data[Nom du CDS],Reseaux!$C33,Tableau_Data[Lieu d''intervention],Reseaux!$X$9,Tableau_Data[Annee],Reseaux!$F$3,Tableau_Data[Mois],Reseaux!J$4)","v":0},null,{"$f":"SUMIFS(Tableau_Data[Féminin],Tableau_Data[Nom du CDS],Reseaux!$C33,Tableau_Data[Lieu d''intervention],Reseaux!$X$9,Tableau_Data[Annee],Reseaux!$F$3,Tableau_Data[Mois],Reseaux!J$4)","v":0},null,0,null,{"$f":"SUMIFS(Tableau_Data[Masculin],Tableau_Data[Nom du CDS],Reseaux!$C33,Tableau_Data[Lieu d''intervention],Reseaux!$AD$9,Tableau_Data[Annee],Reseaux!$F$3,Tableau_Data[Mois],Reseaux!J$4)","v":0},null,{"$f":"SUMIFS(Tableau_Data[Féminin],Tableau_Data[Nom du CDS],Reseaux!$C33,Tableau_Data[Lieu d''intervention],Reseaux!$AD$9,Tableau_Data[Annee],Reseaux!$F$3,Tableau_Data[Mois],Reseaux!J$4)","v":0},null,0,{"$f":"SUMIFS(Tableau_Data[Masculin],Tableau_Data[Nom du CDS],Reseaux!$C33,Tableau_Data[Thèmes],Reseaux!$AI$9,Tableau_Data[Annee],Reseaux!$F$3,Tableau_Data[Mois],Reseaux!J$4)","v":0},null,{"$f":"SUMIFS(Tableau_Data[Féminin],Tableau_Data[Nom du CDS],Reseaux!$C33,Tableau_Data[Thèmes],Reseaux!$AI$9,Tableau_Data[Annee],Reseaux!$F$3,Tableau_Data[Mois],Reseaux!J$4)","v":0},null,0,null,null,{"$f":"SUMIFS(Tableau_Data[Masculin],Tableau_Data[Nom du CDS],Reseaux!$C33,Tableau_Data[Thèmes],Reseaux!$AP$9,Tableau_Data[Annee],Reseaux!$F$3,Tableau_Data[Mois],Reseaux!J$4)","v":0},null,{"$f":"SUMIFS(Tableau_Data[Féminin],Tableau_Data[Nom du CDS],Reseaux!$C33,Tableau_Data[Thèmes],Reseaux!$AP$9,Tableau_Data[Annee],Reseaux!$F$3,Tableau_Data[Mois],Reseaux!J$4)","v":0},null,0,null,{"$f":"SUMIFS(Tableau_Data[Masculin],Tableau_Data[Nom du CDS],Reseaux!$C33,Tableau_Data[Thèmes],Reseaux!$AV$9,Tableau_Data[Annee],Reseaux!$F$3,Tableau_Data[Mois],Reseaux!J$4)","v":0},null,{"$f":"SUMIFS(Tableau_Data[Féminin],Tableau_Data[Nom du CDS],Reseaux!$C33,Tableau_Data[Thèmes],Reseaux!$AV$9,Tableau_Data[Annee],Reseaux!$F$3,Tableau_Data[Mois],Reseaux!J$4)","v":0},null,0,null,{"$f":"SUMIFS(Tableau_Data[Masculin],Tableau_Data[Nom du CDS],Reseaux!$C33,Tableau_Data[Thèmes],Reseaux!$BB$9,Tableau_Data[Annee],Reseaux!$F$3,Tableau_Data[Mois],Reseaux!J$4)","v":0},null,{"$f":"SUMIFS(Tableau_Data[Féminin],Tableau_Data[Nom du CDS],Reseaux!$C33,Tableau_Data[Thèmes],Reseaux!$BB$9,Tableau_Data[Annee],Reseaux!$F$3,Tableau_Data[Mois],Reseaux!$J$4)","v":0},null,0,null,{"$f":"SUMIFS(Tableau_Data[Masculin],Tableau_Data[Nom du CDS],Reseaux!$C33,Tableau_Data[Thèmes],Reseaux!$BH$9,Tableau_Data[Annee],Reseaux!$F$3,Tableau_Data[Mois],Reseaux!$J$4)","v":0},null,{"$f":"SUMIFS(Tableau_Data[Féminin],Tableau_Data[Nom du CDS],Reseaux!$C33,Tableau_Data[Thèmes],Reseaux!$BH$9,Tableau_Data[Annee],Reseaux!$F$3,Tableau_Data[Mois],Reseaux!$J$4)","v":0},null,0,null,{"$f":"SUMIFS(Tableau_Data[Masculin],Tableau_Data[Nom du CDS],Reseaux!$C33,Tableau_Data[Thèmes],Reseaux!$BN$9,Tableau_Data[Annee],Reseaux!$F$3,Tableau_Data[Mois],Reseaux!$J$4)","v":0},null,{"$f":"SUMIFS(Tableau_Data[Féminin],Tableau_Data[Nom du CDS],Reseaux!$C33,Tableau_Data[Thèmes],Reseaux!$BN$9,Tableau_Data[Annee],Reseaux!$F$3,Tableau_Data[Mois],Reseaux!$J$4)","v":0},null,0]
[null,{"$f":"IF(Reseaux!B33=\"\",\"\",1+B33)","v":23},{"$f":"Paramètres!M27","v":"CDS Notre Dame d'Afrique"},null,{"$f":"SUMIFS(Tableau_Data[Masculin],Tableau_Data[Nom du CDS],Reseaux!$C34,Tableau_Data[Annee],Reseaux!$F$3,Tableau_Data[Mois],Reseaux!J$4)","v":0},null,{"$f":"SUMIFS(Tableau_Data[Féminin],Tableau_Data[Nom du CDS],Reseaux!$C34,Tableau_Data[Annee],Reseaux!$F$3,Tableau_Data[Mois],Reseaux!J$4)","v":0},null,0,null,null,{"$f":"SUMIFS(Tableau_Data[Masculin],Tableau_Data[Nom du CDS],Reseaux!$C34,Tableau_Data[Lieu d''intervention],Reseaux!$L$9,Tableau_Data[Annee],Reseaux!$F$3,Tableau_Data[Mois],Reseaux!J$4)","v":0},null,{"$f":"SUMIFS(Tableau_Data[Féminin],Tableau_Data[Nom du CDS],Reseaux!$C34,Tableau_Data[Lieu d''intervention],Reseaux!$L$9,Tableau_Data[Annee],Reseaux!$F$3,Tableau_Data[Mois],Reseaux!J$4)","v":0},null,0,null,{"$f":"SUMIFS(Tableau_Data[Masculin],Tableau_Data[Nom du CDS],Reseaux!$C34,Tableau_Data[Lieu d''intervention],Reseaux!$R$9,Tableau_Data[Annee],Reseaux!$F$3,Tableau_Data[Mois],Reseaux!J$4)","v":0},null,{"$f":"SUMIFS(Tableau_Data[Féminin],Tableau_Data[Nom du CDS],Reseaux!$C34,Tableau_Data[Lieu d''intervention],Reseaux!$R$9,Tableau_Data[Annee],Reseaux!$F$3,Tableau_Data[Mois],Reseaux!J$4)","v":0},null,0,null,{"$f":"SUMIFS(Tableau_Data[Masculin],Tableau_Data[Nom du CDS],Reseaux!$C34,Tableau_Data[Lieu d''intervention],Reseaux!$X$9,Tableau_Data[Annee],Reseaux!$F$3,Tableau_Data[Mois],Reseaux!J$4)","v":0},null,{"$f":"SUMIFS(Tableau_Data[Féminin],Tableau_Data[Nom du CDS],Reseaux!$C34,Tableau_Data[Lieu d''intervention],Reseaux!$X$9,Tableau_Data[Annee],Reseaux!$F$3,Tableau_Data[Mois],Reseaux!J$4)","v":0},null,0,null,{"$f":"SUMIFS(Tableau_Data[Masculin],Tableau_Data[Nom du CDS],Reseaux!$C34,Tableau_Data[Lieu d''intervention],Reseaux!$AD$9,Tableau_Data[Annee],Reseaux!$F$3,Tableau_Data[Mois],Reseaux!J$4)","v":0},null,{"$f":"SUMIFS(Tableau_Data[Féminin],Tableau_Data[Nom du CDS],Reseaux!$C34,Tableau_Data[Lieu d''intervention],Reseaux!$AD$9,Tableau_Data[Annee],Reseaux!$F$3,Tableau_Data[Mois],Reseaux!J$4)","v":0},null,0,{"$f":"SUMIFS(Tableau_Data[Masculin],Tableau_Data[Nom du CDS],Reseaux!$C34,Tableau_Data[Thèmes],Reseaux!$AI$9,Tableau_Data[Annee],Reseaux!$F$3,Tableau_Data[Mois],Reseaux!J$4)","v":0},null,{"$f":"SUMIFS(Tableau_Data[Féminin],Tableau_Data[Nom du CDS],Reseaux!$C34,Tableau_Data[Thèmes],Reseaux!$AI$9,Tableau_Data[Annee],Reseaux!$F$3,Tableau_Data[Mois],Reseaux!J$4)","v":0},null,0,null,null,{"$f":"SUMIFS(Tableau_Data[Masculin],Tableau_Data[Nom du CDS],Reseaux!$C34,Tableau_Data[Thèmes],Reseaux!$AP$9,Tableau_Data[Annee],Reseaux!$F$3,Tableau_Data[Mois],Reseaux!J$4)","v":0},null,{"$f":"SUMIFS(Tableau_Data[Féminin],Tableau_Data[Nom du CDS],Reseaux!$C34,Tableau_Data[Thèmes],Reseaux!$AP$9,Tableau_Data[Annee],Reseaux!$F$3,Tableau_Data[Mois],Reseaux!J$4)","v":0},null,0,null,{"$f":"SUMIFS(Tableau_Data[Masculin],Tableau_Data[Nom du CDS],Reseaux!$C34,Tableau_Data[Thèmes],Reseaux!$AV$9,Tableau_Data[Annee],Reseaux!$F$3,Tableau_Data[Mois],Reseaux!J$4)","v":0},null,{"$f":"SUMIFS(Tableau_Data[Féminin],Tableau_Data[Nom du CDS],Reseaux!$C34,Tableau_Data[Thèmes],Reseaux!$AV$9,Tableau_Data[Annee],Reseaux!$F$3,Tableau_Data[Mois],Reseaux!J$4)","v":0},null,0,null,{"$f":"SUMIFS(Tableau_Data[Masculin],Tableau_Data[Nom du CDS],Reseaux!$C34,Tableau_Data[Thèmes],Reseaux!$BB$9,Tableau_Data[Annee],Reseaux!$F$3,Tableau_Data[Mois],Reseaux!J$4)","v":0},null,{"$f":"SUMIFS(Tableau_Data[Féminin],Tableau_Data[Nom du CDS],Reseaux!$C34,Tableau_Data[Thèmes],Reseaux!$BB$9,Tableau_Data[Annee],Reseaux!$F$3,Tableau_Data[Mois],Reseaux!$J$4)","v":0},null,0,null,{"$f":"SUMIFS(Tableau_Data[Masculin],Tableau_Data[Nom du CDS],Reseaux!$C34,Tableau_Data[Thèmes],Reseaux!$BH$9,Tableau_Data[Annee],Reseaux!$F$3,Tableau_Data[Mois],Reseaux!$J$4)","v":0},null,{"$f":"SUMIFS(Tableau_Data[Féminin],Tableau_Data[Nom du CDS],Reseaux!$C34,Tableau_Data[Thèmes],Reseaux!$BH$9,Tableau_Data[Annee],Reseaux!$F$3,Tableau_Data[Mois],Reseaux!$J$4)","v":0},null,0,null,{"$f":"SUMIFS(Tableau_Data[Masculin],Tableau_Data[Nom du CDS],Reseaux!$C34,Tableau_Data[Thèmes],Reseaux!$BN$9,Tableau_Data[Annee],Reseaux!$F$3,Tableau_Data[Mois],Reseaux!$J$4)","v":0},null,{"$f":"SUMIFS(Tableau_Data[Féminin],Tableau_Data[Nom du CDS],Reseaux!$C34,Tableau_Data[Thèmes],Reseaux!$BN$9,Tableau_Data[Annee],Reseaux!$F$3,Tableau_Data[Mois],Reseaux!$J$4)","v":0},null,0]
[null,{"$f":"IF(Reseaux!B34=\"\",\"\",1+B34)","v":24},{"$f":"Paramètres!M28","v":"CDS Mubuga"},null,{"$f":"SUMIFS(Tableau_Data[Masculin],Tableau_Data[Nom du CDS],Reseaux!$C35,Tableau_Data[Annee],Reseaux!$F$3,Tableau_Data[Mois],Reseaux!J$4)","v":0},null,{"$f":"SUMIFS(Tableau_Data[Féminin],Tableau_Data[Nom du CDS],Reseaux!$C35,Tableau_Data[Annee],Reseaux!$F$3,Tableau_Data[Mois],Reseaux!J$4)","v":0},null,0,null,null,{"$f":"SUMIFS(Tableau_Data[Masculin],Tableau_Data[Nom du CDS],Reseaux!$C35,Tableau_Data[Lieu d''intervention],Reseaux!$L$9,Tableau_Data[Annee],Reseaux!$F$3,Tableau_Data[Mois],Reseaux!J$4)","v":0},null,{"$f":"SUMIFS(Tableau_Data[Féminin],Tableau_Data[Nom du CDS],Reseaux!$C35,Tableau_Data[Lieu d''intervention],Reseaux!$L$9,Tableau_Data[Annee],Reseaux!$F$3,Tableau_Data[Mois],Reseaux!J$4)","v":0},null,0,null,{"$f":"SUMIFS(Tableau_Data[Masculin],Tableau_Data[Nom du CDS],Reseaux!$C35,Tableau_Data[Lieu d''intervention],Reseaux!$R$9,Tableau_Data[Annee],Reseaux!$F$3,Tableau_Data[Mois],Reseaux!J$4)","v":0},null,{"$f":"SUMIFS(Tableau_Data[Féminin],Tableau_Data[Nom du CDS],Reseaux!$C35,Tableau_Data[Lieu d''intervention],Reseaux!$R$9,Tableau_Data[Annee],Reseaux!$F$3,Tableau_Data[Mois],Reseaux!J$4)","v":0},null,0,null,{"$f":"SUMIFS(Tableau_Data[Masculin],Tableau_Data[Nom du CDS],Reseaux!$C35,Tableau_Data[Lieu d''intervention],Reseaux!$X$9,Tableau_Data[Annee],Reseaux!$F$3,Tableau_Data[Mois],Reseaux!J$4)","v":0},null,{"$f":"SUMIFS(Tableau_Data[Féminin],Tableau_Data[Nom du CDS],Reseaux!$C35,Tableau_Data[Lieu d''intervention],Reseaux!$X$9,Tableau_Data[Annee],Reseaux!$F$3,Tableau_Data[Mois],Reseaux!J$4)","v":0},null,0,null,{"$f":"SUMIFS(Tableau_Data[Masculin],Tableau_Data[Nom du CDS],Reseaux!$C35,Tableau_Data[Lieu d''intervention],Reseaux!$AD$9,Tableau_Data[Annee],Reseaux!$F$3,Tableau_Data[Mois],Reseaux!J$4)","v":0},null,{"$f":"SUMIFS(Tableau_Data[Féminin],Tableau_Data[Nom du CDS],Reseaux!$C35,Tableau_Data[Lieu d''intervention],Reseaux!$AD$9,Tableau_Data[Annee],Reseaux!$F$3,Tableau_Data[Mois],Reseaux!J$4)","v":0},null,0,{"$f":"SUMIFS(Tableau_Data[Masculin],Tableau_Data[Nom du CDS],Reseaux!$C35,Tableau_Data[Thèmes],Reseaux!$AI$9,Tableau_Data[Annee],Reseaux!$F$3,Tableau_Data[Mois],Reseaux!J$4)","v":0},null,{"$f":"SUMIFS(Tableau_Data[Féminin],Tableau_Data[Nom du CDS],Reseaux!$C35,Tableau_Data[Thèmes],Reseaux!$AI$9,Tableau_Data[Annee],Reseaux!$F$3,Tableau_Data[Mois],Reseaux!J$4)","v":0},null,0,null,null,{"$f":"SUMIFS(Tableau_Data[Masculin],Tableau_Data[Nom du CDS],Reseaux!$C35,Tableau_Data[Thèmes],Reseaux!$AP$9,Tableau_Data[Annee],Reseaux!$F$3,Tableau_Data[Mois],Reseaux!J$4)","v":0},null,{"$f":"SUMIFS(Tableau_Data[Féminin],Tableau_Data[Nom du CDS],Reseaux!$C35,Tableau_Data[Thèmes],Reseaux!$AP$9,Tableau_Data[Annee],Reseaux!$F$3,Tableau_Data[Mois],Reseaux!J$4)","v":0},null,0,null,{"$f":"SUMIFS(Tableau_Data[Masculin],Tableau_Data[Nom du CDS],Reseaux!$C35,Tableau_Data[Thèmes],Reseaux!$AV$9,Tableau_Data[Annee],Reseaux!$F$3,Tableau_Data[Mois],Reseaux!J$4)","v":0},null,{"$f":"SUMIFS(Tableau_Data[Féminin],Tableau_Data[Nom du CDS],Reseaux!$C35,Tableau_Data[Thèmes],Reseaux!$AV$9,Tableau_Data[Annee],Reseaux!$F$3,Tableau_Data[Mois],Reseaux!J$4)","v":0},null,0,null,{"$f":"SUMIFS(Tableau_Data[Masculin],Tableau_Data[Nom du CDS],Reseaux!$C35,Tableau_Data[Thèmes],Reseaux!$BB$9,Tableau_Data[Annee],Reseaux!$F$3,Tableau_Data[Mois],Reseaux!J$4)","v":0},null,{"$f":"SUMIFS(Tableau_Data[Féminin],Tableau_Data[Nom du CDS],Reseaux!$C35,Tableau_Data[Thèmes],Reseaux!$BB$9,Tableau_Data[Annee],Reseaux!$F$3,Tableau_Data[Mois],Reseaux!$J$4)","v":0},null,0,null,{"$f":"SUMIFS(Tableau_Data[Masculin],Tableau_Data[Nom du CDS],Reseaux!$C35,Tableau_Data[Thèmes],Reseaux!$BH$9,Tableau_Data[Annee],Reseaux!$F$3,Tableau_Data[Mois],Reseaux!$J$4)","v":0},null,{"$f":"SUMIFS(Tableau_Data[Féminin],Tableau_Data[Nom du CDS],Reseaux!$C35,Tableau_Data[Thèmes],Reseaux!$BH$9,Tableau_Data[Annee],Reseaux!$F$3,Tableau_Data[Mois],Reseaux!$J$4)","v":0},null,0,null,{"$f":"SUMIFS(Tableau_Data[Masculin],Tableau_Data[Nom du CDS],Reseaux!$C35,Tableau_Data[Thèmes],Reseaux!$BN$9,Tableau_Data[Annee],Reseaux!$F$3,Tableau_Data[Mois],Reseaux!$J$4)","v":0},null,{"$f":"SUMIFS(Tableau_Data[Féminin],Tableau_Data[Nom du CDS],Reseaux!$C35,Tableau_Data[Thèmes],Reseaux!$BN$9,Tableau_Data[Annee],Reseaux!$F$3,Tableau_Data[Mois],Reseaux!$J$4)","v":0},null,0]
[null,{"$f":"IF(Reseaux!B35=\"\",\"\",1+B35)","v":25},{"$f":"Paramètres!M29","v":"CDS Mungwa"},null,{"$f":"SUMIFS(Tableau_Data[Masculin],Tableau_Data[Nom du CDS],Reseaux!$C36,Tableau_Data[Annee],Reseaux!$F$3,Tableau_Data[Mois],Reseaux!J$4)","v":0},null,{"$f":"SUMIFS(Tableau_Data[Féminin],Tableau_Data[Nom du CDS],Reseaux!$C36,Tableau_Data[Annee],Reseaux!$F$3,Tableau_Data[Mois],Reseaux!J$4)","v":0},null,0,null,null,{"$f":"SUMIFS(Tableau_Data[Masculin],Tableau_Data[Nom du CDS],Reseaux!$C36,Tableau_Data[Lieu d''intervention],Reseaux!$L$9,Tableau_Data[Annee],Reseaux!$F$3,Tableau_Data[Mois],Reseaux!J$4)","v":0},null,{"$f":"SUMIFS(Tableau_Data[Féminin],Tableau_Data[Nom du CDS],Reseaux!$C36,Tableau_Data[Lieu d''intervention],Reseaux!$L$9,Tableau_Data[Annee],Reseaux!$F$3,Tableau_Data[Mois],Reseaux!J$4)","v":0},null,0,null,{"$f":"SUMIFS(Tableau_Data[Masculin],Tableau_Data[Nom du CDS],Reseaux!$C36,Tableau_Data[Lieu d''intervention],Reseaux!$R$9,Tableau_Data[Annee],Reseaux!$F$3,Tableau_Data[Mois],Reseaux!J$4)","v":0},null,{"$f":"SUMIFS(Tableau_Data[Féminin],Tableau_Data[Nom du CDS],Reseaux!$C36,Tableau_Data[Lieu d''intervention],Reseaux!$R$9,Tableau_Data[Annee],Reseaux!$F$3,Tableau_Data[Mois],Reseaux!J$4)","v":0},null,0,null,{"$f":"SUMIFS(Tableau_Data[Masculin],Tableau_Data[Nom du CDS],Reseaux!$C36,Tableau_Data[Lieu d''intervention],Reseaux!$X$9,Tableau_Data[Annee],Reseaux!$F$3,Tableau_Data[Mois],Reseaux!J$4)","v":0},null,{"$f":"SUMIFS(Tableau_Data[Féminin],Tableau_Data[Nom du CDS],Reseaux!$C36,Tableau_Data[Lieu d''intervention],Reseaux!$X$9,Tableau_Data[Annee],Reseaux!$F$3,Tableau_Data[Mois],Reseaux!J$4)","v":0},null,0,null,{"$f":"SUMIFS(Tableau_Data[Masculin],Tableau_Data[Nom du CDS],Reseaux!$C36,Tableau_Data[Lieu d''intervention],Reseaux!$AD$9,Tableau_Data[Annee],Reseaux!$F$3,Tableau_Data[Mois],Reseaux!J$4)","v":0},null,{"$f":"SUMIFS(Tableau_Data[Féminin],Tableau_Data[Nom du CDS],Reseaux!$C36,Tableau_Data[Lieu d''intervention],Reseaux!$AD$9,Tableau_Data[Annee],Reseaux!$F$3,Tableau_Data[Mois],Reseaux!J$4)","v":0},null,0,{"$f":"SUMIFS(Tableau_Data[Masculin],Tableau_Data[Nom du CDS],Reseaux!$C36,Tableau_Data[Thèmes],Reseaux!$AI$9,Tableau_Data[Annee],Reseaux!$F$3,Tableau_Data[Mois],Reseaux!J$4)","v":0},null,{"$f":"SUMIFS(Tableau_Data[Féminin],Tableau_Data[Nom du CDS],Reseaux!$C36,Tableau_Data[Thèmes],Reseaux!$AI$9,Tableau_Data[Annee],Reseaux!$F$3,Tableau_Data[Mois],Reseaux!J$4)","v":0},null,0,null,null,{"$f":"SUMIFS(Tableau_Data[Masculin],Tableau_Data[Nom du CDS],Reseaux!$C36,Tableau_Data[Thèmes],Reseaux!$AP$9,Tableau_Data[Annee],Reseaux!$F$3,Tableau_Data[Mois],Reseaux!J$4)","v":0},null,{"$f":"SUMIFS(Tableau_Data[Féminin],Tableau_Data[Nom du CDS],Reseaux!$C36,Tableau_Data[Thèmes],Reseaux!$AP$9,Tableau_Data[Annee],Reseaux!$F$3,Tableau_Data[Mois],Reseaux!J$4)","v":0},null,0,null,{"$f":"SUMIFS(Tableau_Data[Masculin],Tableau_Data[Nom du CDS],Reseaux!$C36,Tableau_Data[Thèmes],Reseaux!$AV$9,Tableau_Data[Annee],Reseaux!$F$3,Tableau_Data[Mois],Reseaux!J$4)","v":0},null,{"$f":"SUMIFS(Tableau_Data[Féminin],Tableau_Data[Nom du CDS],Reseaux!$C36,Tableau_Data[Thèmes],Reseaux!$AV$9,Tableau_Data[Annee],Reseaux!$F$3,Tableau_Data[Mois],Reseaux!J$4)","v":0},null,0,null,{"$f":"SUMIFS(Tableau_Data[Masculin],Tableau_Data[Nom du CDS],Reseaux!$C36,Tableau_Data[Thèmes],Reseaux!$BB$9,Tableau_Data[Annee],Reseaux!$F$3,Tableau_Data[Mois],Reseaux!J$4)","v":0},null,{"$f":"SUMIFS(Tableau_Data[Féminin],Tableau_Data[Nom du CDS],Reseaux!$C36,Tableau_Data[Thèmes],Reseaux!$BB$9,Tableau_Data[Annee],Reseaux!$F$3,Tableau_Data[Mois],Reseaux!$J$4)","v":0},null,0,null,{"$f":"SUMIFS(Tableau_Data[Masculin],Tableau_Data[Nom du CDS],Reseaux!$C36,Tableau_Data[Thèmes],Reseaux!$BH$9,Tableau_Data[Annee],Reseaux!$F$3,Tableau_Data[Mois],Reseaux!$J$4)","v":0},null,{"$f":"SUMIFS(Tableau_Data[Féminin],Tableau_Data[Nom du CDS],Reseaux!$C36,Tableau_Data[Thèmes],Reseaux!$BH$9,Tableau_Data[Annee],Reseaux!$F$3,Tableau_Data[Mois],Reseaux!$J$4)","v":0},null,0,null,{"$f":"SUMIFS(Tableau_Data[Masculin],Tableau_Data[Nom du CDS],Reseaux!$C36,Tableau_Data[Thèmes],Reseaux!$BN$9,Tableau_Data[Annee],Reseaux!$F$3,Tableau_Data[Mois],Reseaux!$J$4)","v":0},null,{"$f":"SUMIFS(Tableau_Data[Féminin],Tableau_Data[Nom du CDS],Reseaux!$C36,Tableau_Data[Thèmes],Reseaux!$BN$9,Tableau_Data[Annee],Reseaux!$F$3,Tableau_Data[Mois],Reseaux!$J$4)","v":0},null,0]
[null,{"$f":"IF(Reseaux!B36=\"\",\"\",1+B36)","v":26},{"$f":"Paramètres!M30","v":"CDS Rutoki"},null,{"$f":"SUMIFS(Tableau_Data[Masculin],Tableau_Data[Nom du CDS],Reseaux!$C37,Tableau_Data[Annee],Reseaux!$F$3,Tableau_Data[Mois],Reseaux!J$4)","v":0},null,{"$f":"SUMIFS(Tableau_Data[Féminin],Tableau_Data[Nom du CDS],Reseaux!$C37,Tableau_Data[Annee],Reseaux!$F$3,Tableau_Data[Mois],Reseaux!J$4)","v":0},null,0,null,null,{"$f":"SUMIFS(Tableau_Data[Masculin],Tableau_Data[Nom du CDS],Reseaux!$C37,Tableau_Data[Lieu d''intervention],Reseaux!$L$9,Tableau_Data[Annee],Reseaux!$F$3,Tableau_Data[Mois],Reseaux!J$4)","v":0},null,{"$f":"SUMIFS(Tableau_Data[Féminin],Tableau_Data[Nom du CDS],Reseaux!$C37,Tableau_Data[Lieu d''intervention],Reseaux!$L$9,Tableau_Data[Annee],Reseaux!$F$3,Tableau_Data[Mois],Reseaux!J$4)","v":0},null,0,null,{"$f":"SUMIFS(Tableau_Data[Masculin],Tableau_Data[Nom du CDS],Reseaux!$C37,Tableau_Data[Lieu d''intervention],Reseaux!$R$9,Tableau_Data[Annee],Reseaux!$F$3,Tableau_Data[Mois],Reseaux!J$4)","v":0},null,{"$f":"SUMIFS(Tableau_Data[Féminin],Tableau_Data[Nom du CDS],Reseaux!$C37,Tableau_Data[Lieu d''intervention],Reseaux!$R$9,Tableau_Data[Annee],Reseaux!$F$3,Tableau_Data[Mois],Reseaux!J$4)","v":0},null,0,null,{"$f":"SUMIFS(Tableau_Data[Masculin],Tableau_Data[Nom du CDS],Reseaux!$C37,Tableau_Data[Lieu d''intervention],Reseaux!$X$9,Tableau_Data[Annee],Reseaux!$F$3,Tableau_Data[Mois],Reseaux!J$4)","v":0},null,{"$f":"SUMIFS(Tableau_Data[Féminin],Tableau_Data[Nom du CDS],Reseaux!$C37,Tableau_Data[Lieu d''intervention],Reseaux!$X$9,Tableau_Data[Annee],Reseaux!$F$3,Tableau_Data[Mois],Reseaux!J$4)","v":0},null,0,null,{"$f":"SUMIFS(Tableau_Data[Masculin],Tableau_Data[Nom du CDS],Reseaux!$C37,Tableau_Data[Lieu d''intervention],Reseaux!$AD$9,Tableau_Data[Annee],Reseaux!$F$3,Tableau_Data[Mois],Reseaux!J$4)","v":0},null,{"$f":"SUMIFS(Tableau_Data[Féminin],Tableau_Data[Nom du CDS],Reseaux!$C37,Tableau_Data[Lieu d''intervention],Reseaux!$AD$9,Tableau_Data[Annee],Reseaux!$F$3,Tableau_Data[Mois],Reseaux!J$4)","v":0},null,0,{"$f":"SUMIFS(Tableau_Data[Masculin],Tableau_Data[Nom du CDS],Reseaux!$C37,Tableau_Data[Thèmes],Reseaux!$AI$9,Tableau_Data[Annee],Reseaux!$F$3,Tableau_Data[Mois],Reseaux!J$4)","v":0},null,{"$f":"SUMIFS(Tableau_Data[Féminin],Tableau_Data[Nom du CDS],Reseaux!$C37,Tableau_Data[Thèmes],Reseaux!$AI$9,Tableau_Data[Annee],Reseaux!$F$3,Tableau_Data[Mois],Reseaux!J$4)","v":0},null,0,null,null,{"$f":"SUMIFS(Tableau_Data[Masculin],Tableau_Data[Nom du CDS],Reseaux!$C37,Tableau_Data[Thèmes],Reseaux!$AP$9,Tableau_Data[Annee],Reseaux!$F$3,Tableau_Data[Mois],Reseaux!J$4)","v":0},null,{"$f":"SUMIFS(Tableau_Data[Féminin],Tableau_Data[Nom du CDS],Reseaux!$C37,Tableau_Data[Thèmes],Reseaux!$AP$9,Tableau_Data[Annee],Reseaux!$F$3,Tableau_Data[Mois],Reseaux!J$4)","v":0},null,0,null,{"$f":"SUMIFS(Tableau_Data[Masculin],Tableau_Data[Nom du CDS],Reseaux!$C37,Tableau_Data[Thèmes],Reseaux!$AV$9,Tableau_Data[Annee],Reseaux!$F$3,Tableau_Data[Mois],Reseaux!J$4)","v":0},null,{"$f":"SUMIFS(Tableau_Data[Féminin],Tableau_Data[Nom du CDS],Reseaux!$C37,Tableau_Data[Thèmes],Reseaux!$AV$9,Tableau_Data[Annee],Reseaux!$F$3,Tableau_Data[Mois],Reseaux!J$4)","v":0},null,0,null,{"$f":"SUMIFS(Tableau_Data[Masculin],Tableau_Data[Nom du CDS],Reseaux!$C37,Tableau_Data[Thèmes],Reseaux!$BB$9,Tableau_Data[Annee],Reseaux!$F$3,Tableau_Data[Mois],Reseaux!J$4)","v":0},null,{"$f":"SUMIFS(Tableau_Data[Féminin],Tableau_Data[Nom du CDS],Reseaux!$C37,Tableau_Data[Thèmes],Reseaux!$BB$9,Tableau_Data[Annee],Reseaux!$F$3,Tableau_Data[Mois],Reseaux!$J$4)","v":0},null,0,null,{"$f":"SUMIFS(Tableau_Data[Masculin],Tableau_Data[Nom du CDS],Reseaux!$C37,Tableau_Data[Thèmes],Reseaux!$BH$9,Tableau_Data[Annee],Reseaux!$F$3,Tableau_Data[Mois],Reseaux!$J$4)","v":0},null,{"$f":"SUMIFS(Tableau_Data[Féminin],Tableau_Data[Nom du CDS],Reseaux!$C37,Tableau_Data[Thèmes],Reseaux!$BH$9,Tableau_Data[Annee],Reseaux!$F$3,Tableau_Data[Mois],Reseaux!$J$4)","v":0},null,0,null,{"$f":"SUMIFS(Tableau_Data[Masculin],Tableau_Data[Nom du CDS],Reseaux!$C37,Tableau_Data[Thèmes],Reseaux!$BN$9,Tableau_Data[Annee],Reseaux!$F$3,Tableau_Data[Mois],Reseaux!$J$4)","v":0},null,{"$f":"SUMIFS(Tableau_Data[Féminin],Tableau_Data[Nom du CDS],Reseaux!$C37,Tableau_Data[Thèmes],Reseaux!$BN$9,Tableau_Data[Annee],Reseaux!$F$3,Tableau_Data[Mois],Reseaux!$J$4)","v":0},null,0]
[null,{"$f":"IF(Reseaux!B37=\"\",\"\",1+B37)","v":27},{"$f":"Paramètres!M31","v":"CDS Gitega"},null,{"$f":"SUMIFS(Tableau_Data[Masculin],Tableau_Data[Nom du CDS],Reseaux!$C38,Tableau_Data[Annee],Reseaux!$F$3,Tableau_Data[Mois],Reseaux!J$4)","v":0},null,{"$f":"SUMIFS(Tableau_Data[Féminin],Tableau_Data[Nom du CDS],Reseaux!$C38,Tableau_Data[Annee],Reseaux!$F$3,Tableau_Data[Mois],Reseaux!J$4)","v":0},null,0,null,null,{"$f":"SUMIFS(Tableau_Data[Masculin],Tableau_Data[Nom du CDS],Reseaux!$C38,Tableau_Data[Lieu d''intervention],Reseaux!$L$9,Tableau_Data[Annee],Reseaux!$F$3,Tableau_Data[Mois],Reseaux!J$4)","v":0},null,{"$f":"SUMIFS(Tableau_Data[Féminin],Tableau_Data[Nom du CDS],Reseaux!$C38,Tableau_Data[Lieu d''intervention],Reseaux!$L$9,Tableau_Data[Annee],Reseaux!$F$3,Tableau_Data[Mois],Reseaux!J$4)","v":0},null,0,null,{"$f":"SUMIFS(Tableau_Data[Masculin],Tableau_Data[Nom du CDS],Reseaux!$C38,Tableau_Data[Lieu d''intervention],Reseaux!$R$9,Tableau_Data[Annee],Reseaux!$F$3,Tableau_Data[Mois],Reseaux!J$4)","v":0},null,{"$f":"SUMIFS(Tableau_Data[Féminin],Tableau_Data[Nom du CDS],Reseaux!$C38,Tableau_Data[Lieu d''intervention],Reseaux!$R$9,Tableau_Data[Annee],Reseaux!$F$3,Tableau_Data[Mois],Reseaux!J$4)","v":0},null,0,null,{"$f":"SUMIFS(Tableau_Data[Masculin],Tableau_Data[Nom du CDS],Reseaux!$C38,Tableau_Data[Lieu d''intervention],Reseaux!$X$9,Tableau_Data[Annee],Reseaux!$F$3,Tableau_Data[Mois],Reseaux!J$4)","v":0},null,{"$f":"SUMIFS(Tableau_Data[Féminin],Tableau_Data[Nom du CDS],Reseaux!$C38,Tableau_Data[Lieu d''intervention],Reseaux!$X$9,Tableau_Data[Annee],Reseaux!$F$3,Tableau_Data[Mois],Reseaux!J$4)","v":0},null,0,null,{"$f":"SUMIFS(Tableau_Data[Masculin],Tableau_Data[Nom du CDS],Reseaux!$C38,Tableau_Data[Lieu d''intervention],Reseaux!$AD$9,Tableau_Data[Annee],Reseaux!$F$3,Tableau_Data[Mois],Reseaux!J$4)","v":0},null,{"$f":"SUMIFS(Tableau_Data[Féminin],Tableau_Data[Nom du CDS],Reseaux!$C38,Tableau_Data[Lieu d''intervention],Reseaux!$AD$9,Tableau_Data[Annee],Reseaux!$F$3,Tableau_Data[Mois],Reseaux!J$4)","v":0},null,0,{"$f":"SUMIFS(Tableau_Data[Masculin],Tableau_Data[Nom du CDS],Reseaux!$C38,Tableau_Data[Thèmes],Reseaux!$AI$9,Tableau_Data[Annee],Reseaux!$F$3,Tableau_Data[Mois],Reseaux!J$4)","v":0},null,{"$f":"SUMIFS(Tableau_Data[Féminin],Tableau_Data[Nom du CDS],Reseaux!$C38,Tableau_Data[Thèmes],Reseaux!$AI$9,Tableau_Data[Annee],Reseaux!$F$3,Tableau_Data[Mois],Reseaux!J$4)","v":0},null,0,null,null,{"$f":"SUMIFS(Tableau_Data[Masculin],Tableau_Data[Nom du CDS],Reseaux!$C38,Tableau_Data[Thèmes],Reseaux!$AP$9,Tableau_Data[Annee],Reseaux!$F$3,Tableau_Data[Mois],Reseaux!J$4)","v":0},null,{"$f":"SUMIFS(Tableau_Data[Féminin],Tableau_Data[Nom du CDS],Reseaux!$C38,Tableau_Data[Thèmes],Reseaux!$AP$9,Tableau_Data[Annee],Reseaux!$F$3,Tableau_Data[Mois],Reseaux!J$4)","v":0},null,0,null,{"$f":"SUMIFS(Tableau_Data[Masculin],Tableau_Data[Nom du CDS],Reseaux!$C38,Tableau_Data[Thèmes],Reseaux!$AV$9,Tableau_Data[Annee],Reseaux!$F$3,Tableau_Data[Mois],Reseaux!J$4)","v":0},null,{"$f":"SUMIFS(Tableau_Data[Féminin],Tableau_Data[Nom du CDS],Reseaux!$C38,Tableau_Data[Thèmes],Reseaux!$AV$9,Tableau_Data[Annee],Reseaux!$F$3,Tableau_Data[Mois],Reseaux!J$4)","v":0},null,0,null,{"$f":"SUMIFS(Tableau_Data[Masculin],Tableau_Data[Nom du CDS],Reseaux!$C38,Tableau_Data[Thèmes],Reseaux!$BB$9,Tableau_Data[Annee],Reseaux!$F$3,Tableau_Data[Mois],Reseaux!J$4)","v":0},null,{"$f":"SUMIFS(Tableau_Data[Féminin],Tableau_Data[Nom du CDS],Reseaux!$C38,Tableau_Data[Thèmes],Reseaux!$BB$9,Tableau_Data[Annee],Reseaux!$F$3,Tableau_Data[Mois],Reseaux!$J$4)","v":0},null,0,null,{"$f":"SUMIFS(Tableau_Data[Masculin],Tableau_Data[Nom du CDS],Reseaux!$C38,Tableau_Data[Thèmes],Reseaux!$BH$9,Tableau_Data[Annee],Reseaux!$F$3,Tableau_Data[Mois],Reseaux!$J$4)","v":0},null,{"$f":"SUMIFS(Tableau_Data[Féminin],Tableau_Data[Nom du CDS],Reseaux!$C38,Tableau_Data[Thèmes],Reseaux!$BH$9,Tableau_Data[Annee],Reseaux!$F$3,Tableau_Data[Mois],Reseaux!$J$4)","v":0},null,0,null,{"$f":"SUMIFS(Tableau_Data[Masculin],Tableau_Data[Nom du CDS],Reseaux!$C38,Tableau_Data[Thèmes],Reseaux!$BN$9,Tableau_Data[Annee],Reseaux!$F$3,Tableau_Data[Mois],Reseaux!$J$4)","v":0},null,{"$f":"SUMIFS(Tableau_Data[Féminin],Tableau_Data[Nom du CDS],Reseaux!$C38,Tableau_Data[Thèmes],Reseaux!$BN$9,Tableau_Data[Annee],Reseaux!$F$3,Tableau_Data[Mois],Reseaux!$J$4)","v":0},null,0]
[null,{"$f":"IF(Reseaux!B38=\"\",\"\",1+B38)","v":28},{"$f":"Paramètres!M32","v":"CDS Mushasha"},null,{"$f":"SUMIFS(Tableau_Data[Masculin],Tableau_Data[Nom du CDS],Reseaux!$C39,Tableau_Data[Annee],Reseaux!$F$3,Tableau_Data[Mois],Reseaux!J$4)","v":0},null,{"$f":"SUMIFS(Tableau_Data[Féminin],Tableau_Data[Nom du CDS],Reseaux!$C39,Tableau_Data[Annee],Reseaux!$F$3,Tableau_Data[Mois],Reseaux!J$4)","v":0},null,0,null,null,{"$f":"SUMIFS(Tableau_Data[Masculin],Tableau_Data[Nom du CDS],Reseaux!$C39,Tableau_Data[Lieu d''intervention],Reseaux!$L$9,Tableau_Data[Annee],Reseaux!$F$3,Tableau_Data[Mois],Reseaux!J$4)","v":0},null,{"$f":"SUMIFS(Tableau_Data[Féminin],Tableau_Data[Nom du CDS],Reseaux!$C39,Tableau_Data[Lieu d''intervention],Reseaux!$L$9,Tableau_Data[Annee],Reseaux!$F$3,Tableau_Data[Mois],Reseaux!J$4)","v":0},null,0,null,{"$f":"SUMIFS(Tableau_Data[Masculin],Tableau_Data[Nom du CDS],Reseaux!$C39,Tableau_Data[Lieu d''intervention],Reseaux!$R$9,Tableau_Data[Annee],Reseaux!$F$3,Tableau_Data[Mois],Reseaux!J$4)","v":0},null,{"$f":"SUMIFS(Tableau_Data[Féminin],Tableau_Data[Nom du CDS],Reseaux!$C39,Tableau_Data[Lieu d''intervention],Reseaux!$R$9,Tableau_Data[Annee],Reseaux!$F$3,Tableau_Data[Mois],Reseaux!J$4)","v":0},null,0,null,{"$f":"SUMIFS(Tableau_Data[Masculin],Tableau_Data[Nom du CDS],Reseaux!$C39,Tableau_Data[Lieu d''intervention],Reseaux!$X$9,Tableau_Data[Annee],Reseaux!$F$3,Tableau_Data[Mois],Reseaux!J$4)","v":0},null,{"$f":"SUMIFS(Tableau_Data[Féminin],Tableau_Data[Nom du CDS],Reseaux!$C39,Tableau_Data[Lieu d''intervention],Reseaux!$X$9,Tableau_Data[Annee],Reseaux!$F$3,Tableau_Data[Mois],Reseaux!J$4)","v":0},null,0,null,{"$f":"SUMIFS(Tableau_Data[Masculin],Tableau_Data[Nom du CDS],Reseaux!$C39,Tableau_Data[Lieu d''intervention],Reseaux!$AD$9,Tableau_Data[Annee],Reseaux!$F$3,Tableau_Data[Mois],Reseaux!J$4)","v":0},null,{"$f":"SUMIFS(Tableau_Data[Féminin],Tableau_Data[Nom du CDS],Reseaux!$C39,Tableau_Data[Lieu d''intervention],Reseaux!$AD$9,Tableau_Data[Annee],Reseaux!$F$3,Tableau_Data[Mois],Reseaux!J$4)","v":0},null,0,{"$f":"SUMIFS(Tableau_Data[Masculin],Tableau_Data[Nom du CDS],Reseaux!$C39,Tableau_Data[Thèmes],Reseaux!$AI$9,Tableau_Data[Annee],Reseaux!$F$3,Tableau_Data[Mois],Reseaux!J$4)","v":0},null,{"$f":"SUMIFS(Tableau_Data[Féminin],Tableau_Data[Nom du CDS],Reseaux!$C39,Tableau_Data[Thèmes],Reseaux!$AI$9,Tableau_Data[Annee],Reseaux!$F$3,Tableau_Data[Mois],Reseaux!J$4)","v":0},null,0,null,null,{"$f":"SUMIFS(Tableau_Data[Masculin],Tableau_Data[Nom du CDS],Reseaux!$C39,Tableau_Data[Thèmes],Reseaux!$AP$9,Tableau_Data[Annee],Reseaux!$F$3,Tableau_Data[Mois],Reseaux!J$4)","v":0},null,{"$f":"SUMIFS(Tableau_Data[Féminin],Tableau_Data[Nom du CDS],Reseaux!$C39,Tableau_Data[Thèmes],Reseaux!$AP$9,Tableau_Data[Annee],Reseaux!$F$3,Tableau_Data[Mois],Reseaux!J$4)","v":0},null,0,null,{"$f":"SUMIFS(Tableau_Data[Masculin],Tableau_Data[Nom du CDS],Reseaux!$C39,Tableau_Data[Thèmes],Reseaux!$AV$9,Tableau_Data[Annee],Reseaux!$F$3,Tableau_Data[Mois],Reseaux!J$4)","v":0},null,{"$f":"SUMIFS(Tableau_Data[Féminin],Tableau_Data[Nom du CDS],Reseaux!$C39,Tableau_Data[Thèmes],Reseaux!$AV$9,Tableau_Data[Annee],Reseaux!$F$3,Tableau_Data[Mois],Reseaux!J$4)","v":0},null,0,null,{"$f":"SUMIFS(Tableau_Data[Masculin],Tableau_Data[Nom du CDS],Reseaux!$C39,Tableau_Data[Thèmes],Reseaux!$BB$9,Tableau_Data[Annee],Reseaux!$F$3,Tableau_Data[Mois],Reseaux!J$4)","v":0},null,{"$f":"SUMIFS(Tableau_Data[Féminin],Tableau_Data[Nom du CDS],Reseaux!$C39,Tableau_Data[Thèmes],Reseaux!$BB$9,Tableau_Data[Annee],Reseaux!$F$3,Tableau_Data[Mois],Reseaux!$J$4)","v":0},null,0,null,{"$f":"SUMIFS(Tableau_Data[Masculin],Tableau_Data[Nom du CDS],Reseaux!$C39,Tableau_Data[Thèmes],Reseaux!$BH$9,Tableau_Data[Annee],Reseaux!$F$3,Tableau_Data[Mois],Reseaux!$J$4)","v":0},null,{"$f":"SUMIFS(Tableau_Data[Féminin],Tableau_Data[Nom du CDS],Reseaux!$C39,Tableau_Data[Thèmes],Reseaux!$BH$9,Tableau_Data[Annee],Reseaux!$F$3,Tableau_Data[Mois],Reseaux!$J$4)","v":0},null,0,null,{"$f":"SUMIFS(Tableau_Data[Masculin],Tableau_Data[Nom du CDS],Reseaux!$C39,Tableau_Data[Thèmes],Reseaux!$BN$9,Tableau_Data[Annee],Reseaux!$F$3,Tableau_Data[Mois],Reseaux!$J$4)","v":0},null,{"$f":"SUMIFS(Tableau_Data[Féminin],Tableau_Data[Nom du CDS],Reseaux!$C39,Tableau_Data[Thèmes],Reseaux!$BN$9,Tableau_Data[Annee],Reseaux!$F$3,Tableau_Data[Mois],Reseaux!$J$4)","v":0},null,0]
[null,{"$f":"IF(Reseaux!B39=\"\",\"\",1+B39)","v":29},{"$f":"Paramètres!M33","v":"CDS Ceru"},null,{"$f":"SUMIFS(Tableau_Data[Masculin],Tableau_Data[Nom du CDS],Reseaux!$C40,Tableau_Data[Annee],Reseaux!$F$3,Tableau_Data[Mois],Reseaux!J$4)","v":0},null,{"$f":"SUMIFS(Tableau_Data[Féminin],Tableau_Data[Nom du CDS],Reseaux!$C40,Tableau_Data[Annee],Reseaux!$F$3,Tableau_Data[Mois],Reseaux!J$4)","v":0},null,0,null,null,{"$f":"SUMIFS(Tableau_Data[Masculin],Tableau_Data[Nom du CDS],Reseaux!$C40,Tableau_Data[Lieu d''intervention],Reseaux!$L$9,Tableau_Data[Annee],Reseaux!$F$3,Tableau_Data[Mois],Reseaux!J$4)","v":0},null,{"$f":"SUMIFS(Tableau_Data[Féminin],Tableau_Data[Nom du CDS],Reseaux!$C40,Tableau_Data[Lieu d''intervention],Reseaux!$L$9,Tableau_Data[Annee],Reseaux!$F$3,Tableau_Data[Mois],Reseaux!J$4)","v":0},null,0,null,{"$f":"SUMIFS(Tableau_Data[Masculin],Tableau_Data[Nom du CDS],Reseaux!$C40,Tableau_Data[Lieu d''intervention],Reseaux!$R$9,Tableau_Data[Annee],Reseaux!$F$3,Tableau_Data[Mois],Reseaux!J$4)","v":0},null,{"$f":"SUMIFS(Tableau_Data[Féminin],Tableau_Data[Nom du CDS],Reseaux!$C40,Tableau_Data[Lieu d''intervention],Reseaux!$R$9,Tableau_Data[Annee],Reseaux!$F$3,Tableau_Data[Mois],Reseaux!J$4)","v":0},null,0,null,{"$f":"SUMIFS(Tableau_Data[Masculin],Tableau_Data[Nom du CDS],Reseaux!$C40,Tableau_Data[Lieu d''intervention],Reseaux!$X$9,Tableau_Data[Annee],Reseaux!$F$3,Tableau_Data[Mois],Reseaux!J$4)","v":0},null,{"$f":"SUMIFS(Tableau_Data[Féminin],Tableau_Data[Nom du CDS],Reseaux!$C40,Tableau_Data[Lieu d''intervention],Reseaux!$X$9,Tableau_Data[Annee],Reseaux!$F$3,Tableau_Data[Mois],Reseaux!J$4)","v":0},null,0,null,{"$f":"SUMIFS(Tableau_Data[Masculin],Tableau_Data[Nom du CDS],Reseaux!$C40,Tableau_Data[Lieu d''intervention],Reseaux!$AD$9,Tableau_Data[Annee],Reseaux!$F$3,Tableau_Data[Mois],Reseaux!J$4)","v":0},null,{"$f":"SUMIFS(Tableau_Data[Féminin],Tableau_Data[Nom du CDS],Reseaux!$C40,Tableau_Data[Lieu d''intervention],Reseaux!$AD$9,Tableau_Data[Annee],Reseaux!$F$3,Tableau_Data[Mois],Reseaux!J$4)","v":0},null,0,{"$f":"SUMIFS(Tableau_Data[Masculin],Tableau_Data[Nom du CDS],Reseaux!$C40,Tableau_Data[Thèmes],Reseaux!$AI$9,Tableau_Data[Annee],Reseaux!$F$3,Tableau_Data[Mois],Reseaux!J$4)","v":0},null,{"$f":"SUMIFS(Tableau_Data[Féminin],Tableau_Data[Nom du CDS],Reseaux!$C40,Tableau_Data[Thèmes],Reseaux!$AI$9,Tableau_Data[Annee],Reseaux!$F$3,Tableau_Data[Mois],Reseaux!J$4)","v":0},null,0,null,null,{"$f":"SUMIFS(Tableau_Data[Masculin],Tableau_Data[Nom du CDS],Reseaux!$C40,Tableau_Data[Thèmes],Reseaux!$AP$9,Tableau_Data[Annee],Reseaux!$F$3,Tableau_Data[Mois],Reseaux!J$4)","v":0},null,{"$f":"SUMIFS(Tableau_Data[Féminin],Tableau_Data[Nom du CDS],Reseaux!$C40,Tableau_Data[Thèmes],Reseaux!$AP$9,Tableau_Data[Annee],Reseaux!$F$3,Tableau_Data[Mois],Reseaux!J$4)","v":0},null,0,null,{"$f":"SUMIFS(Tableau_Data[Masculin],Tableau_Data[Nom du CDS],Reseaux!$C40,Tableau_Data[Thèmes],Reseaux!$AV$9,Tableau_Data[Annee],Reseaux!$F$3,Tableau_Data[Mois],Reseaux!J$4)","v":0},null,{"$f":"SUMIFS(Tableau_Data[Féminin],Tableau_Data[Nom du CDS],Reseaux!$C40,Tableau_Data[Thèmes],Reseaux!$AV$9,Tableau_Data[Annee],Reseaux!$F$3,Tableau_Data[Mois],Reseaux!J$4)","v":0},null,0,null,{"$f":"SUMIFS(Tableau_Data[Masculin],Tableau_Data[Nom du CDS],Reseaux!$C40,Tableau_Data[Thèmes],Reseaux!$BB$9,Tableau_Data[Annee],Reseaux!$F$3,Tableau_Data[Mois],Reseaux!J$4)","v":0},null,{"$f":"SUMIFS(Tableau_Data[Féminin],Tableau_Data[Nom du CDS],Reseaux!$C40,Tableau_Data[Thèmes],Reseaux!$BB$9,Tableau_Data[Annee],Reseaux!$F$3,Tableau_Data[Mois],Reseaux!$J$4)","v":0},null,0,null,{"$f":"SUMIFS(Tableau_Data[Masculin],Tableau_Data[Nom du CDS],Reseaux!$C40,Tableau_Data[Thèmes],Reseaux!$BH$9,Tableau_Data[Annee],Reseaux!$F$3,Tableau_Data[Mois],Reseaux!$J$4)","v":0},null,{"$f":"SUMIFS(Tableau_Data[Féminin],Tableau_Data[Nom du CDS],Reseaux!$C40,Tableau_Data[Thèmes],Reseaux!$BH$9,Tableau_Data[Annee],Reseaux!$F$3,Tableau_Data[Mois],Reseaux!$J$4)","v":0},null,0,null,{"$f":"SUMIFS(Tableau_Data[Masculin],Tableau_Data[Nom du CDS],Reseaux!$C40,Tableau_Data[Thèmes],Reseaux!$BN$9,Tableau_Data[Annee],Reseaux!$F$3,Tableau_Data[Mois],Reseaux!$J$4)","v":0},null,{"$f":"SUMIFS(Tableau_Data[Féminin],Tableau_Data[Nom du CDS],Reseaux!$C40,Tableau_Data[Thèmes],Reseaux!$BN$9,Tableau_Data[Annee],Reseaux!$F$3,Tableau_Data[Mois],Reseaux!$J$4)","v":0},null,0]
[null,{"$f":"IF(Reseaux!B40=\"\",\"\",1+B40)","v":30},{"$f":"Paramètres!M34","v":"CDS NDAVA"},null,{"$f":"SUMIFS(Tableau_Data[Masculin],Tableau_Data[Nom du CDS],Reseaux!$C41,Tableau_Data[Annee],Reseaux!$F$3,Tableau_Data[Mois],Reseaux!J$4)","v":0},null,{"$f":"SUMIFS(Tableau_Data[Féminin],Tableau_Data[Nom du CDS],Reseaux!$C41,Tableau_Data[Annee],Reseaux!$F$3,Tableau_Data[Mois],Reseaux!J$4)","v":0},null,0,null,null,{"$f":"SUMIFS(Tableau_Data[Masculin],Tableau_Data[Nom du CDS],Reseaux!$C41,Tableau_Data[Lieu d''intervention],Reseaux!$L$9,Tableau_Data[Annee],Reseaux!$F$3,Tableau_Data[Mois],Reseaux!J$4)","v":0},null,{"$f":"SUMIFS(Tableau_Data[Féminin],Tableau_Data[Nom du CDS],Reseaux!$C41,Tableau_Data[Lieu d''intervention],Reseaux!$L$9,Tableau_Data[Annee],Reseaux!$F$3,Tableau_Data[Mois],Reseaux!J$4)","v":0},null,0,null,{"$f":"SUMIFS(Tableau_Data[Masculin],Tableau_Data[Nom du CDS],Reseaux!$C41,Tableau_Data[Lieu d''intervention],Reseaux!$R$9,Tableau_Data[Annee],Reseaux!$F$3,Tableau_Data[Mois],Reseaux!J$4)","v":0},null,{"$f":"SUMIFS(Tableau_Data[Féminin],Tableau_Data[Nom du CDS],Reseaux!$C41,Tableau_Data[Lieu d''intervention],Reseaux!$R$9,Tableau_Data[Annee],Reseaux!$F$3,Tableau_Data[Mois],Reseaux!J$4)","v":0},null,0,null,{"$f":"SUMIFS(Tableau_Data[Masculin],Tableau_Data[Nom du CDS],Reseaux!$C41,Tableau_Data[Lieu d''intervention],Reseaux!$X$9,Tableau_Data[Annee],Reseaux!$F$3,Tableau_Data[Mois],Reseaux!J$4)","v":0},null,{"$f":"SUMIFS(Tableau_Data[Féminin],Tableau_Data[Nom du CDS],Reseaux!$C41,Tableau_Data[Lieu d''intervention],Reseaux!$X$9,Tableau_Data[Annee],Reseaux!$F$3,Tableau_Data[Mois],Reseaux!J$4)","v":0},null,0,null,{"$f":"SUMIFS(Tableau_Data[Masculin],Tableau_Data[Nom du CDS],Reseaux!$C41,Tableau_Data[Lieu d''intervention],Reseaux!$AD$9,Tableau_Data[Annee],Reseaux!$F$3,Tableau_Data[Mois],Reseaux!J$4)","v":0},null,{"$f":"SUMIFS(Tableau_Data[Féminin],Tableau_Data[Nom du CDS],Reseaux!$C41,Tableau_Data[Lieu d''intervention],Reseaux!$AD$9,Tableau_Data[Annee],Reseaux!$F$3,Tableau_Data[Mois],Reseaux!J$4)","v":0},null,0,{"$f":"SUMIFS(Tableau_Data[Masculin],Tableau_Data[Nom du CDS],Reseaux!$C41,Tableau_Data[Thèmes],Reseaux!$AI$9,Tableau_Data[Annee],Reseaux!$F$3,Tableau_Data[Mois],Reseaux!J$4)","v":0},null,{"$f":"SUMIFS(Tableau_Data[Féminin],Tableau_Data[Nom du CDS],Reseaux!$C41,Tableau_Data[Thèmes],Reseaux!$AI$9,Tableau_Data[Annee],Reseaux!$F$3,Tableau_Data[Mois],Reseaux!J$4)","v":0},null,0,null,null,{"$f":"SUMIFS(Tableau_Data[Masculin],Tableau_Data[Nom du CDS],Reseaux!$C41,Tableau_Data[Thèmes],Reseaux!$AP$9,Tableau_Data[Annee],Reseaux!$F$3,Tableau_Data[Mois],Reseaux!J$4)","v":0},null,{"$f":"SUMIFS(Tableau_Data[Féminin],Tableau_Data[Nom du CDS],Reseaux!$C41,Tableau_Data[Thèmes],Reseaux!$AP$9,Tableau_Data[Annee],Reseaux!$F$3,Tableau_Data[Mois],Reseaux!J$4)","v":0},null,0,null,{"$f":"SUMIFS(Tableau_Data[Masculin],Tableau_Data[Nom du CDS],Reseaux!$C41,Tableau_Data[Thèmes],Reseaux!$AV$9,Tableau_Data[Annee],Reseaux!$F$3,Tableau_Data[Mois],Reseaux!J$4)","v":0},null,{"$f":"SUMIFS(Tableau_Data[Féminin],Tableau_Data[Nom du CDS],Reseaux!$C41,Tableau_Data[Thèmes],Reseaux!$AV$9,Tableau_Data[Annee],Reseaux!$F$3,Tableau_Data[Mois],Reseaux!J$4)","v":0},null,0,null,{"$f":"SUMIFS(Tableau_Data[Masculin],Tableau_Data[Nom du CDS],Reseaux!$C41,Tableau_Data[Thèmes],Reseaux!$BB$9,Tableau_Data[Annee],Reseaux!$F$3,Tableau_Data[Mois],Reseaux!J$4)","v":0},null,{"$f":"SUMIFS(Tableau_Data[Féminin],Tableau_Data[Nom du CDS],Reseaux!$C41,Tableau_Data[Thèmes],Reseaux!$BB$9,Tableau_Data[Annee],Reseaux!$F$3,Tableau_Data[Mois],Reseaux!$J$4)","v":0},null,0,null,{"$f":"SUMIFS(Tableau_Data[Masculin],Tableau_Data[Nom du CDS],Reseaux!$C41,Tableau_Data[Thèmes],Reseaux!$BH$9,Tableau_Data[Annee],Reseaux!$F$3,Tableau_Data[Mois],Reseaux!$J$4)","v":0},null,{"$f":"SUMIFS(Tableau_Data[Féminin],Tableau_Data[Nom du CDS],Reseaux!$C41,Tableau_Data[Thèmes],Reseaux!$BH$9,Tableau_Data[Annee],Reseaux!$F$3,Tableau_Data[Mois],Reseaux!$J$4)","v":0},null,0,null,{"$f":"SUMIFS(Tableau_Data[Masculin],Tableau_Data[Nom du CDS],Reseaux!$C41,Tableau_Data[Thèmes],Reseaux!$BN$9,Tableau_Data[Annee],Reseaux!$F$3,Tableau_Data[Mois],Reseaux!$J$4)","v":0},null,{"$f":"SUMIFS(Tableau_Data[Féminin],Tableau_Data[Nom du CDS],Reseaux!$C41,Tableau_Data[Thèmes],Reseaux!$BN$9,Tableau_Data[Annee],Reseaux!$F$3,Tableau_Data[Mois],Reseaux!$J$4)","v":0},null,0]
[null,{"$f":"IF(Reseaux!B41=\"\",\"\",1+B41)","v":31},{"$f":"Paramètres!M35","v":"CDS RWINTARE"},null,{"$f":"SUMIFS(Tableau_Data[Masculin],Tableau_Data[Nom du CDS],Reseaux!$C42,Tableau_Data[Annee],Reseaux!$F$3,Tableau_Data[Mois],Reseaux!J$4)","v":0},null,{"$f":"SUMIFS(Tableau_Data[Féminin],Tableau_Data[Nom du CDS],Reseaux!$C42,Tableau_Data[Annee],Reseaux!$F$3,Tableau_Data[Mois],Reseaux!J$4)","v":0},null,0,null,null,{"$f":"SUMIFS(Tableau_Data[Masculin],Tableau_Data[Nom du CDS],Reseaux!$C42,Tableau_Data[Lieu d''intervention],Reseaux!$L$9,Tableau_Data[Annee],Reseaux!$F$3,Tableau_Data[Mois],Reseaux!J$4)","v":0},null,{"$f":"SUMIFS(Tableau_Data[Féminin],Tableau_Data[Nom du CDS],Reseaux!$C42,Tableau_Data[Lieu d''intervention],Reseaux!$L$9,Tableau_Data[Annee],Reseaux!$F$3,Tableau_Data[Mois],Reseaux!J$4)","v":0},null,0,null,{"$f":"SUMIFS(Tableau_Data[Masculin],Tableau_Data[Nom du CDS],Reseaux!$C42,Tableau_Data[Lieu d''intervention],Reseaux!$R$9,Tableau_Data[Annee],Reseaux!$F$3,Tableau_Data[Mois],Reseaux!J$4)","v":0},null,{"$f":"SUMIFS(Tableau_Data[Féminin],Tableau_Data[Nom du CDS],Reseaux!$C42,Tableau_Data[Lieu d''intervention],Reseaux!$R$9,Tableau_Data[Annee],Reseaux!$F$3,Tableau_Data[Mois],Reseaux!J$4)","v":0},null,0,null,{"$f":"SUMIFS(Tableau_Data[Masculin],Tableau_Data[Nom du CDS],Reseaux!$C42,Tableau_Data[Lieu d''intervention],Reseaux!$X$9,Tableau_Data[Annee],Reseaux!$F$3,Tableau_Data[Mois],Reseaux!J$4)","v":0},null,{"$f":"SUMIFS(Tableau_Data[Féminin],Tableau_Data[Nom du CDS],Reseaux!$C42,Tableau_Data[Lieu d''intervention],Reseaux!$X$9,Tableau_Data[Annee],Reseaux!$F$3,Tableau_Data[Mois],Reseaux!J$4)","v":0},null,0,null,{"$f":"SUMIFS(Tableau_Data[Masculin],Tableau_Data[Nom du CDS],Reseaux!$C42,Tableau_Data[Lieu d''intervention],Reseaux!$AD$9,Tableau_Data[Annee],Reseaux!$F$3,Tableau_Data[Mois],Reseaux!J$4)","v":0},null,{"$f":"SUMIFS(Tableau_Data[Féminin],Tableau_Data[Nom du CDS],Reseaux!$C42,Tableau_Data[Lieu d''intervention],Reseaux!$AD$9,Tableau_Data[Annee],Reseaux!$F$3,Tableau_Data[Mois],Reseaux!J$4)","v":0},null,0,{"$f":"SUMIFS(Tableau_Data[Masculin],Tableau_Data[Nom du CDS],Reseaux!$C42,Tableau_Data[Thèmes],Reseaux!$AI$9,Tableau_Data[Annee],Reseaux!$F$3,Tableau_Data[Mois],Reseaux!J$4)","v":0},null,{"$f":"SUMIFS(Tableau_Data[Féminin],Tableau_Data[Nom du CDS],Reseaux!$C42,Tableau_Data[Thèmes],Reseaux!$AI$9,Tableau_Data[Annee],Reseaux!$F$3,Tableau_Data[Mois],Reseaux!J$4)","v":0},null,0,null,null,{"$f":"SUMIFS(Tableau_Data[Masculin],Tableau_Data[Nom du CDS],Reseaux!$C42,Tableau_Data[Thèmes],Reseaux!$AP$9,Tableau_Data[Annee],Reseaux!$F$3,Tableau_Data[Mois],Reseaux!J$4)","v":0},null,{"$f":"SUMIFS(Tableau_Data[Féminin],Tableau_Data[Nom du CDS],Reseaux!$C42,Tableau_Data[Thèmes],Reseaux!$AP$9,Tableau_Data[Annee],Reseaux!$F$3,Tableau_Data[Mois],Reseaux!J$4)","v":0},null,0,null,{"$f":"SUMIFS(Tableau_Data[Masculin],Tableau_Data[Nom du CDS],Reseaux!$C42,Tableau_Data[Thèmes],Reseaux!$AV$9,Tableau_Data[Annee],Reseaux!$F$3,Tableau_Data[Mois],Reseaux!J$4)","v":0},null,{"$f":"SUMIFS(Tableau_Data[Féminin],Tableau_Data[Nom du CDS],Reseaux!$C42,Tableau_Data[Thèmes],Reseaux!$AV$9,Tableau_Data[Annee],Reseaux!$F$3,Tableau_Data[Mois],Reseaux!J$4)","v":0},null,0,null,{"$f":"SUMIFS(Tableau_Data[Masculin],Tableau_Data[Nom du CDS],Reseaux!$C42,Tableau_Data[Thèmes],Reseaux!$BB$9,Tableau_Data[Annee],Reseaux!$F$3,Tableau_Data[Mois],Reseaux!J$4)","v":0},null,{"$f":"SUMIFS(Tableau_Data[Féminin],Tableau_Data[Nom du CDS],Reseaux!$C42,Tableau_Data[Thèmes],Reseaux!$BB$9,Tableau_Data[Annee],Reseaux!$F$3,Tableau_Data[Mois],Reseaux!$J$4)","v":0},null,0,null,{"$f":"SUMIFS(Tableau_Data[Masculin],Tableau_Data[Nom du CDS],Reseaux!$C42,Tableau_Data[Thèmes],Reseaux!$BH$9,Tableau_Data[Annee],Reseaux!$F$3,Tableau_Data[Mois],Reseaux!$J$4)","v":0},null,{"$f":"SUMIFS(Tableau_Data[Féminin],Tableau_Data[Nom du CDS],Reseaux!$C42,Tableau_Data[Thèmes],Reseaux!$BH$9,Tableau_Data[Annee],Reseaux!$F$3,Tableau_Data[Mois],Reseaux!$J$4)","v":0},null,0,null,{"$f":"SUMIFS(Tableau_Data[Masculin],Tableau_Data[Nom du CDS],Reseaux!$C42,Tableau_Data[Thèmes],Reseaux!$BN$9,Tableau_Data[Annee],Reseaux!$F$3,Tableau_Data[Mois],Reseaux!$J$4)","v":0},null,{"$f":"SUMIFS(Tableau_Data[Féminin],Tableau_Data[Nom du CDS],Reseaux!$C42,Tableau_Data[Thèmes],Reseaux!$BN$9,Tableau_Data[Annee],Reseaux!$F$3,Tableau_Data[Mois],Reseaux!$J$4)","v":0},null,0]
[null,{"$f":"IF(Reseaux!B42=\"\",\"\",1+B42)","v":32},{"$f":"Paramètres!M36","v":"CDS YANZA "},null,{"$f":"SUMIFS(Tableau_Data[Masculin],Tableau_Data[Nom du CDS],Reseaux!$C43,Tableau_Data[Annee],Reseaux!$F$3,Tableau_Data[Mois],Reseaux!J$4)","v":0},null,{"$f":"SUMIFS(Tableau_Data[Féminin],Tableau_Data[Nom du CDS],Reseaux!$C43,Tableau_Data[Annee],Reseaux!$F$3,Tableau_Data[Mois],Reseaux!J$4)","v":0},null,0,null,null,{"$f":"SUMIFS(Tableau_Data[Masculin],Tableau_Data[Nom du CDS],Reseaux!$C43,Tableau_Data[Lieu d''intervention],Reseaux!$L$9,Tableau_Data[Annee],Reseaux!$F$3,Tableau_Data[Mois],Reseaux!J$4)","v":0},null,{"$f":"SUMIFS(Tableau_Data[Féminin],Tableau_Data[Nom du CDS],Reseaux!$C43,Tableau_Data[Lieu d''intervention],Reseaux!$L$9,Tableau_Data[Annee],Reseaux!$F$3,Tableau_Data[Mois],Reseaux!J$4)","v":0},null,0,null,{"$f":"SUMIFS(Tableau_Data[Masculin],Tableau_Data[Nom du CDS],Reseaux!$C43,Tableau_Data[Lieu d''intervention],Reseaux!$R$9,Tableau_Data[Annee],Reseaux!$F$3,Tableau_Data[Mois],Reseaux!J$4)","v":0},null,{"$f":"SUMIFS(Tableau_Data[Féminin],Tableau_Data[Nom du CDS],Reseaux!$C43,Tableau_Data[Lieu d''intervention],Reseaux!$R$9,Tableau_Data[Annee],Reseaux!$F$3,Tableau_Data[Mois],Reseaux!J$4)","v":0},null,0,null,{"$f":"SUMIFS(Tableau_Data[Masculin],Tableau_Data[Nom du CDS],Reseaux!$C43,Tableau_Data[Lieu d''intervention],Reseaux!$X$9,Tableau_Data[Annee],Reseaux!$F$3,Tableau_Data[Mois],Reseaux!J$4)","v":0},null,{"$f":"SUMIFS(Tableau_Data[Féminin],Tableau_Data[Nom du CDS],Reseaux!$C43,Tableau_Data[Lieu d''intervention],Reseaux!$X$9,Tableau_Data[Annee],Reseaux!$F$3,Tableau_Data[Mois],Reseaux!J$4)","v":0},null,0,null,{"$f":"SUMIFS(Tableau_Data[Masculin],Tableau_Data[Nom du CDS],Reseaux!$C43,Tableau_Data[Lieu d''intervention],Reseaux!$AD$9,Tableau_Data[Annee],Reseaux!$F$3,Tableau_Data[Mois],Reseaux!J$4)","v":0},null,{"$f":"SUMIFS(Tableau_Data[Féminin],Tableau_Data[Nom du CDS],Reseaux!$C43,Tableau_Data[Lieu d''intervention],Reseaux!$AD$9,Tableau_Data[Annee],Reseaux!$F$3,Tableau_Data[Mois],Reseaux!J$4)","v":0},null,0,{"$f":"SUMIFS(Tableau_Data[Masculin],Tableau_Data[Nom du CDS],Reseaux!$C43,Tableau_Data[Thèmes],Reseaux!$AI$9,Tableau_Data[Annee],Reseaux!$F$3,Tableau_Data[Mois],Reseaux!J$4)","v":0},null,{"$f":"SUMIFS(Tableau_Data[Féminin],Tableau_Data[Nom du CDS],Reseaux!$C43,Tableau_Data[Thèmes],Reseaux!$AI$9,Tableau_Data[Annee],Reseaux!$F$3,Tableau_Data[Mois],Reseaux!J$4)","v":0},null,0,null,null,{"$f":"SUMIFS(Tableau_Data[Masculin],Tableau_Data[Nom du CDS],Reseaux!$C43,Tableau_Data[Thèmes],Reseaux!$AP$9,Tableau_Data[Annee],Reseaux!$F$3,Tableau_Data[Mois],Reseaux!J$4)","v":0},null,{"$f":"SUMIFS(Tableau_Data[Féminin],Tableau_Data[Nom du CDS],Reseaux!$C43,Tableau_Data[Thèmes],Reseaux!$AP$9,Tableau_Data[Annee],Reseaux!$F$3,Tableau_Data[Mois],Reseaux!J$4)","v":0},null,0,null,{"$f":"SUMIFS(Tableau_Data[Masculin],Tableau_Data[Nom du CDS],Reseaux!$C43,Tableau_Data[Thèmes],Reseaux!$AV$9,Tableau_Data[Annee],Reseaux!$F$3,Tableau_Data[Mois],Reseaux!J$4)","v":0},null,{"$f":"SUMIFS(Tableau_Data[Féminin],Tableau_Data[Nom du CDS],Reseaux!$C43,Tableau_Data[Thèmes],Reseaux!$AV$9,Tableau_Data[Annee],Reseaux!$F$3,Tableau_Data[Mois],Reseaux!J$4)","v":0},null,0,null,{"$f":"SUMIFS(Tableau_Data[Masculin],Tableau_Data[Nom du CDS],Reseaux!$C43,Tableau_Data[Thèmes],Reseaux!$BB$9,Tableau_Data[Annee],Reseaux!$F$3,Tableau_Data[Mois],Reseaux!J$4)","v":0},null,{"$f":"SUMIFS(Tableau_Data[Féminin],Tableau_Data[Nom du CDS],Reseaux!$C43,Tableau_Data[Thèmes],Reseaux!$BB$9,Tableau_Data[Annee],Reseaux!$F$3,Tableau_Data[Mois],Reseaux!$J$4)","v":0},null,0,null,{"$f":"SUMIFS(Tableau_Data[Masculin],Tableau_Data[Nom du CDS],Reseaux!$C43,Tableau_Data[Thèmes],Reseaux!$BH$9,Tableau_Data[Annee],Reseaux!$F$3,Tableau_Data[Mois],Reseaux!$J$4)","v":0},null,{"$f":"SUMIFS(Tableau_Data[Féminin],Tableau_Data[Nom du CDS],Reseaux!$C43,Tableau_Data[Thèmes],Reseaux!$BH$9,Tableau_Data[Annee],Reseaux!$F$3,Tableau_Data[Mois],Reseaux!$J$4)","v":0},null,0,null,{"$f":"SUMIFS(Tableau_Data[Masculin],Tableau_Data[Nom du CDS],Reseaux!$C43,Tableau_Data[Thèmes],Reseaux!$BN$9,Tableau_Data[Annee],Reseaux!$F$3,Tableau_Data[Mois],Reseaux!$J$4)","v":0},null,{"$f":"SUMIFS(Tableau_Data[Féminin],Tableau_Data[Nom du CDS],Reseaux!$C43,Tableau_Data[Thèmes],Reseaux!$BN$9,Tableau_Data[Annee],Reseaux!$F$3,Tableau_Data[Mois],Reseaux!$J$4)","v":0},null,0]
[null,{"$f":"IF(Reseaux!B43=\"\",\"\",1+B43)","v":33},{"$f":"Paramètres!M37","v":"CDS RUSAKA"},null,{"$f":"SUMIFS(Tableau_Data[Masculin],Tableau_Data[Nom du CDS],Reseaux!$C44,Tableau_Data[Annee],Reseaux!$F$3,Tableau_Data[Mois],Reseaux!J$4)","v":0},null,{"$f":"SUMIFS(Tableau_Data[Féminin],Tableau_Data[Nom du CDS],Reseaux!$C44,Tableau_Data[Annee],Reseaux!$F$3,Tableau_Data[Mois],Reseaux!J$4)","v":0},null,0,null,null,{"$f":"SUMIFS(Tableau_Data[Masculin],Tableau_Data[Nom du CDS],Reseaux!$C44,Tableau_Data[Lieu d''intervention],Reseaux!$L$9,Tableau_Data[Annee],Reseaux!$F$3,Tableau_Data[Mois],Reseaux!J$4)","v":0},null,{"$f":"SUMIFS(Tableau_Data[Féminin],Tableau_Data[Nom du CDS],Reseaux!$C44,Tableau_Data[Lieu d''intervention],Reseaux!$L$9,Tableau_Data[Annee],Reseaux!$F$3,Tableau_Data[Mois],Reseaux!J$4)","v":0},null,0,null,{"$f":"SUMIFS(Tableau_Data[Masculin],Tableau_Data[Nom du CDS],Reseaux!$C44,Tableau_Data[Lieu d''intervention],Reseaux!$R$9,Tableau_Data[Annee],Reseaux!$F$3,Tableau_Data[Mois],Reseaux!J$4)","v":0},null,{"$f":"SUMIFS(Tableau_Data[Féminin],Tableau_Data[Nom du CDS],Reseaux!$C44,Tableau_Data[Lieu d''intervention],Reseaux!$R$9,Tableau_Data[Annee],Reseaux!$F$3,Tableau_Data[Mois],Reseaux!J$4)","v":0},null,0,null,{"$f":"SUMIFS(Tableau_Data[Masculin],Tableau_Data[Nom du CDS],Reseaux!$C44,Tableau_Data[Lieu d''intervention],Reseaux!$X$9,Tableau_Data[Annee],Reseaux!$F$3,Tableau_Data[Mois],Reseaux!J$4)","v":0},null,{"$f":"SUMIFS(Tableau_Data[Féminin],Tableau_Data[Nom du CDS],Reseaux!$C44,Tableau_Data[Lieu d''intervention],Reseaux!$X$9,Tableau_Data[Annee],Reseaux!$F$3,Tableau_Data[Mois],Reseaux!J$4)","v":0},null,0,null,{"$f":"SUMIFS(Tableau_Data[Masculin],Tableau_Data[Nom du CDS],Reseaux!$C44,Tableau_Data[Lieu d''intervention],Reseaux!$AD$9,Tableau_Data[Annee],Reseaux!$F$3,Tableau_Data[Mois],Reseaux!J$4)","v":0},null,{"$f":"SUMIFS(Tableau_Data[Féminin],Tableau_Data[Nom du CDS],Reseaux!$C44,Tableau_Data[Lieu d''intervention],Reseaux!$AD$9,Tableau_Data[Annee],Reseaux!$F$3,Tableau_Data[Mois],Reseaux!J$4)","v":0},null,0,{"$f":"SUMIFS(Tableau_Data[Masculin],Tableau_Data[Nom du CDS],Reseaux!$C44,Tableau_Data[Thèmes],Reseaux!$AI$9,Tableau_Data[Annee],Reseaux!$F$3,Tableau_Data[Mois],Reseaux!J$4)","v":0},null,{"$f":"SUMIFS(Tableau_Data[Féminin],Tableau_Data[Nom du CDS],Reseaux!$C44,Tableau_Data[Thèmes],Reseaux!$AI$9,Tableau_Data[Annee],Reseaux!$F$3,Tableau_Data[Mois],Reseaux!J$4)","v":0},null,0,null,null,{"$f":"SUMIFS(Tableau_Data[Masculin],Tableau_Data[Nom du CDS],Reseaux!$C44,Tableau_Data[Thèmes],Reseaux!$AP$9,Tableau_Data[Annee],Reseaux!$F$3,Tableau_Data[Mois],Reseaux!J$4)","v":0},null,{"$f":"SUMIFS(Tableau_Data[Féminin],Tableau_Data[Nom du CDS],Reseaux!$C44,Tableau_Data[Thèmes],Reseaux!$AP$9,Tableau_Data[Annee],Reseaux!$F$3,Tableau_Data[Mois],Reseaux!J$4)","v":0},null,0,null,{"$f":"SUMIFS(Tableau_Data[Masculin],Tableau_Data[Nom du CDS],Reseaux!$C44,Tableau_Data[Thèmes],Reseaux!$AV$9,Tableau_Data[Annee],Reseaux!$F$3,Tableau_Data[Mois],Reseaux!J$4)","v":0},null,{"$f":"SUMIFS(Tableau_Data[Féminin],Tableau_Data[Nom du CDS],Reseaux!$C44,Tableau_Data[Thèmes],Reseaux!$AV$9,Tableau_Data[Annee],Reseaux!$F$3,Tableau_Data[Mois],Reseaux!J$4)","v":0},null,0,null,{"$f":"SUMIFS(Tableau_Data[Masculin],Tableau_Data[Nom du CDS],Reseaux!$C44,Tableau_Data[Thèmes],Reseaux!$BB$9,Tableau_Data[Annee],Reseaux!$F$3,Tableau_Data[Mois],Reseaux!J$4)","v":0},null,{"$f":"SUMIFS(Tableau_Data[Féminin],Tableau_Data[Nom du CDS],Reseaux!$C44,Tableau_Data[Thèmes],Reseaux!$BB$9,Tableau_Data[Annee],Reseaux!$F$3,Tableau_Data[Mois],Reseaux!$J$4)","v":0},null,0,null,{"$f":"SUMIFS(Tableau_Data[Masculin],Tableau_Data[Nom du CDS],Reseaux!$C44,Tableau_Data[Thèmes],Reseaux!$BH$9,Tableau_Data[Annee],Reseaux!$F$3,Tableau_Data[Mois],Reseaux!$J$4)","v":0},null,{"$f":"SUMIFS(Tableau_Data[Féminin],Tableau_Data[Nom du CDS],Reseaux!$C44,Tableau_Data[Thèmes],Reseaux!$BH$9,Tableau_Data[Annee],Reseaux!$F$3,Tableau_Data[Mois],Reseaux!$J$4)","v":0},null,0,null,{"$f":"SUMIFS(Tableau_Data[Masculin],Tableau_Data[Nom du CDS],Reseaux!$C44,Tableau_Data[Thèmes],Reseaux!$BN$9,Tableau_Data[Annee],Reseaux!$F$3,Tableau_Data[Mois],Reseaux!$J$4)","v":0},null,{"$f":"SUMIFS(Tableau_Data[Féminin],Tableau_Data[Nom du CDS],Reseaux!$C44,Tableau_Data[Thèmes],Reseaux!$BN$9,Tableau_Data[Annee],Reseaux!$F$3,Tableau_Data[Mois],Reseaux!$J$4)","v":0},null,0]
[null,{"$f":"IF(Reseaux!B44=\"\",\"\",1+B44)","v":34},{"$f":"Paramètres!M38","v":" CDS BISORO"},null,{"$f":"SUMIFS(Tableau_Data[Masculin],Tableau_Data[Nom du CDS],Reseaux!$C45,Tableau_Data[Annee],Reseaux!$F$3,Tableau_Data[Mois],Reseaux!J$4)","v":0},null,{"$f":"SUMIFS(Tableau_Data[Féminin],Tableau_Data[Nom du CDS],Reseaux!$C45,Tableau_Data[Annee],Reseaux!$F$3,Tableau_Data[Mois],Reseaux!J$4)","v":0},null,0,null,null,{"$f":"SUMIFS(Tableau_Data[Masculin],Tableau_Data[Nom du CDS],Reseaux!$C45,Tableau_Data[Lieu d''intervention],Reseaux!$L$9,Tableau_Data[Annee],Reseaux!$F$3,Tableau_Data[Mois],Reseaux!J$4)","v":0},null,{"$f":"SUMIFS(Tableau_Data[Féminin],Tableau_Data[Nom du CDS],Reseaux!$C45,Tableau_Data[Lieu d''intervention],Reseaux!$L$9,Tableau_Data[Annee],Reseaux!$F$3,Tableau_Data[Mois],Reseaux!J$4)","v":0},null,0,null,{"$f":"SUMIFS(Tableau_Data[Masculin],Tableau_Data[Nom du CDS],Reseaux!$C45,Tableau_Data[Lieu d''intervention],Reseaux!$R$9,Tableau_Data[Annee],Reseaux!$F$3,Tableau_Data[Mois],Reseaux!J$4)","v":0},null,{"$f":"SUMIFS(Tableau_Data[Féminin],Tableau_Data[Nom du CDS],Reseaux!$C45,Tableau_Data[Lieu d''intervention],Reseaux!$R$9,Tableau_Data[Annee],Reseaux!$F$3,Tableau_Data[Mois],Reseaux!J$4)","v":0},null,0,null,{"$f":"SUMIFS(Tableau_Data[Masculin],Tableau_Data[Nom du CDS],Reseaux!$C45,Tableau_Data[Lieu d''intervention],Reseaux!$X$9,Tableau_Data[Annee],Reseaux!$F$3,Tableau_Data[Mois],Reseaux!J$4)","v":0},null,{"$f":"SUMIFS(Tableau_Data[Féminin],Tableau_Data[Nom du CDS],Reseaux!$C45,Tableau_Data[Lieu d''intervention],Reseaux!$X$9,Tableau_Data[Annee],Reseaux!$F$3,Tableau_Data[Mois],Reseaux!J$4)","v":0},null,0,null,{"$f":"SUMIFS(Tableau_Data[Masculin],Tableau_Data[Nom du CDS],Reseaux!$C45,Tableau_Data[Lieu d''intervention],Reseaux!$AD$9,Tableau_Data[Annee],Reseaux!$F$3,Tableau_Data[Mois],Reseaux!J$4)","v":0},null,{"$f":"SUMIFS(Tableau_Data[Féminin],Tableau_Data[Nom du CDS],Reseaux!$C45,Tableau_Data[Lieu d''intervention],Reseaux!$AD$9,Tableau_Data[Annee],Reseaux!$F$3,Tableau_Data[Mois],Reseaux!J$4)","v":0},null,0,{"$f":"SUMIFS(Tableau_Data[Masculin],Tableau_Data[Nom du CDS],Reseaux!$C45,Tableau_Data[Thèmes],Reseaux!$AI$9,Tableau_Data[Annee],Reseaux!$F$3,Tableau_Data[Mois],Reseaux!J$4)","v":0},null,{"$f":"SUMIFS(Tableau_Data[Féminin],Tableau_Data[Nom du CDS],Reseaux!$C45,Tableau_Data[Thèmes],Reseaux!$AI$9,Tableau_Data[Annee],Reseaux!$F$3,Tableau_Data[Mois],Reseaux!J$4)","v":0},null,0,null,null,{"$f":"SUMIFS(Tableau_Data[Masculin],Tableau_Data[Nom du CDS],Reseaux!$C45,Tableau_Data[Thèmes],Reseaux!$AP$9,Tableau_Data[Annee],Reseaux!$F$3,Tableau_Data[Mois],Reseaux!J$4)","v":0},null,{"$f":"SUMIFS(Tableau_Data[Féminin],Tableau_Data[Nom du CDS],Reseaux!$C45,Tableau_Data[Thèmes],Reseaux!$AP$9,Tableau_Data[Annee],Reseaux!$F$3,Tableau_Data[Mois],Reseaux!J$4)","v":0},null,0,null,{"$f":"SUMIFS(Tableau_Data[Masculin],Tableau_Data[Nom du CDS],Reseaux!$C45,Tableau_Data[Thèmes],Reseaux!$AV$9,Tableau_Data[Annee],Reseaux!$F$3,Tableau_Data[Mois],Reseaux!J$4)","v":0},null,{"$f":"SUMIFS(Tableau_Data[Féminin],Tableau_Data[Nom du CDS],Reseaux!$C45,Tableau_Data[Thèmes],Reseaux!$AV$9,Tableau_Data[Annee],Reseaux!$F$3,Tableau_Data[Mois],Reseaux!J$4)","v":0},null,0,null,{"$f":"SUMIFS(Tableau_Data[Masculin],Tableau_Data[Nom du CDS],Reseaux!$C45,Tableau_Data[Thèmes],Reseaux!$BB$9,Tableau_Data[Annee],Reseaux!$F$3,Tableau_Data[Mois],Reseaux!J$4)","v":0},null,{"$f":"SUMIFS(Tableau_Data[Féminin],Tableau_Data[Nom du CDS],Reseaux!$C45,Tableau_Data[Thèmes],Reseaux!$BB$9,Tableau_Data[Annee],Reseaux!$F$3,Tableau_Data[Mois],Reseaux!$J$4)","v":0},null,0,null,{"$f":"SUMIFS(Tableau_Data[Masculin],Tableau_Data[Nom du CDS],Reseaux!$C45,Tableau_Data[Thèmes],Reseaux!$BH$9,Tableau_Data[Annee],Reseaux!$F$3,Tableau_Data[Mois],Reseaux!$J$4)","v":0},null,{"$f":"SUMIFS(Tableau_Data[Féminin],Tableau_Data[Nom du CDS],Reseaux!$C45,Tableau_Data[Thèmes],Reseaux!$BH$9,Tableau_Data[Annee],Reseaux!$F$3,Tableau_Data[Mois],Reseaux!$J$4)","v":0},null,0,null,{"$f":"SUMIFS(Tableau_Data[Masculin],Tableau_Data[Nom du CDS],Reseaux!$C45,Tableau_Data[Thèmes],Reseaux!$BN$9,Tableau_Data[Annee],Reseaux!$F$3,Tableau_Data[Mois],Reseaux!$J$4)","v":0},null,{"$f":"SUMIFS(Tableau_Data[Féminin],Tableau_Data[Nom du CDS],Reseaux!$C45,Tableau_Data[Thèmes],Reseaux!$BN$9,Tableau_Data[Annee],Reseaux!$F$3,Tableau_Data[Mois],Reseaux!$J$4)","v":0},null,0]
[null,{"$f":"IF(Reseaux!B45=\"\",\"\",1+B45)","v":35},{"$f":"Paramètres!M39","v":"CDS KIBUMBU"},null,{"$f":"SUMIFS(Tableau_Data[Masculin],Tableau_Data[Nom du CDS],Reseaux!$C46,Tableau_Data[Annee],Reseaux!$F$3,Tableau_Data[Mois],Reseaux!J$4)","v":0},null,{"$f":"SUMIFS(Tableau_Data[Féminin],Tableau_Data[Nom du CDS],Reseaux!$C46,Tableau_Data[Annee],Reseaux!$F$3,Tableau_Data[Mois],Reseaux!J$4)","v":0},null,0,null,null,{"$f":"SUMIFS(Tableau_Data[Masculin],Tableau_Data[Nom du CDS],Reseaux!$C46,Tableau_Data[Lieu d''intervention],Reseaux!$L$9,Tableau_Data[Annee],Reseaux!$F$3,Tableau_Data[Mois],Reseaux!J$4)","v":0},null,{"$f":"SUMIFS(Tableau_Data[Féminin],Tableau_Data[Nom du CDS],Reseaux!$C46,Tableau_Data[Lieu d''intervention],Reseaux!$L$9,Tableau_Data[Annee],Reseaux!$F$3,Tableau_Data[Mois],Reseaux!J$4)","v":0},null,0,null,{"$f":"SUMIFS(Tableau_Data[Masculin],Tableau_Data[Nom du CDS],Reseaux!$C46,Tableau_Data[Lieu d''intervention],Reseaux!$R$9,Tableau_Data[Annee],Reseaux!$F$3,Tableau_Data[Mois],Reseaux!J$4)","v":0},null,{"$f":"SUMIFS(Tableau_Data[Féminin],Tableau_Data[Nom du CDS],Reseaux!$C46,Tableau_Data[Lieu d''intervention],Reseaux!$R$9,Tableau_Data[Annee],Reseaux!$F$3,Tableau_Data[Mois],Reseaux!J$4)","v":0},null,0,null,{"$f":"SUMIFS(Tableau_Data[Masculin],Tableau_Data[Nom du CDS],Reseaux!$C46,Tableau_Data[Lieu d''intervention],Reseaux!$X$9,Tableau_Data[Annee],Reseaux!$F$3,Tableau_Data[Mois],Reseaux!J$4)","v":0},null,{"$f":"SUMIFS(Tableau_Data[Féminin],Tableau_Data[Nom du CDS],Reseaux!$C46,Tableau_Data[Lieu d''intervention],Reseaux!$X$9,Tableau_Data[Annee],Reseaux!$F$3,Tableau_Data[Mois],Reseaux!J$4)","v":0},null,0,null,{"$f":"SUMIFS(Tableau_Data[Masculin],Tableau_Data[Nom du CDS],Reseaux!$C46,Tableau_Data[Lieu d''intervention],Reseaux!$AD$9,Tableau_Data[Annee],Reseaux!$F$3,Tableau_Data[Mois],Reseaux!J$4)","v":0},null,{"$f":"SUMIFS(Tableau_Data[Féminin],Tableau_Data[Nom du CDS],Reseaux!$C46,Tableau_Data[Lieu d''intervention],Reseaux!$AD$9,Tableau_Data[Annee],Reseaux!$F$3,Tableau_Data[Mois],Reseaux!J$4)","v":0},null,0,{"$f":"SUMIFS(Tableau_Data[Masculin],Tableau_Data[Nom du CDS],Reseaux!$C46,Tableau_Data[Thèmes],Reseaux!$AI$9,Tableau_Data[Annee],Reseaux!$F$3,Tableau_Data[Mois],Reseaux!J$4)","v":0},null,{"$f":"SUMIFS(Tableau_Data[Féminin],Tableau_Data[Nom du CDS],Reseaux!$C46,Tableau_Data[Thèmes],Reseaux!$AI$9,Tableau_Data[Annee],Reseaux!$F$3,Tableau_Data[Mois],Reseaux!J$4)","v":0},null,0,null,null,{"$f":"SUMIFS(Tableau_Data[Masculin],Tableau_Data[Nom du CDS],Reseaux!$C46,Tableau_Data[Thèmes],Reseaux!$AP$9,Tableau_Data[Annee],Reseaux!$F$3,Tableau_Data[Mois],Reseaux!J$4)","v":0},null,{"$f":"SUMIFS(Tableau_Data[Féminin],Tableau_Data[Nom du CDS],Reseaux!$C46,Tableau_Data[Thèmes],Reseaux!$AP$9,Tableau_Data[Annee],Reseaux!$F$3,Tableau_Data[Mois],Reseaux!J$4)","v":0},null,0,null,{"$f":"SUMIFS(Tableau_Data[Masculin],Tableau_Data[Nom du CDS],Reseaux!$C46,Tableau_Data[Thèmes],Reseaux!$AV$9,Tableau_Data[Annee],Reseaux!$F$3,Tableau_Data[Mois],Reseaux!J$4)","v":0},null,{"$f":"SUMIFS(Tableau_Data[Féminin],Tableau_Data[Nom du CDS],Reseaux!$C46,Tableau_Data[Thèmes],Reseaux!$AV$9,Tableau_Data[Annee],Reseaux!$F$3,Tableau_Data[Mois],Reseaux!J$4)","v":0},null,0,null,{"$f":"SUMIFS(Tableau_Data[Masculin],Tableau_Data[Nom du CDS],Reseaux!$C46,Tableau_Data[Thèmes],Reseaux!$BB$9,Tableau_Data[Annee],Reseaux!$F$3,Tableau_Data[Mois],Reseaux!J$4)","v":0},null,{"$f":"SUMIFS(Tableau_Data[Féminin],Tableau_Data[Nom du CDS],Reseaux!$C46,Tableau_Data[Thèmes],Reseaux!$BB$9,Tableau_Data[Annee],Reseaux!$F$3,Tableau_Data[Mois],Reseaux!$J$4)","v":0},null,0,null,{"$f":"SUMIFS(Tableau_Data[Masculin],Tableau_Data[Nom du CDS],Reseaux!$C46,Tableau_Data[Thèmes],Reseaux!$BH$9,Tableau_Data[Annee],Reseaux!$F$3,Tableau_Data[Mois],Reseaux!$J$4)","v":0},null,{"$f":"SUMIFS(Tableau_Data[Féminin],Tableau_Data[Nom du CDS],Reseaux!$C46,Tableau_Data[Thèmes],Reseaux!$BH$9,Tableau_Data[Annee],Reseaux!$F$3,Tableau_Data[Mois],Reseaux!$J$4)","v":0},null,0,null,{"$f":"SUMIFS(Tableau_Data[Masculin],Tableau_Data[Nom du CDS],Reseaux!$C46,Tableau_Data[Thèmes],Reseaux!$BN$9,Tableau_Data[Annee],Reseaux!$F$3,Tableau_Data[Mois],Reseaux!$J$4)","v":0},null,{"$f":"SUMIFS(Tableau_Data[Féminin],Tableau_Data[Nom du CDS],Reseaux!$C46,Tableau_Data[Thèmes],Reseaux!$BN$9,Tableau_Data[Annee],Reseaux!$F$3,Tableau_Data[Mois],Reseaux!$J$4)","v":0},null,0]
[null,{"$f":"IF(Reseaux!B46=\"\",\"\",1+B46)","v":36},{"$f":"Paramètres!M40","v":"CDS Bukeye"},null,{"$f":"SUMIFS(Tableau_Data[Masculin],Tableau_Data[Nom du CDS],Reseaux!$C47,Tableau_Data[Annee],Reseaux!$F$3,Tableau_Data[Mois],Reseaux!J$4)","v":0},null,{"$f":"SUMIFS(Tableau_Data[Féminin],Tableau_Data[Nom du CDS],Reseaux!$C47,Tableau_Data[Annee],Reseaux!$F$3,Tableau_Data[Mois],Reseaux!J$4)","v":0},null,0,null,null,{"$f":"SUMIFS(Tableau_Data[Masculin],Tableau_Data[Nom du CDS],Reseaux!$C47,Tableau_Data[Lieu d''intervention],Reseaux!$L$9,Tableau_Data[Annee],Reseaux!$F$3,Tableau_Data[Mois],Reseaux!J$4)","v":0},null,{"$f":"SUMIFS(Tableau_Data[Féminin],Tableau_Data[Nom du CDS],Reseaux!$C47,Tableau_Data[Lieu d''intervention],Reseaux!$L$9,Tableau_Data[Annee],Reseaux!$F$3,Tableau_Data[Mois],Reseaux!J$4)","v":0},null,0,null,{"$f":"SUMIFS(Tableau_Data[Masculin],Tableau_Data[Nom du CDS],Reseaux!$C47,Tableau_Data[Lieu d''intervention],Reseaux!$R$9,Tableau_Data[Annee],Reseaux!$F$3,Tableau_Data[Mois],Reseaux!J$4)","v":0},null,{"$f":"SUMIFS(Tableau_Data[Féminin],Tableau_Data[Nom du CDS],Reseaux!$C47,Tableau_Data[Lieu d''intervention],Reseaux!$R$9,Tableau_Data[Annee],Reseaux!$F$3,Tableau_Data[Mois],Reseaux!J$4)","v":0},null,0,null,{"$f":"SUMIFS(Tableau_Data[Masculin],Tableau_Data[Nom du CDS],Reseaux!$C47,Tableau_Data[Lieu d''intervention],Reseaux!$X$9,Tableau_Data[Annee],Reseaux!$F$3,Tableau_Data[Mois],Reseaux!J$4)","v":0},null,{"$f":"SUMIFS(Tableau_Data[Féminin],Tableau_Data[Nom du CDS],Reseaux!$C47,Tableau_Data[Lieu d''intervention],Reseaux!$X$9,Tableau_Data[Annee],Reseaux!$F$3,Tableau_Data[Mois],Reseaux!J$4)","v":0},null,0,null,{"$f":"SUMIFS(Tableau_Data[Masculin],Tableau_Data[Nom du CDS],Reseaux!$C47,Tableau_Data[Lieu d''intervention],Reseaux!$AD$9,Tableau_Data[Annee],Reseaux!$F$3,Tableau_Data[Mois],Reseaux!J$4)","v":0},null,{"$f":"SUMIFS(Tableau_Data[Féminin],Tableau_Data[Nom du CDS],Reseaux!$C47,Tableau_Data[Lieu d''intervention],Reseaux!$AD$9,Tableau_Data[Annee],Reseaux!$F$3,Tableau_Data[Mois],Reseaux!J$4)","v":0},null,0,{"$f":"SUMIFS(Tableau_Data[Masculin],Tableau_Data[Nom du CDS],Reseaux!$C47,Tableau_Data[Thèmes],Reseaux!$AI$9,Tableau_Data[Annee],Reseaux!$F$3,Tableau_Data[Mois],Reseaux!J$4)","v":0},null,{"$f":"SUMIFS(Tableau_Data[Féminin],Tableau_Data[Nom du CDS],Reseaux!$C47,Tableau_Data[Thèmes],Reseaux!$AI$9,Tableau_Data[Annee],Reseaux!$F$3,Tableau_Data[Mois],Reseaux!J$4)","v":0},null,0,null,null,{"$f":"SUMIFS(Tableau_Data[Masculin],Tableau_Data[Nom du CDS],Reseaux!$C47,Tableau_Data[Thèmes],Reseaux!$AP$9,Tableau_Data[Annee],Reseaux!$F$3,Tableau_Data[Mois],Reseaux!J$4)","v":0},null,{"$f":"SUMIFS(Tableau_Data[Féminin],Tableau_Data[Nom du CDS],Reseaux!$C47,Tableau_Data[Thèmes],Reseaux!$AP$9,Tableau_Data[Annee],Reseaux!$F$3,Tableau_Data[Mois],Reseaux!J$4)","v":0},null,0,null,{"$f":"SUMIFS(Tableau_Data[Masculin],Tableau_Data[Nom du CDS],Reseaux!$C47,Tableau_Data[Thèmes],Reseaux!$AV$9,Tableau_Data[Annee],Reseaux!$F$3,Tableau_Data[Mois],Reseaux!J$4)","v":0},null,{"$f":"SUMIFS(Tableau_Data[Féminin],Tableau_Data[Nom du CDS],Reseaux!$C47,Tableau_Data[Thèmes],Reseaux!$AV$9,Tableau_Data[Annee],Reseaux!$F$3,Tableau_Data[Mois],Reseaux!J$4)","v":0},null,0,null,{"$f":"SUMIFS(Tableau_Data[Masculin],Tableau_Data[Nom du CDS],Reseaux!$C47,Tableau_Data[Thèmes],Reseaux!$BB$9,Tableau_Data[Annee],Reseaux!$F$3,Tableau_Data[Mois],Reseaux!J$4)","v":0},null,{"$f":"SUMIFS(Tableau_Data[Féminin],Tableau_Data[Nom du CDS],Reseaux!$C47,Tableau_Data[Thèmes],Reseaux!$BB$9,Tableau_Data[Annee],Reseaux!$F$3,Tableau_Data[Mois],Reseaux!$J$4)","v":0},null,0,null,{"$f":"SUMIFS(Tableau_Data[Masculin],Tableau_Data[Nom du CDS],Reseaux!$C47,Tableau_Data[Thèmes],Reseaux!$BH$9,Tableau_Data[Annee],Reseaux!$F$3,Tableau_Data[Mois],Reseaux!$J$4)","v":0},null,{"$f":"SUMIFS(Tableau_Data[Féminin],Tableau_Data[Nom du CDS],Reseaux!$C47,Tableau_Data[Thèmes],Reseaux!$BH$9,Tableau_Data[Annee],Reseaux!$F$3,Tableau_Data[Mois],Reseaux!$J$4)","v":0},null,0,null,{"$f":"SUMIFS(Tableau_Data[Masculin],Tableau_Data[Nom du CDS],Reseaux!$C47,Tableau_Data[Thèmes],Reseaux!$BN$9,Tableau_Data[Annee],Reseaux!$F$3,Tableau_Data[Mois],Reseaux!$J$4)","v":0},null,{"$f":"SUMIFS(Tableau_Data[Féminin],Tableau_Data[Nom du CDS],Reseaux!$C47,Tableau_Data[Thèmes],Reseaux!$BN$9,Tableau_Data[Annee],Reseaux!$F$3,Tableau_Data[Mois],Reseaux!$J$4)","v":0},null,0]
[null,{"$f":"IF(Reseaux!B47=\"\",\"\",1+B47)","v":37},{"$f":"Paramètres!M41","v":"CDS Munanira"},null,{"$f":"SUMIFS(Tableau_Data[Masculin],Tableau_Data[Nom du CDS],Reseaux!$C48,Tableau_Data[Annee],Reseaux!$F$3,Tableau_Data[Mois],Reseaux!J$4)","v":0},null,{"$f":"SUMIFS(Tableau_Data[Féminin],Tableau_Data[Nom du CDS],Reseaux!$C48,Tableau_Data[Annee],Reseaux!$F$3,Tableau_Data[Mois],Reseaux!J$4)","v":0},null,0,null,null,{"$f":"SUMIFS(Tableau_Data[Masculin],Tableau_Data[Nom du CDS],Reseaux!$C48,Tableau_Data[Lieu d''intervention],Reseaux!$L$9,Tableau_Data[Annee],Reseaux!$F$3,Tableau_Data[Mois],Reseaux!J$4)","v":0},null,{"$f":"SUMIFS(Tableau_Data[Féminin],Tableau_Data[Nom du CDS],Reseaux!$C48,Tableau_Data[Lieu d''intervention],Reseaux!$L$9,Tableau_Data[Annee],Reseaux!$F$3,Tableau_Data[Mois],Reseaux!J$4)","v":0},null,0,null,{"$f":"SUMIFS(Tableau_Data[Masculin],Tableau_Data[Nom du CDS],Reseaux!$C48,Tableau_Data[Lieu d''intervention],Reseaux!$R$9,Tableau_Data[Annee],Reseaux!$F$3,Tableau_Data[Mois],Reseaux!J$4)","v":0},null,{"$f":"SUMIFS(Tableau_Data[Féminin],Tableau_Data[Nom du CDS],Reseaux!$C48,Tableau_Data[Lieu d''intervention],Reseaux!$R$9,Tableau_Data[Annee],Reseaux!$F$3,Tableau_Data[Mois],Reseaux!J$4)","v":0},null,0,null,{"$f":"SUMIFS(Tableau_Data[Masculin],Tableau_Data[Nom du CDS],Reseaux!$C48,Tableau_Data[Lieu d''intervention],Reseaux!$X$9,Tableau_Data[Annee],Reseaux!$F$3,Tableau_Data[Mois],Reseaux!J$4)","v":0},null,{"$f":"SUMIFS(Tableau_Data[Féminin],Tableau_Data[Nom du CDS],Reseaux!$C48,Tableau_Data[Lieu d''intervention],Reseaux!$X$9,Tableau_Data[Annee],Reseaux!$F$3,Tableau_Data[Mois],Reseaux!J$4)","v":0},null,0,null,{"$f":"SUMIFS(Tableau_Data[Masculin],Tableau_Data[Nom du CDS],Reseaux!$C48,Tableau_Data[Lieu d''intervention],Reseaux!$AD$9,Tableau_Data[Annee],Reseaux!$F$3,Tableau_Data[Mois],Reseaux!J$4)","v":0},null,{"$f":"SUMIFS(Tableau_Data[Féminin],Tableau_Data[Nom du CDS],Reseaux!$C48,Tableau_Data[Lieu d''intervention],Reseaux!$AD$9,Tableau_Data[Annee],Reseaux!$F$3,Tableau_Data[Mois],Reseaux!J$4)","v":0},null,0,{"$f":"SUMIFS(Tableau_Data[Masculin],Tableau_Data[Nom du CDS],Reseaux!$C48,Tableau_Data[Thèmes],Reseaux!$AI$9,Tableau_Data[Annee],Reseaux!$F$3,Tableau_Data[Mois],Reseaux!J$4)","v":0},null,{"$f":"SUMIFS(Tableau_Data[Féminin],Tableau_Data[Nom du CDS],Reseaux!$C48,Tableau_Data[Thèmes],Reseaux!$AI$9,Tableau_Data[Annee],Reseaux!$F$3,Tableau_Data[Mois],Reseaux!J$4)","v":0},null,0,null,null,{"$f":"SUMIFS(Tableau_Data[Masculin],Tableau_Data[Nom du CDS],Reseaux!$C48,Tableau_Data[Thèmes],Reseaux!$AP$9,Tableau_Data[Annee],Reseaux!$F$3,Tableau_Data[Mois],Reseaux!J$4)","v":0},null,{"$f":"SUMIFS(Tableau_Data[Féminin],Tableau_Data[Nom du CDS],Reseaux!$C48,Tableau_Data[Thèmes],Reseaux!$AP$9,Tableau_Data[Annee],Reseaux!$F$3,Tableau_Data[Mois],Reseaux!J$4)","v":0},null,0,null,{"$f":"SUMIFS(Tableau_Data[Masculin],Tableau_Data[Nom du CDS],Reseaux!$C48,Tableau_Data[Thèmes],Reseaux!$AV$9,Tableau_Data[Annee],Reseaux!$F$3,Tableau_Data[Mois],Reseaux!J$4)","v":0},null,{"$f":"SUMIFS(Tableau_Data[Féminin],Tableau_Data[Nom du CDS],Reseaux!$C48,Tableau_Data[Thèmes],Reseaux!$AV$9,Tableau_Data[Annee],Reseaux!$F$3,Tableau_Data[Mois],Reseaux!J$4)","v":0},null,0,null,{"$f":"SUMIFS(Tableau_Data[Masculin],Tableau_Data[Nom du CDS],Reseaux!$C48,Tableau_Data[Thèmes],Reseaux!$BB$9,Tableau_Data[Annee],Reseaux!$F$3,Tableau_Data[Mois],Reseaux!J$4)","v":0},null,{"$f":"SUMIFS(Tableau_Data[Féminin],Tableau_Data[Nom du CDS],Reseaux!$C48,Tableau_Data[Thèmes],Reseaux!$BB$9,Tableau_Data[Annee],Reseaux!$F$3,Tableau_Data[Mois],Reseaux!$J$4)","v":0},null,0,null,{"$f":"SUMIFS(Tableau_Data[Masculin],Tableau_Data[Nom du CDS],Reseaux!$C48,Tableau_Data[Thèmes],Reseaux!$BH$9,Tableau_Data[Annee],Reseaux!$F$3,Tableau_Data[Mois],Reseaux!$J$4)","v":0},null,{"$f":"SUMIFS(Tableau_Data[Féminin],Tableau_Data[Nom du CDS],Reseaux!$C48,Tableau_Data[Thèmes],Reseaux!$BH$9,Tableau_Data[Annee],Reseaux!$F$3,Tableau_Data[Mois],Reseaux!$J$4)","v":0},null,0,null,{"$f":"SUMIFS(Tableau_Data[Masculin],Tableau_Data[Nom du CDS],Reseaux!$C48,Tableau_Data[Thèmes],Reseaux!$BN$9,Tableau_Data[Annee],Reseaux!$F$3,Tableau_Data[Mois],Reseaux!$J$4)","v":0},null,{"$f":"SUMIFS(Tableau_Data[Féminin],Tableau_Data[Nom du CDS],Reseaux!$C48,Tableau_Data[Thèmes],Reseaux!$BN$9,Tableau_Data[Annee],Reseaux!$F$3,Tableau_Data[Mois],Reseaux!$J$4)","v":0},null,0]
[null,{"$f":"IF(Reseaux!B48=\"\",\"\",1+B48)","v":38},{"$f":"Paramètres!M42","v":"CDS Kiganda"},null,{"$f":"SUMIFS(Tableau_Data[Masculin],Tableau_Data[Nom du CDS],Reseaux!$C49,Tableau_Data[Annee],Reseaux!$F$3,Tableau_Data[Mois],Reseaux!J$4)","v":0},null,{"$f":"SUMIFS(Tableau_Data[Féminin],Tableau_Data[Nom du CDS],Reseaux!$C49,Tableau_Data[Annee],Reseaux!$F$3,Tableau_Data[Mois],Reseaux!J$4)","v":0},null,0,null,null,{"$f":"SUMIFS(Tableau_Data[Masculin],Tableau_Data[Nom du CDS],Reseaux!$C49,Tableau_Data[Lieu d''intervention],Reseaux!$L$9,Tableau_Data[Annee],Reseaux!$F$3,Tableau_Data[Mois],Reseaux!J$4)","v":0},null,{"$f":"SUMIFS(Tableau_Data[Féminin],Tableau_Data[Nom du CDS],Reseaux!$C49,Tableau_Data[Lieu d''intervention],Reseaux!$L$9,Tableau_Data[Annee],Reseaux!$F$3,Tableau_Data[Mois],Reseaux!J$4)","v":0},null,0,null,{"$f":"SUMIFS(Tableau_Data[Masculin],Tableau_Data[Nom du CDS],Reseaux!$C49,Tableau_Data[Lieu d''intervention],Reseaux!$R$9,Tableau_Data[Annee],Reseaux!$F$3,Tableau_Data[Mois],Reseaux!J$4)","v":0},null,{"$f":"SUMIFS(Tableau_Data[Féminin],Tableau_Data[Nom du CDS],Reseaux!$C49,Tableau_Data[Lieu d''intervention],Reseaux!$R$9,Tableau_Data[Annee],Reseaux!$F$3,Tableau_Data[Mois],Reseaux!J$4)","v":0},null,0,null,{"$f":"SUMIFS(Tableau_Data[Masculin],Tableau_Data[Nom du CDS],Reseaux!$C49,Tableau_Data[Lieu d''intervention],Reseaux!$X$9,Tableau_Data[Annee],Reseaux!$F$3,Tableau_Data[Mois],Reseaux!J$4)","v":0},null,{"$f":"SUMIFS(Tableau_Data[Féminin],Tableau_Data[Nom du CDS],Reseaux!$C49,Tableau_Data[Lieu d''intervention],Reseaux!$X$9,Tableau_Data[Annee],Reseaux!$F$3,Tableau_Data[Mois],Reseaux!J$4)","v":0},null,0,null,{"$f":"SUMIFS(Tableau_Data[Masculin],Tableau_Data[Nom du CDS],Reseaux!$C49,Tableau_Data[Lieu d''intervention],Reseaux!$AD$9,Tableau_Data[Annee],Reseaux!$F$3,Tableau_Data[Mois],Reseaux!J$4)","v":0},null,{"$f":"SUMIFS(Tableau_Data[Féminin],Tableau_Data[Nom du CDS],Reseaux!$C49,Tableau_Data[Lieu d''intervention],Reseaux!$AD$9,Tableau_Data[Annee],Reseaux!$F$3,Tableau_Data[Mois],Reseaux!J$4)","v":0},null,0,{"$f":"SUMIFS(Tableau_Data[Masculin],Tableau_Data[Nom du CDS],Reseaux!$C49,Tableau_Data[Thèmes],Reseaux!$AI$9,Tableau_Data[Annee],Reseaux!$F$3,Tableau_Data[Mois],Reseaux!J$4)","v":0},null,{"$f":"SUMIFS(Tableau_Data[Féminin],Tableau_Data[Nom du CDS],Reseaux!$C49,Tableau_Data[Thèmes],Reseaux!$AI$9,Tableau_Data[Annee],Reseaux!$F$3,Tableau_Data[Mois],Reseaux!J$4)","v":0},null,0,null,null,{"$f":"SUMIFS(Tableau_Data[Masculin],Tableau_Data[Nom du CDS],Reseaux!$C49,Tableau_Data[Thèmes],Reseaux!$AP$9,Tableau_Data[Annee],Reseaux!$F$3,Tableau_Data[Mois],Reseaux!J$4)","v":0},null,{"$f":"SUMIFS(Tableau_Data[Féminin],Tableau_Data[Nom du CDS],Reseaux!$C49,Tableau_Data[Thèmes],Reseaux!$AP$9,Tableau_Data[Annee],Reseaux!$F$3,Tableau_Data[Mois],Reseaux!J$4)","v":0},null,0,null,{"$f":"SUMIFS(Tableau_Data[Masculin],Tableau_Data[Nom du CDS],Reseaux!$C49,Tableau_Data[Thèmes],Reseaux!$AV$9,Tableau_Data[Annee],Reseaux!$F$3,Tableau_Data[Mois],Reseaux!J$4)","v":0},null,{"$f":"SUMIFS(Tableau_Data[Féminin],Tableau_Data[Nom du CDS],Reseaux!$C49,Tableau_Data[Thèmes],Reseaux!$AV$9,Tableau_Data[Annee],Reseaux!$F$3,Tableau_Data[Mois],Reseaux!J$4)","v":0},null,0,null,{"$f":"SUMIFS(Tableau_Data[Masculin],Tableau_Data[Nom du CDS],Reseaux!$C49,Tableau_Data[Thèmes],Reseaux!$BB$9,Tableau_Data[Annee],Reseaux!$F$3,Tableau_Data[Mois],Reseaux!J$4)","v":0},null,{"$f":"SUMIFS(Tableau_Data[Féminin],Tableau_Data[Nom du CDS],Reseaux!$C49,Tableau_Data[Thèmes],Reseaux!$BB$9,Tableau_Data[Annee],Reseaux!$F$3,Tableau_Data[Mois],Reseaux!$J$4)","v":0},null,0,null,{"$f":"SUMIFS(Tableau_Data[Masculin],Tableau_Data[Nom du CDS],Reseaux!$C49,Tableau_Data[Thèmes],Reseaux!$BH$9,Tableau_Data[Annee],Reseaux!$F$3,Tableau_Data[Mois],Reseaux!$J$4)","v":0},null,{"$f":"SUMIFS(Tableau_Data[Féminin],Tableau_Data[Nom du CDS],Reseaux!$C49,Tableau_Data[Thèmes],Reseaux!$BH$9,Tableau_Data[Annee],Reseaux!$F$3,Tableau_Data[Mois],Reseaux!$J$4)","v":0},null,0,null,{"$f":"SUMIFS(Tableau_Data[Masculin],Tableau_Data[Nom du CDS],Reseaux!$C49,Tableau_Data[Thèmes],Reseaux!$BN$9,Tableau_Data[Annee],Reseaux!$F$3,Tableau_Data[Mois],Reseaux!$J$4)","v":0},null,{"$f":"SUMIFS(Tableau_Data[Féminin],Tableau_Data[Nom du CDS],Reseaux!$C49,Tableau_Data[Thèmes],Reseaux!$BN$9,Tableau_Data[Annee],Reseaux!$F$3,Tableau_Data[Mois],Reseaux!$J$4)","v":0},null,0]
[null,null,null,null,{"$f":"SUMIFS(Tableau_Data[Masculin],Tableau_Data[Nom du CDS],Reseaux!$C50,Tableau_Data[Annee],Reseaux!$F$3,Tableau_Data[Mois],Reseaux!J$4)","v":0},null,{"$f":"SUMIFS(Tableau_Data[Féminin],Tableau_Data[Nom du CDS],Reseaux!$C50,Tableau_Data[Annee],Reseaux!$F$3,Tableau_Data[Mois],Reseaux!J$4)","v":0},null,0,null,null,{"$f":"SUMIFS(Tableau_Data[Masculin],Tableau_Data[Nom du CDS],Reseaux!$C50,Tableau_Data[Lieu d''intervention],Reseaux!$L$9,Tableau_Data[Annee],Reseaux!$F$3,Tableau_Data[Mois],Reseaux!J$4)","v":0},null,{"$f":"SUMIFS(Tableau_Data[Féminin],Tableau_Data[Nom du CDS],Reseaux!$C50,Tableau_Data[Lieu d''intervention],Reseaux!$L$9,Tableau_Data[Annee],Reseaux!$F$3,Tableau_Data[Mois],Reseaux!J$4)","v":0},null,0,null,{"$f":"SUMIFS(Tableau_Data[Masculin],Tableau_Data[Nom du CDS],Reseaux!$C50,Tableau_Data[Lieu d''intervention],Reseaux!$R$9,Tableau_Data[Annee],Reseaux!$F$3,Tableau_Data[Mois],Reseaux!J$4)","v":0},null,{"$f":"SUMIFS(Tableau_Data[Féminin],Tableau_Data[Nom du CDS],Reseaux!$C50,Tableau_Data[Lieu d''intervention],Reseaux!$R$9,Tableau_Data[Annee],Reseaux!$F$3,Tableau_Data[Mois],Reseaux!J$4)","v":0},null,{"$f":"SUM(R50:T50)","v":0},null,{"$f":"SUMIFS(Tableau_Data[Masculin],Tableau_Data[Nom du CDS],Reseaux!$C50,Tableau_Data[Lieu d''intervention],Reseaux!$X$9,Tableau_Data[Annee],Reseaux!$F$3,Tableau_Data[Mois],Reseaux!J$4)","v":0},null,{"$f":"SUMIFS(Tableau_Data[Féminin],Tableau_Data[Nom du CDS],Reseaux!$C50,Tableau_Data[Lieu d''intervention],Reseaux!$X$9,Tableau_Data[Annee],Reseaux!$F$3,Tableau_Data[Mois],Reseaux!J$4)","v":0},null,{"$f":"SUM(X50:Z50)","v":0},null,{"$f":"SUMIFS(Tableau_Data[Masculin],Tableau_Data[Nom du CDS],Reseaux!$C50,Tableau_Data[Lieu d''intervention],Reseaux!$AD$9,Tableau_Data[Annee],Reseaux!$F$3,Tableau_Data[Mois],Reseaux!J$4)","v":0},null,{"$f":"SUMIFS(Tableau_Data[Féminin],Tableau_Data[Nom du CDS],Reseaux!$C50,Tableau_Data[Lieu d''intervention],Reseaux!$AD$9,Tableau_Data[Annee],Reseaux!$F$3,Tableau_Data[Mois],Reseaux!J$4)","v":0},null,{"$f":"SUM(AD50:AF50)","v":0},{"$f":"SUMIFS(Tableau_Data[Masculin],Tableau_Data[Nom du CDS],Reseaux!$C50,Tableau_Data[Thèmes],Reseaux!$AI$9,Tableau_Data[Annee],Reseaux!$F$3,Tableau_Data[Mois],Reseaux!J$4)","v":0},null,{"$f":"SUMIFS(Tableau_Data[Féminin],Tableau_Data[Nom du CDS],Reseaux!$C50,Tableau_Data[Thèmes],Reseaux!$AI$9,Tableau_Data[Annee],Reseaux!$F$3,Tableau_Data[Mois],Reseaux!J$4)","v":0},null,{"$f":"SUM(AI50:AK50)","v":0},null,null,{"$f":"SUMIFS(Tableau_Data[Masculin],Tableau_Data[Nom du CDS],Reseaux!$C50,Tableau_Data[Thèmes],Reseaux!$AP$9,Tableau_Data[Annee],Reseaux!$F$3,Tableau_Data[Mois],Reseaux!J$4)","v":0},null,{"$f":"SUMIFS(Tableau_Data[Féminin],Tableau_Data[Nom du CDS],Reseaux!$C50,Tableau_Data[Thèmes],Reseaux!$AP$9,Tableau_Data[Annee],Reseaux!$F$3,Tableau_Data[Mois],Reseaux!J$4)","v":0},null,{"$f":"SUM(AP50:AR50)","v":0},null,{"$f":"SUMIFS(Tableau_Data[Masculin],Tableau_Data[Nom du CDS],Reseaux!$C50,Tableau_Data[Thèmes],Reseaux!$AV$9,Tableau_Data[Annee],Reseaux!$F$3,Tableau_Data[Mois],Reseaux!J$4)","v":0},null,{"$f":"SUMIFS(Tableau_Data[Féminin],Tableau_Data[Nom du CDS],Reseaux!$C50,Tableau_Data[Thèmes],Reseaux!$AV$9,Tableau_Data[Annee],Reseaux!$F$3,Tableau_Data[Mois],Reseaux!J$4)","v":0},null,{"$f":"SUM(AV50:AX50)","v":0},null,{"$f":"SUMIFS(Tableau_Data[Masculin],Tableau_Data[Nom du CDS],Reseaux!$C50,Tableau_Data[Thèmes],Reseaux!$BB$9,Tableau_Data[Annee],Reseaux!$F$3,Tableau_Data[Mois],Reseaux!J$4)","v":0},null,{"$f":"SUMIFS(Tableau_Data[Féminin],Tableau_Data[Nom du CDS],Reseaux!$C50,Tableau_Data[Thèmes],Reseaux!$BB$9,Tableau_Data[Annee],Reseaux!$F$3,Tableau_Data[Mois],Reseaux!$J$4)","v":0},null,{"$f":"SUM(BB50:BD50)","v":0},null,{"$f":"SUMIFS(Tableau_Data[Masculin],Tableau_Data[Nom du CDS],Reseaux!$C50,Tableau_Data[Thèmes],Reseaux!$BH$9,Tableau_Data[Annee],Reseaux!$F$3,Tableau_Data[Mois],Reseaux!$J$4)","v":0},null,{"$f":"SUMIFS(Tableau_Data[Féminin],Tableau_Data[Nom du CDS],Reseaux!$C50,Tableau_Data[Thèmes],Reseaux!$BH$9,Tableau_Data[Annee],Reseaux!$F$3,Tableau_Data[Mois],Reseaux!$J$4)","v":0},null,{"$f":"SUM(BH50:BJ50)","v":0},null,{"$f":"SUMIFS(Tableau_Data[Masculin],Tableau_Data[Nom du CDS],Reseaux!$C50,Tableau_Data[Thèmes],Reseaux!$BN$9,Tableau_Data[Annee],Reseaux!$F$3,Tableau_Data[Mois],Reseaux!$J$4)","v":0},null,{"$f":"SUMIFS(Tableau_Data[Féminin],Tableau_Data[Nom du CDS],Reseaux!$C50,Tableau_Data[Thèmes],Reseaux!$BN$9,Tableau_Data[Annee],Reseaux!$F$3,Tableau_Data[Mois],Reseaux!$J$4)","v":0},null,{"$f":"SUM(BN50:BP50)","v":0}]
[]
[null,null,"Total",null,{"$f":"SUM(E12:E49)","v":0},null,{"$f":"SUM(G12:G49)","v":0},null,{"$f":"SUM(I12:I49)","v":0},null,null,{"$f":"SUM(L12:L49)","v":0},null,{"$f":"SUM(N12:N49)","v":0},null,{"$f":"SUM(P12:P49)","v":0},null,{"$f":"SUM(R12:R49)","v":0},null,{"$f":"SUM(T12:T49)","v":0},null,{"$f":"SUM(V12:V49)","v":0},null,{"$f":"SUM(X12:X49)","v":0},null,{"$f":"SUM(Z12:Z49)","v":0},null,{"$f":"SUM(AB12:AB49)","v":0},null,{"$f":"SUM(AD12:AD49)","v":0},null,{"$f":"SUM(AF12:AF49)","v":0},null,{"$f":"SUM(AH12:AH49)","v":0},{"$f":"SUM(AI12:AI49)","v":0},null,{"$f":"SUM(AK12:AK49)","v":0},null,{"$f":"SUM(AM12:AM49)","v":0},null,null,{"$f":"SUM(AP12:AP49)","v":0},null,{"$f":"SUM(AR12:AR49)","v":0},null,{"$f":"SUM(AT12:AT49)","v":0},null,{"$f":"SUM(AV12:AV49)","v":0},null,{"$f":"SUM(AX12:AX49)","v":0},null,{"$f":"SUM(AZ12:AZ49)","v":0},null,{"$f":"SUM(BB12:BB49)","v":0},null,{"$f":"SUM(BD12:BD49)","v":0},null,{"$f":"SUM(BF12:BF49)","v":0},null,{"$f":"SUM(BH12:BH49)","v":0},null,{"$f":"SUM(BJ12:BJ49)","v":0},null,{"$f":"SUM(BL12:BL49)","v":0},null,{"$f":"SUM(BN12:BN49)","v":0},null,{"$f":"SUM(BP12:BP49)","v":0},null,{"$f":"SUM(BR12:BR49)","v":0}]

{"sheet":"Paramètres","index":4,"n_rows":1060,"n_cols":31,"rows_kept":1060,"cut":false,"hidden":false,"merged":[[1,1,1,10],[1,12,1,15],[5,21,5,22],[5,24,5,25],[5,27,5,28],[3,21,3,28]]}
[]
[null,"PARAMETRAGE",null,null,null,null,null,null,null,null,null,null,"FICHE  D'IDENTIFICATION CDS"]
[]
[null,"Lieu d'intervention",null,"Variables",null,"Thèmes",null,null,"Année",null,"Cible",null,"Nom CDS","Province Sanitaire","District Sanitaire","ASBL",null,null,null,null,null,"NE PAS EFFACER",null,null,null,null,null,null,null,null,"Tranche d'age"]
[null,null,null,null,null,null,null,null,null,null,null,null,"CDS Muramvya","Muramvya","Muramvya","SYM"]
[null,"Lieu d'intervention",null,"Variables",null,"Thèmes",null,null,"Année",null,"Cible",null,"CDS Bugarama","Muramvya","Muramvya","SYM",null,"Collines",null,null,null,"FILTRAGE MOIS",null,null,"DE",null,null,"A"]
[null,"ECOLE",null,"OUI",null,"IST/VIH-SIDA",null,null,2016,null,"Jeunes et Adolescents scolarisés",null,"CDS Rweza","Muramvya","Muramvya","SYM",null,"BIGANDA",null,null,null,"Janvier",1,null,"Janvier",">0",null,"Janvier","<2",null,"10 - 14 ans"]
[null,"CENTRE DE SANTE",null,"NON",null,"VSBG",null,null,null,null,"Hommes",null,"CDS Teza","Muramvya","Muramvya","SYM",null,"BIGWANA",null,null,null,"Février",2,null,"Février",">1",null,"Février","<3",null,"15 - 19 ans"]
[null,"COMMUNAUTE",null,null,null,"PF",null,null,null,null,"Femmes",null,"CDS Giko","Muramvya","Muramvya","SYM",null,"BIHANGA",null,null,null,"Mars",3,null,"Mars",">2",null,"Mars","<4",null,"20 - 24 ans"]
[null,"CENTRE PVH",null,null,null,"Autres thèmes SSRAJ",null,null,null,null,"Mixte",null,"CDS Kivoga","Muramvya","Kiganda","SYM",null,"BIHORO",null,null,null,"Avril",4,null,"Avril",">3",null,"Avril","<5",null,"25 ans et Plus"]
[null,"EGLISE",null,null,null,null,null,null,null,null,"Jeunes et Adolescents non scolarisés",null,"CDS Rugari","Muramvya","Kiganda","SYM",null,"BIROHE",null,null,null,"Mai",5,null,"Mai",">4",null,"Mai","<6"]
[null,null,null,null,null,null,null,null,null,null,"Batwa",null,"CDS Kaniga","Muramvya","Kiganda","SYM",null,"BISORO",null,null,null,"Juin",6,null,"Juin",">5",null,"Juin","<7"]
[null,null,null,null,null,null,null,null,null,null,"Personnes avec Handicap",null,"CDS Munyinya","Muramvya","Kiganda","SYM",null,"BUBURU",null,null,null,"Juillet",7,null,"Juillet",">6",null,"Juillet","<8"]
[null,null,null,null,null,null,null,null,null,null,null,null,"CDS Marumane","Muramvya","Kiganda","SYM",null,"BUGERA",null,null,null,"Aout",8,null,"Aout",">7",null,"Aout","<9"]
[null,null,null,null,null,null,null,null,null,null,null,null,"CDS Fota","Mwaro","Fota","NTURENGAHO",null,"BUHABWA",null,null,null,"Septembre",9,null,"Septembre",">8",null,"Septembre","<10"]
[null,null,null,null,null,null,null,null,null,null,null,null,"CDS Gisozi","Mwaro","Fota","NTURENGAHO",null,"BUHANGURA",null,null,null,"Octobre",10,null,"Octobre",">9",null,"Octobre","<11"]
[null,null,null,null,null,null,null,null,null,null,null,null,"CDS Yanza","Mwaro","Fota","NTURENGAHO",null,"BUKINGA",null,null,null,"Novembre",11,null,"Novembre",">10",null,"Novembre","<12"]
[null,null,null,null,null,null,null,null,"GIZ","Structure",null,null,"CDS Buziracanda","Mwaro","Fota","NTURENGAHO",null,"BUKWAZO",null,null,null,"Décembre",12,null,"Décembre",">11",null,"Décembre","<13"]
[null,null,null,null,null,null,null,null,null,null,null,null,"CDS Gitara","Mwaro","Fota","NTURENGAHO",null,"BUPFUNDA"]
[null,"Province sanitaire",null,"ASBL",null,"District sanitaire",null,null,"Année","Année",null,null,"CDS Nyabihanga","Mwaro","Kibumbu","NTURENGAHO",null,"BURAMBANA"]
[null,"Muramvya",null,"SYM",null,"Muramvya",null,null,2016,2016,null,null,"CDS Muyebe","Mwaro","Kibumbu","NTURENGAHO",null,"BUSEKERA"]
[null,"Mwaro",null,"RENAJES",null,"Kiganda",null,null,2017,2017,null,null,"CDS Croix Rouge","Mwaro","Kibumbu","NTURENGAHO",null,"BUSIMBA"]
[null,"Gitega",null,"Croix rouge Burundi",null,"Fota",null,null,2018,2018,null,null,"CDS Kanka","Mwaro","Kibumbu","NTURENGAHO",null,"BUSIMBA"]
[null,null,null,"FVS AMADE",null,"Kibumbu",null,null,2019,2019,null,null,"CDS Bukinga","Gitega","Gitega","FVS AMADE",null,"BUTAMUHEBA"]
[null,null,null,"UPHB",null,"Gitega",null,null,2020,2020,null,null,"CDS Giheta","Gitega","Gitega","FVS AMADE",null,"BUTEGANA"]
[null,null,null,"RCBIF",null,null,null,null,2021,2021,null,null,"CDS Gasunu","Gitega","Gitega","FVS AMADE",null,"BUYAGA"]
[null,null,null,"NTURENGAHO",null,null,null,null,2022,2022,null,null,"CDS Notre Dame d'Afrique","Gitega","Gitega","FVS AMADE",null,"CAMUMANDU"]
[null,null,null,null,null,null,null,null,2023,2023,null,null,"CDS Mubuga","Gitega","Gitega","FVS AMADE",null,"FOTA"]
[null,"Classe",null,"Nom du lieu d'intervention",null,null,null,null,2024,2024,null,null,"CDS Mungwa","Gitega","Gitega","FVS AMADE",null,"GAHONDO"]
[null,"3ème cycle ",null,"MUSAMA",null,null,null,null,2025,2025,null,null,"CDS Rutoki","Gitega","Gitega","FVS AMADE",null,"GASENYI"]
[null,"4ème cycle ",null,"GASHINGE",null,null,null,null,2026,2026,null,null,"CDS Gitega","Gitega","Gitega","FVS AMADE",null,"GASHINGWA"]
[null,"Post-fondamental ",null,"KIRIMIRO",null,null,null,null,2027,2027,null,null,"CDS Mushasha","Gitega","Gitega","FVS AMADE",null,"GASUNU"]
[null,null,null,"KUGITEGA",null,null,null,null,2028,2028,null,null,"CDS Ceru","Gitega","Gitega","FVS AMADE",null,"GATARE"]
[null,null,null,"BARAMBA",null,null,null,null,2029,2029,null,null,"CDS NDAVA","Mwaro","Fota","FVS AMADE",null,"GATEBE"]
[null,null,null,"BIGAZA",null,null,null,null,2030,2030,null,null,"CDS RWINTARE","Mwaro","Fota","RCBIF",null,"GATSINGA"]
[null,null,null," BIGUGO",null,null,null,null,null,null,null,null,"CDS YANZA ","Mwaro","Fota","RCBIF",null,"GATWE"]
[null,null,null," BIHOMVORA",null,null,null,null,null,null,null,null,"CDS RUSAKA","Mwaro","Fota","RCBIF",null,"GIHINGA"]
[null,null,null," BUDASUNIKWA",null,"Sous Thèmes",null,null,null,null,null,null," CDS BISORO","Mwaro","Kibumbu","RCBIF",null,"GIKONGE"]
[null,null,null," BUHUZU",null,"A la découverte de ta personnalité et de celle des autres: LMCPM, Leçon 1 ",null,null,null,null,null,null,"CDS KIBUMBU","Mwaro","Kibumbu","RCBIF",null,"GIKONGE"]
[null,null,null," BUKINGA",null,"Comprendre tes Sentiments: LMCPM, leçon 2",null,null,null,null,null,null,"CDS Bukeye","Muramvya","Muramvya","SYM",null,"GISARARA"]
[null,null,null," BUNWANA",null,"Ton corps change: LMCPM, leçon 3   ",null,null,null,null,null,null,"CDS Munanira","Muramvya","Kiganda","SYM",null,"GISOZI"]
[null,null,null," BUNYUKANA",null,"Les personnes importantes dans ta vie: LMCPM, leçon 4",null,null,null,null,null,null,"CDS Kiganda","Muramvya","Kiganda","FVS AMADE",null,"GISURU"]
[null,null,null," BURUHUKIRO",null,"Tes droits et tes responsabilités: LMCPM, leçon 6 ",null,null,null,null,null,null,null,null,null,"NTURENGAHO",null,"GITUNGA"]
[null,null,null," BUTEGANA",null,"OUI à la communication parents-enfants sur la SSRAJ!: LMCPM, leçon 12",null,null,null,null,null,null,null,null,null,"NTURENGAHO",null,"HIGIRO"]
[null,null,null," BUTWE",null,"Ton avenir, tes rêves et tes projets: LMCPM, leçon 13",null,null,null,null,null,null,null,null,null,null,null,"JANGA"]
[null,null,null," BUVUMU",null,"Tes meilleures astuces pour les pairs: LMCPM, leçon 14",null,null,null,null,null,null,null,null,null,null,null,"JIMBI"]
[null,null,null," BUYORI",null,"Amour et sexualité: LMCPM, leçon 7                                                                                  ",null,null,null,null,null,null,null,null,null,null,null,"KABOGI"]
[null,null,null," BWITONZI",null,"Protège-toi contre les IST et le VIH/SIDA: LMCPM, leçon 9                ",null,null,null,null,null,null,null,null,null,null,null,"KAMONYI"]
[null,null,null," BWONA",null,"VIH/SIDA tu as un rôle à jouer: LMCPM, leçon 10        ",null,null,null,null,null,null,null,null,null,null,null,"KANKA"]
[null,null,null,"CELLULE I",null,"Les grossesses concernent les filles et les garçons: LMCPM, leçon 8      ",null,null,null,null,null,null,null,null,null,null,null,"KANYINYA"]
[null,null,null," CELLULE II",null,"Garçons et filles, hommes et femmes: LMCPM, leçon 5                                                                                               ",null,null,null,null,null,null,null,null,null,null,null,"KARENDA"]
[null,null,null," CELLULE III",null,"L'amour ne devrait pas blesser: LMCPM, leçon 11    ",null,null,null,null,null,null,null,null,null,null,null,"KARIBA"]
[null,null,null," CELLULE IV",null,"Qui suis-je: CVC, 1ère Partie, Chapitre 1, séance 1",null,null,null,null,null,null,null,null,null,null,null,"KAVYA"]
[null,null,null," CIYUBAKE",null,"Les valeurs et les influences: CVC, 1ère Partie, Chapitre 1, séance 2 ",null,null,null,null,null,null,null,null,null,null,null,"KIBANDE"]
[null,null,null," COZI",null,"Quel type de personnage suis-je: CVC, 1ère Partie, Chapitre 1, séance 3",null,null,null,null,null,null,null,null,null,null,null,"KIBENGA-MIGENDE"]
[null,null,null," CUGARO",null,"Quels sont mes buts, mes objectifs?: CVC, 1ère Partie, Chapitre 1, séance 4",null,null,null,null,null,null,null,null,null,null,null,"KIBENGA-MUREHE"]
[null,null,null," FOTA",null,"Reconnaitre ses émotions: CVC, 1ère Partie, Chapitre 1, séance 5",null,null,null,null,null,null,null,null,null,null,null,"KIBIMBA"]
[null,null,null," GACACA",null,"Les conséquences lorsqu'on ne gère pas ses émotions négatives: CVC, 1ère Partie, Chapitre 1, Séance 6",null,null,null,null,null,null,null,null,null,null,null,"KIBIRI"]
[null,null,null," GAHAHE",null,"La gestion des émotions: CVC, 1ère Partie, Chapitre 1, séance 7",null,null,null,null,null,null,null,null,null,null,null,"KIBOGOYE"]
[null,null,null," GAHONDO",null,"Faire face au stress: CVC, 1ère Partie, Chapitre 1, séance 8",null,null,null,null,null,null,null,null,null,null,null,"KIBOGOYE"]
[null,null,null," GAHORORO",null,"La confiance en soi et l’estime de soi: CVC, 1ère Partie, Chapitre 1, séance 9 ",null,null,null,null,null,null,null,null,null,null,null,"KIBOGOYE"]
[null,null,null," GAHWEZA",null,"La résilience: CVC, 1ère Partie, Chapitre 1, séance 10",null,null,null,null,null,null,null,null,null,null,null,"KIBUMBU"]
[null,null,null," GAKOKE",null,"Les facteurs structurels qui rendent les jeunes vulnérables au VIH/SIDA: CVC, 2ème Partie, Chapitre 4, Séance 2",null,null,null,null,null,null,null,null,null,null,null,"KIGABIRO"]
[null,null,null," GASANDA",null,"Les connaissances de base sur le VIH/SIDA:CVC, 2ème Partie, Chapitre 4, séance 3",null,null,null,null,null,null,null,null,null,null,null,"KIGARAMA"]
[null,null,null," GASENYI",null,"Transmission et prévention du VIH: CVC, 2ème Partie, Chapitre 4, séance 4",null,null,null,null,null,null,null,null,null,null,null,"KIGEREKA"]
[null,null,null," GASOZI",null,"L'usage des préservatifs: CVC, 2ème Partie, Chapitre 4, séance 5",null,null,null,null,null,null,null,null,null,null,null,"KIGINA"]
[null,null,null," GASURA",null,"Dépistage du VIH: CVC, 2ème Partie, Chapitre 4, séance 7",null,null,null,null,null,null,null,null,null,null,null,"KIMANANA"]
[null,null,null," GATARE",null,"Vie positive avec le VIH: CVC, 2ème Partie, Chapitre 4, séance 8",null,null,null,null,null,null,null,null,null,null,null,"KINYOVU"]
[null,null,null," GATEMBA",null,"Les risques sexuels: CVC, 2ème Partie, Chapitre 3, séance 1 ",null,null,null,null,null,null,null,null,null,null,null,"KIREMBERA"]
[null,null,null," GATOKE",null,"Les grossesses précoces: CVC, 2ème Partie, Chapitre 3, séance 2",null,null,null,null,null,null,null,null,null,null,null,"KIRIBA"]
[null,null,null," GATONGATI",null,"L'avortement:CVC, 2ème Partie, Chapitre 3, séance 3",null,null,null,null,null,null,null,null,null,null,null,"KIRIKA"]
[null,null,null," GATOVU",null,"La grossesse: CVC, 2ème Partie, Chapitre 3, séance 4",null,null,null,null,null,null,null,null,null,null,null,"KIVOGERO"]
[null,null,null," GATSINGA",null,"L'accouchement assisté et la consultation postnatale: CVC, 2ème Partie, Chapitre 3, séance 5",null,null,null,null,null,null,null,null,null,null,null,"KIVUZO"]
[null,null,null," GATWARO",null,"Les méthodes de contraception et le planning familial: CVC, 2ème Partie, Chapitre 3, séance 5",null,null,null,null,null,null,null,null,null,null,null,"KIZIBA"]
[null,null,null," GICACA",null,"I. INFORMATIONS SUR LA SANTÉ SEXUELLE ET DROITS LIÉS À LA PROCRÉATION",null,null,null,null,null,null,null,null,null,null,null,"KIZIGURO"]
[null,null,null," GISEBUZI",null,"II. EN SON IMAGE, IL LES CREA",null,null,null,null,null,null,null,null,null,null,null,"KORANE"]
[null,null,null," GISURU",null,"III. AIMEZ-VOUS LES UNS LES AUTRES",null,null,null,null,null,null,null,null,null,null,null,"MAGARAMA"]
[null,null,null," GITABA",null,"IV. 'TOI, TU DOMINES'",null,null,null,null,null,null,null,null,null,null,null,"MAHONDA"]
[null,null,null," GITAMO",null,"V. 'REMPLISSEZ LE MONDE…' OU PAS",null,null,null,null,null,null,null,null,null,null,null,"MASAMA"]
[null,null,null," GITERAMO",null,"VI. FAITES AUX AUTRES… : VIOLENCE SEXUELLE, PHYSIQUE OU EMOTIONNELLE",null,null,null,null,null,null,null,null,null,null,null,"MASANGO"]
[null,null,null," GITONGO",null,null,null,null,null,null,null,null,null,null,null,null,null,"MASANGO"]
[null,null,null," GITUNGA",null,null,null,null,null,null,null,null,null,null,null,null,null,"MIGEZI"]
[null,null,null," GITWA",null,null,null,null,null,null,null,null,null,null,null,null,null,"MIRAMA"]
[null,null,null," GWEGO",null,null,null,null,null,null,null,null,null,null,null,null,null,"MITERAMA"]
[null,null,null," GWONGA",null,null,null,null,null,null,null,null,null,null,null,null,null,"MITIMIRE"]
[null,null,null," HWANIRO",null,null,null,null,null,null,null,null,null,null,null,null,null,"MPEHE"]
[null,null,null," JIMBI",null,null,null,null,null,null,null,null,null,null,null,null,null,"MPEHE"]
[null,null,null," KABADONDI",null,null,null,null,null,null,null,null,null,null,null,null,null,"MUBUGA"]
[null,null,null," KABAGINA",null,null,null,null,null,null,null,null,null,null,null,null,null,"MUBUGA"]
[null,null,null," KABOZA",null,null,null,null,null,null,null,null,null,null,null,null,null,"MUBUGA"]
[null,null,null," KABUNGO",null,null,null,null,null,null,null,null,null,null,null,null,null,"MUBUGA"]
[null,null,null," KAGANZA",null,null,null,null,null,null,null,null,null,null,null,null,null,"MUGERO"]
[null,null,null," KAGOMO",null,null,null,null,null,null,null,null,null,null,null,null,null,"MUKANDA"]
[null,null,null," KAGORI",null,null,null,null,null,null,null,null,null,null,null,null,null,"MUNANIRA  2"]
[null,null,null," KAJAGA",null,null,null,null,null,null,null,null,null,null,null,null,null,"MUNANIRA 1"]
[null,null,null," KAMBANGA",null,null,null,null,null,null,null,null,null,null,null,null,null,"MUNGWA"]
[null,null,null," KANYAMI",null,null,null,null,null,null,null,null,null,null,null,null,null,"MUNYINYA"]
[null,null,null," KANYINYA",null,null,null,null,null,null,null,null,null,null,null,null,null,"MURAGO"]
[null,null,null," KARAMBI",null,null,null,null,null,null,null,null,null,null,null,null,null,"MURAMA"]
[null,null,null," KARERA II",null,null,null,null,null,null,null,null,null,null,null,null,null,"MURAMBI"]
[null,null,null," KARERAI",null,null,null,null,null,null,null,null,null,null,null,null,null,"MURAMVYA"]
[null,null,null," KARIBA",null,null,null,null,null,null,null,null,null,null,null,null,null,"MURAMVYA"]
[null,null,null," KARIRISI",null,null,null,null,null,null,null,null,null,null,null,null,null,"MURINZI"]
[null,null,null," KAVUMU",null,null,null,null,null,null,null,null,null,null,null,null,null,"MURIRWE"]
[null,null,null," KIBENGA",null,null,null,null,null,null,null,null,null,null,null,null,null,"MUSAGARA"]
[null,null,null," KIBIMBA",null,null,null,null,null,null,null,null,null,null,null,null,null,"MUSAGARA"]
[null,null,null," KIBUNGERE",null,null,null,null,null,null,null,null,null,null,null,null,null,"MUSAVE"]
[null,null,null," KIBWIJA",null,null,null,null,null,null,null,null,null,null,null,null,null,"MUSHASHA"]
[null,null,null," KIDIDAGI",null,null,null,null,null,null,null,null,null,null,null,null,null,"MUSHIKAMO"]
[null,null,null," KIGARI",null,null,null,null,null,null,null,null,null,null,null,null,null,"MUSINZIRA"]
[null,null,null," KIGASARI",null,null,null,null,null,null,null,null,null,null,null,null,null,"MUYEBE"]
[null,null,null," KIGURUKA",null,null,null,null,null,null,null,null,null,null,null,null,null,"MWEGERA"]
[null,null,null," KIGWATI",null,null,null,null,null,null,null,null,null,null,null,null,null,"NAMANDE"]
[null,null,null," KINYINYA",null,null,null,null,null,null,null,null,null,null,null,null,null,"NDAVA"]
[null,null,null," KIREHE",null,null,null,null,null,null,null,null,null,null,null,null,null,"NGOBEKE"]
[null,null,null," KIREMERA",null,null,null,null,null,null,null,null,null,null,null,null,null,"NGORORE"]
[null,null,null," KIRIBATA",null,null,null,null,null,null,null,null,null,null,null,null,null,"NKONYOVU"]
[null,null,null," KIRIMBI",null,null,null,null,null,null,null,null,null,null,null,null,null,"NTOBWE"]
[null,null,null," KIVOGA",null,null,null,null,null,null,null,null,null,null,null,null,null,"NYABIHARAGE"]
[null,null,null," KIVUMU",null,null,null,null,null,null,null,null,null,null,null,null,null,"NYABISIGA"]
[null,null,null," KIVYIBUSHA",null,null,null,null,null,null,null,null,null,null,null,null,null,"NYABUTUTSI"]
[null,null,null," KIYANZA",null,null,null,null,null,null,null,null,null,null,null,null,null,"NYAKARARO"]
[null,null,null," KIYAYA",null,null,null,null,null,null,null,null,null,null,null,null,null,"NYAKIBARI"]
[null,null,null," KIZOSI",null,null,null,null,null,null,null,null,null,null,null,null,null,"NYAKIBINGO"]
[null,null,null," KORANE",null,null,null,null,null,null,null,null,null,null,null,null,null,"NYAKIJWIRA"]
[null,null,null,"LY CO Muyange I",null,null,null,null,null,null,null,null,null,null,null,null,null,"NYAMITWENZI"]
[null,null,null," MAHARA",null,null,null,null,null,null,null,null,null,null,null,null,null,"NYAMIYAGA"]
[null,null,null," MAREMBA",null,null,null,null,null,null,null,null,null,null,null,null,null,"NYAMUGARI"]
[null,null,null," MAREMBO",null,null,null,null,null,null,null,null,null,null,null,null,null,"NYARUKERE"]
[null,null,null," MASANGO",null,null,null,null,null,null,null,null,null,null,null,null,null,"NYARUNAZI"]
[null,null,null," MASAVE",null,null,null,null,null,null,null,null,null,null,null,null,null,"NYARUNAZI"]
[null,null,null," MASENGA",null,null,null,null,null,null,null,null,null,null,null,null,null,"RANGO"]
[null,null,null," MASHINGE",null,null,null,null,null,null,null,null,null,null,null,null,null,"RANGO"]
[null,null,null," MBIRIKO",null,null,null,null,null,null,null,null,null,null,null,null,null,"REMERA"]
[null,null,null," MBUGUBUGU",null,null,null,null,null,null,null,null,null,null,null,null,null,"RUBAMVYE"]
[null,null,null," MIGENDE",null,null,null,null,null,null,null,null,null,null,null,null,null,"RUBAMVYI"]
[null,null,null," MIKWARO",null,null,null,null,null,null,null,null,null,null,null,null,null,"RUBARASI"]
[null,null,null," MIRENGANE",null,null,null,null,null,null,null,null,null,null,null,null,null,"RUCUNDA"]
[null,null,null," MITERAMA",null,null,null,null,null,null,null,null,null,null,null,null,null,"RUGARI"]
[null,null,null," MITWENZI",null,null,null,null,null,null,null,null,null,null,null,null,null,"RUGARI-GITAMO"]
[null,null,null," MPAMA",null,null,null,null,null,null,null,null,null,null,null,null,null,"RUHANZA"]
[null,null,null," MUBAYI",null,null,null,null,null,null,null,null,null,null,null,null,null,"RUTEGAMA"]
[null,null,null," MUBUGA",null,null,null,null,null,null,null,null,null,null,null,null,null,"RUTOKI"]
[null,null,null," MUCAMO",null,null,null,null,null,null,null,null,null,null,null,null,null,"RWANKANGOMA"]
[null,null,null," MUGA",null,null,null,null,null,null,null,null,null,null,null,null,null,"RWETETO"]
[null,null,null," MUGOBOKA",null,null,null,null,null,null,null,null,null,null,null,null,null,"RWEZA"]
[null,null,null," MUGOMERA",null,null,null,null,null,null,null,null,null,null,null,null,null,"SHATANYA"]
[null,null,null," MUHORORO",null,null,null,null,null,null,null,null,null,null,null,null,null,"TEKA"]
[null,null,null," MUHURURO",null,null,null,null,null,null,null,null,null,null,null,null,null,"YOBA"]
[null,null,null," MUJINYA",null,null,null,null,null,null,null,null,null,null,null,null,null,"NYANGUNZU"]
[null,null,null," MUKINYA",null,null,null,null,null,null,null,null,null,null,null,null,null,"KIMANAMA"]
[null,null,null," MUKONI",null,null,null,null,null,null,null,null,null,null,null,null,null,"BIHORORO"]
[null,null,null," MUNINI"]
[null,null,null," MUNUMA"]
[null,null,null," MUNYINYA"]
[null,null,null," MURAGO"]
[null,null,null," MURAMA"]
[null,null,null," MURAMBA"]
[null,null,null," MURAMBI"]
[null,null,null," MURANGARA"]
[null,null,null," MUREHE"]
[null,null,null," MUREMERA"]
[null,null,null," MUSENYI"]
[null,null,null," MUSHASHA"]
[null,null,null," MUSHONJI"]
[null,null,null," MUTUMBA"]
[null,null,null," MUVUGO"]
[null,null,null," MUVUMU"]
[null,null,null," MUYANGE"]
[null,null,null," MUYEBE"]
[null,null,null," MUZIMA"]
[null,null,null," MWIZERO"]
[null,null,null," MWOGO"]
[null,null,null," MWUNGO"]
[null,null,null," NDARO"]
[null,null,null," NDAVA"]
[null,null,null," NGORORE"]
[null,null,null," NGOZI"]
[null,null,null," NKAMBA"]
[null,null,null," NKINGU"]
[null,null,null," NKUNDUSI"]
[null,null,null," NTATEMWA"]
[null,null,null," NYABAGWE"]
[null,null,null," NYABIBUYE"]
[null,null,null," NYABIHARAGE"]
[null,null,null," NYABISAGARA"]
[null,null,null," NYABISAKA"]
[null,null,null," NYABISIGA"]
[null,null,null," NYABISINDU"]
[null,null,null," NYABITSINDU"]
[null,null,null," NYABURONDWE"]
[null,null,null," NYAGASASA"]
[null,null,null," NYAGATOBO "]
[null,null,null," NYAGISHIHA"]
[null,null,null," NYAGWIMBO"]
[null,null,null," NYAKAGORO"]
[null,null,null," NYAKIBARI"]
[null,null,null," NYAMIYAGA"]
[null,null,null," NYAMUGARI"]
[null,null,null," NYAMUHAGATI"]
[null,null,null," NYAMUSEBEYI"]
[null,null,null," NYAMVUZO"]
[null,null,null," NYAMWERU "]
[null,null,null," NYANGORO"]
[null,null,null," NYARUBABI"]
[null,null,null," NYARUBANGE"]
[null,null,null," NYARUGONGO"]
[null,null,null," NYARUJUMBU"]
[null,null,null," NYARURAMBI"]
[null,null,null," NYARUSHANGA"]
[null,null,null," NYARUSORORA"]
[null,null,null," NYESAZI"]
[null,null,null," Q CNAR I"]
[null,null,null," Q CNAR II"]
[null,null,null," Q ECOSO"]
[null,null,null," Q GAHERA"]
[null,null,null," Q MAGARAMAII"]
[null,null,null," Q MUSAVE"]
[null,null,null," Q RUBUYE"]
[null,null,null," Q SHATANYA I"]
[null,null,null," Q SHATANYA II"]
[null,null,null," Q SHATANYA III"]
[null,null,null," Q SHATANYA IV"]
[null,null,null," Q STADE"]
[null,null,null," Q. PLACE"]
[null,null,null," RABIRO"]
[null,null,null," RIMWA"]
[null,null,null," RUBAMVYI"]
[null,null,null," RUCUNDA"]
[null,null,null," RUFURI"]
[null,null,null," RUGABANO"]
[null,null,null," RUGENGE"]
[null,null,null," RUHARO"]
[null,null,null," RUHORA"]
[null,null,null," RUHORORO"]
[null,null,null," RUHUZU"]
[null,null,null," RUHWERO"]
[null,null,null," RUKENKE"]
[null,null,null," RUMANGA"]
[null,null,null," RUNYINYA"]
[null,null,null," RURAMBA"]
[null,null,null," RURENGA"]
[null,null,null," RUTANGA"]
[null,null,null," RUTEGAMA"]
[null,null,null," RUTOBO"]
[null,null,null," RUVUMU"]
[null,null,null," RWAMVURA"]
[null,null,null," RWANKANGOMA"]
[null,null,null," RWEZA"]
[null,null,null," SAGARA"]
[null,null,null," TABA"]
[null,null,null," VYUMA"]
[null,null,null," YANZA"]
[null,null,null,"  KIMBA"]
[null,null,null,"BANDA"]
[null,null,null,"BATUMO"]
[null,null,null,"BIGERA"]
[null,null,null,"BIGWANA"]
[null,null,null,"BIHANGA"]
[null,null,null,"BIHORO"]
[null,null,null,"BIHORORO"]
[null,null,null,"BISORO"]
[null,null,null,"BUBU"]
[null,null,null,"BUBURU"]
[null,null,null,"BUDAGARI"]
[null,null,null,"BUGARAMA"]
[null,null,null,"BUHABWA"]
[null,null,null,"BUKOBERO"]
[null,null,null,"BUKWAVU"]
[null,null,null,"BUMBA"]
[null,null,null,"BUPFUNDA"]
[null,null,null,"BURARANA"]
[null,null,null,"BURENZA"]
[null,null,null,"BURINDI"]
[null,null,null,"BUSANGA"]
[null,null,null,"BUSEKERA"]
[null,null,null,"BUTIMBO"]
[null,null,null,"BUTOKE"]
[null,null,null,"BUTWE"]
[null,null,null,"BUYAGA"]
[null,null,null,"BUZIRAMBIYA"]
[null,null,null,"CENE"]
[null,null,null,"Centre jeunes"]
[null,null,null,"CERO"]
[null,null,null,"CIRISHA"]
[null,null,null,"CITE KANINDI"]
[null,null,null,"CIVUGIZA"]
[null,null,null,"COGANYONI"]
[null,null,null,"CUTAGURA"]
[null,null,null,"ECFOFO Buziracanda I"]
[null,null,null,"ECFOFO Buziracanda II"]
[null,null,null,"LY TECH S.E Sage"]
[null,null,null,"ECOFO  Bukinga"]
[null,null,null,"ECOFO  Gasunu"]
[null,null,null,"ECOFO  Giheta II"]
[null,null,null,"ECOFO  Gisuru"]
[null,null,null,"ECOFO  Kibande"]
[null,null,null,"ECOFO  Kiriba"]
[null,null,null,"ECOFO  Kivoga I"]
[null,null,null,"ECOFO  Kivoga II"]
[null,null,null,"ECOFO  Murehe"]
[null,null,null,"ECOFO  Nyarugongo"]
[null,null,null,"ECOFO  Nyarunazi"]
[null,null,null,"ECOFO  Rubarasi"]
[null,null,null,"ECOFO  Rwamvura"]
[null,null,null,"ECOFO Biganda"]
[null,null,null,"ECOFO Bigwana"]
[null,null,null,"ECOFO Bihanga"]
[null,null,null,"ECOFO Birohe"]
[null,null,null,"ECOFO Bisoro I"]
[null,null,null,"ECOFO Bisoro II"]
[null,null,null,"ECOFO Bugarama"]
[null,null,null,"ECOFO Bugera"]
[null,null,null,"ECOFO Bugorora"]
[null,null,null,"ECOFO Bukeye 1"]
[null,null,null,"ECOFO Bukeye II"]
[null,null,null,"ECOFO Bukwavu"]
[null,null,null,"ECOFO Bupfunda"]
[null,null,null,"ECOFO Burambana"]
[null,null,null,"ECOFO Buruhukiro"]
[null,null,null,"ECOFO Busekera"]
[null,null,null,"ECOFO Busimba"]
[null,null,null,"ECOFO Butamuheba"]
[null,null,null,"ECOFO Butora"]
[null,null,null,"ECOFO Ceru"]
[null,null,null,"ECOFO Cewe"]
[null,null,null,"ECOFO de la Fraternité de Nyabisindu"]
[null,null,null,"ECOFO de la Paix Magarama"]
[null,null,null,"ECOFO du Q.Stade"]
[null,null,null,"ECOFO Fota"]
[null,null,null,"ECOFO Gacaca"]
[null,null,null,"ECOFO Gahaga"]
[null,null,null,"ECOFO Gahondo"]
[null,null,null,"ECOFO Gasambi"]
[null,null,null,"ECOFO Gasanda"]
[null,null,null,"ECOFO Gasenyi II"]
[null,null,null,"ECOFO Gashingwa"]
[null,null,null,"ECOFO Gasumo"]
[null,null,null,"ECOFO Gatare"]
[null,null,null,"ECOFO Gatebe"]
[null,null,null,"ECOFO Gatonde"]
[null,null,null,"ECOFO Gatukuza"]
[null,null,null,"ECOFO Giheta I"]
[null,null,null,"ECOFO Gikonge"]
[null,null,null,"ECOFO Gisebuzi I"]
[null,null,null,"ECOFO Gisozi"]
[null,null,null,"ECOFO Gitara"]
[null,null,null,"ECOFO Gitunga"]
[null,null,null,"ECOFO Higiro"]
[null,null,null,"ECOFO Janga"]
[null,null,null,"ECOFO Jimbi"]
[null,null,null,"ECOFO Kabogi"]
[null,null,null,"ECOFO Kabuguzo"]
[null,null,null,"ECOFO Kanka"]
[null,null,null,"ECOFO Katazimiza"]
[null,null,null,"ECOFO Kavumu"]
[null,null,null,"ECOFO Kavya"]
[null,null,null,"ECOFO Kibaya"]
[null,null,null,"ECOFO Kibenga migende"]
[null,null,null,"ECOFO Kibenga murehe"]
[null,null,null,"ECOFO Kibimba II"]
[null,null,null,"ECOFO Kibiri I"]
[null,null,null,"ECOFO Kibiri II"]
[null,null,null,"ECOFO Kibumbu"]
[null,null,null,"ECOFO Kigabiro"]
[null,null,null,"ECOFO Kiganda I"]
[null,null,null,"ECOFO Kiganda II"]
[null,null,null,"ECOFO Kigarama"]
[null,null,null,"ECOFO Kigutu"]
[null,null,null,"ECOFO Kimanama"]
[null,null,null,"ECOFO Kinyonzo"]
[null,null,null,"ECOFO Kinyovu"]
[null,null,null,"ECOFO Kirehe"]
[null,null,null,"ECOFO Kirembera"]
[null,null,null,"ECOFO Kirika"]
[null,null,null,"ECOFO Kivoga I"]
[null,null,null,"ECOFO Kivoga II"]
[null,null,null,"ECOFO Kivogero"]
[null,null,null,"ECOFO Kivuzo"]
[null,null,null,"ECOFO Magarama I"]
[null,null,null,"ECOFO Mahonda"]
[null,null,null,"ECOFO Marie Notre Reine de Mushasha"]
[null,null,null,"ECOFO Masango"]
[null,null,null,"ECOFO Mbuye"]
[null,null,null,"ECOFO Mirama"]
[null,null,null,"ECOFO Miterama"]
[null,null,null,"ECOFO Mpanuka"]
[null,null,null,"ECOFO Mpira"]
[null,null,null,"ECOFO Mubarazi"]
[null,null,null,"ECOFO Mubuga I"]
[null,null,null,"ECOFO Mubuga II"]
[null,null,null,"ECOFO Mucunguzi"]
[null,null,null,"ECOFO Mukanda"]
[null,null,null,"ECOFO Munanira"]
[null,null,null,"ECOFO Mungwa I"]
[null,null,null,"ECOFO Murama"]
[null,null,null,"ECOFO Muramba"]
[null,null,null,"ECOFO Murambi"]
[null,null,null,"ECOFO Muramvya I"]
[null,null,null,"ECOFO Muramvya II"]
[null,null,null,"ECOFO Muramvya III"]
[null,null,null,"ECOFO Murinzi"]
[null,null,null,"ECOFO Murirwe"]
[null,null,null,"ECOFO Mushasha I"]
[null,null,null,"ECOFO Mushasha II"]
[null,null,null,"ECOFO Muyebe I"]
[null,null,null,"ECOFO Mwaro II"]
[null,null,null,"ECOFO Ndava II"]
[null,null,null,"ECOFO Ngobeke"]
[null,null,null,"ECOFO Nkonyovu"]
[null,null,null,"ECOFO Ntobwe I"]
[null,null,null,"ECOFO Nyabihanga"]
[null,null,null,"ECOFO Nyabihanga I"]
[null,null,null,"ECOFO Nyabihanga II"]
[null,null,null,"ECOFO Nyabihanga III"]
[null,null,null,"ECOFO Nyabisiga"]
[null,null,null,"ECOFO Nyakarago"]
[null,null,null,"ECOFO Nyakibingo"]
[null,null,null,"ECOFO Nyamiyaga"]
[null,null,null,"ECOFO Nyangunzu"]
[null,null,null,"ECOFO Nyarukere"]
[null,null,null,"ECOFO Nyarurambi"]
[null,null,null,"ECOFO Rango"]
[null,null,null,"ECOFO Rubamvyi"]
[null,null,null,"ECOFO Rucunda"]
[null,null,null,"ECOFO Rugari"]
[null,null,null,"ECOFO Rugumye"]
[null,null,null,"ECOFO Ruhanza"]
[null,null,null,"ECOFO Rukundo II"]
[null,null,null,"ECOFO Rurenda"]
[null,null,null,"ECOFO Rutegama"]
[null,null,null,"ECOFO Rutoke I"]
[null,null,null,"ECOFO Rutoke II"]
[null,null,null,"ECOFO Rutoke III"]
[null,null,null,"ECOFO Rutongati"]
[null,null,null,"ECOFO Taba"]
[null,null,null,"ECOFO Teza"]
[null,null,null,"ECOFO Twe"]
[null,null,null,"ECOFO Uwimpfizi"]
[null,null,null,"ECOFO Vyuma"]
[null,null,null,"ECOFO Wimpfizi"]
[null,null,null,"Ecole d'excellence de Musinzira"]
[null,null,null,"Ecole Grenier du Savoir"]
[null,null,null,"Ecole Internationale de Gitega"]
[null,null,null,"Ecole la Bienveillance de Gitega"]
[null,null,null,"Ecole Paramédicale de Gitega"]
[null,null,null,"Ecole Sociale "]
[null,null,null,"Ecole TEC Omni"]
[null,null,null,"Ecole TEC Saint Joseph de Giheta"]
[null,null,null,"Ecole TEC Secondaire  Karera"]
[null,null,null,"Ecole TEC Secondaire d'Arts ( ETSA)"]
[null,null,null,"ENEFA Kibumbu"]
[null,null,null,"EPM "]
[null,null,null,"ETM"]
[null,null,null,"ETMMI Bukeye"]
[null,null,null,"ETS Kiganda"]
[null,null,null,"ETSA"]
[null,null,null,"GACACA"]
[null,null,null,"GAHAGA"]
[null,null,null,"GAHAHE"]
[null,null,null,"GAHERA"]
[null,null,null,"GAHINDA"]
[null,null,null,"GASA"]
[null,null,null,"GASANDA"]
[null,null,null,"GASARAGWE"]
[null,null,null,"GASENYI"]
[null,null,null,"GASHINGWA"]
[null,null,null,"GASHUHA"]
[null,null,null,"GATARE"]
[null,null,null,"GATARURWA"]
[null,null,null,"GATONGATI"]
[null,null,null,"GATOZA"]
[null,null,null,"GATUKUZA"]
[null,null,null,"GATWE"]
[null,null,null,"GIHANGA"]
[null,null,null,"GIHANGO"]
[null,null,null,"GIHETA"]
[null,null,null,"GIHINGA"]
[null,null,null,"GIHITASI"]
[null,null,null,"GIKINJA"]
[null,null,null,"GIKO"]
[null,null,null,"GISENYI"]
[null,null,null,"GISOKO"]
[null,null,null,"GISOVU"]
[null,null,null,"GITABO"]
[null,null,null,"GITARAMUKA"]
[null,null,null,"GITWA"]
[null,null,null,"GOGA"]
[null,null,null,"GUSURU"]
[null,null,null,"ITAB Mubuga"]
[null,null,null,"KABAMBA"]
[null,null,null,"KABEREZA"]
[null,null,null,"KABUGUZO"]
[null,null,null,"KABUMBA"]
[null,null,null,"KABUYE"]
[null,null,null,"KADAHOKA"]
[null,null,null,"KAGARI"]
[null,null,null,"KAMATONDE"]
[null,null,null,"KAMIRA"]
[null,null,null,"KANIGA"]
[null,null,null,"KANKA"]
[null,null,null,"KARAMBI"]
[null,null,null,"KAREHE"]
[null,null,null,"KARENGE"]
[null,null,null,"KARONGA"]
[null,null,null,"KARUBWE"]
[null,null,null,"KAVUMU"]
[null,null,null,"KAYOGORO"]
[null,null,null,"KAZINGA"]
[null,null,null,"KAZUGA"]
[null,null,null,"KAZWIRI"]
[null,null,null,"KIBANDE"]
[null,null,null,"KIBAYA"]
[null,null,null,"KIBENGA"]
[null,null,null,"KIBIRI"]
[null,null,null,"KIBUMBU"]
[null,null,null,"KIGABIRO"]
[null,null,null,"KIGANDA"]
[null,null,null,"KIGANO"]
[null,null,null,"KIGARAMA"]
[null,null,null,"KIGINA"]
[null,null,null,"KIGWATI"]
[null,null,null,"KINAMA"]
[null,null,null,"KINYOVU"]
[null,null,null,"KIRAMA"]
[null,null,null,"KIRAMBI"]
[null,null,null,"KIREMBERA"]
[null,null,null,"KIRERAMA"]
[null,null,null,"KIRIBA"]
[null,null,null,"KIRIKA"]
[null,null,null,"KIRINZI"]
[null,null,null,"KIRYAMA"]
[null,null,null,"KIVOGA"]
[null,null,null,"KIZENGA"]
[null,null,null,"KIZIBA"]
[null,null,null,"KOROKA"]
[null,null,null,"KUNAMA"]
[null,null,null,"KURI HOME"]
[null,null,null,"LNDA"]
[null,null,null,"LRP Murayi"]
[null,null,null,"LTCET Nyabututsi"]
[null,null,null,"LTNDS"]
[null,null,null,"LTNDS Bukeye "]
[null,null,null,"LY CO  Gasunu-Kiriba"]
[null,null,null,"LY CO  Nyakibingo"]
[null,null,null,"LY CO Bugarama"]
[null,null,null,"LY CO Buhangura"]
[null,null,null,"LY CO Bukeye"]
[null,null,null,"LY CO Bukinga"]
[null,null,null,"LY CO Busimba"]
[null,null,null,"LY CO Buziracanda"]
[null,null,null,"LY CO Camumandu"]
[null,null,null,"LY CO Fota"]
[null,null,null,"LY CO Gahororo"]
[null,null,null,"LY CO Gatongati"]
[null,null,null,"LY CO Gatukuza"]
[null,null,null,"LY CO Giheta"]
[null,null,null,"LY CO Gihinga"]
[null,null,null,"LY CO Gisozi"]
[null,null,null,"LY CO Gitara"]
[null,null,null,"LY CO Gitunga"]
[null,null,null,"LY CO Kanka"]
[null,null,null,"LY CO Kibogoye"]
[null,null,null,"LY CO Kinyonzo"]
[null,null,null,"LY CO Kirika"]
[null,null,null,"LY CO Masango"]
[null,null,null,"LY CO Mbuye"]
[null,null,null,"LY CO Mubuga"]
[null,null,null,"LY CO Mungwa"]
[null,null,null,"LY CO Munyinya"]
[null,null,null,"LY CO Murambi"]
[null,null,null,"LY CO Muramvya"]
[null,null,null,"LY CO Mushikamo"]
[null,null,null,"LY CO Musivya"]
[null,null,null,"LY CO Muyebe"]
[null,null,null,"LY CO Mwaro I"]
[null,null,null,"LY CO Nyabihanga"]
[null,null,null,"LY CO Nyangunzu"]
[null,null,null,"LY CO Rutegama"]
[null,null,null,"LY CO Rweza"]
[null,null,null,"LY CO Urbain de Gitega"]
[null,null,null,"LY CO Urbain de Rongo"]
[null,null,null,"LY CO Yanza"]
[null,null,null,"LY TEC Buyaga"]
[null,null,null,"LY TEC Christ  Roi de Mushasha"]
[null,null,null,"LY TEC de la Fraternité de Nyabisindu"]
[null,null,null,"LY TEC Elsion Tonini"]
[null,null,null,"LY TEC Mugogo"]
[null,null,null,"LY TEC Muramvya"]
[null,null,null,"LY TEC Saint François d'Assise de Magarama"]
[null,null,null,"LY TEC Sawe"]
[null,null,null,"LY TECH Mwaro"]
[null,null,null,"LY TECH Saswe"]
[null,null,null,"LYC  Paix Magarama"]
[null,null,null,"LYC CO Kibimba II"]
[null,null,null,"LYC de la Comibu"]
[null,null,null,"LYC de la Paix Marumane"]
[null,null,null,"LYC des Amis de Ceru"]
[null,null,null,"LYC Eben Ezer"]
[null,null,null,"LYC Gitega"]
[null,null,null,"LYC Hosana Kaniga"]
[null,null,null,"LYC Kiganda"]
[null,null,null,"LYC Magarama"]
[null,null,null,"LYC Muyebe"]
[null,null,null,"LYC Mwaro"]
[null,null,null,"LYC NDA Bukeye"]
[null,null,null,"LYC Notre Dame de la Sagesse"]
[null,null,null,"LYC Regina Pacis"]
[null,null,null,"LYC Reine de la Paix Murayi"]
[null,null,null,"LYC Sacré Cœur Ingolstadt de Yoba"]
[null,null,null,"LYC Saint  Luc de Nyabiharage"]
[null,null,null,"LYC Saint Joseph de Giheta"]
[null,null,null,"LYC Saint Kizito "]
[null,null,null,"LYC Sainte Bernadette de Mushasha"]
[null,null,null,"LYC Sainte Dorothée de Gihiza"]
[null,null,null,"LYC Sainte Thérèse"]
[null,null,null,"MAGARAMA"]
[null,null,null,"MAGARURE"]
[null,null,null,"MARUMANE"]
[null,null,null,"MASAMA"]
[null,null,null,"MASHUNZI"]
[null,null,null,"MBUYE"]
[null,null,null,"MIGERA"]
[null,null,null,"MIHARE 1"]
[null,null,null,"MIHARE 2"]
[null,null,null,"MIHIGO"]
[null,null,null,"MIHWI"]
[null,null,null,"MIJA"]
[null,null,null,"MITERAMA"]
[null,null,null,"MPANUKA"]
[null,null,null,"MPARA"]
[null,null,null,"MUBANGA"]
[null,null,null,"MUBARAZI"]
[null,null,null,"MUBUNGO"]
[null,null,null,"MUDAHWERA"]
[null,null,null,"MUGENDE"]
[null,null,null,"MUGERO"]
[null,null,null,"MUGOGO"]
[null,null,null,"MUGOMERA"]
[null,null,null,"MUHORORO"]
[null,null,null,"MUHUBIRO"]
[null,null,null,"MUHWEZA"]
[null,null,null,"MUKINDO"]
[null,null,null,"MUKINYA"]
[null,null,null,"MUKOKE"]
[null,null,null,"MUNANIRA"]
[null,null,null,"MUNINI"]
[null,null,null,"MUNYINYA"]
[null,null,null,"MURAGO"]
[null,null,null,"MURAMBA"]
[null,null,null,"MURAMBI"]
[null,null,null,"MURAMVYA"]
[null,null,null,"MURAYI"]
[null,null,null,"MUREHE"]
[null,null,null,"MUREMERA"]
[null,null,null,"MURENGUKO"]
[null,null,null,"MUSAVE"]
[null,null,null,"MUSHARARA"]
[null,null,null,"MUSHASHA"]
[null,null,null,"MUSHISHI"]
[null,null,null,"MUSINZIRA"]
[null,null,null,"MUSIVYA"]
[null,null,null,"MUTARA"]
[null,null,null,"MUVUBU"]
[null,null,null,"MUYANGE"]
[null,null,null,"MWEGERA"]
[null,null,null,"MWINGO"]
[null,null,null,"MWUFE"]
[null,null,null,"NDAGIRIYE"]
[null,null,null,"NDAGO"]
[null,null,null,"NDAVA"]
[null,null,null,"NGORO"]
[null,null,null,"NKERE"]
[null,null,null,"NKINGI"]
[null,null,null,"NKINGU"]
[null,null,null,"NKONYOVU"]
[null,null,null,"NKUNA"]
[null,null,null,"NYAMBEHO"]
[null,null,null,"NTABO"]
[null,null,null,"NTABWONE"]
[null,null,null,"NTUNDA"]
[null,null,null,"NYABIBUGU"]
[null,null,null,"NYABIGAMBA"]
[null,null,null,"NYABIHANGA"]
[null,null,null,"NYABIHUNA"]
[null,null,null,"NYABISIGA"]
[null,null,null,"NYAGATOBO"]
[null,null,null,"NYAGIKANGAGA"]
[null,null,null,"NYAKARAMBO"]
[null,null,null,"NYAKARARO"]
[null,null,null,"NYAKIJWIRA"]
[null,null,null,"NYAKIVUMU"]
[null,null,null,"NYAKUZUZA"]
[null,null,null,"NYAMABUYE"]
[null,null,null,"NYAMIRUGU"]
[null,null,null,"NYAMITWENZI"]
[null,null,null,"NYAMIYAGA"]
[null,null,null,"NYAMUGARI"]
[null,null,null,"NYAMURIRO"]
[null,null,null,"NYARUKENKE"]
[null,null,null,"NYARUKERE"]
[null,null,null,"NYARUNAZI"]
[null,null,null,"NYARURAMBI"]
[null,null,null,"NYARUSANGE"]
[null,null,null,"NYARUSAZI"]
[null,null,null,"NYARUSUGI"]
[null,null,null,"PLAGE"]
[null,null,null,"Q MAGARAMAI"]
[null,null,null,"Q. MUSINZIRA"]
[null,null,null,"RABIRO"]
[null,null,null,"RARO-KIRAMBI"]
[null,null,null,"RUBARASI"]
[null,null,null,"RUCE"]
[null,null,null,"RUGARI"]
[null,null,null,"RUGOGWE 1"]
[null,null,null,"RUGOGWE 2"]
[null,null,null,"RUGUMYE"]
[null,null,null,"RUHANZA"]
[null,null,null,"RUHEFU"]
[null,null,null,"RUKAMBA"]
[null,null,null,"RUKONI"]
[null,null,null,"RUSAMA"]
[null,null,null,"RUSAMAZA"]
[null,null,null,"RUSHOMBO"]
[null,null,null,"RUTAMANZURA"]
[null,null,null,"RUTARE"]
[null,null,null,"RUTEGAMA"]
[null,null,null,"RUTOKE"]
[null,null,null,"RUTOKI"]
[null,null,null,"RUTOVU"]
[null,null,null,"RUVOMO"]
[null,null,null,"RUVUMVU"]
[null,null,null,"RUVYAGIRA"]
[null,null,null,"RWANTAMBA"]
[null,null,null,"RWASAZI"]
[null,null,null,"RWESERO"]
[null,null,null,"RWETETO"]
[null,null,null,"RWEZAMENYO"]
[null,null,null,"RWIZA"]
[null,null,null,"RYAGAHENE"]
[null,null,null,"SAMWE"]
[null,null,null,"SENGA"]
[null,null,null,"TABA"]
[null,null,null,"TABI"]
[null,null,null,"TEKA"]
[null,null,null,"TEKA "]
[null,null,null,"TURAMBI"]
[null,null,null,"WAKIGANDA"]
[null,null,null,"WIKINYINYA"]
[null,null,null,"NYAMVUZO"]
[null,null,null,"NYARUBABI"]
[null,null,null,"RIMWA"]
[null,null,null,"BURUHUKIRO"]
[null,null,null,"KABAGINA"]
[null,null,null,"MUCAMO"]
[null,null,null,"MITWENZI"]
[null,null,null,"RUTOBO"]
[null,null,null,"NYAGISHIHA"]
[null,null,null,"FOTA"]
[null,null,null,"NGORORE"]
[null,null,null,"CERO"]
[null,null,null,"GAHONDO"]
[null,null,null,"GAHAHE"]
[null,null,null,"NYAMUSEBEYI"]
[null,null,null,"BIGAZA"]
[null,null,null,"MIKWAMO"]
[null,null,null,"VYUMA"]
[null,null,null,"GWEGO"]
[null,null,null,"MURAMBA"]
[null,null,null,"GATWARO"]
[null,null,null,"TABA"]
[null,null,null,"KANYAMI"]
[null,null,null,"NYABIGUGU"]
[null,null,null,"GAHORORO"]
[null,null,null,"MUVUGO"]
[null,null,null,"MAREMBO"]
[null,null,null,"SAGARA"]
[null,null,null,"RUFURI"]
[null,null,null,"RUTANGA"]
[null,null,null,"NDARO"]
[null,null,null,"GATONGATI"]
[null,null,null,"GATEMBA"]
[null,null,null,"MUKONI"]
[null,null,null,"NYANGUNZU"]
[null,null,null,"NYAKIBINGO"]
[null,null,null,"LY CO Nyakibingo"]
[null,null,null,"RUBAMVYI"]
[null,null,null,"MWOGO"]
[null,null,null,"GITAMO"]
[null,null,null,"CIYUBAKE"]
[null,null,null,"ECOFO RUBAMVYI II"]
[null,null,null,"ECOFO RUBAMVYI I"]
[null,null,null,"KIBUNGERE"]
[null,null,null,"KABUNGO"]
[null,null,null,"LY CO GASUNU-KIRIBA"]
[null,null,null,"ECOFO KIRIBA"]
[null,null,null,"ECOFO GASUNU"]
[null,null,null,"ECOFO KIBANDE"]
[null,null,null,"ECOFO MUREHE"]
[null,null,null,"ECOFO RUBARASI"]
[null,null,null,"GIHANGO"]
[null,null,null,"NYAMWERU"]
[null,null,null,"GAKOKE"]
[null,null,null,"NYAMUHAGATI"]
[null,null,null,"NKINGU"]
[null,null,null,"RURENGA"]
[null,null,null,"NYABIBUYE"]
[null,null,null,"NYABURONDWE"]
[null,null,null,"RUVUMU"]
[null,null,null,"NYARUJUMBU"]
[null,null,null,"KANYINYA"]
[null,null,null,"KAJAGA"]
[null,null,null,"MUSENYI"]
[null,null,null,"MUNUMA"]
[null,null,null,"GASUNU"]
[null,null,null,"ECOFO BUKINGA"]
[null,null,null,"ECOFO NYARUNAZI"]
[null,null,null,"RUGABANO"]
[null,null,null,"BUKINGA"]
[null,null,null,"BUVUMU"]
[null,null,null,"BUMWANA"]
[null,null,null,"MUTUMBA"]
[null,null,null,"BWONA"]
[null,null,null,"KORANE"]
[null,null,null,"KIBIMBA"]
[null,null,null,"BIHORO"]
[null,null,null,"GISEBUZI"]
[null,null,null,"NYAMBEHO"]
[null,null,null,"GITABA"]
[null,null,null,"GATARE"]
[null,null,null,"NYARUBANDE"]
[null,null,null,"KIYAYA"]
[null,null,null,"GASA"]
[null,null,null,"RWAMVURA"]
[null,null,null,"NKAMBA"]
[null,null,null,"ECOFO GISURU"]
[null,null,null,"ECOFO RWAMVURA"]
[null,null,null,"ECOFO NYARUGONGO"]
[null,null,null,"ECOFO GIHETA II"]
[null,null,null,"NYARUGONGO"]
[null,null,null,"COZI"]
[null,null,null,"BUNYUKANA"]
[null,null,null,"GITONGO"]
[null,null,null,"KIRIMIRO"]
[null,null,null,"NYABIHARAGE"]
[null,null,null,"BARAMBA"]
[null,null,null,"RURAMBA"]
[null,null,null,"KAGORI"]
[null,null,null,"KIGARI"]
[null,null,null,"NYABITSINDU"]
[null,null,null,"RUHWERO"]
[null,null,null,"MWIZERO"]
[null,null,null,"GITERAMO"]
[null,null,null,"GATOKE"]
[null,null,null,"BWITONZI"]
[null,null,null,"HWANIRO"]
[null,null,null,"ECOFO MUSHASHA I"]
[null,null,null,"ECOFO MUSHASHA II"]
[null,null,null,"LY CO URBAIN DE RANGO"]
[null,null,null,"LYC SAINT LUC DE NYABIHARAGE"]
[null,null,null,"LYC TEC CHRIST ROI DE MUSHASHA"]
[null,null,null,"ECOFO DE LA FRATERNITE DE NYABITSINDU"]
[null,null,null,"LYC Sainte Thérèse"]
[null,null,null,"Q CNARI"]
[null,null,null,"Q CNARII"]
[null,null,null,"Q ECOSO"]
[null,null,null,"Q STADE"]
[null,null,null,"Q SHATANYA I"]
[null,null,null,"Q SHATANYA II"]
[null,null,null,"Q SHATANYA III"]
[null,null,null,"Q SHATANYA IV"]
[null,null,null,"Q MAGARAMA II"]
[null,null,null,"Q GAHERA"]
[null,null,null,"Q PLACE"]
[null,null,null,"Q RUBUYE"]
[null,null,null,"Q MUSAVE"]
[null,null,null,"LYC PAIX MAGARAMA"]
[null,null,null,"ECOFO RWINZUKI"]
[null,null,null,"ECOFO SAINT KIZITO"]
[null,null,null,"KIREHE"]
[null,null,null,"TABI"]
[null,null,null,"MURANGARA"]
[null,null,null,"NYABISAGARA"]
[null,null,null,"GISURU"]
[null,null,null,"MASENGA"]
[null,null,null,"NYABISAKA"]
[null,null,null,"KARERA I"]
[null,null,null,"KARERA II"]
[null,null,null,"JIMBI"]
[null,null,null,"GASOZI"]
[null,null,null,"NGOZI"]
[null,null,null,"GASHINGE"]
[null,null,null,"ECOLE TEC SECONDAIRE KARERA"]
[null,null,null,"RUTOKI"]
[null,null,null,"MPAMA"]
[null,null,null,"MAHARA"]
[null,null,null,"MURAMBI"]
[null,null,null,"KIBWIJA"]
[null,null,null,"MUJINYA"]
[null,null,null,"MUGA"]
[null,null,null,"NYARUSHANGA"]
[null,null,null,"KIDIDAGI"]
[null,null,null,"NKUNDUSI"]
[null,null,null,"NYABISINDU"]
[null,null,null,"KIVYIBUSHA"]
[null,null,null,"Lycée de la Comibu"]
[null,null,null,"1ère Avenue"]
[null,null,null,"2ème Avenue"]
[null,null,null,"3ème Avenue"]
[null,null,null,"4ème Avenue"]
[null,null,null,"5ème Avenue"]
[null,null,null,"6ème Avenue"]
[null,null,null,"7ème Avenue"]
[null,null,null,"MUBUGA"]
[null,null,null,"GICACA"]
[null,null,null,"KARIRISI"]
[null,null,null,"CENE"]
[null,null,null,"KIRIBATA"]
[null,null,null,"RUHORA"]
[null,null,null,"MUGOBOKA"]
[null,null,null,"KUGITEGA"]
[null,null,null,"MASAVE"]
[null,null,null,"GITABO"]
[null,null,null,"NYANGORO"]
[null,null,null,"RUKENKE"]
[null,null,null,"BUDASUNIKWA"]
[null,null,null,"MBUGUBUGU"]
[null,null,null,"ECOFO NGOBEKE"]
[null,null,null,"KIMBA"]
[null,null,null,"BUHUZU"]
[null,null,null,"MURAMA"]
[null,null,null,"GITWA"]
[null,null,null,"NYESAZI"]
[null,null,null,"KIZOSI"]
[null,null,null,"MUBAYI"]
[null,null,null,"KIRIMBI"]
[null,null,null,"RUHUZU"]
[null,null,null,"CUGARO"]
[null,null,null,"NYAGASASA"]
[null,null,null,"MASANGO"]
[null,null,null,"BIHOMVORA"]
[null,null,null,"KABOZA"]
[null,null,null,"NYABAGWE"]
[null,null,null,"GAHWEZA"]
[null,null,null,"BUTWE"]
[null,null,null,"GATOVU"]
[null,null,null,"RUGENGE"]
[null,null,null,"MUZIMA"]
[null,null,null,"NYAKAGORO"]
[null,null,null,"KABUNGO"]
[null,null,null,"MUNYINYA"]
[null,null,null,"MWOGO"]
[null,null,null,"CIYUBAKE"]
[null,null,null,"GITAMO"]
[null,null,null,"BUKINGA"]
[null,null,null,"RUGABANO"]
[null,null,null,"KINYOVU"]
[null,null,null,"BIVUMU"]
[null,null,null,"MUTUMBA"]
[null,null,null,"BWONA"]
[null,null,null,"BUNWANA"]
[null,null,null,"MUHURURO"]
[null,null,null,"NTATEMWA"]
[null,null,null,"MIRENGANE"]
[null,null,null,"MUHORORO"]
[null,null,null,"MUREMERA"]
[null,null,null,"KARIRISI"]
[null,null,null,"GICACA"]
[null,null,null,"NYANGORO"]
[null,null,null,"MAREMBA"]
[null,null,null,"KANYINYA"]
[null,null,null,"KIRIBATA"]
[null,null,null,"RUHONA"]
[null,null,null,"KUGITEGA"]
[null,null,null,"MASAVE"]
[null,null,null,"MUVUMU"]
[null,null,null,"MBUGUBUGU"]
[null,null,null,"BUDASUNIKWA"]
[null,null,null,"RUKENKE"]
[null,null,null,"RUHARO"]
[null,null,null,"KIBWIJA"]
[null,null,null,"MUJINYO"]
[null,null,null,"MURAMBI"]
[null,null,null,"MAHARA"]
[null,null,null,"MUKONI"]
[null,null,null,"MPAMA"]
[null,null,null,"KIBUNGERE"]
[null,null,null,"KIVYIBUSHA"]
[null,null,null,"NKUNDUSI"]
[null,null,null,"NYARUSHANGA"]
[null,null,null,"MUGA"]
[null,null,null,"KIDIDAGI"]
[null,null,null,"NYAMBEHO"]
[null,null,null,"GATARE"]
[null,null,null,"GITABA"]
[null,null,null,"BIHORORO"]
[null,null,null,"NYARUGONGO"]
[null,null,null,"GISEBUZI"]
[null,null,null,"KIYAYA"]
[null,null,null,"RWAMVURA"]
[null,null,null,"NKAMBA"]
[null,null,null,"KIBIMBA"]
[null,null,null,"KORANE"]
[null,null,null,"KIREHE"]
[null,null,null,"GACACA"]
[null,null,null,"RUTEGAMA"]
[null,null,null,"MASANGA"]
[null,null,null,"GISURU"]
[null,null,null,"KARERA I"]
[null,null,null,"KARERA II"]
[null,null,null,"NYABISAKA"]
[null,null,null,"MURANGARA"]
[null,null,null,"GITAGURA"]
[null,null,null,"NYABISAGARA"]
[null,null,null,"JIMBI"]
[null,null,null,"NGOZI"]
[null,null,null,"GASOZI"]
[null,null,null,"KIVOGA"]
[null,null,null,"GASHINGE"]
[null,null,null,"NKINGU"]
[null,null,null,"NYAMUHOGOTI"]
[null,null,null,"NYABURONDWE"]
[null,null,null,"NYABIBUYE"]
[null,null,null,"RURENGA"]
[null,null,null,"GAKOKE"]
[null,null,null,"NYAMWERU"]
[null,null,null,"MUSENYI"]
[null,null,null,"MUNUMA"]
[null,null,null,"KAJAGA"]
[null,null,null,"KINYINYA"]
[null,null,null,"RUVUMU"]
[null,null,null,"NYARUJUMBU"]
[null,null,null,"HWANIRO"]
[null,null,null,"TABA"]
[null,null,null,"GITERAMO"]
[null,null,null,"GATOKE"]
[null,null,null,"BWITONZI"]
[null,null,null,"BWIZA"]
[null,null,null,"COZI"]
[null,null,null,"GITONGO"]
[null,null,null,"BUVYUKANA"]
[null,null,null,"NYABISINDU"]
[null,null,null,"RUHWERO"]
[null,null,null,"MUSHASHA"]
[null,null,null,"MWIZERO"]
[null,null,null,"KIRIMIRO"]
[null,null,null,"NYABIHARAGE"]
[null,null,null,"KURIHOME"]
[null,null,null,"KIGARI"]
[null,null,null,"BARAMBA"]
[null,null,null,"RURAMBA"]
[null,null,null,"KAGARI"]
[null,null,null,"GAHERA"]
[null,null,null,"PLACE"]
[null,null,null,"MUSAVE"]
[null,null,null,"RUBUYE"]
[null,null,null,"RUKUNDO"]
[null,null,null,"ECOSO"]
[null,null,null,"REGIDESO"]
[null,null,null,"CENAR"]

{"sheet":"Données","index":5,"n_rows":9556,"n_cols":28,"rows_kept":2250,"cut":true,"hidden":false,"merged":[[3,4,3,5],[4,2,4,5],[0,1,0,26],[1,1,1,26]],"bounds":{"rows_first":1000,"rows_last":250,"rows_between":1000,"halvings":1}}
[]
[null,"* Base de données IEC/CCC *"]
[]
[null,null,null,null,null,null,null,{"$f":"SUMPRODUCT(1/COUNTIF(F8:F9555,F8:F9555))","v":{"$error":"#DIV/0!"}},"Seances animées",null,null,null,null,null,null,null,null,null,null,"Féminin","Masculin","Total"]
[null,null,{"$f":"Tableau_Data[[#Totals],[Code fiche]]&\" Fiches correctement renseignées \"","v":"0 Fiches correctement renseignées "},null,null,null,null,null,null,null,null,null,null,null,null,null,null,null,null,{"$f":"Tableau_Data[[#Totals],[Féminin]]","v":0},{"$f":"Tableau_Data[[#Totals],[Masculin]]","v":0},{"$f":"Tableau_Data[[#Totals],[Total]]","v":0}]
[null,null,null,null,null,null,null,"AUTRES","AUTRES",null,null,null,null,"AUTRES","AUTRES",null,null,"AUTRES","AUTRES"]
[null,"Données de","Annee","Date","Mois","Code fiche","Colline/Quartier","Lieu d'intervention","Nom du lieu d'intervention","Classe","Nom du CDS","Province sanitaire","District sanitaire","ASBL","Durée (En minutes)","Thèmes","Sous Thème","Démo Preservatif","Témoignage","Cible","Tranche d'age","Féminin","Masculin","Total","Animateur - PE 1","Animateur - PE 2","Animateur - PE 3","Observations"]
[null,null,{"$f":"IF(D8=\"\",\"\",YEAR(D8))","v":""},null,{"$f":"IF(D8=\"\",\"\",MONTH(D8))","v":""},null,null,null,null,null,null,{"$f":"VLOOKUP(K8,[1]Paramètres!$M$5:$O$101,2,0)","v":{"$error":"#N/A"}},{"$f":"VLOOKUP(K8,[1]Paramètres!$M$5:$O$101,3,0)","v":{"$error":"#N/A"}},null,null,null,null,null,null,null,null,null,null,{"$f":"SUM(Tableau_Data[[#This Row],[Féminin]:[Masculin]])","v":0}]
[null,null,"",null,"",null,null,null,null,null,null,{"$f":"VLOOKUP(K9,[1]Paramètres!$M$5:$O$101,2,0)","v":{"$error":"#N/A"}},{"$f":"VLOOKUP(K9,[1]Paramètres!$M$5:$O$101,3,0)","v":{"$error":"#N/A"}},null,null,null,null,null,null,null,null,null,null,{"$f":"SUM(Tableau_Data[[#This Row],[Féminin]:[Masculin]])","v":0}]
[null,null,"",null,"",null,null,null,null,null,null,{"$f":"VLOOKUP(K10,[1]Paramètres!$M$5:$O$101,2,0)","v":{"$error":"#N/A"}},{"$f":"VLOOKUP(K10,[1]Paramètres!$M$5:$O$101,3,0)","v":{"$error":"#N/A"}},null,null,null,null,null,null,null,null,null,null,{"$f":"SUM(Tableau_Data[[#This Row],[Féminin]:[Masculin]])","v":0}]
[null,null,"",null,"",null,null,null,null,null,null,{"$f":"VLOOKUP(K11,[1]Paramètres!$M$5:$O$101,2,0)","v":{"$error":"#N/A"}},{"$f":"VLOOKUP(K11,[1]Paramètres!$M$5:$O$101,3,0)","v":{"$error":"#N/A"}},null,null,null,null,null,null,null,null,null,null,{"$f":"SUM(Tableau_Data[[#This Row],[Féminin]:[Masculin]])","v":0}]
[null,null,"",null,"",null,null,null,null,null,null,{"$f":"VLOOKUP(K12,[1]Paramètres!$M$5:$O$101,2,0)","v":{"$error":"#N/A"}},{"$f":"VLOOKUP(K12,[1]Paramètres!$M$5:$O$101,3,0)","v":{"$error":"#N/A"}},null,null,null,null,null,null,null,null,null,null,{"$f":"SUM(Tableau_Data[[#This Row],[Féminin]:[Masculin]])","v":0}]
[null,null,"",null,"",null,null,null,null,null,null,{"$f":"VLOOKUP(K13,[1]Paramètres!$M$5:$O$101,2,0)","v":{"$error":"#N/A"}},{"$f":"VLOOKUP(K13,[1]Paramètres!$M$5:$O$101,3,0)","v":{"$error":"#N/A"}},null,null,null,null,null,null,null,null,null,null,{"$f":"SUM(Tableau_Data[[#This Row],[Féminin]:[Masculin]])","v":0}]
[null,null,"",null,"",null,null,null,null,null,null,{"$f":"VLOOKUP(K14,[1]Paramètres!$M$5:$O$101,2,0)","v":{"$error":"#N/A"}},{"$f":"VLOOKUP(K14,[1]Paramètres!$M$5:$O$101,3,0)","v":{"$error":"#N/A"}},null,null,null,null,null,null,null,null,null,null,{"$f":"SUM(Tableau_Data[[#This Row],[Féminin]:[Masculin]])","v":0}]
[null,null,"",null,"",null,null,null,null,null,null,{"$f":"VLOOKUP(K15,[1]Paramètres!$M$5:$O$101,2,0)","v":{"$error":"#N/A"}},{"$f":"VLOOKUP(K15,[1]Paramètres!$M$5:$O$101,3,0)","v":{"$error":"#N/A"}},null,null,null,null,null,null,null,null,null,null,{"$f":"SUM(Tableau_Data[[#This Row],[Féminin]:[Masculin]])","v":0}]
[null,null,"",null,"",null,null,null,null,null,null,{"$f":"VLOOKUP(K16,[1]Paramètres!$M$5:$O$101,2,0)","v":{"$error":"#N/A"}},{"$f":"VLOOKUP(K16,[1]Paramètres!$M$5:$O$101,3,0)","v":{"$error":"#N/A"}},null,null,null,null,null,null,null,null,null,null,{"$f":"SUM(Tableau_Data[[#This Row],[Féminin]:[Masculin]])","v":0}]
[null,null,{"$f":"IF(D17=\"\",\"\",YEAR(D17))","v":""},null,"",null,null,null,null,null,null,{"$f":"VLOOKUP(K17,[1]Paramètres!$M$5:$O$101,2,0)","v":{"$error":"#N/A"}},{"$f":"VLOOKUP(K17,[1]Paramètres!$M$5:$O$101,3,0)","v":{"$error":"#N/A"}},null,null,null,null,null,null,null,null,null,null,{"$f":"SUM(Tableau_Data[[#This Row],[Féminin]:[Masculin]])","v":0}]
[null,null,"",null,"",null,null,null,null,null,null,{"$f":"VLOOKUP(K18,[1]Paramètres!$M$5:$O$101,2,0)","v":{"$error":"#N/A"}},{"$f":"VLOOKUP(K18,[1]Paramètres!$M$5:$O$101,3,0)","v":{"$error":"#N/A"}},null,null,null,null,null,null,null,null,null,null,{"$f":"SUM(Tableau_Data[[#This Row],[Féminin]:[Masculin]])","v":0}]
[null,null,"",null,"",null,null,null,null,null,null,{"$f":"VLOOKUP(K19,[1]Paramètres!$M$5:$O$101,2,0)","v":{"$error":"#N/A"}},{"$f":"VLOOKUP(K19,[1]Paramètres!$M$5:$O$101,3,0)","v":{"$error":"#N/A"}},null,null,null,null,null,null,null,null,null,null,{"$f":"SUM(Tableau_Data[[#This Row],[Féminin]:[Masculin]])","v":0}]
[null,null,"",null,"",null,null,null,null,null,null,{"$f":"VLOOKUP(K20,[1]Paramètres!$M$5:$O$101,2,0)","v":{"$error":"#N/A"}},{"$f":"VLOOKUP(K20,[1]Paramètres!$M$5:$O$101,3,0)","v":{"$error":"#N/A"}},null,null,null,null,null,null,null,null,null,null,{"$f":"SUM(Tableau_Data[[#This Row],[Féminin]:[Masculin]])","v":0}]
[null,null,"",null,"",null,null,null,null,null,null,{"$f":"VLOOKUP(K21,[1]Paramètres!$M$5:$O$101,2,0)","v":{"$error":"#N/A"}},{"$f":"VLOOKUP(K21,[1]Paramètres!$M$5:$O$101,3,0)","v":{"$error":"#N/A"}},null,null,null,null,null,null,null,null,null,null,{"$f":"SUM(Tableau_Data[[#This Row],[Féminin]:[Masculin]])","v":0}]
[null,null,"",null,"",null,null,null,null,null,null,{"$f":"VLOOKUP(K22,[1]Paramètres!$M$5:$O$101,2,0)","v":{"$error":"#N/A"}},{"$f":"VLOOKUP(K22,[1]Paramètres!$M$5:$O$101,3,0)","v":{"$error":"#N/A"}},null,null,null,null,null,null,null,null,null,null,{"$f":"SUM(Tableau_Data[[#This Row],[Féminin]:[Masculin]])","v":0}]
[null,null,"",null,"",null,null,null,null,null,null,{"$f":"VLOOKUP(K23,[1]Paramètres!$M$5:$O$101,2,0)","v":{"$error":"#N/A"}},{"$f":"VLOOKUP(K23,[1]Paramètres!$M$5:$O$101,3,0)","v":{"$error":"#N/A"}},null,null,null,null,null,null,null,null,null,null,{"$f":"SUM(Tableau_Data[[#This Row],[Féminin]:[Masculin]])","v":0}]
[null,null,"",null,"",null,null,null,null,null,null,{"$f":"VLOOKUP(K24,[1]Paramètres!$M$5:$O$101,2,0)","v":{"$error":"#N/A"}},{"$f":"VLOOKUP(K24,[1]Paramètres!$M$5:$O$101,3,0)","v":{"$error":"#N/A"}},null,null,null,null,null,null,null,null,null,null,{"$f":"SUM(Tableau_Data[[#This Row],[Féminin]:[Masculin]])","v":0}]
[null,null,"",null,"",null,null,null,null,null,null,{"$f":"VLOOKUP(K25,[1]Paramètres!$M$5:$O$101,2,0)","v":{"$error":"#N/A"}},{"$f":"VLOOKUP(K25,[1]Paramètres!$M$5:$O$101,3,0)","v":{"$error":"#N/A"}},null,null,null,null,null,null,null,null,null,null,{"$f":"SUM(Tableau_Data[[#This Row],[Féminin]:[Masculin]])","v":0}]
[null,null,"",null,"",null,null,null,null,null,null,{"$f":"VLOOKUP(K26,[1]Paramètres!$M$5:$O$101,2,0)","v":{"$error":"#N/A"}},{"$f":"VLOOKUP(K26,[1]Paramètres!$M$5:$O$101,3,0)","v":{"$error":"#N/A"}},null,null,null,null,null,null,null,null,null,null,{"$f":"SUM(Tableau_Data[[#This Row],[Féminin]:[Masculin]])","v":0}]
[null,null,"",null,"",null,null,null,null,null,null,{"$f":"VLOOKUP(K27,[1]Paramètres!$M$5:$O$101,2,0)","v":{"$error":"#N/A"}},{"$f":"VLOOKUP(K27,[1]Paramètres!$M$5:$O$101,3,0)","v":{"$error":"#N/A"}},null,null,null,null,null,null,null,null,null,null,{"$f":"SUM(Tableau_Data[[#This Row],[Féminin]:[Masculin]])","v":0}]
[null,null,"",null,"",null,null,null,null,null,null,{"$f":"VLOOKUP(K28,[1]Paramètres!$M$5:$O$101,2,0)","v":{"$error":"#N/A"}},{"$f":"VLOOKUP(K28,[1]Paramètres!$M$5:$O$101,3,0)","v":{"$error":"#N/A"}},null,null,null,null,null,null,null,null,null,null,{"$f":"SUM(Tableau_Data[[#This Row],[Féminin]:[Masculin]])","v":0}]
[null,null,"",null,"",null,null,null,null,null,null,{"$f":"VLOOKUP(K29,[1]Paramètres!$M$5:$O$101,2,0)","v":{"$error":"#N/A"}},{"$f":"VLOOKUP(K29,[1]Paramètres!$M$5:$O$101,3,0)","v":{"$error":"#N/A"}},null,null,null,null,null,null,null,null,null,null,{"$f":"SUM(Tableau_Data[[#This Row],[Féminin]:[Masculin]])","v":0}]
[null,null,"",null,"",null,null,null,null,null,null,{"$f":"VLOOKUP(K30,[1]Paramètres!$M$5:$O$101,2,0)","v":{"$error":"#N/A"}},{"$f":"VLOOKUP(K30,[1]Paramètres!$M$5:$O$101,3,0)","v":{"$error":"#N/A"}},null,null,null,null,null,null,null,null,null,null,{"$f":"SUM(Tableau_Data[[#This Row],[Féminin]:[Masculin]])","v":0}]
[null,null,"",null,"",null,null,null,null,null,null,{"$f":"VLOOKUP(K31,[1]Paramètres!$M$5:$O$101,2,0)","v":{"$error":"#N/A"}},{"$f":"VLOOKUP(K31,[1]Paramètres!$M$5:$O$101,3,0)","v":{"$error":"#N/A"}},null,null,null,null,null,null,null,null,null,null,{"$f":"SUM(Tableau_Data[[#This Row],[Féminin]:[Masculin]])","v":0}]
[null,null,"",null,"",null,null,null,null,null,null,{"$f":"VLOOKUP(K32,[1]Paramètres!$M$5:$O$101,2,0)","v":{"$error":"#N/A"}},{"$f":"VLOOKUP(K32,[1]Paramètres!$M$5:$O$101,3,0)","v":{"$error":"#N/A"}},null,null,null,null,null,null,null,null,null,null,{"$f":"SUM(Tableau_Data[[#This Row],[Féminin]:[Masculin]])","v":0}]
[null,null,"",null,"",null,null,null,null,null,null,{"$f":"VLOOKUP(K33,[1]Paramètres!$M$5:$O$101,2,0)","v":{"$error":"#N/A"}},{"$f":"VLOOKUP(K33,[1]Paramètres!$M$5:$O$101,3,0)","v":{"$error":"#N/A"}},null,null,null,null,null,null,null,null,null,null,{"$f":"SUM(Tableau_Data[[#This Row],[Féminin]:[Masculin]])","v":0}]
[null,null,"",null,"",null,null,null,null,null,null,{"$f":"VLOOKUP(K34,[1]Paramètres!$M$5:$O$101,2,0)","v":{"$error":"#N/A"}},{"$f":"VLOOKUP(K34,[1]Paramètres!$M$5:$O$101,3,0)","v":{"$error":"#N/A"}},null,null,null,null,null,null,null,null,null,null,{"$f":"SUM(Tableau_Data[[#This Row],[Féminin]:[Masculin]])","v":0}]
[null,null,"",null,"",null,null,null,null,null,null,{"$f":"VLOOKUP(K35,[1]Paramètres!$M$5:$O$101,2,0)","v":{"$error":"#N/A"}},{"$f":"VLOOKUP(K35,[1]Paramètres!$M$5:$O$101,3,0)","v":{"$error":"#N/A"}},null,null,null,null,null,null,null,null,null,null,{"$f":"SUM(Tableau_Data[[#This Row],[Féminin]:[Masculin]])","v":0}]
[null,null,"",null,"",null,null,null,null,null,null,{"$f":"VLOOKUP(K36,[1]Paramètres!$M$5:$O$101,2,0)","v":{"$error":"#N/A"}},{"$f":"VLOOKUP(K36,[1]Paramètres!$M$5:$O$101,3,0)","v":{"$error":"#N/A"}},null,null,null,null,null,null,null,null,null,null,{"$f":"SUM(Tableau_Data[[#This Row],[Féminin]:[Masculin]])","v":0}]
[null,null,"",null,"",null,null,null,null,null,null,{"$f":"VLOOKUP(K37,[1]Paramètres!$M$5:$O$101,2,0)","v":{"$error":"#N/A"}},{"$f":"VLOOKUP(K37,[1]Paramètres!$M$5:$O$101,3,0)","v":{"$error":"#N/A"}},null,null,null,null,null,null,null,null,null,null,{"$f":"SUM(Tableau_Data[[#This Row],[Féminin]:[Masculin]])","v":0}]
[null,null,"",null,"",null,null,null,null,null,null,{"$f":"VLOOKUP(K38,[1]Paramètres!$M$5:$O$101,2,0)","v":{"$error":"#N/A"}},{"$f":"VLOOKUP(K38,[1]Paramètres!$M$5:$O$101,3,0)","v":{"$error":"#N/A"}},null,null,null,null,null,null,null,null,null,null,{"$f":"SUM(Tableau_Data[[#This Row],[Féminin]:[Masculin]])","v":0}]
[null,null,"",null,"",null,null,null,null,null,null,{"$f":"VLOOKUP(K39,[1]Paramètres!$M$5:$O$101,2,0)","v":{"$error":"#N/A"}},{"$f":"VLOOKUP(K39,[1]Paramètres!$M$5:$O$101,3,0)","v":{"$error":"#N/A"}},null,null,null,null,null,null,null,null,null,null,{"$f":"SUM(Tableau_Data[[#This Row],[Féminin]:[Masculin]])","v":0}]
[null,null,"",null,"",null,null,null,null,null,null,{"$f":"VLOOKUP(K40,[1]Paramètres!$M$5:$O$101,2,0)","v":{"$error":"#N/A"}},{"$f":"VLOOKUP(K40,[1]Paramètres!$M$5:$O$101,3,0)","v":{"$error":"#N/A"}},null,null,null,null,null,null,null,null,null,null,{"$f":"SUM(Tableau_Data[[#This Row],[Féminin]:[Masculin]])","v":0}]
[null,null,"",null,"",null,null,null,null,null,null,{"$f":"VLOOKUP(K41,[1]Paramètres!$M$5:$O$101,2,0)","v":{"$error":"#N/A"}},{"$f":"VLOOKUP(K41,[1]Paramètres!$M$5:$O$101,3,0)","v":{"$error":"#N/A"}},null,null,null,null,null,null,null,null,null,null,{"$f":"SUM(Tableau_Data[[#This Row],[Féminin]:[Masculin]])","v":0}]
[null,null,"",null,"",null,null,null,null,null,null,{"$f":"VLOOKUP(K42,[1]Paramètres!$M$5:$O$101,2,0)","v":{"$error":"#N/A"}},{"$f":"VLOOKUP(K42,[1]Paramètres!$M$5:$O$101,3,0)","v":{"$error":"#N/A"}},null,null,null,null,null,null,null,null,null,null,{"$f":"SUM(Tableau_Data[[#This Row],[Féminin]:[Masculin]])","v":0}]
[null,null,"",null,"",null,null,null,null,null,null,{"$f":"VLOOKUP(K43,[1]Paramètres!$M$5:$O$101,2,0)","v":{"$error":"#N/A"}},{"$f":"VLOOKUP(K43,[1]Paramètres!$M$5:$O$101,3,0)","v":{"$error":"#N/A"}},null,null,null,null,null,null,null,null,null,null,{"$f":"SUM(Tableau_Data[[#This Row],[Féminin]:[Masculin]])","v":0}]
[null,null,"",null,"",null,null,null,null,null,null,{"$f":"VLOOKUP(K44,[1]Paramètres!$M$5:$O$101,2,0)","v":{"$error":"#N/A"}},{"$f":"VLOOKUP(K44,[1]Paramètres!$M$5:$O$101,3,0)","v":{"$error":"#N/A"}},null,null,null,null,null,null,null,null,null,null,{"$f":"SUM(Tableau_Data[[#This Row],[Féminin]:[Masculin]])","v":0}]
[null,null,"",null,"",null,null,null,null,null,null,{"$f":"VLOOKUP(K45,[1]Paramètres!$M$5:$O$101,2,0)","v":{"$error":"#N/A"}},{"$f":"VLOOKUP(K45,[1]Paramètres!$M$5:$O$101,3,0)","v":{"$error":"#N/A"}},null,null,null,null,null,null,null,null,null,null,{"$f":"SUM(Tableau_Data[[#This Row],[Féminin]:[Masculin]])","v":0}]
[null,null,"",null,"",null,null,null,null,null,null,{"$f":"VLOOKUP(K46,[1]Paramètres!$M$5:$O$101,2,0)","v":{"$error":"#N/A"}},{"$f":"VLOOKUP(K46,[1]Paramètres!$M$5:$O$101,3,0)","v":{"$error":"#N/A"}},null,null,null,null,null,null,null,null,null,null,{"$f":"SUM(Tableau_Data[[#This Row],[Féminin]:[Masculin]])","v":0}]
[null,null,"",null,"",null,null,null,null,null,null,{"$f":"VLOOKUP(K47,[1]Paramètres!$M$5:$O$101,2,0)","v":{"$error":"#N/A"}},{"$f":"VLOOKUP(K47,[1]Paramètres!$M$5:$O$101,3,0)","v":{"$error":"#N/A"}},null,null,null,null,null,null,null,null,null,null,{"$f":"SUM(Tableau_Data[[#This Row],[Féminin]:[Masculin]])","v":0}]
[null,null,"",null,"",null,null,null,null,null,null,{"$f":"VLOOKUP(K48,[1]Paramètres!$M$5:$O$101,2,0)","v":{"$error":"#N/A"}},{"$f":"VLOOKUP(K48,[1]Paramètres!$M$5:$O$101,3,0)","v":{"$error":"#N/A"}},null,null,null,null,null,null,null,null,null,null,{"$f":"SUM(Tableau_Data[[#This Row],[Féminin]:[Masculin]])","v":0}]
[null,null,{"$f":"IF(D49=\"\",\"\",YEAR(D49))","v":""},null,"",null,null,null,null,null,null,{"$f":"VLOOKUP(K49,[1]Paramètres!$M$5:$O$101,2,0)","v":{"$error":"#N/A"}},{"$f":"VLOOKUP(K49,[1]Paramètres!$M$5:$O$101,3,0)","v":{"$error":"#N/A"}},null,null,null,null,null,null,null,null,null,null,{"$f":"SUM(Tableau_Data[[#This Row],[Féminin]:[Masculin]])","v":0}]
[null,null,"",null,"",null,null,null,null,null,null,{"$f":"VLOOKUP(K50,[1]Paramètres!$M$5:$O$101,2,0)","v":{"$error":"#N/A"}},{"$f":"VLOOKUP(K50,[1]Paramètres!$M$5:$O$101,3,0)","v":{"$error":"#N/A"}},null,null,null,null,null,null,null,null,null,null,{"$f":"SUM(Tableau_Data[[#This Row],[Féminin]:[Masculin]])","v":0}]
[null,null,"",null,"",null,null,null,null,null,null,{"$f":"VLOOKUP(K51,[1]Paramètres!$M$5:$O$101,2,0)","v":{"$error":"#N/A"}},{"$f":"VLOOKUP(K51,[1]Paramètres!$M$5:$O$101,3,0)","v":{"$error":"#N/A"}},null,null,null,null,null,null,null,null,null,null,{"$f":"SUM(Tableau_Data[[#This Row],[Féminin]:[Masculin]])","v":0}]
[null,null,{"$f":"IF(D52=\"\",\"\",YEAR(D52))","v":""},null,{"$f":"IF(D52=\"\",\"\",MONTH(D52))","v":""},null,null,null,null,null,null,{"$f":"VLOOKUP(K52,[1]Paramètres!$M$5:$O$101,2,0)","v":{"$error":"#N/A"}},{"$f":"VLOOKUP(K52,[1]Paramètres!$M$5:$O$101,3,0)","v":{"$error":"#N/A"}},null,null,null,null,null,null,null,null,null,null,{"$f":"SUM(Tableau_Data[[#This Row],[Féminin]:[Masculin]])","v":0}]
[null,null,"",null,"",null,null,null,null,null,null,{"$f":"VLOOKUP(K53,[1]Paramètres!$M$5:$O$101,2,0)","v":{"$error":"#N/A"}},{"$f":"VLOOKUP(K53,[1]Paramètres!$M$5:$O$101,3,0)","v":{"$error":"#N/A"}},null,null,null,null,null,null,null,null,null,null,{"$f":"SUM(Tableau_Data[[#This Row],[Féminin]:[Masculin]])","v":0}]
[null,null,"",null,"",null,null,null,null,null,null,{"$f":"VLOOKUP(K54,[1]Paramètres!$M$5:$O$101,2,0)","v":{"$error":"#N/A"}},{"$f":"VLOOKUP(K54,[1]Paramètres!$M$5:$O$101,3,0)","v":{"$error":"#N/A"}},null,null,null,null,null,null,null,null,null,null,{"$f":"SUM(Tableau_Data[[#This Row],[Féminin]:[Masculin]])","v":0}]
[null,null,"",null,"",null,null,null,null,null,null,{"$f":"VLOOKUP(K55,[1]Paramètres!$M$5:$O$101,2,0)","v":{"$error":"#N/A"}},{"$f":"VLOOKUP(K55,[1]Paramètres!$M$5:$O$101,3,0)","v":{"$error":"#N/A"}},null,null,null,null,null,null,null,null,null,null,{"$f":"SUM(Tableau_Data[[#This Row],[Féminin]:[Masculin]])","v":0}]
[null,null,"",null,"",null,null,null,null,null,null,{"$f":"VLOOKUP(K56,[1]Paramètres!$M$5:$O$101,2,0)","v":{"$error":"#N/A"}},{"$f":"VLOOKUP(K56,[1]Paramètres!$M$5:$O$101,3,0)","v":{"$error":"#N/A"}},null,null,null,null,null,null,null,null,null,null,{"$f":"SUM(Tableau_Data[[#This Row],[Féminin]:[Masculin]])","v":0}]
[null,null,"",null,"",null,null,null,null,null,null,{"$f":"VLOOKUP(K57,[1]Paramètres!$M$5:$O$101,2,0)","v":{"$error":"#N/A"}},{"$f":"VLOOKUP(K57,[1]Paramètres!$M$5:$O$101,3,0)","v":{"$error":"#N/A"}},null,null,null,null,null,null,null,null,null,null,{"$f":"SUM(Tableau_Data[[#This Row],[Féminin]:[Masculin]])","v":0}]
[null,null,"",null,"",null,null,null,null,null,null,{"$f":"VLOOKUP(K58,[1]Paramètres!$M$5:$O$101,2,0)","v":{"$error":"#N/A"}},{"$f":"VLOOKUP(K58,[1]Paramètres!$M$5:$O$101,3,0)","v":{"$error":"#N/A"}},null,null,null,null,null,null,null,null,null,null,{"$f":"SUM(Tableau_Data[[#This Row],[Féminin]:[Masculin]])","v":0}]
[null,null,"",null,"",null,null,null,null,null,null,{"$f":"VLOOKUP(K59,[1]Paramètres!$M$5:$O$101,2,0)","v":{"$error":"#N/A"}},{"$f":"VLOOKUP(K59,[1]Paramètres!$M$5:$O$101,3,0)","v":{"$error":"#N/A"}},null,null,null,null,null,null,null,null,null,null,{"$f":"SUM(Tableau_Data[[#This Row],[Féminin]:[Masculin]])","v":0}]
[null,null,"",null,"",null,null,null,null,null,null,{"$f":"VLOOKUP(K60,[1]Paramètres!$M$5:$O$101,2,0)","v":{"$error":"#N/A"}},{"$f":"VLOOKUP(K60,[1]Paramètres!$M$5:$O$101,3,0)","v":{"$error":"#N/A"}},null,null,null,null,null,null,null,null,null,null,{"$f":"SUM(Tableau_Data[[#This Row],[Féminin]:[Masculin]])","v":0}]
[null,null,"",null,"",null,null,null,null,null,null,{"$f":"VLOOKUP(K61,[1]Paramètres!$M$5:$O$101,2,0)","v":{"$error":"#N/A"}},{"$f":"VLOOKUP(K61,[1]Paramètres!$M$5:$O$101,3,0)","v":{"$error":"#N/A"}},null,null,null,null,null,null,null,null,null,null,{"$f":"SUM(Tableau_Data[[#This Row],[Féminin]:[Masculin]])","v":0}]
[null,null,"",null,"",null,null,null,null,null,null,{"$f":"VLOOKUP(K62,[1]Paramètres!$M$5:$O$101,2,0)","v":{"$error":"#N/A"}},{"$f":"VLOOKUP(K62,[1]Paramètres!$M$5:$O$101,3,0)","v":{"$error":"#N/A"}},null,null,null,null,null,null,null,null,null,null,{"$f":"SUM(Tableau_Data[[#This Row],[Féminin]:[Masculin]])","v":0}]
[null,null,"",null,"",null,null,null,null,null,null,{"$f":"VLOOKUP(K63,[1]Paramètres!$M$5:$O$101,2,0)","v":{"$error":"#N/A"}},{"$f":"VLOOKUP(K63,[1]Paramètres!$M$5:$O$101,3,0)","v":{"$error":"#N/A"}},null,null,null,null,null,null,null,null,null,null,{"$f":"SUM(Tableau_Data[[#This Row],[Féminin]:[Masculin]])","v":0}]
[null,null,"",null,"",null,null,null,null,null,null,{"$f":"VLOOKUP(K64,[1]Paramètres!$M$5:$O$101,2,0)","v":{"$error":"#N/A"}},{"$f":"VLOOKUP(K64,[1]Paramètres!$M$5:$O$101,3,0)","v":{"$error":"#N/A"}},null,null,null,null,null,null,null,null,null,null,{"$f":"SUM(Tableau_Data[[#This Row],[Féminin]:[Masculin]])","v":0}]
[null,null,"",null,"",null,null,null,null,null,null,{"$f":"VLOOKUP(K65,[1]Paramètres!$M$5:$O$101,2,0)","v":{"$error":"#N/A"}},{"$f":"VLOOKUP(K65,[1]Paramètres!$M$5:$O$101,3,0)","v":{"$error":"#N/A"}},null,null,null,null,null,null,null,null,null,null,{"$f":"SUM(Tableau_Data[[#This Row],[Féminin]:[Masculin]])","v":0}]
[null,null,"",null,"",null,null,null,null,null,null,{"$f":"VLOOKUP(K66,[1]Paramètres!$M$5:$O$101,2,0)","v":{"$error":"#N/A"}},{"$f":"VLOOKUP(K66,[1]Paramètres!$M$5:$O$101,3,0)","v":{"$error":"#N/A"}},null,null,null,null,null,null,null,null,null,null,{"$f":"SUM(Tableau_Data[[#This Row],[Féminin]:[Masculin]])","v":0}]
[null,null,"",null,"",null,null,null,null,null,null,{"$f":"VLOOKUP(K67,[1]Paramètres!$M$5:$O$101,2,0)","v":{"$error":"#N/A"}},{"$f":"VLOOKUP(K67,[1]Paramètres!$M$5:$O$101,3,0)","v":{"$error":"#N/A"}},null,null,null,null,null,null,null,null,null,null,{"$f":"SUM(Tableau_Data[[#This Row],[Féminin]:[Masculin]])","v":0}]
[null,null,"",null,"",null,null,null,null,null,null,{"$f":"VLOOKUP(K68,[1]Paramètres!$M$5:$O$101,2,0)","v":{"$error":"#N/A"}},{"$f":"VLOOKUP(K68,[1]Paramètres!$M$5:$O$101,3,0)","v":{"$error":"#N/A"}},null,null,null,null,null,null,null,null,null,null,{"$f":"SUM(Tableau_Data[[#This Row],[Féminin]:[Masculin]])","v":0}]
[null,null,"",null,"",null,null,null,null,null,null,{"$f":"VLOOKUP(K69,[1]Paramètres!$M$5:$O$101,2,0)","v":{"$error":"#N/A"}},{"$f":"VLOOKUP(K69,[1]Paramètres!$M$5:$O$101,3,0)","v":{"$error":"#N/A"}},null,null,null,null,null,null,null,null,null,null,{"$f":"SUM(Tableau_Data[[#This Row],[Féminin]:[Masculin]])","v":0}]
[null,null,"",null,"",null,null,null,null,null,null,{"$f":"VLOOKUP(K70,[1]Paramètres!$M$5:$O$101,2,0)","v":{"$error":"#N/A"}},{"$f":"VLOOKUP(K70,[1]Paramètres!$M$5:$O$101,3,0)","v":{"$error":"#N/A"}},null,null,null,null,null,null,null,null,null,null,{"$f":"SUM(Tableau_Data[[#This Row],[Féminin]:[Masculin]])","v":0}]
[null,null,"",null,"",null,null,null,null,null,null,{"$f":"VLOOKUP(K71,[1]Paramètres!$M$5:$O$101,2,0)","v":{"$error":"#N/A"}},{"$f":"VLOOKUP(K71,[1]Paramètres!$M$5:$O$101,3,0)","v":{"$error":"#N/A"}},null,null,null,null,null,null,null,null,null,null,{"$f":"SUM(Tableau_Data[[#This Row],[Féminin]:[Masculin]])","v":0}]
[null,null,"",null,"",null,null,null,null,null,null,{"$f":"VLOOKUP(K72,[1]Paramètres!$M$5:$O$101,2,0)","v":{"$error":"#N/A"}},{"$f":"VLOOKUP(K72,[1]Paramètres!$M$5:$O$101,3,0)","v":{"$error":"#N/A"}},null,null,null,null,null,null,null,null,null,null,{"$f":"SUM(Tableau_Data[[#This Row],[Féminin]:[Masculin]])","v":0}]
[null,null,"",null,"",null,null,null,null,null,null,{"$f":"VLOOKUP(K73,[1]Paramètres!$M$5:$O$101,2,0)","v":{"$error":"#N/A"}},{"$f":"VLOOKUP(K73,[1]Paramètres!$M$5:$O$101,3,0)","v":{"$error":"#N/A"}},null,null,null,null,null,null,null,null,null,null,{"$f":"SUM(Tableau_Data[[#This Row],[Féminin]:[Masculin]])","v":0}]
[null,null,"",null,"",null,null,null,null,null,null,{"$f":"VLOOKUP(K74,[1]Paramètres!$M$5:$O$101,2,0)","v":{"$error":"#N/A"}},{"$f":"VLOOKUP(K74,[1]Paramètres!$M$5:$O$101,3,0)","v":{"$error":"#N/A"}},null,null,null,null,null,null,null,null,null,null,{"$f":"SUM(Tableau_Data[[#This Row],[Féminin]:[Masculin]])","v":0}]
[null,null,"",null,"",null,null,null,null,null,null,{"$f":"VLOOKUP(K75,[1]Paramètres!$M$5:$O$101,2,0)","v":{"$error":"#N/A"}},{"$f":"VLOOKUP(K75,[1]Paramètres!$M$5:$O$101,3,0)","v":{"$error":"#N/A"}},null,null,null,null,null,null,null,null,null,null,{"$f":"SUM(Tableau_Data[[#This Row],[Féminin]:[Masculin]])","v":0}]
[null,null,"",null,"",null,null,null,null,null,null,{"$f":"VLOOKUP(K76,[1]Paramètres!$M$5:$O$101,2,0)","v":{"$error":"#N/A"}},{"$f":"VLOOKUP(K76,[1]Paramètres!$M$5:$O$101,3,0)","v":{"$error":"#N/A"}},null,null,null,null,null,null,null,null,null,null,{"$f":"SUM(Tableau_Data[[#This Row],[Féminin]:[Masculin]])","v":0}]
[null,null,"",null,"",null,null,null,null,null,null,{"$f":"VLOOKUP(K77,[1]Paramètres!$M$5:$O$101,2,0)","v":{"$error":"#N/A"}},{"$f":"VLOOKUP(K77,[1]Paramètres!$M$5:$O$101,3,0)","v":{"$error":"#N/A"}},null,null,null,null,null,null,null,null,null,null,{"$f":"SUM(Tableau_Data[[#This Row],[Féminin]:[Masculin]])","v":0}]
[null,null,"",null,{"$f":"IF(D78=\"\",\"\",MONTH(D78))","v":""},null,null,null,null,null,null,{"$f":"VLOOKUP(K78,[1]Paramètres!$M$5:$O$101,2,0)","v":{"$error":"#N/A"}},{"$f":"VLOOKUP(K78,[1]Paramètres!$M$5:$O$101,3,0)","v":{"$error":"#N/A"}},null,null,null,null,null,null,null,null,null,null,{"$f":"SUM(Tableau_Data[[#This Row],[Féminin]:[Masculin]])","v":0}]
[null,null,"",null,"",null,null,null,null,null,null,{"$f":"VLOOKUP(K79,[1]Paramètres!$M$5:$O$101,2,0)","v":{"$error":"#N/A"}},{"$f":"VLOOKUP(K79,[1]Paramètres!$M$5:$O$101,3,0)","v":{"$error":"#N/A"}},null,null,null,null,null,null,null,null,null,null,{"$f":"SUM(Tableau_Data[[#This Row],[Féminin]:[Masculin]])","v":0}]
[null,null,"",null,"",null,null,null,null,null,null,{"$f":"VLOOKUP(K80,[1]Paramètres!$M$5:$O$101,2,0)","v":{"$error":"#N/A"}},{"$f":"VLOOKUP(K80,[1]Paramètres!$M$5:$O$101,3,0)","v":{"$error":"#N/A"}},null,null,null,null,null,null,null,null,null,null,{"$f":"SUM(Tableau_Data[[#This Row],[Féminin]:[Masculin]])","v":0}]
[null,null,"",null,"",null,null,null,null,null,null,{"$f":"VLOOKUP(K81,[1]Paramètres!$M$5:$O$101,2,0)","v":{"$error":"#N/A"}},{"$f":"VLOOKUP(K81,[1]Paramètres!$M$5:$O$101,3,0)","v":{"$error":"#N/A"}},null,null,null,null,null,null,null,null,null,null,{"$f":"SUM(Tableau_Data[[#This Row],[Féminin]:[Masculin]])","v":0}]
[null,null,"",null,"",null,null,null,null,null,null,{"$f":"VLOOKUP(K82,[1]Paramètres!$M$5:$O$101,2,0)","v":{"$error":"#N/A"}},{"$f":"VLOOKUP(K82,[1]Paramètres!$M$5:$O$101,3,0)","v":{"$error":"#N/A"}},null,null,null,null,null,null,null,null,null,null,{"$f":"SUM(Tableau_Data[[#This Row],[Féminin]:[Masculin]])","v":0}]
[null,null,"",null,"",null,null,null,null,null,null,{"$f":"VLOOKUP(K83,[1]Paramètres!$M$5:$O$101,2,0)","v":{"$error":"#N/A"}},{"$f":"VLOOKUP(K83,[1]Paramètres!$M$5:$O$101,3,0)","v":{"$error":"#N/A"}},null,null,null,null,null,null,null,null,null,null,{"$f":"SUM(Tableau_Data[[#This Row],[Féminin]:[Masculin]])","v":0}]
[null,null,"",null,"",null,null,null,null,null,null,{"$f":"VLOOKUP(K84,[1]Paramètres!$M$5:$O$101,2,0)","v":{"$error":"#N/A"}},{"$f":"VLOOKUP(K84,[1]Paramètres!$M$5:$O$101,3,0)","v":{"$error":"#N/A"}},null,null,null,null,null,null,null,null,null,null,{"$f":"SUM(Tableau_Data[[#This Row],[Féminin]:[Masculin]])","v":0}]
[null,null,"",null,"",null,null,null,null,null,null,{"$f":"VLOOKUP(K85,[1]Paramètres!$M$5:$O$101,2,0)","v":{"$error":"#N/A"}},{"$f":"VLOOKUP(K85,[1]Paramètres!$M$5:$O$101,3,0)","v":{"$error":"#N/A"}},null,null,null,null,null,null,null,null,null,null,{"$f":"SUM(Tableau_Data[[#This Row],[Féminin]:[Masculin]])","v":0}]
[null,null,"",null,"",null,null,null,null,null,null,{"$f":"VLOOKUP(K86,[1]Paramètres!$M$5:$O$101,2,0)","v":{"$error":"#N/A"}},{"$f":"VLOOKUP(K86,[1]Paramètres!$M$5:$O$101,3,0)","v":{"$error":"#N/A"}},null,null,null,null,null,null,null,null,null,null,{"$f":"SUM(Tableau_Data[[#This Row],[Féminin]:[Masculin]])","v":0}]
[null,null,"",null,"",null,null,null,null,null,null,{"$f":"VLOOKUP(K87,[1]Paramètres!$M$5:$O$101,2,0)","v":{"$error":"#N/A"}},{"$f":"VLOOKUP(K87,[1]Paramètres!$M$5:$O$101,3,0)","v":{"$error":"#N/A"}},null,null,null,null,null,null,null,null,null,null,{"$f":"SUM(Tableau_Data[[#This Row],[Féminin]:[Masculin]])","v":0}]
[null,null,{"$f":"IF(D88=\"\",\"\",YEAR(D88))","v":""},null,"",null,null,null,null,null,null,{"$f":"VLOOKUP(K88,[1]Paramètres!$M$5:$O$101,2,0)","v":{"$error":"#N/A"}},{"$f":"VLOOKUP(K88,[1]Paramètres!$M$5:$O$101,3,0)","v":{"$error":"#N/A"}},null,null,null,null,null,null,null,null,null,null,{"$f":"SUM(Tableau_Data[[#This Row],[Féminin]:[Masculin]])","v":0}]
[null,null,"",null,"",null,null,null,null,null,null,{"$f":"VLOOKUP(K89,[1]Paramètres!$M$5:$O$101,2,0)","v":{"$error":"#N/A"}},{"$f":"VLOOKUP(K89,[1]Paramètres!$M$5:$O$101,3,0)","v":{"$error":"#N/A"}},null,null,null,null,null,null,null,null,null,null,{"$f":"SUM(Tableau_Data[[#This Row],[Féminin]:[Masculin]])","v":0}]
[null,null,"",null,"",null,null,null,null,null,null,{"$f":"VLOOKUP(K90,[1]Paramètres!$M$5:$O$101,2,0)","v":{"$error":"#N/A"}},{"$f":"VLOOKUP(K90,[1]Paramètres!$M$5:$O$101,3,0)","v":{"$error":"#N/A"}},null,null,null,null,null,null,null,null,null,null,{"$f":"SUM(Tableau_Data[[#This Row],[Féminin]:[Masculin]])","v":0}]
[null,null,"",null,"",null,null,null,null,null,null,{"$f":"VLOOKUP(K91,[1]Paramètres!$M$5:$O$101,2,0)","v":{"$error":"#N/A"}},{"$f":"VLOOKUP(K91,[1]Paramètres!$M$5:$O$101,3,0)","v":{"$error":"#N/A"}},null,null,null,null,null,null,null,null,null,null,{"$f":"SUM(Tableau_Data[[#This Row],[Féminin]:[Masculin]])","v":0}]
[null,null,"",null,"",null,null,null,null,null,null,{"$f":"VLOOKUP(K92,[1]Paramètres!$M$5:$O$101,2,0)","v":{"$error":"#N/A"}},{"$f":"VLOOKUP(K92,[1]Paramètres!$M$5:$O$101,3,0)","v":{"$error":"#N/A"}},null,null,null,null,null,null,null,null,null,null,{"$f":"SUM(Tableau_Data[[#This Row],[Féminin]:[Masculin]])","v":0}]
[null,null,"",null,"",null,null,null,null,null,null,{"$f":"VLOOKUP(K93,[1]Paramètres!$M$5:$O$101,2,0)","v":{"$error":"#N/A"}},{"$f":"VLOOKUP(K93,[1]Paramètres!$M$5:$O$101,3,0)","v":{"$error":"#N/A"}},null,null,null,null,null,null,null,null,null,null,{"$f":"SUM(Tableau_Data[[#This Row],[Féminin]:[Masculin]])","v":0}]
[null,null,"",null,"",null,null,null,null,null,null,{"$f":"VLOOKUP(K94,[1]Paramètres!$M$5:$O$101,2,0)","v":{"$error":"#N/A"}},{"$f":"VLOOKUP(K94,[1]Paramètres!$M$5:$O$101,3,0)","v":{"$error":"#N/A"}},null,null,null,null,null,null,null,null,null,null,{"$f":"SUM(Tableau_Data[[#This Row],[Féminin]:[Masculin]])","v":0}]
[null,null,"",null,"",null,null,null,null,null,null,{"$f":"VLOOKUP(K95,[1]Paramètres!$M$5:$O$101,2,0)","v":{"$error":"#N/A"}},{"$f":"VLOOKUP(K95,[1]Paramètres!$M$5:$O$101,3,0)","v":{"$error":"#N/A"}},null,null,null,null,null,null,null,null,null,null,{"$f":"SUM(Tableau_Data[[#This Row],[Féminin]:[Masculin]])","v":0}]
[null,null,"",null,"",null,null,null,null,null,null,{"$f":"VLOOKUP(K96,[1]Paramètres!$M$5:$O$101,2,0)","v":{"$error":"#N/A"}},{"$f":"VLOOKUP(K96,[1]Paramètres!$M$5:$O$101,3,0)","v":{"$error":"#N/A"}},null,null,null,null,null,null,null,null,null,null,{"$f":"SUM(Tableau_Data[[#This Row],[Féminin]:[Masculin]])","v":0}]
[null,null,"",null,"",null,null,null,null,null,null,{"$f":"VLOOKUP(K97,[1]Paramètres!$M$5:$O$101,2,0)","v":{"$error":"#N/A"}},{"$f":"VLOOKUP(K97,[1]Paramètres!$M$5:$O$101,3,0)","v":{"$error":"#N/A"}},null,null,null,null,null,null,null,null,null,null,{"$f":"SUM(Tableau_Data[[#This Row],[Féminin]:[Masculin]])","v":0}]
[null,null,"",null,"",null,null,null,null,null,null,{"$f":"VLOOKUP(K98,[1]Paramètres!$M$5:$O$101,2,0)","v":{"$error":"#N/A"}},{"$f":"VLOOKUP(K98,[1]Paramètres!$M$5:$O$101,3,0)","v":{"$error":"#N/A"}},null,null,null,null,null,null,null,null,null,null,{"$f":"SUM(Tableau_Data[[#This Row],[Féminin]:[Masculin]])","v":0}]
[null,null,"",null,"",null,null,null,null,null,null,{"$f":"VLOOKUP(K99,[1]Paramètres!$M$5:$O$101,2,0)","v":{"$error":"#N/A"}},{"$f":"VLOOKUP(K99,[1]Paramètres!$M$5:$O$101,3,0)","v":{"$error":"#N/A"}},null,null,null,null,null,null,null,null,null,null,{"$f":"SUM(Tableau_Data[[#This Row],[Féminin]:[Masculin]])","v":0}]
[null,null,"",null,"",null,null,null,null,null,null,{"$f":"VLOOKUP(K100,[1]Paramètres!$M$5:$O$101,2,0)","v":{"$error":"#N/A"}},{"$f":"VLOOKUP(K100,[1]Paramètres!$M$5:$O$101,3,0)","v":{"$error":"#N/A"}},null,null,null,null,null,null,null,null,null,null,{"$f":"SUM(Tableau_Data[[#This Row],[Féminin]:[Masculin]])","v":0}]
[null,null,"",null,"",null,null,null,null,null,null,{"$f":"VLOOKUP(K101,[1]Paramètres!$M$5:$O$101,2,0)","v":{"$error":"#N/A"}},{"$f":"VLOOKUP(K101,[1]Paramètres!$M$5:$O$101,3,0)","v":{"$error":"#N/A"}},null,null,null,null,null,null,null,null,null,null,{"$f":"SUM(Tableau_Data[[#This Row],[Féminin]:[Masculin]])","v":0}]
[null,null,"",null,"",null,null,null,null,null,null,{"$f":"VLOOKUP(K102,[1]Paramètres!$M$5:$O$101,2,0)","v":{"$error":"#N/A"}},{"$f":"VLOOKUP(K102,[1]Paramètres!$M$5:$O$101,3,0)","v":{"$error":"#N/A"}},null,null,null,null,null,null,null,null,null,null,{"$f":"SUM(Tableau_Data[[#This Row],[Féminin]:[Masculin]])","v":0}]
[null,null,{"$f":"IF(D103=\"\",\"\",YEAR(D103))","v":""},null,{"$f":"IF(D103=\"\",\"\",MONTH(D103))","v":""},null,null,null,null,null,null,{"$f":"VLOOKUP(K103,[1]Paramètres!$M$5:$O$101,2,0)","v":{"$error":"#N/A"}},{"$f":"VLOOKUP(K103,[1]Paramètres!$M$5:$O$101,3,0)","v":{"$error":"#N/A"}},null,null,null,null,null,null,null,null,null,null,{"$f":"SUM(Tableau_Data[[#This Row],[Féminin]:[Masculin]])","v":0}]
[null,null,"",null,"",null,null,null,null,null,null,{"$f":"VLOOKUP(K104,[1]Paramètres!$M$5:$O$101,2,0)","v":{"$error":"#N/A"}},{"$f":"VLOOKUP(K104,[1]Paramètres!$M$5:$O$101,3,0)","v":{"$error":"#N/A"}},null,null,null,null,null,null,null,null,null,null,{"$f":"SUM(Tableau_Data[[#This Row],[Féminin]:[Masculin]])","v":0}]
[null,null,"",null,"",null,null,null,null,null,null,{"$f":"VLOOKUP(K105,[1]Paramètres!$M$5:$O$101,2,0)","v":{"$error":"#N/A"}},{"$f":"VLOOKUP(K105,[1]Paramètres!$M$5:$O$101,3,0)","v":{"$error":"#N/A"}},null,null,null,null,null,null,null,null,null,null,{"$f":"SUM(Tableau_Data[[#This Row],[Féminin]:[Masculin]])","v":0}]
[null,null,"",null,"",null,null,null,null,null,null,{"$f":"VLOOKUP(K106,[1]Paramètres!$M$5:$O$101,2,0)","v":{"$error":"#N/A"}},{"$f":"VLOOKUP(K106,[1]Paramètres!$M$5:$O$101,3,0)","v":{"$error":"#N/A"}},null,null,null,null,null,null,null,null,null,null,{"$f":"SUM(Tableau_Data[[#This Row],[Féminin]:[Masculin]])","v":0}]
[null,null,"",null,"",null,null,null,null,null,null,{"$f":"VLOOKUP(K107,[1]Paramètres!$M$5:$O$101,2,0)","v":{"$error":"#N/A"}},{"$f":"VLOOKUP(K107,[1]Paramètres!$M$5:$O$101,3,0)","v":{"$error":"#N/A"}},null,null,null,null,null,null,null,null,null,null,{"$f":"SUM(Tableau_Data[[#This Row],[Féminin]:[Masculin]])","v":0}]
[null,null,"",null,"",null,null,null,null,null,null,{"$f":"VLOOKUP(K108,[1]Paramètres!$M$5:$O$101,2,0)","v":{"$error":"#N/A"}},{"$f":"VLOOKUP(K108,[1]Paramètres!$M$5:$O$101,3,0)","v":{"$error":"#N/A"}},null,null,null,null,null,null,null,null,null,null,{"$f":"SUM(Tableau_Data[[#This Row],[Féminin]:[Masculin]])","v":0}]
[null,null,"",null,{"$f":"IF(D109=\"\",\"\",MONTH(D109))","v":""},null,null,null,null,null,null,{"$f":"VLOOKUP(K109,[1]Paramètres!$M$5:$O$101,2,0)","v":{"$error":"#N/A"}},{"$f":"VLOOKUP(K109,[1]Paramètres!$M$5:$O$101,3,0)","v":{"$error":"#N/A"}},null,null,null,null,null,null,null,null,null,null,{"$f":"SUM(Tableau_Data[[#This Row],[Féminin]:[Masculin]])","v":0}]
[null,null,"",null,"",null,null,null,null,null,null,{"$f":"VLOOKUP(K110,[1]Paramètres!$M$5:$O$101,2,0)","v":{"$error":"#N/A"}},{"$f":"VLOOKUP(K110,[1]Paramètres!$M$5:$O$101,3,0)","v":{"$error":"#N/A"}},null,null,null,null,null,null,null,null,null,null,{"$f":"SUM(Tableau_Data[[#This Row],[Féminin]:[Masculin]])","v":0}]
[null,null,"",null,"",null,null,null,null,null,null,{"$f":"VLOOKUP(K111,[1]Paramètres!$M$5:$O$101,2,0)","v":{"$error":"#N/A"}},{"$f":"VLOOKUP(K111,[1]Paramètres!$M$5:$O$101,3,0)","v":{"$error":"#N/A"}},null,null,null,null,null,null,null,null,null,null,{"$f":"SUM(Tableau_Data[[#This Row],[Féminin]:[Masculin]])","v":0}]
[null,null,"",null,"",null,null,null,null,null,null,{"$f":"VLOOKUP(K112,[1]Paramètres!$M$5:$O$101,2,0)","v":{"$error":"#N/A"}},{"$f":"VLOOKUP(K112,[1]Paramètres!$M$5:$O$101,3,0)","v":{"$error":"#N/A"}},null,null,null,null,null,null,null,null,null,null,{"$f":"SUM(Tableau_Data[[#This Row],[Féminin]:[Masculin]])","v":0}]
[null,null,"",null,"",null,null,null,null,null,null,{"$f":"VLOOKUP(K113,[1]Paramètres!$M$5:$O$101,2,0)","v":{"$error":"#N/A"}},{"$f":"VLOOKUP(K113,[1]Paramètres!$M$5:$O$101,3,0)","v":{"$error":"#N/A"}},null,null,null,null,null,null,null,null,null,null,{"$f":"SUM(Tableau_Data[[#This Row],[Féminin]:[Masculin]])","v":0}]
[null,null,"",null,"",null,null,null,null,null,null,{"$f":"VLOOKUP(K114,[1]Paramètres!$M$5:$O$101,2,0)","v":{"$error":"#N/A"}},{"$f":"VLOOKUP(K114,[1]Paramètres!$M$5:$O$101,3,0)","v":{"$error":"#N/A"}},null,null,null,null,null,null,null,null,null,null,{"$f":"SUM(Tableau_Data[[#This Row],[Féminin]:[Masculin]])","v":0}]
[null,null,"",null,"",null,null,null,null,null,null,{"$f":"VLOOKUP(K115,[1]Paramètres!$M$5:$O$101,2,0)","v":{"$error":"#N/A"}},{"$f":"VLOOKUP(K115,[1]Paramètres!$M$5:$O$101,3,0)","v":{"$error":"#N/A"}},null,null,null,null,null,null,null,null,null,null,{"$f":"SUM(Tableau_Data[[#This Row],[Féminin]:[Masculin]])","v":0}]
[null,null,"",null,"",null,null,null,null,null,null,{"$f":"VLOOKUP(K116,[1]Paramètres!$M$5:$O$101,2,0)","v":{"$error":"#N/A"}},{"$f":"VLOOKUP(K116,[1]Paramètres!$M$5:$O$101,3,0)","v":{"$error":"#N/A"}},null,null,null,null,null,null,null,null,null,null,{"$f":"SUM(Tableau_Data[[#This Row],[Féminin]:[Masculin]])","v":0}]
[null,null,"",null,"",null,null,null,null,null,null,{"$f":"VLOOKUP(K117,[1]Paramètres!$M$5:$O$101,2,0)","v":{"$error":"#N/A"}},{"$f":"VLOOKUP(K117,[1]Paramètres!$M$5:$O$101,3,0)","v":{"$error":"#N/A"}},null,null,null,null,null,null,null,null,null,null,{"$f":"SUM(Tableau_Data[[#This Row],[Féminin]:[Masculin]])","v":0}]
[null,null,"",null,"",null,null,null,null,null,null,{"$f":"VLOOKUP(K118,[1]Paramètres!$M$5:$O$101,2,0)","v":{"$error":"#N/A"}},{"$f":"VLOOKUP(K118,[1]Paramètres!$M$5:$O$101,3,0)","v":{"$error":"#N/A"}},null,null,null,null,null,null,null,null,null,null,{"$f":"SUM(Tableau_Data[[#This Row],[Féminin]:[Masculin]])","v":0}]
[null,null,{"$f":"IF(D119=\"\",\"\",YEAR(D119))","v":""},null,"",null,null,null,null,null,null,{"$f":"VLOOKUP(K119,[1]Paramètres!$M$5:$O$101,2,0)","v":{"$error":"#N/A"}},{"$f":"VLOOKUP(K119,[1]Paramètres!$M$5:$O$101,3,0)","v":{"$error":"#N/A"}},null,null,null,null,null,null,null,null,null,null,{"$f":"SUM(Tableau_Data[[#This Row],[Féminin]:[Masculin]])","v":0}]
[null,null,"",null,"",null,null,null,null,null,null,{"$f":"VLOOKUP(K120,[1]Paramètres!$M$5:$O$101,2,0)","v":{"$error":"#N/A"}},{"$f":"VLOOKUP(K120,[1]Paramètres!$M$5:$O$101,3,0)","v":{"$error":"#N/A"}},null,null,null,null,null,null,null,null,null,null,{"$f":"SUM(Tableau_Data[[#This Row],[Féminin]:[Masculin]])","v":0}]
[null,null,"",null,"",null,null,null,null,null,null,{"$f":"VLOOKUP(K121,[1]Paramètres!$M$5:$O$101,2,0)","v":{"$error":"#N/A"}},{"$f":"VLOOKUP(K121,[1]Paramètres!$M$5:$O$101,3,0)","v":{"$error":"#N/A"}},null,null,null,null,null,null,null,null,null,null,{"$f":"SUM(Tableau_Data[[#This Row],[Féminin]:[Masculin]])","v":0}]
[null,null,"",null,"",null,null,null,null,null,null,{"$f":"VLOOKUP(K122,[1]Paramètres!$M$5:$O$101,2,0)","v":{"$error":"#N/A"}},{"$f":"VLOOKUP(K122,[1]Paramètres!$M$5:$O$101,3,0)","v":{"$error":"#N/A"}},null,null,null,null,null,null,null,null,null,null,{"$f":"SUM(Tableau_Data[[#This Row],[Féminin]:[Masculin]])","v":0}]
[null,null,"",null,"",null,null,null,null,null,null,{"$f":"VLOOKUP(K123,[1]Paramètres!$M$5:$O$101,2,0)","v":{"$error":"#N/A"}},{"$f":"VLOOKUP(K123,[1]Paramètres!$M$5:$O$101,3,0)","v":{"$error":"#N/A"}},null,null,null,null,null,null,null,null,null,null,{"$f":"SUM(Tableau_Data[[#This Row],[Féminin]:[Masculin]])","v":0}]
[null,null,"",null,"",null,null,null,null,null,null,{"$f":"VLOOKUP(K124,[1]Paramètres!$M$5:$O$101,2,0)","v":{"$error":"#N/A"}},{"$f":"VLOOKUP(K124,[1]Paramètres!$M$5:$O$101,3,0)","v":{"$error":"#N/A"}},null,null,null,null,null,null,null,null,null,null,{"$f":"SUM(Tableau_Data[[#This Row],[Féminin]:[Masculin]])","v":0}]
[null,null,"",null,"",null,null,null,null,null,null,{"$f":"VLOOKUP(K125,[1]Paramètres!$M$5:$O$101,2,0)","v":{"$error":"#N/A"}},{"$f":"VLOOKUP(K125,[1]Paramètres!$M$5:$O$101,3,0)","v":{"$error":"#N/A"}},null,null,null,null,null,null,null,null,null,null,{"$f":"SUM(Tableau_Data[[#This Row],[Féminin]:[Masculin]])","v":0}]
[null,null,"",null,"",null,null,null,null,null,null,{"$f":"VLOOKUP(K126,[1]Paramètres!$M$5:$O$101,2,0)","v":{"$error":"#N/A"}},{"$f":"VLOOKUP(K126,[1]Paramètres!$M$5:$O$101,3,0)","v":{"$error":"#N/A"}},null,null,null,null,null,null,null,null,null,null,{"$f":"SUM(Tableau_Data[[#This Row],[Féminin]:[Masculin]])","v":0}]
[null,null,"",null,"",null,null,null,null,null,null,{"$f":"VLOOKUP(K127,[1]Paramètres!$M$5:$O$101,2,0)","v":{"$error":"#N/A"}},{"$f":"VLOOKUP(K127,[1]Paramètres!$M$5:$O$101,3,0)","v":{"$error":"#N/A"}},null,null,null,null,null,null,null,null,null,null,{"$f":"SUM(Tableau_Data[[#This Row],[Féminin]:[Masculin]])","v":0}]
[null,null,"",null,"",null,null,null,null,null,null,{"$f":"VLOOKUP(K128,[1]Paramètres!$M$5:$O$101,2,0)","v":{"$error":"#N/A"}},{"$f":"VLOOKUP(K128,[1]Paramètres!$M$5:$O$101,3,0)","v":{"$error":"#N/A"}},null,null,null,null,null,null,null,null,null,null,{"$f":"SUM(Tableau_Data[[#This Row],[Féminin]:[Masculin]])","v":0}]
[null,null,"",null,"",null,null,null,null,null,null,{"$f":"VLOOKUP(K129,[1]Paramètres!$M$5:$O$101,2,0)","v":{"$error":"#N/A"}},{"$f":"VLOOKUP(K129,[1]Paramètres!$M$5:$O$101,3,0)","v":{"$error":"#N/A"}},null,null,null,null,null,null,null,null,null,null,{"$f":"SUM(Tableau_Data[[#This Row],[Féminin]:[Masculin]])","v":0}]
[null,null,"",null,"",null,null,null,null,null,null,{"$f":"VLOOKUP(K130,[1]Paramètres!$M$5:$O$101,2,0)","v":{"$error":"#N/A"}},{"$f":"VLOOKUP(K130,[1]Paramètres!$M$5:$O$101,3,0)","v":{"$error":"#N/A"}},null,null,null,null,null,null,null,null,null,null,{"$f":"SUM(Tableau_Data[[#This Row],[Féminin]:[Masculin]])","v":0}]
[null,null,"",null,"",null,null,null,null,null,null,{"$f":"VLOOKUP(K131,[1]Paramètres!$M$5:$O$101,2,0)","v":{"$error":"#N/A"}},{"$f":"VLOOKUP(K131,[1]Paramètres!$M$5:$O$101,3,0)","v":{"$error":"#N/A"}},null,null,null,null,null,null,null,null,null,null,{"$f":"SUM(Tableau_Data[[#This Row],[Féminin]:[Masculin]])","v":0}]
[null,null,"",null,"",null,null,null,null,null,null,{"$f":"VLOOKUP(K132,[1]Paramètres!$M$5:$O$101,2,0)","v":{"$error":"#N/A"}},{"$f":"VLOOKUP(K132,[1]Paramètres!$M$5:$O$101,3,0)","v":{"$error":"#N/A"}},null,null,null,null,null,null,null,null,null,null,{"$f":"SUM(Tableau_Data[[#This Row],[Féminin]:[Masculin]])","v":0}]
[null,null,"",null,"",null,null,null,null,null,null,{"$f":"VLOOKUP(K133,[1]Paramètres!$M$5:$O$101,2,0)","v":{"$error":"#N/A"}},{"$f":"VLOOKUP(K133,[1]Paramètres!$M$5:$O$101,3,0)","v":{"$error":"#N/A"}},null,null,null,null,null,null,null,null,null,null,{"$f":"SUM(Tableau_Data[[#This Row],[Féminin]:[Masculin]])","v":0}]
[null,null,"",null,"",null,null,null,null,null,null,{"$f":"VLOOKUP(K134,[1]Paramètres!$M$5:$O$101,2,0)","v":{"$error":"#N/A"}},{"$f":"VLOOKUP(K134,[1]Paramètres!$M$5:$O$101,3,0)","v":{"$error":"#N/A"}},null,null,null,null,null,null,null,null,null,null,{"$f":"SUM(Tableau_Data[[#This Row],[Féminin]:[Masculin]])","v":0}]
[null,null,"",null,"",null,null,null,null,null,null,{"$f":"VLOOKUP(K135,[1]Paramètres!$M$5:$O$101,2,0)","v":{"$error":"#N/A"}},{"$f":"VLOOKUP(K135,[1]Paramètres!$M$5:$O$101,3,0)","v":{"$error":"#N/A"}},null,null,null,null,null,null,null,null,null,null,{"$f":"SUM(Tableau_Data[[#This Row],[Féminin]:[Masculin]])","v":0}]
[null,null,"",null,"",null,null,null,null,null,null,{"$f":"VLOOKUP(K136,[1]Paramètres!$M$5:$O$101,2,0)","v":{"$error":"#N/A"}},{"$f":"VLOOKUP(K136,[1]Paramètres!$M$5:$O$101,3,0)","v":{"$error":"#N/A"}},null,null,null,null,null,null,null,null,null,null,{"$f":"SUM(Tableau_Data[[#This Row],[Féminin]:[Masculin]])","v":0}]
[null,null,"",null,"",null,null,null,null,null,null,{"$f":"VLOOKUP(K137,[1]Paramètres!$M$5:$O$101,2,0)","v":{"$error":"#N/A"}},{"$f":"VLOOKUP(K137,[1]Paramètres!$M$5:$O$101,3,0)","v":{"$error":"#N/A"}},null,null,null,null,null,null,null,null,null,null,{"$f":"SUM(Tableau_Data[[#This Row],[Féminin]:[Masculin]])","v":0}]
[null,null,"",null,"",null,null,null,null,null,null,{"$f":"VLOOKUP(K138,[1]Paramètres!$M$5:$O$101,2,0)","v":{"$error":"#N/A"}},{"$f":"VLOOKUP(K138,[1]Paramètres!$M$5:$O$101,3,0)","v":{"$error":"#N/A"}},null,null,null,null,null,null,null,null,null,null,{"$f":"SUM(Tableau_Data[[#This Row],[Féminin]:[Masculin]])","v":0}]
[null,null,"",null,"",null,null,null,null,null,null,{"$f":"VLOOKUP(K139,[1]Paramètres!$M$5:$O$101,2,0)","v":{"$error":"#N/A"}},{"$f":"VLOOKUP(K139,[1]Paramètres!$M$5:$O$101,3,0)","v":{"$error":"#N/A"}},null,null,null,null,null,null,null,null,null,null,{"$f":"SUM(Tableau_Data[[#This Row],[Féminin]:[Masculin]])","v":0}]
[null,null,"",null,"",null,null,null,null,null,null,{"$f":"VLOOKUP(K140,[1]Paramètres!$M$5:$O$101,2,0)","v":{"$error":"#N/A"}},{"$f":"VLOOKUP(K140,[1]Paramètres!$M$5:$O$101,3,0)","v":{"$error":"#N/A"}},null,null,null,null,null,null,null,null,null,null,{"$f":"SUM(Tableau_Data[[#This Row],[Féminin]:[Masculin]])","v":0}]
[null,null,"",null,"",null,null,null,null,null,null,{"$f":"VLOOKUP(K141,[1]Paramètres!$M$5:$O$101,2,0)","v":{"$error":"#N/A"}},{"$f":"VLOOKUP(K141,[1]Paramètres!$M$5:$O$101,3,0)","v":{"$error":"#N/A"}},null,null,null,null,null,null,null,null,null,null,{"$f":"SUM(Tableau_Data[[#This Row],[Féminin]:[Masculin]])","v":0}]
[null,null,"",null,"",null,null,null,null,null,null,{"$f":"VLOOKUP(K142,[1]Paramètres!$M$5:$O$101,2,0)","v":{"$error":"#N/A"}},{"$f":"VLOOKUP(K142,[1]Paramètres!$M$5:$O$101,3,0)","v":{"$error":"#N/A"}},null,null,null,null,null,null,null,null,null,null,{"$f":"SUM(Tableau_Data[[#This Row],[Féminin]:[Masculin]])","v":0}]
[null,null,"",null,"",null,null,null,null,null,null,{"$f":"VLOOKUP(K143,[1]Paramètres!$M$5:$O$101,2,0)","v":{"$error":"#N/A"}},{"$f":"VLOOKUP(K143,[1]Paramètres!$M$5:$O$101,3,0)","v":{"$error":"#N/A"}},null,null,null,null,null,null,null,null,null,null,{"$f":"SUM(Tableau_Data[[#This Row],[Féminin]:[Masculin]])","v":0}]
[null,null,"",null,"",null,null,null,null,null,null,{"$f":"VLOOKUP(K144,[1]Paramètres!$M$5:$O$101,2,0)","v":{"$error":"#N/A"}},{"$f":"VLOOKUP(K144,[1]Paramètres!$M$5:$O$101,3,0)","v":{"$error":"#N/A"}},null,null,null,null,null,null,null,null,null,null,{"$f":"SUM(Tableau_Data[[#This Row],[Féminin]:[Masculin]])","v":0}]
[null,null,"",null,"",null,null,null,null,null,null,{"$f":"VLOOKUP(K145,[1]Paramètres!$M$5:$O$101,2,0)","v":{"$error":"#N/A"}},{"$f":"VLOOKUP(K145,[1]Paramètres!$M$5:$O$101,3,0)","v":{"$error":"#N/A"}},null,null,null,null,null,null,null,null,null,null,{"$f":"SUM(Tableau_Data[[#This Row],[Féminin]:[Masculin]])","v":0}]
[null,null,"",null,"",null,null,null,null,null,null,{"$f":"VLOOKUP(K146,[1]Paramètres!$M$5:$O$101,2,0)","v":{"$error":"#N/A"}},{"$f":"VLOOKUP(K146,[1]Paramètres!$M$5:$O$101,3,0)","v":{"$error":"#N/A"}},null,null,null,null,null,null,null,null,null,null,{"$f":"SUM(Tableau_Data[[#This Row],[Féminin]:[Masculin]])","v":0}]
[null,null,"",null,"",null,null,null,null,null,null,{"$f":"VLOOKUP(K147,[1]Paramètres!$M$5:$O$101,2,0)","v":{"$error":"#N/A"}},{"$f":"VLOOKUP(K147,[1]Paramètres!$M$5:$O$101,3,0)","v":{"$error":"#N/A"}},null,null,null,null,null,null,null,null,null,null,{"$f":"SUM(Tableau_Data[[#This Row],[Féminin]:[Masculin]])","v":0}]
[null,null,"",null,"",null,null,null,null,null,null,{"$f":"VLOOKUP(K148,[1]Paramètres!$M$5:$O$101,2,0)","v":{"$error":"#N/A"}},{"$f":"VLOOKUP(K148,[1]Paramètres!$M$5:$O$101,3,0)","v":{"$error":"#N/A"}},null,null,null,null,null,null,null,null,null,null,{"$f":"SUM(Tableau_Data[[#This Row],[Féminin]:[Masculin]])","v":0}]
[null,null,"",null,"",null,null,null,null,null,null,{"$f":"VLOOKUP(K149,[1]Paramètres!$M$5:$O$101,2,0)","v":{"$error":"#N/A"}},{"$f":"VLOOKUP(K149,[1]Paramètres!$M$5:$O$101,3,0)","v":{"$error":"#N/A"}},null,null,null,null,null,null,null,null,null,null,{"$f":"SUM(Tableau_Data[[#This Row],[Féminin]:[Masculin]])","v":0}]
[null,null,"",null,"",null,null,null,null,null,null,{"$f":"VLOOKUP(K150,[1]Paramètres!$M$5:$O$101,2,0)","v":{"$error":"#N/A"}},{"$f":"VLOOKUP(K150,[1]Paramètres!$M$5:$O$101,3,0)","v":{"$error":"#N/A"}},null,null,null,null,null,null,null,null,null,null,{"$f":"SUM(Tableau_Data[[#This Row],[Féminin]:[Masculin]])","v":0}]
[null,null,"",null,"",null,null,null,null,null,null,{"$f":"VLOOKUP(K151,[1]Paramètres!$M$5:$O$101,2,0)","v":{"$error":"#N/A"}},{"$f":"VLOOKUP(K151,[1]Paramètres!$M$5:$O$101,3,0)","v":{"$error":"#N/A"}},null,null,null,null,null,null,null,null,null,null,{"$f":"SUM(Tableau_Data[[#This Row],[Féminin]:[Masculin]])","v":0}]
[null,null,"",null,"",null,null,null,null,null,null,{"$f":"VLOOKUP(K152,[1]Paramètres!$M$5:$O$101,2,0)","v":{"$error":"#N/A"}},{"$f":"VLOOKUP(K152,[1]Paramètres!$M$5:$O$101,3,0)","v":{"$error":"#N/A"}},null,null,null,null,null,null,null,null,null,null,{"$f":"SUM(Tableau_Data[[#This Row],[Féminin]:[Masculin]])","v":0}]
[null,null,"",null,"",null,null,null,null,null,null,{"$f":"VLOOKUP(K153,[1]Paramètres!$M$5:$O$101,2,0)","v":{"$error":"#N/A"}},{"$f":"VLOOKUP(K153,[1]Paramètres!$M$5:$O$101,3,0)","v":{"$error":"#N/A"}},null,null,null,null,null,null,null,null,null,null,{"$f":"SUM(Tableau_Data[[#This Row],[Féminin]:[Masculin]])","v":0}]
[null,null,"",null,"",null,null,null,null,null,null,{"$f":"VLOOKUP(K154,[1]Paramètres!$M$5:$O$101,2,0)","v":{"$error":"#N/A"}},{"$f":"VLOOKUP(K154,[1]Paramètres!$M$5:$O$101,3,0)","v":{"$error":"#N/A"}},null,null,null,null,null,null,null,null,null,null,{"$f":"SUM(Tableau_Data[[#This Row],[Féminin]:[Masculin]])","v":0}]
[null,null,"",null,"",null,null,null,null,null,null,{"$f":"VLOOKUP(K155,[1]Paramètres!$M$5:$O$101,2,0)","v":{"$error":"#N/A"}},{"$f":"VLOOKUP(K155,[1]Paramètres!$M$5:$O$101,3,0)","v":{"$error":"#N/A"}},null,null,null,null,null,null,null,null,null,null,{"$f":"SUM(Tableau_Data[[#This Row],[Féminin]:[Masculin]])","v":0}]
[null,null,"",null,"",null,null,null,null,null,null,{"$f":"VLOOKUP(K156,[1]Paramètres!$M$5:$O$101,2,0)","v":{"$error":"#N/A"}},{"$f":"VLOOKUP(K156,[1]Paramètres!$M$5:$O$101,3,0)","v":{"$error":"#N/A"}},null,null,null,null,null,null,null,null,null,null,{"$f":"SUM(Tableau_Data[[#This Row],[Féminin]:[Masculin]])","v":0}]
[null,null,"",null,"",null,null,null,null,null,null,{"$f":"VLOOKUP(K157,[1]Paramètres!$M$5:$O$101,2,0)","v":{"$error":"#N/A"}},{"$f":"VLOOKUP(K157,[1]Paramètres!$M$5:$O$101,3,0)","v":{"$error":"#N/A"}},null,null,null,null,null,null,null,null,null,null,{"$f":"SUM(Tableau_Data[[#This Row],[Féminin]:[Masculin]])","v":0}]
[null,null,"",null,"",null,null,null,null,null,null,{"$f":"VLOOKUP(K158,[1]Paramètres!$M$5:$O$101,2,0)","v":{"$error":"#N/A"}},{"$f":"VLOOKUP(K158,[1]Paramètres!$M$5:$O$101,3,0)","v":{"$error":"#N/A"}},null,null,null,null,null,null,null,null,null,null,{"$f":"SUM(Tableau_Data[[#This Row],[Féminin]:[Masculin]])","v":0}]
[null,null,"",null,"",null,null,null,null,null,null,{"$f":"VLOOKUP(K159,[1]Paramètres!$M$5:$O$101,2,0)","v":{"$error":"#N/A"}},{"$f":"VLOOKUP(K159,[1]Paramètres!$M$5:$O$101,3,0)","v":{"$error":"#N/A"}},null,null,null,null,null,null,null,null,null,null,{"$f":"SUM(Tableau_Data[[#This Row],[Féminin]:[Masculin]])","v":0}]
[null,null,"",null,"",null,null,null,null,null,null,{"$f":"VLOOKUP(K160,[1]Paramètres!$M$5:$O$101,2,0)","v":{"$error":"#N/A"}},{"$f":"VLOOKUP(K160,[1]Paramètres!$M$5:$O$101,3,0)","v":{"$error":"#N/A"}},null,null,null,null,null,null,null,null,null,null,{"$f":"SUM(Tableau_Data[[#This Row],[Féminin]:[Masculin]])","v":0}]
[null,null,"",null,"",null,null,null,null,null,null,{"$f":"VLOOKUP(K161,[1]Paramètres!$M$5:$O$101,2,0)","v":{"$error":"#N/A"}},{"$f":"VLOOKUP(K161,[1]Paramètres!$M$5:$O$101,3,0)","v":{"$error":"#N/A"}},null,null,null,null,null,null,null,null,null,null,{"$f":"SUM(Tableau_Data[[#This Row],[Féminin]:[Masculin]])","v":0}]
[null,null,"",null,"",null,null,null,null,null,null,{"$f":"VLOOKUP(K162,[1]Paramètres!$M$5:$O$101,2,0)","v":{"$error":"#N/A"}},{"$f":"VLOOKUP(K162,[1]Paramètres!$M$5:$O$101,3,0)","v":{"$error":"#N/A"}},null,null,null,null,null,null,null,null,null,null,{"$f":"SUM(Tableau_Data[[#This Row],[Féminin]:[Masculin]])","v":0}]
[null,null,"",null,"",null,null,null,null,null,null,{"$f":"VLOOKUP(K163,[1]Paramètres!$M$5:$O$101,2,0)","v":{"$error":"#N/A"}},{"$f":"VLOOKUP(K163,[1]Paramètres!$M$5:$O$101,3,0)","v":{"$error":"#N/A"}},null,null,null,null,null,null,null,null,null,null,{"$f":"SUM(Tableau_Data[[#This Row],[Féminin]:[Masculin]])","v":0}]
[null,null,"",null,"",null,null,null,null,null,null,{"$f":"VLOOKUP(K164,[1]Paramètres!$M$5:$O$101,2,0)","v":{"$error":"#N/A"}},{"$f":"VLOOKUP(K164,[1]Paramètres!$M$5:$O$101,3,0)","v":{"$error":"#N/A"}},null,null,null,null,null,null,null,null,null,null,{"$f":"SUM(Tableau_Data[[#This Row],[Féminin]:[Masculin]])","v":0}]
[null,null,"",null,"",null,null,null,null,null,null,{"$f":"VLOOKUP(K165,[1]Paramètres!$M$5:$O$101,2,0)","v":{"$error":"#N/A"}},{"$f":"VLOOKUP(K165,[1]Paramètres!$M$5:$O$101,3,0)","v":{"$error":"#N/A"}},null,null,null,null,null,null,null,null,null,null,{"$f":"SUM(Tableau_Data[[#This Row],[Féminin]:[Masculin]])","v":0}]
[null,null,"",null,"",null,null,null,null,null,null,{"$f":"VLOOKUP(K166,[1]Paramètres!$M$5:$O$101,2,0)","v":{"$error":"#N/A"}},{"$f":"VLOOKUP(K166,[1]Paramètres!$M$5:$O$101,3,0)","v":{"$error":"#N/A"}},null,null,null,null,null,null,null,null,null,null,{"$f":"SUM(Tableau_Data[[#This Row],[Féminin]:[Masculin]])","v":0}]
[null,null,"",null,"",null,null,null,null,null,null,{"$f":"VLOOKUP(K167,[1]Paramètres!$M$5:$O$101,2,0)","v":{"$error":"#N/A"}},{"$f":"VLOOKUP(K167,[1]Paramètres!$M$5:$O$101,3,0)","v":{"$error":"#N/A"}},null,null,null,null,null,null,null,null,null,null,{"$f":"SUM(Tableau_Data[[#This Row],[Féminin]:[Masculin]])","v":0}]
[null,null,"",null,"",null,null,null,null,null,null,{"$f":"VLOOKUP(K168,[1]Paramètres!$M$5:$O$101,2,0)","v":{"$error":"#N/A"}},{"$f":"VLOOKUP(K168,[1]Paramètres!$M$5:$O$101,3,0)","v":{"$error":"#N/A"}},null,null,null,null,null,null,null,null,null,null,{"$f":"SUM(Tableau_Data[[#This Row],[Féminin]:[Masculin]])","v":0}]
[null,null,"",null,"",null,null,null,null,null,null,{"$f":"VLOOKUP(K169,[1]Paramètres!$M$5:$O$101,2,0)","v":{"$error":"#N/A"}},{"$f":"VLOOKUP(K169,[1]Paramètres!$M$5:$O$101,3,0)","v":{"$error":"#N/A"}},null,null,null,null,null,null,null,null,null,null,{"$f":"SUM(Tableau_Data[[#This Row],[Féminin]:[Masculin]])","v":0}]
[null,null,"",null,{"$f":"IF(D170=\"\",\"\",MONTH(D170))","v":""},null,null,null,null,null,null,{"$f":"VLOOKUP(K170,[1]Paramètres!$M$5:$O$101,2,0)","v":{"$error":"#N/A"}},{"$f":"VLOOKUP(K170,[1]Paramètres!$M$5:$O$101,3,0)","v":{"$error":"#N/A"}},null,null,null,null,null,null,null,null,null,null,{"$f":"SUM(Tableau_Data[[#This Row],[Féminin]:[Masculin]])","v":0}]
[null,null,"",null,"",null,null,null,null,null,null,{"$f":"VLOOKUP(K171,[1]Paramètres!$M$5:$O$101,2,0)","v":{"$error":"#N/A"}},{"$f":"VLOOKUP(K171,[1]Paramètres!$M$5:$O$101,3,0)","v":{"$error":"#N/A"}},null,null,null,null,null,null,null,null,null,null,{"$f":"SUM(Tableau_Data[[#This Row],[Féminin]:[Masculin]])","v":0}]
[null,null,"",null,"",null,null,null,null,null,null,{"$f":"VLOOKUP(K172,[1]Paramètres!$M$5:$O$101,2,0)","v":{"$error":"#N/A"}},{"$f":"VLOOKUP(K172,[1]Paramètres!$M$5:$O$101,3,0)","v":{"$error":"#N/A"}},null,null,null,null,null,null,null,null,null,null,{"$f":"SUM(Tableau_Data[[#This Row],[Féminin]:[Masculin]])","v":0}]
[null,null,"",null,"",null,null,null,null,null,null,{"$f":"VLOOKUP(K173,[1]Paramètres!$M$5:$O$101,2,0)","v":{"$error":"#N/A"}},{"$f":"VLOOKUP(K173,[1]Paramètres!$M$5:$O$101,3,0)","v":{"$error":"#N/A"}},null,null,null,null,null,null,null,null,null,null,{"$f":"SUM(Tableau_Data[[#This Row],[Féminin]:[Masculin]])","v":0}]
[null,null,"",null,"",null,null,null,null,null,null,{"$f":"VLOOKUP(K174,[1]Paramètres!$M$5:$O$101,2,0)","v":{"$error":"#N/A"}},{"$f":"VLOOKUP(K174,[1]Paramètres!$M$5:$O$101,3,0)","v":{"$error":"#N/A"}},null,null,null,null,null,null,null,null,null,null,{"$f":"SUM(Tableau_Data[[#This Row],[Féminin]:[Masculin]])","v":0}]
[null,null,"",null,"",null,null,null,null,null,null,{"$f":"VLOOKUP(K175,[1]Paramètres!$M$5:$O$101,2,0)","v":{"$error":"#N/A"}},{"$f":"VLOOKUP(K175,[1]Paramètres!$M$5:$O$101,3,0)","v":{"$error":"#N/A"}},null,null,null,null,null,null,null,null,null,null,{"$f":"SUM(Tableau_Data[[#This Row],[Féminin]:[Masculin]])","v":0}]
[null,null,"",null,"",null,null,null,null,null,null,{"$f":"VLOOKUP(K176,[1]Paramètres!$M$5:$O$101,2,0)","v":{"$error":"#N/A"}},{"$f":"VLOOKUP(K176,[1]Paramètres!$M$5:$O$101,3,0)","v":{"$error":"#N/A"}},null,null,null,null,null,null,null,null,null,null,{"$f":"SUM(Tableau_Data[[#This Row],[Féminin]:[Masculin]])","v":0}]
[null,null,"",null,"",null,null,null,null,null,null,{"$f":"VLOOKUP(K177,[1]Paramètres!$M$5:$O$101,2,0)","v":{"$error":"#N/A"}},{"$f":"VLOOKUP(K177,[1]Paramètres!$M$5:$O$101,3,0)","v":{"$error":"#N/A"}},null,null,null,null,null,null,null,null,null,null,{"$f":"SUM(Tableau_Data[[#This Row],[Féminin]:[Masculin]])","v":0}]
[null,null,"",null,"",null,null,null,null,null,null,{"$f":"VLOOKUP(K178,[1]Paramètres!$M$5:$O$101,2,0)","v":{"$error":"#N/A"}},{"$f":"VLOOKUP(K178,[1]Paramètres!$M$5:$O$101,3,0)","v":{"$error":"#N/A"}},null,null,null,null,null,null,null,null,null,null,{"$f":"SUM(Tableau_Data[[#This Row],[Féminin]:[Masculin]])","v":0}]
[null,null,"",null,"",null,null,null,null,null,null,{"$f":"VLOOKUP(K179,[1]Paramètres!$M$5:$O$101,2,0)","v":{"$error":"#N/A"}},{"$f":"VLOOKUP(K179,[1]Paramètres!$M$5:$O$101,3,0)","v":{"$error":"#N/A"}},null,null,null,null,null,null,null,null,null,null,{"$f":"SUM(Tableau_Data[[#This Row],[Féminin]:[Masculin]])","v":0}]
[null,null,{"$f":"IF(D180=\"\",\"\",YEAR(D180))","v":""},null,"",null,null,null,null,null,null,{"$f":"VLOOKUP(K180,[1]Paramètres!$M$5:$O$101,2,0)","v":{"$error":"#N/A"}},{"$f":"VLOOKUP(K180,[1]Paramètres!$M$5:$O$101,3,0)","v":{"$error":"#N/A"}},null,null,null,null,null,null,null,null,null,null,{"$f":"SUM(Tableau_Data[[#This Row],[Féminin]:[Masculin]])","v":0}]
[null,null,"",null,"",null,null,null,null,null,null,{"$f":"VLOOKUP(K181,[1]Paramètres!$M$5:$O$101,2,0)","v":{"$error":"#N/A"}},{"$f":"VLOOKUP(K181,[1]Paramètres!$M$5:$O$101,3,0)","v":{"$error":"#N/A"}},null,null,null,null,null,null,null,null,null,null,{"$f":"SUM(Tableau_Data[[#This Row],[Féminin]:[Masculin]])","v":0}]
[null,null,"",null,"",null,null,null,null,null,null,{"$f":"VLOOKUP(K182,[1]Paramètres!$M$5:$O$101,2,0)","v":{"$error":"#N/A"}},{"$f":"VLOOKUP(K182,[1]Paramètres!$M$5:$O$101,3,0)","v":{"$error":"#N/A"}},null,null,null,null,null,null,null,null,null,null,{"$f":"SUM(Tableau_Data[[#This Row],[Féminin]:[Masculin]])","v":0}]
[null,null,"",null,"",null,null,null,null,null,null,{"$f":"VLOOKUP(K183,[1]Paramètres!$M$5:$O$101,2,0)","v":{"$error":"#N/A"}},{"$f":"VLOOKUP(K183,[1]Paramètres!$M$5:$O$101,3,0)","v":{"$error":"#N/A"}},null,null,null,null,null,null,null,null,null,null,{"$f":"SUM(Tableau_Data[[#This Row],[Féminin]:[Masculin]])","v":0}]
[null,null,"",null,"",null,null,null,null,null,null,{"$f":"VLOOKUP(K184,[1]Paramètres!$M$5:$O$101,2,0)","v":{"$error":"#N/A"}},{"$f":"VLOOKUP(K184,[1]Paramètres!$M$5:$O$101,3,0)","v":{"$error":"#N/A"}},null,null,null,null,null,null,null,null,null,null,{"$f":"SUM(Tableau_Data[[#This Row],[Féminin]:[Masculin]])","v":0}]
[null,null,"",null,"",null,null,null,null,null,null,{"$f":"VLOOKUP(K185,[1]Paramètres!$M$5:$O$101,2,0)","v":{"$error":"#N/A"}},{"$f":"VLOOKUP(K185,[1]Paramètres!$M$5:$O$101,3,0)","v":{"$error":"#N/A"}},null,null,null,null,null,null,null,null,null,null,{"$f":"SUM(Tableau_Data[[#This Row],[Féminin]:[Masculin]])","v":0}]
[null,null,"",null,"",null,null,null,null,null,null,{"$f":"VLOOKUP(K186,[1]Paramètres!$M$5:$O$101,2,0)","v":{"$error":"#N/A"}},{"$f":"VLOOKUP(K186,[1]Paramètres!$M$5:$O$101,3,0)","v":{"$error":"#N/A"}},null,null,null,null,null,null,null,null,null,null,{"$f":"SUM(Tableau_Data[[#This Row],[Féminin]:[Masculin]])","v":0}]
[null,null,"",null,"",null,null,null,null,null,null,{"$f":"VLOOKUP(K187,[1]Paramètres!$M$5:$O$101,2,0)","v":{"$error":"#N/A"}},{"$f":"VLOOKUP(K187,[1]Paramètres!$M$5:$O$101,3,0)","v":{"$error":"#N/A"}},null,null,null,null,null,null,null,null,null,null,{"$f":"SUM(Tableau_Data[[#This Row],[Féminin]:[Masculin]])","v":0}]
[null,null,"",null,"",null,null,null,null,null,null,{"$f":"VLOOKUP(K188,[1]Paramètres!$M$5:$O$101,2,0)","v":{"$error":"#N/A"}},{"$f":"VLOOKUP(K188,[1]Paramètres!$M$5:$O$101,3,0)","v":{"$error":"#N/A"}},null,null,null,null,null,null,null,null,null,null,{"$f":"SUM(Tableau_Data[[#This Row],[Féminin]:[Masculin]])","v":0}]
[null,null,"",null,"",null,null,null,null,null,null,{"$f":"VLOOKUP(K189,[1]Paramètres!$M$5:$O$101,2,0)","v":{"$error":"#N/A"}},{"$f":"VLOOKUP(K189,[1]Paramètres!$M$5:$O$101,3,0)","v":{"$error":"#N/A"}},null,null,null,null,null,null,null,null,null,null,{"$f":"SUM(Tableau_Data[[#This Row],[Féminin]:[Masculin]])","v":0}]
[null,null,"",null,"",null,null,null,null,null,null,{"$f":"VLOOKUP(K190,[1]Paramètres!$M$5:$O$101,2,0)","v":{"$error":"#N/A"}},{"$f":"VLOOKUP(K190,[1]Paramètres!$M$5:$O$101,3,0)","v":{"$error":"#N/A"}},null,null,null,null,null,null,null,null,null,null,{"$f":"SUM(Tableau_Data[[#This Row],[Féminin]:[Masculin]])","v":0}]
[null,null,"",null,"",null,null,null,null,null,null,{"$f":"VLOOKUP(K191,[1]Paramètres!$M$5:$O$101,2,0)","v":{"$error":"#N/A"}},{"$f":"VLOOKUP(K191,[1]Paramètres!$M$5:$O$101,3,0)","v":{"$error":"#N/A"}},null,null,null,null,null,null,null,null,null,null,{"$f":"SUM(Tableau_Data[[#This Row],[Féminin]:[Masculin]])","v":0}]
[null,null,"",null,"",null,null,null,null,null,null,{"$f":"VLOOKUP(K192,[1]Paramètres!$M$5:$O$101,2,0)","v":{"$error":"#N/A"}},{"$f":"VLOOKUP(K192,[1]Paramètres!$M$5:$O$101,3,0)","v":{"$error":"#N/A"}},null,null,null,null,null,null,null,null,null,null,{"$f":"SUM(Tableau_Data[[#This Row],[Féminin]:[Masculin]])","v":0}]
[null,null,"",null,"",null,null,null,null,null,null,{"$f":"VLOOKUP(K193,[1]Paramètres!$M$5:$O$101,2,0)","v":{"$error":"#N/A"}},{"$f":"VLOOKUP(K193,[1]Paramètres!$M$5:$O$101,3,0)","v":{"$error":"#N/A"}},null,null,null,null,null,null,null,null,null,null,{"$f":"SUM(Tableau_Data[[#This Row],[Féminin]:[Masculin]])","v":0}]
[null,null,"",null,"",null,null,null,null,null,null,{"$f":"VLOOKUP(K194,[1]Paramètres!$M$5:$O$101,2,0)","v":{"$error":"#N/A"}},{"$f":"VLOOKUP(K194,[1]Paramètres!$M$5:$O$101,3,0)","v":{"$error":"#N/A"}},null,null,null,null,null,null,null,null,null,null,{"$f":"SUM(Tableau_Data[[#This Row],[Féminin]:[Masculin]])","v":0}]
[null,null,"",null,"",null,null,null,null,null,null,{"$f":"VLOOKUP(K195,[1]Paramètres!$M$5:$O$101,2,0)","v":{"$error":"#N/A"}},{"$f":"VLOOKUP(K195,[1]Paramètres!$M$5:$O$101,3,0)","v":{"$error":"#N/A"}},null,null,null,null,null,null,null,null,null,null,{"$f":"SUM(Tableau_Data[[#This Row],[Féminin]:[Masculin]])","v":0}]
[null,null,"",null,"",null,null,null,null,null,null,{"$f":"VLOOKUP(K196,[1]Paramètres!$M$5:$O$101,2,0)","v":{"$error":"#N/A"}},{"$f":"VLOOKUP(K196,[1]Paramètres!$M$5:$O$101,3,0)","v":{"$error":"#N/A"}},null,null,null,null,null,null,null,null,null,null,{"$f":"SUM(Tableau_Data[[#This Row],[Féminin]:[Masculin]])","v":0}]
[null,null,"",null,"",null,null,null,null,null,null,{"$f":"VLOOKUP(K197,[1]Paramètres!$M$5:$O$101,2,0)","v":{"$error":"#N/A"}},{"$f":"VLOOKUP(K197,[1]Paramètres!$M$5:$O$101,3,0)","v":{"$error":"#N/A"}},null,null,null,null,null,null,null,null,null,null,{"$f":"SUM(Tableau_Data[[#This Row],[Féminin]:[Masculin]])","v":0}]
[null,null,"",null,"",null,null,null,null,null,null,{"$f":"VLOOKUP(K198,[1]Paramètres!$M$5:$O$101,2,0)","v":{"$error":"#N/A"}},{"$f":"VLOOKUP(K198,[1]Paramètres!$M$5:$O$101,3,0)","v":{"$error":"#N/A"}},null,null,null,null,null,null,null,null,null,null,{"$f":"SUM(Tableau_Data[[#This Row],[Féminin]:[Masculin]])","v":0}]
[null,null,"",null,"",null,null,null,null,null,null,{"$f":"VLOOKUP(K199,[1]Paramètres!$M$5:$O$101,2,0)","v":{"$error":"#N/A"}},{"$f":"VLOOKUP(K199,[1]Paramètres!$M$5:$O$101,3,0)","v":{"$error":"#N/A"}},null,null,null,null,null,null,null,null,null,null,{"$f":"SUM(Tableau_Data[[#This Row],[Féminin]:[Masculin]])","v":0}]
[null,null,"",null,"",null,null,null,null,null,null,{"$f":"VLOOKUP(K200,[1]Paramètres!$M$5:$O$101,2,0)","v":{"$error":"#N/A"}},{"$f":"VLOOKUP(K200,[1]Paramètres!$M$5:$O$101,3,0)","v":{"$error":"#N/A"}},null,null,null,null,null,null,null,null,null,null,{"$f":"SUM(Tableau_Data[[#This Row],[Féminin]:[Masculin]])","v":0}]
[null,null,"",null,"",null,null,null,null,null,null,{"$f":"VLOOKUP(K201,[1]Paramètres!$M$5:$O$101,2,0)","v":{"$error":"#N/A"}},{"$f":"VLOOKUP(K201,[1]Paramètres!$M$5:$O$101,3,0)","v":{"$error":"#N/A"}},null,null,null,null,null,null,null,null,null,null,{"$f":"SUM(Tableau_Data[[#This Row],[Féminin]:[Masculin]])","v":0}]
[null,null,"",null,"",null,null,null,null,null,null,{"$f":"VLOOKUP(K202,[1]Paramètres!$M$5:$O$101,2,0)","v":{"$error":"#N/A"}},{"$f":"VLOOKUP(K202,[1]Paramètres!$M$5:$O$101,3,0)","v":{"$error":"#N/A"}},null,null,null,null,null,null,null,null,null,null,{"$f":"SUM(Tableau_Data[[#This Row],[Féminin]:[Masculin]])","v":0}]
[null,null,"",null,"",null,null,null,null,null,null,{"$f":"VLOOKUP(K203,[1]Paramètres!$M$5:$O$101,2,0)","v":{"$error":"#N/A"}},{"$f":"VLOOKUP(K203,[1]Paramètres!$M$5:$O$101,3,0)","v":{"$error":"#N/A"}},null,null,null,null,null,null,null,null,null,null,{"$f":"SUM(Tableau_Data[[#This Row],[Féminin]:[Masculin]])","v":0}]
[null,null,"",null,"",null,null,null,null,null,null,{"$f":"VLOOKUP(K204,[1]Paramètres!$M$5:$O$101,2,0)","v":{"$error":"#N/A"}},{"$f":"VLOOKUP(K204,[1]Paramètres!$M$5:$O$101,3,0)","v":{"$error":"#N/A"}},null,null,null,null,null,null,null,null,null,null,{"$f":"SUM(Tableau_Data[[#This Row],[Féminin]:[Masculin]])","v":0}]
[null,null,"",null,"",null,null,null,null,null,null,{"$f":"VLOOKUP(K205,[1]Paramètres!$M$5:$O$101,2,0)","v":{"$error":"#N/A"}},{"$f":"VLOOKUP(K205,[1]Paramètres!$M$5:$O$101,3,0)","v":{"$error":"#N/A"}},null,null,null,null,null,null,null,null,null,null,{"$f":"SUM(Tableau_Data[[#This Row],[Féminin]:[Masculin]])","v":0}]
[null,null,"",null,"",null,null,null,null,null,null,{"$f":"VLOOKUP(K206,[1]Paramètres!$M$5:$O$101,2,0)","v":{"$error":"#N/A"}},{"$f":"VLOOKUP(K206,[1]Paramètres!$M$5:$O$101,3,0)","v":{"$error":"#N/A"}},null,null,null,null,null,null,null,null,null,null,{"$f":"SUM(Tableau_Data[[#This Row],[Féminin]:[Masculin]])","v":0}]
[null,null,"",null,"",null,null,null,null,null,null,{"$f":"VLOOKUP(K207,[1]Paramètres!$M$5:$O$101,2,0)","v":{"$error":"#N/A"}},{"$f":"VLOOKUP(K207,[1]Paramètres!$M$5:$O$101,3,0)","v":{"$error":"#N/A"}},null,null,null,null,null,null,null,null,null,null,{"$f":"SUM(Tableau_Data[[#This Row],[Féminin]:[Masculin]])","v":0}]
[null,null,"",null,"",null,null,null,null,null,null,{"$f":"VLOOKUP(K208,[1]Paramètres!$M$5:$O$101,2,0)","v":{"$error":"#N/A"}},{"$f":"VLOOKUP(K208,[1]Paramètres!$M$5:$O$101,3,0)","v":{"$error":"#N/A"}},null,null,null,null,null,null,null,null,null,null,{"$f":"SUM(Tableau_Data[[#This Row],[Féminin]:[Masculin]])","v":0}]
[null,null,"",null,"",null,null,null,null,null,null,{"$f":"VLOOKUP(K209,[1]Paramètres!$M$5:$O$101,2,0)","v":{"$error":"#N/A"}},{"$f":"VLOOKUP(K209,[1]Paramètres!$M$5:$O$101,3,0)","v":{"$error":"#N/A"}},null,null,null,null,null,null,null,null,null,null,{"$f":"SUM(Tableau_Data[[#This Row],[Féminin]:[Masculin]])","v":0}]
[null,null,"",null,"",null,null,null,null,null,null,{"$f":"VLOOKUP(K210,[1]Paramètres!$M$5:$O$101,2,0)","v":{"$error":"#N/A"}},{"$f":"VLOOKUP(K210,[1]Paramètres!$M$5:$O$101,3,0)","v":{"$error":"#N/A"}},null,null,null,null,null,null,null,null,null,null,{"$f":"SUM(Tableau_Data[[#This Row],[Féminin]:[Masculin]])","v":0}]
[null,null,"",null,"",null,null,null,null,null,null,{"$f":"VLOOKUP(K211,[1]Paramètres!$M$5:$O$101,2,0)","v":{"$error":"#N/A"}},{"$f":"VLOOKUP(K211,[1]Paramètres!$M$5:$O$101,3,0)","v":{"$error":"#N/A"}},null,null,null,null,null,null,null,null,null,null,{"$f":"SUM(Tableau_Data[[#This Row],[Féminin]:[Masculin]])","v":0}]
[null,null,"",null,"",null,null,null,null,null,null,{"$f":"VLOOKUP(K212,[1]Paramètres!$M$5:$O$101,2,0)","v":{"$error":"#N/A"}},{"$f":"VLOOKUP(K212,[1]Paramètres!$M$5:$O$101,3,0)","v":{"$error":"#N/A"}},null,null,null,null,null,null,null,null,null,null,{"$f":"SUM(Tableau_Data[[#This Row],[Féminin]:[Masculin]])","v":0}]
[null,null,"",null,"",null,null,null,null,null,null,{"$f":"VLOOKUP(K213,[1]Paramètres!$M$5:$O$101,2,0)","v":{"$error":"#N/A"}},{"$f":"VLOOKUP(K213,[1]Paramètres!$M$5:$O$101,3,0)","v":{"$error":"#N/A"}},null,null,null,null,null,null,null,null,null,null,{"$f":"SUM(Tableau_Data[[#This Row],[Féminin]:[Masculin]])","v":0}]
[null,null,"",null,"",null,null,null,null,null,null,{"$f":"VLOOKUP(K214,[1]Paramètres!$M$5:$O$101,2,0)","v":{"$error":"#N/A"}},{"$f":"VLOOKUP(K214,[1]Paramètres!$M$5:$O$101,3,0)","v":{"$error":"#N/A"}},null,null,null,null,null,null,null,null,null,null,{"$f":"SUM(Tableau_Data[[#This Row],[Féminin]:[Masculin]])","v":0}]
[null,null,"",null,"",null,null,null,null,null,null,{"$f":"VLOOKUP(K215,[1]Paramètres!$M$5:$O$101,2,0)","v":{"$error":"#N/A"}},{"$f":"VLOOKUP(K215,[1]Paramètres!$M$5:$O$101,3,0)","v":{"$error":"#N/A"}},null,null,null,null,null,null,null,null,null,null,{"$f":"SUM(Tableau_Data[[#This Row],[Féminin]:[Masculin]])","v":0}]
[null,null,"",null,"",null,null,null,null,null,null,{"$f":"VLOOKUP(K216,[1]Paramètres!$M$5:$O$101,2,0)","v":{"$error":"#N/A"}},{"$f":"VLOOKUP(K216,[1]Paramètres!$M$5:$O$101,3,0)","v":{"$error":"#N/A"}},null,null,null,null,null,null,null,null,null,null,{"$f":"SUM(Tableau_Data[[#This Row],[Féminin]:[Masculin]])","v":0}]
[null,null,"",null,"",null,null,null,null,null,null,{"$f":"VLOOKUP(K217,[1]Paramètres!$M$5:$O$101,2,0)","v":{"$error":"#N/A"}},{"$f":"VLOOKUP(K217,[1]Paramètres!$M$5:$O$101,3,0)","v":{"$error":"#N/A"}},null,null,null,null,null,null,null,null,null,null,{"$f":"SUM(Tableau_Data[[#This Row],[Féminin]:[Masculin]])","v":0}]
[null,null,"",null,"",null,null,null,null,null,null,{"$f":"VLOOKUP(K218,[1]Paramètres!$M$5:$O$101,2,0)","v":{"$error":"#N/A"}},{"$f":"VLOOKUP(K218,[1]Paramètres!$M$5:$O$101,3,0)","v":{"$error":"#N/A"}},null,null,null,null,null,null,null,null,null,null,{"$f":"SUM(Tableau_Data[[#This Row],[Féminin]:[Masculin]])","v":0}]
[null,null,"",null,"",null,null,null,null,null,null,{"$f":"VLOOKUP(K219,[1]Paramètres!$M$5:$O$101,2,0)","v":{"$error":"#N/A"}},{"$f":"VLOOKUP(K219,[1]Paramètres!$M$5:$O$101,3,0)","v":{"$error":"#N/A"}},null,null,null,null,null,null,null,null,null,null,{"$f":"SUM(Tableau_Data[[#This Row],[Féminin]:[Masculin]])","v":0}]
[null,null,"",null,"",null,null,null,null,null,null,{"$f":"VLOOKUP(K220,[1]Paramètres!$M$5:$O$101,2,0)","v":{"$error":"#N/A"}},{"$f":"VLOOKUP(K220,[1]Paramètres!$M$5:$O$101,3,0)","v":{"$error":"#N/A"}},null,null,null,null,null,null,null,null,null,null,{"$f":"SUM(Tableau_Data[[#This Row],[Féminin]:[Masculin]])","v":0}]
[null,null,"",null,"",null,null,null,null,null,null,{"$f":"VLOOKUP(K221,[1]Paramètres!$M$5:$O$101,2,0)","v":{"$error":"#N/A"}},{"$f":"VLOOKUP(K221,[1]Paramètres!$M$5:$O$101,3,0)","v":{"$error":"#N/A"}},null,null,null,null,null,null,null,null,null,null,{"$f":"SUM(Tableau_Data[[#This Row],[Féminin]:[Masculin]])","v":0}]
[null,null,"",null,"",null,null,null,null,null,null,{"$f":"VLOOKUP(K222,[1]Paramètres!$M$5:$O$101,2,0)","v":{"$error":"#N/A"}},{"$f":"VLOOKUP(K222,[1]Paramètres!$M$5:$O$101,3,0)","v":{"$error":"#N/A"}},null,null,null,null,null,null,null,null,null,null,{"$f":"SUM(Tableau_Data[[#This Row],[Féminin]:[Masculin]])","v":0}]
[null,null,"",null,"",null,null,null,null,null,null,{"$f":"VLOOKUP(K223,[1]Paramètres!$M$5:$O$101,2,0)","v":{"$error":"#N/A"}},{"$f":"VLOOKUP(K223,[1]Paramètres!$M$5:$O$101,3,0)","v":{"$error":"#N/A"}},null,null,null,null,null,null,null,null,null,null,{"$f":"SUM(Tableau_Data[[#This Row],[Féminin]:[Masculin]])","v":0}]
[null,null,"",null,"",null,null,null,null,null,null,{"$f":"VLOOKUP(K224,[1]Paramètres!$M$5:$O$101,2,0)","v":{"$error":"#N/A"}},{"$f":"VLOOKUP(K224,[1]Paramètres!$M$5:$O$101,3,0)","v":{"$error":"#N/A"}},null,null,null,null,null,null,null,null,null,null,{"$f":"SUM(Tableau_Data[[#This Row],[Féminin]:[Masculin]])","v":0}]
[null,null,"",null,"",null,null,null,null,null,null,{"$f":"VLOOKUP(K225,[1]Paramètres!$M$5:$O$101,2,0)","v":{"$error":"#N/A"}},{"$f":"VLOOKUP(K225,[1]Paramètres!$M$5:$O$101,3,0)","v":{"$error":"#N/A"}},null,null,null,null,null,null,null,null,null,null,{"$f":"SUM(Tableau_Data[[#This Row],[Féminin]:[Masculin]])","v":0}]
[null,null,"",null,"",null,null,null,null,null,null,{"$f":"VLOOKUP(K226,[1]Paramètres!$M$5:$O$101,2,0)","v":{"$error":"#N/A"}},{"$f":"VLOOKUP(K226,[1]Paramètres!$M$5:$O$101,3,0)","v":{"$error":"#N/A"}},null,null,null,null,null,null,null,null,null,null,{"$f":"SUM(Tableau_Data[[#This Row],[Féminin]:[Masculin]])","v":0}]
[null,null,"",null,{"$f":"IF(D227=\"\",\"\",MONTH(D227))","v":""},null,null,null,null,null,null,{"$f":"VLOOKUP(K227,[1]Paramètres!$M$5:$O$101,2,0)","v":{"$error":"#N/A"}},{"$f":"VLOOKUP(K227,[1]Paramètres!$M$5:$O$101,3,0)","v":{"$error":"#N/A"}},null,null,null,null,null,null,null,null,null,null,{"$f":"SUM(Tableau_Data[[#This Row],[Féminin]:[Masculin]])","v":0}]
[null,null,"",null,"",null,null,null,null,null,null,{"$f":"VLOOKUP(K228,[1]Paramètres!$M$5:$O$101,2,0)","v":{"$error":"#N/A"}},{"$f":"VLOOKUP(K228,[1]Paramètres!$M$5:$O$101,3,0)","v":{"$error":"#N/A"}},null,null,null,null,null,null,null,null,null,null,{"$f":"SUM(Tableau_Data[[#This Row],[Féminin]:[Masculin]])","v":0}]
[null,null,"",null,"",null,null,null,null,null,null,{"$f":"VLOOKUP(K229,[1]Paramètres!$M$5:$O$101,2,0)","v":{"$error":"#N/A"}},{"$f":"VLOOKUP(K229,[1]Paramètres!$M$5:$O$101,3,0)","v":{"$error":"#N/A"}},null,null,null,null,null,null,null,null,null,null,{"$f":"SUM(Tableau_Data[[#This Row],[Féminin]:[Masculin]])","v":0}]
[null,null,"",null,"",null,null,null,null,null,null,{"$f":"VLOOKUP(K230,[1]Paramètres!$M$5:$O$101,2,0)","v":{"$error":"#N/A"}},{"$f":"VLOOKUP(K230,[1]Paramètres!$M$5:$O$101,3,0)","v":{"$error":"#N/A"}},null,null,null,null,null,null,null,null,null,null,{"$f":"SUM(Tableau_Data[[#This Row],[Féminin]:[Masculin]])","v":0}]
[null,null,{"$f":"IF(D231=\"\",\"\",YEAR(D231))","v":""},null,"",null,null,null,null,null,null,{"$f":"VLOOKUP(K231,[1]Paramètres!$M$5:$O$101,2,0)","v":{"$error":"#N/A"}},{"$f":"VLOOKUP(K231,[1]Paramètres!$M$5:$O$101,3,0)","v":{"$error":"#N/A"}},null,null,null,null,null,null,null,null,null,null,{"$f":"SUM(Tableau_Data[[#This Row],[Féminin]:[Masculin]])","v":0}]
[null,null,"",null,"",null,null,null,null,null,null,{"$f":"VLOOKUP(K232,[1]Paramètres!$M$5:$O$101,2,0)","v":{"$error":"#N/A"}},{"$f":"VLOOKUP(K232,[1]Paramètres!$M$5:$O$101,3,0)","v":{"$error":"#N/A"}},null,null,null,null,null,null,null,null,null,null,{"$f":"SUM(Tableau_Data[[#This Row],[Féminin]:[Masculin]])","v":0}]
[null,null,"",null,"",null,null,null,null,null,null,{"$f":"VLOOKUP(K233,[1]Paramètres!$M$5:$O$101,2,0)","v":{"$error":"#N/A"}},{"$f":"VLOOKUP(K233,[1]Paramètres!$M$5:$O$101,3,0)","v":{"$error":"#N/A"}},null,null,null,null,null,null,null,null,null,null,{"$f":"SUM(Tableau_Data[[#This Row],[Féminin]:[Masculin]])","v":0}]
[null,null,"",null,"",null,null,null,null,null,null,{"$f":"VLOOKUP(K234,[1]Paramètres!$M$5:$O$101,2,0)","v":{"$error":"#N/A"}},{"$f":"VLOOKUP(K234,[1]Paramètres!$M$5:$O$101,3,0)","v":{"$error":"#N/A"}},null,null,null,null,null,null,null,null,null,null,{"$f":"SUM(Tableau_Data[[#This Row],[Féminin]:[Masculin]])","v":0}]
[null,null,"",null,"",null,null,null,null,null,null,{"$f":"VLOOKUP(K235,[1]Paramètres!$M$5:$O$101,2,0)","v":{"$error":"#N/A"}},{"$f":"VLOOKUP(K235,[1]Paramètres!$M$5:$O$101,3,0)","v":{"$error":"#N/A"}},null,null,null,null,null,null,null,null,null,null,{"$f":"SUM(Tableau_Data[[#This Row],[Féminin]:[Masculin]])","v":0}]
[null,null,"",null,"",null,null,null,null,null,null,{"$f":"VLOOKUP(K236,[1]Paramètres!$M$5:$O$101,2,0)","v":{"$error":"#N/A"}},{"$f":"VLOOKUP(K236,[1]Paramètres!$M$5:$O$101,3,0)","v":{"$error":"#N/A"}},null,null,null,null,null,null,null,null,null,null,{"$f":"SUM(Tableau_Data[[#This Row],[Féminin]:[Masculin]])","v":0}]
[null,null,"",null,"",null,null,null,null,null,null,{"$f":"VLOOKUP(K237,[1]Paramètres!$M$5:$O$101,2,0)","v":{"$error":"#N/A"}},{"$f":"VLOOKUP(K237,[1]Paramètres!$M$5:$O$101,3,0)","v":{"$error":"#N/A"}},null,null,null,null,null,null,null,null,null,null,{"$f":"SUM(Tableau_Data[[#This Row],[Féminin]:[Masculin]])","v":0}]
[null,null,"",null,"",null,null,null,null,null,null,{"$f":"VLOOKUP(K238,[1]Paramètres!$M$5:$O$101,2,0)","v":{"$error":"#N/A"}},{"$f":"VLOOKUP(K238,[1]Paramètres!$M$5:$O$101,3,0)","v":{"$error":"#N/A"}},null,null,null,null,null,null,null,null,null,null,{"$f":"SUM(Tableau_Data[[#This Row],[Féminin]:[Masculin]])","v":0}]
[null,null,"",null,"",null,null,null,null,null,null,{"$f":"VLOOKUP(K239,[1]Paramètres!$M$5:$O$101,2,0)","v":{"$error":"#N/A"}},{"$f":"VLOOKUP(K239,[1]Paramètres!$M$5:$O$101,3,0)","v":{"$error":"#N/A"}},null,null,null,null,null,null,null,null,null,null,{"$f":"SUM(Tableau_Data[[#This Row],[Féminin]:[Masculin]])","v":0}]
[null,null,"",null,"",null,null,null,null,null,null,{"$f":"VLOOKUP(K240,[1]Paramètres!$M$5:$O$101,2,0)","v":{"$error":"#N/A"}},{"$f":"VLOOKUP(K240,[1]Paramètres!$M$5:$O$101,3,0)","v":{"$error":"#N/A"}},null,null,null,null,null,null,null,null,null,null,{"$f":"SUM(Tableau_Data[[#This Row],[Féminin]:[Masculin]])","v":0}]
[null,null,"",null,"",null,null,null,null,null,null,{"$f":"VLOOKUP(K241,[1]Paramètres!$M$5:$O$101,2,0)","v":{"$error":"#N/A"}},{"$f":"VLOOKUP(K241,[1]Paramètres!$M$5:$O$101,3,0)","v":{"$error":"#N/A"}},null,null,null,null,null,null,null,null,null,null,{"$f":"SUM(Tableau_Data[[#This Row],[Féminin]:[Masculin]])","v":0}]
[null,null,"",null,"",null,null,null,null,null,null,{"$f":"VLOOKUP(K242,[1]Paramètres!$M$5:$O$101,2,0)","v":{"$error":"#N/A"}},{"$f":"VLOOKUP(K242,[1]Paramètres!$M$5:$O$101,3,0)","v":{"$error":"#N/A"}},null,null,null,null,null,null,null,null,null,null,{"$f":"SUM(Tableau_Data[[#This Row],[Féminin]:[Masculin]])","v":0}]
[null,null,"",null,"",null,null,null,null,null,null,{"$f":"VLOOKUP(K243,[1]Paramètres!$M$5:$O$101,2,0)","v":{"$error":"#N/A"}},{"$f":"VLOOKUP(K243,[1]Paramètres!$M$5:$O$101,3,0)","v":{"$error":"#N/A"}},null,null,null,null,null,null,null,null,null,null,{"$f":"SUM(Tableau_Data[[#This Row],[Féminin]:[Masculin]])","v":0}]
[null,null,"",null,"",null,null,null,null,null,null,{"$f":"VLOOKUP(K244,[1]Paramètres!$M$5:$O$101,2,0)","v":{"$error":"#N/A"}},{"$f":"VLOOKUP(K244,[1]Paramètres!$M$5:$O$101,3,0)","v":{"$error":"#N/A"}},null,null,null,null,null,null,null,null,null,null,{"$f":"SUM(Tableau_Data[[#This Row],[Féminin]:[Masculin]])","v":0}]
[null,null,"",null,"",null,null,null,null,null,null,{"$f":"VLOOKUP(K245,[1]Paramètres!$M$5:$O$101,2,0)","v":{"$error":"#N/A"}},{"$f":"VLOOKUP(K245,[1]Paramètres!$M$5:$O$101,3,0)","v":{"$error":"#N/A"}},null,null,null,null,null,null,null,null,null,null,{"$f":"SUM(Tableau_Data[[#This Row],[Féminin]:[Masculin]])","v":0}]
[null,null,"",null,"",null,null,null,null,null,null,{"$f":"VLOOKUP(K246,[1]Paramètres!$M$5:$O$101,2,0)","v":{"$error":"#N/A"}},{"$f":"VLOOKUP(K246,[1]Paramètres!$M$5:$O$101,3,0)","v":{"$error":"#N/A"}},null,null,null,null,null,null,null,null,null,null,{"$f":"SUM(Tableau_Data[[#This Row],[Féminin]:[Masculin]])","v":0}]
[null,null,"",null,"",null,null,null,null,null,null,{"$f":"VLOOKUP(K247,[1]Paramètres!$M$5:$O$101,2,0)","v":{"$error":"#N/A"}},{"$f":"VLOOKUP(K247,[1]Paramètres!$M$5:$O$101,3,0)","v":{"$error":"#N/A"}},null,null,null,null,null,null,null,null,null,null,{"$f":"SUM(Tableau_Data[[#This Row],[Féminin]:[Masculin]])","v":0}]
[null,null,"",null,"",null,null,null,null,null,null,{"$f":"VLOOKUP(K248,[1]Paramètres!$M$5:$O$101,2,0)","v":{"$error":"#N/A"}},{"$f":"VLOOKUP(K248,[1]Paramètres!$M$5:$O$101,3,0)","v":{"$error":"#N/A"}},null,null,null,null,null,null,null,null,null,null,{"$f":"SUM(Tableau_Data[[#This Row],[Féminin]:[Masculin]])","v":0}]
[null,null,"",null,"",null,null,null,null,null,null,{"$f":"VLOOKUP(K249,[1]Paramètres!$M$5:$O$101,2,0)","v":{"$error":"#N/A"}},{"$f":"VLOOKUP(K249,[1]Paramètres!$M$5:$O$101,3,0)","v":{"$error":"#N/A"}},null,null,null,null,null,null,null,null,null,null,{"$f":"SUM(Tableau_Data[[#This Row],[Féminin]:[Masculin]])","v":0}]
[null,null,"",null,"",null,null,null,null,null,null,{"$f":"VLOOKUP(K250,[1]Paramètres!$M$5:$O$101,2,0)","v":{"$error":"#N/A"}},{"$f":"VLOOKUP(K250,[1]Paramètres!$M$5:$O$101,3,0)","v":{"$error":"#N/A"}},null,null,null,null,null,null,null,null,null,null,{"$f":"SUM(Tableau_Data[[#This Row],[Féminin]:[Masculin]])","v":0}]
[null,null,"",null,"",null,null,null,null,null,null,{"$f":"VLOOKUP(K251,[1]Paramètres!$M$5:$O$101,2,0)","v":{"$error":"#N/A"}},{"$f":"VLOOKUP(K251,[1]Paramètres!$M$5:$O$101,3,0)","v":{"$error":"#N/A"}},null,null,null,null,null,null,null,null,null,null,{"$f":"SUM(Tableau_Data[[#This Row],[Féminin]:[Masculin]])","v":0}]
[null,null,"",null,"",null,null,null,null,null,null,{"$f":"VLOOKUP(K252,[1]Paramètres!$M$5:$O$101,2,0)","v":{"$error":"#N/A"}},{"$f":"VLOOKUP(K252,[1]Paramètres!$M$5:$O$101,3,0)","v":{"$error":"#N/A"}},null,null,null,null,null,null,null,null,null,null,{"$f":"SUM(Tableau_Data[[#This Row],[Féminin]:[Masculin]])","v":0}]
[null,null,"",null,"",null,null,null,null,null,null,{"$f":"VLOOKUP(K253,[1]Paramètres!$M$5:$O$101,2,0)","v":{"$error":"#N/A"}},{"$f":"VLOOKUP(K253,[1]Paramètres!$M$5:$O$101,3,0)","v":{"$error":"#N/A"}},null,null,null,null,null,null,null,null,null,null,{"$f":"SUM(Tableau_Data[[#This Row],[Féminin]:[Masculin]])","v":0}]
[null,null,"",null,"",null,null,null,null,null,null,{"$f":"VLOOKUP(K254,[1]Paramètres!$M$5:$O$101,2,0)","v":{"$error":"#N/A"}},{"$f":"VLOOKUP(K254,[1]Paramètres!$M$5:$O$101,3,0)","v":{"$error":"#N/A"}},null,null,null,null,null,null,null,null,null,null,{"$f":"SUM(Tableau_Data[[#This Row],[Féminin]:[Masculin]])","v":0}]
[null,null,"",null,"",null,null,null,null,null,null,{"$f":"VLOOKUP(K255,[1]Paramètres!$M$5:$O$101,2,0)","v":{"$error":"#N/A"}},{"$f":"VLOOKUP(K255,[1]Paramètres!$M$5:$O$101,3,0)","v":{"$error":"#N/A"}},null,null,null,null,null,null,null,null,null,null,{"$f":"SUM(Tableau_Data[[#This Row],[Féminin]:[Masculin]])","v":0}]
[null,null,"",null,"",null,null,null,null,null,null,{"$f":"VLOOKUP(K256,[1]Paramètres!$M$5:$O$101,2,0)","v":{"$error":"#N/A"}},{"$f":"VLOOKUP(K256,[1]Paramètres!$M$5:$O$101,3,0)","v":{"$error":"#N/A"}},null,null,null,null,null,null,null,null,null,null,{"$f":"SUM(Tableau_Data[[#This Row],[Féminin]:[Masculin]])","v":0}]
[null,null,"",null,"",null,null,null,null,null,null,{"$f":"VLOOKUP(K257,[1]Paramètres!$M$5:$O$101,2,0)","v":{"$error":"#N/A"}},{"$f":"VLOOKUP(K257,[1]Paramètres!$M$5:$O$101,3,0)","v":{"$error":"#N/A"}},null,null,null,null,null,null,null,null,null,null,{"$f":"SUM(Tableau_Data[[#This Row],[Féminin]:[Masculin]])","v":0}]
[null,null,"",null,"",null,null,null,null,null,null,{"$f":"VLOOKUP(K258,[1]Paramètres!$M$5:$O$101,2,0)","v":{"$error":"#N/A"}},{"$f":"VLOOKUP(K258,[1]Paramètres!$M$5:$O$101,3,0)","v":{"$error":"#N/A"}},null,null,null,null,null,null,null,null,null,null,{"$f":"SUM(Tableau_Data[[#This Row],[Féminin]:[Masculin]])","v":0}]
[null,null,"",null,"",null,null,null,null,null,null,{"$f":"VLOOKUP(K259,[1]Paramètres!$M$5:$O$101,2,0)","v":{"$error":"#N/A"}},{"$f":"VLOOKUP(K259,[1]Paramètres!$M$5:$O$101,3,0)","v":{"$error":"#N/A"}},null,null,null,null,null,null,null,null,null,null,{"$f":"SUM(Tableau_Data[[#This Row],[Féminin]:[Masculin]])","v":0}]
[null,null,"",null,"",null,null,null,null,null,null,{"$f":"VLOOKUP(K260,[1]Paramètres!$M$5:$O$101,2,0)","v":{"$error":"#N/A"}},{"$f":"VLOOKUP(K260,[1]Paramètres!$M$5:$O$101,3,0)","v":{"$error":"#N/A"}},null,null,null,null,null,null,null,null,null,null,{"$f":"SUM(Tableau_Data[[#This Row],[Féminin]:[Masculin]])","v":0}]
[null,null,"",null,"",null,null,null,null,null,null,{"$f":"VLOOKUP(K261,[1]Paramètres!$M$5:$O$101,2,0)","v":{"$error":"#N/A"}},{"$f":"VLOOKUP(K261,[1]Paramètres!$M$5:$O$101,3,0)","v":{"$error":"#N/A"}},null,null,null,null,null,null,null,null,null,null,{"$f":"SUM(Tableau_Data[[#This Row],[Féminin]:[Masculin]])","v":0}]
[null,null,"",null,"",null,null,null,null,null,null,{"$f":"VLOOKUP(K262,[1]Paramètres!$M$5:$O$101,2,0)","v":{"$error":"#N/A"}},{"$f":"VLOOKUP(K262,[1]Paramètres!$M$5:$O$101,3,0)","v":{"$error":"#N/A"}},null,null,null,null,null,null,null,null,null,null,{"$f":"SUM(Tableau_Data[[#This Row],[Féminin]:[Masculin]])","v":0}]
[null,null,"",null,"",null,null,null,null,null,null,{"$f":"VLOOKUP(K263,[1]Paramètres!$M$5:$O$101,2,0)","v":{"$error":"#N/A"}},{"$f":"VLOOKUP(K263,[1]Paramètres!$M$5:$O$101,3,0)","v":{"$error":"#N/A"}},null,null,null,null,null,null,null,null,null,null,{"$f":"SUM(Tableau_Data[[#This Row],[Féminin]:[Masculin]])","v":0}]
[null,null,"",null,"",null,null,null,null,null,null,{"$f":"VLOOKUP(K264,[1]Paramètres!$M$5:$O$101,2,0)","v":{"$error":"#N/A"}},{"$f":"VLOOKUP(K264,[1]Paramètres!$M$5:$O$101,3,0)","v":{"$error":"#N/A"}},null,null,null,null,null,null,null,null,null,null,{"$f":"SUM(Tableau_Data[[#This Row],[Féminin]:[Masculin]])","v":0}]
[null,null,"",null,"",null,null,null,null,null,null,{"$f":"VLOOKUP(K265,[1]Paramètres!$M$5:$O$101,2,0)","v":{"$error":"#N/A"}},{"$f":"VLOOKUP(K265,[1]Paramètres!$M$5:$O$101,3,0)","v":{"$error":"#N/A"}},null,null,null,null,null,null,null,null,null,null,{"$f":"SUM(Tableau_Data[[#This Row],[Féminin]:[Masculin]])","v":0}]
[null,null,"",null,"",null,null,null,null,null,null,{"$f":"VLOOKUP(K266,[1]Paramètres!$M$5:$O$101,2,0)","v":{"$error":"#N/A"}},{"$f":"VLOOKUP(K266,[1]Paramètres!$M$5:$O$101,3,0)","v":{"$error":"#N/A"}},null,null,null,null,null,null,null,null,null,null,{"$f":"SUM(Tableau_Data[[#This Row],[Féminin]:[Masculin]])","v":0}]
[null,null,"",null,"",null,null,null,null,null,null,{"$f":"VLOOKUP(K267,[1]Paramètres!$M$5:$O$101,2,0)","v":{"$error":"#N/A"}},{"$f":"VLOOKUP(K267,[1]Paramètres!$M$5:$O$101,3,0)","v":{"$error":"#N/A"}},null,null,null,null,null,null,null,null,null,null,{"$f":"SUM(Tableau_Data[[#This Row],[Féminin]:[Masculin]])","v":0}]
[null,null,"",null,"",null,null,null,null,null,null,{"$f":"VLOOKUP(K268,[1]Paramètres!$M$5:$O$101,2,0)","v":{"$error":"#N/A"}},{"$f":"VLOOKUP(K268,[1]Paramètres!$M$5:$O$101,3,0)","v":{"$error":"#N/A"}},null,null,null,null,null,null,null,null,null,null,{"$f":"SUM(Tableau_Data[[#This Row],[Féminin]:[Masculin]])","v":0}]
[null,null,"",null,"",null,null,null,null,null,null,{"$f":"VLOOKUP(K269,[1]Paramètres!$M$5:$O$101,2,0)","v":{"$error":"#N/A"}},{"$f":"VLOOKUP(K269,[1]Paramètres!$M$5:$O$101,3,0)","v":{"$error":"#N/A"}},null,null,null,null,null,null,null,null,null,null,{"$f":"SUM(Tableau_Data[[#This Row],[Féminin]:[Masculin]])","v":0}]
[null,null,"",null,"",null,null,null,null,null,null,{"$f":"VLOOKUP(K270,[1]Paramètres!$M$5:$O$101,2,0)","v":{"$error":"#N/A"}},{"$f":"VLOOKUP(K270,[1]Paramètres!$M$5:$O$101,3,0)","v":{"$error":"#N/A"}},null,null,null,null,null,null,null,null,null,null,{"$f":"SUM(Tableau_Data[[#This Row],[Féminin]:[Masculin]])","v":0}]
[null,null,"",null,"",null,null,null,null,null,null,{"$f":"VLOOKUP(K271,[1]Paramètres!$M$5:$O$101,2,0)","v":{"$error":"#N/A"}},{"$f":"VLOOKUP(K271,[1]Paramètres!$M$5:$O$101,3,0)","v":{"$error":"#N/A"}},null,null,null,null,null,null,null,null,null,null,{"$f":"SUM(Tableau_Data[[#This Row],[Féminin]:[Masculin]])","v":0}]
[null,null,"",null,"",null,null,null,null,null,null,{"$f":"VLOOKUP(K272,[1]Paramètres!$M$5:$O$101,2,0)","v":{"$error":"#N/A"}},{"$f":"VLOOKUP(K272,[1]Paramètres!$M$5:$O$101,3,0)","v":{"$error":"#N/A"}},null,null,null,null,null,null,null,null,null,null,{"$f":"SUM(Tableau_Data[[#This Row],[Féminin]:[Masculin]])","v":0}]
[null,null,"",null,"",null,null,null,null,null,null,{"$f":"VLOOKUP(K273,[1]Paramètres!$M$5:$O$101,2,0)","v":{"$error":"#N/A"}},{"$f":"VLOOKUP(K273,[1]Paramètres!$M$5:$O$101,3,0)","v":{"$error":"#N/A"}},null,null,null,null,null,null,null,null,null,null,{"$f":"SUM(Tableau_Data[[#This Row],[Féminin]:[Masculin]])","v":0}]
[null,null,"",null,"",null,null,null,null,null,null,{"$f":"VLOOKUP(K274,[1]Paramètres!$M$5:$O$101,2,0)","v":{"$error":"#N/A"}},{"$f":"VLOOKUP(K274,[1]Paramètres!$M$5:$O$101,3,0)","v":{"$error":"#N/A"}},null,null,null,null,null,null,null,null,null,null,{"$f":"SUM(Tableau_Data[[#This Row],[Féminin]:[Masculin]])","v":0}]
[null,null,"",null,"",null,null,null,null,null,null,{"$f":"VLOOKUP(K275,[1]Paramètres!$M$5:$O$101,2,0)","v":{"$error":"#N/A"}},{"$f":"VLOOKUP(K275,[1]Paramètres!$M$5:$O$101,3,0)","v":{"$error":"#N/A"}},null,null,null,null,null,null,null,null,null,null,{"$f":"SUM(Tableau_Data[[#This Row],[Féminin]:[Masculin]])","v":0}]
[null,null,"",null,"",null,null,null,null,null,null,{"$f":"VLOOKUP(K276,[1]Paramètres!$M$5:$O$101,2,0)","v":{"$error":"#N/A"}},{"$f":"VLOOKUP(K276,[1]Paramètres!$M$5:$O$101,3,0)","v":{"$error":"#N/A"}},null,null,null,null,null,null,null,null,null,null,{"$f":"SUM(Tableau_Data[[#This Row],[Féminin]:[Masculin]])","v":0}]
[null,null,"",null,"",null,null,null,null,null,null,{"$f":"VLOOKUP(K277,[1]Paramètres!$M$5:$O$101,2,0)","v":{"$error":"#N/A"}},{"$f":"VLOOKUP(K277,[1]Paramètres!$M$5:$O$101,3,0)","v":{"$error":"#N/A"}},null,null,null,null,null,null,null,null,null,null,{"$f":"SUM(Tableau_Data[[#This Row],[Féminin]:[Masculin]])","v":0}]
[null,null,"",null,"",null,null,null,null,null,null,{"$f":"VLOOKUP(K278,[1]Paramètres!$M$5:$O$101,2,0)","v":{"$error":"#N/A"}},{"$f":"VLOOKUP(K278,[1]Paramètres!$M$5:$O$101,3,0)","v":{"$error":"#N/A"}},null,null,null,null,null,null,null,null,null,null,{"$f":"SUM(Tableau_Data[[#This Row],[Féminin]:[Masculin]])","v":0}]
[null,null,"",null,"",null,null,null,null,null,null,{"$f":"VLOOKUP(K279,[1]Paramètres!$M$5:$O$101,2,0)","v":{"$error":"#N/A"}},{"$f":"VLOOKUP(K279,[1]Paramètres!$M$5:$O$101,3,0)","v":{"$error":"#N/A"}},null,null,null,null,null,null,null,null,null,null,{"$f":"SUM(Tableau_Data[[#This Row],[Féminin]:[Masculin]])","v":0}]
[null,null,"",null,"",null,null,null,null,null,null,{"$f":"VLOOKUP(K280,[1]Paramètres!$M$5:$O$101,2,0)","v":{"$error":"#N/A"}},{"$f":"VLOOKUP(K280,[1]Paramètres!$M$5:$O$101,3,0)","v":{"$error":"#N/A"}},null,null,null,null,null,null,null,null,null,null,{"$f":"SUM(Tableau_Data[[#This Row],[Féminin]:[Masculin]])","v":0}]
[null,null,"",null,"",null,null,null,null,null,null,{"$f":"VLOOKUP(K281,[1]Paramètres!$M$5:$O$101,2,0)","v":{"$error":"#N/A"}},{"$f":"VLOOKUP(K281,[1]Paramètres!$M$5:$O$101,3,0)","v":{"$error":"#N/A"}},null,null,null,null,null,null,null,null,null,null,{"$f":"SUM(Tableau_Data[[#This Row],[Féminin]:[Masculin]])","v":0}]
[null,null,"",null,"",null,null,null,null,null,null,{"$f":"VLOOKUP(K282,[1]Paramètres!$M$5:$O$101,2,0)","v":{"$error":"#N/A"}},{"$f":"VLOOKUP(K282,[1]Paramètres!$M$5:$O$101,3,0)","v":{"$error":"#N/A"}},null,null,null,null,null,null,null,null,null,null,{"$f":"SUM(Tableau_Data[[#This Row],[Féminin]:[Masculin]])","v":0}]
[null,null,"",null,"",null,null,null,null,null,null,{"$f":"VLOOKUP(K283,[1]Paramètres!$M$5:$O$101,2,0)","v":{"$error":"#N/A"}},{"$f":"VLOOKUP(K283,[1]Paramètres!$M$5:$O$101,3,0)","v":{"$error":"#N/A"}},null,null,null,null,null,null,null,null,null,null,{"$f":"SUM(Tableau_Data[[#This Row],[Féminin]:[Masculin]])","v":0}]
[null,null,"",null,"",null,null,null,null,null,null,{"$f":"VLOOKUP(K284,[1]Paramètres!$M$5:$O$101,2,0)","v":{"$error":"#N/A"}},{"$f":"VLOOKUP(K284,[1]Paramètres!$M$5:$O$101,3,0)","v":{"$error":"#N/A"}},null,null,null,null,null,null,null,null,null,null,{"$f":"SUM(Tableau_Data[[#This Row],[Féminin]:[Masculin]])","v":0}]
[null,null,"",null,{"$f":"IF(D285=\"\",\"\",MONTH(D285))","v":""},null,null,null,null,null,null,{"$f":"VLOOKUP(K285,[1]Paramètres!$M$5:$O$101,2,0)","v":{"$error":"#N/A"}},{"$f":"VLOOKUP(K285,[1]Paramètres!$M$5:$O$101,3,0)","v":{"$error":"#N/A"}},null,null,null,null,null,null,null,null,null,null,{"$f":"SUM(Tableau_Data[[#This Row],[Féminin]:[Masculin]])","v":0}]
[null,null,"",null,"",null,null,null,null,null,null,{"$f":"VLOOKUP(K286,[1]Paramètres!$M$5:$O$101,2,0)","v":{"$error":"#N/A"}},{"$f":"VLOOKUP(K286,[1]Paramètres!$M$5:$O$101,3,0)","v":{"$error":"#N/A"}},null,null,null,null,null,null,null,null,null,null,{"$f":"SUM(Tableau_Data[[#This Row],[Féminin]:[Masculin]])","v":0}]
[null,null,"",null,"",null,null,null,null,null,null,{"$f":"VLOOKUP(K287,[1]Paramètres!$M$5:$O$101,2,0)","v":{"$error":"#N/A"}},{"$f":"VLOOKUP(K287,[1]Paramètres!$M$5:$O$101,3,0)","v":{"$error":"#N/A"}},null,null,null,null,null,null,null,null,null,null,{"$f":"SUM(Tableau_Data[[#This Row],[Féminin]:[Masculin]])","v":0}]
[null,null,"",null,"",null,null,null,null,null,null,{"$f":"VLOOKUP(K288,[1]Paramètres!$M$5:$O$101,2,0)","v":{"$error":"#N/A"}},{"$f":"VLOOKUP(K288,[1]Paramètres!$M$5:$O$101,3,0)","v":{"$error":"#N/A"}},null,null,null,null,null,null,null,null,null,null,{"$f":"SUM(Tableau_Data[[#This Row],[Féminin]:[Masculin]])","v":0}]
[null,null,"",null,"",null,null,null,null,null,null,{"$f":"VLOOKUP(K289,[1]Paramètres!$M$5:$O$101,2,0)","v":{"$error":"#N/A"}},{"$f":"VLOOKUP(K289,[1]Paramètres!$M$5:$O$101,3,0)","v":{"$error":"#N/A"}},null,null,null,null,null,null,null,null,null,null,{"$f":"SUM(Tableau_Data[[#This Row],[Féminin]:[Masculin]])","v":0}]
[null,null,"",null,"",null,null,null,null,null,null,{"$f":"VLOOKUP(K290,[1]Paramètres!$M$5:$O$101,2,0)","v":{"$error":"#N/A"}},{"$f":"VLOOKUP(K290,[1]Paramètres!$M$5:$O$101,3,0)","v":{"$error":"#N/A"}},null,null,null,null,null,null,null,null,null,null,{"$f":"SUM(Tableau_Data[[#This Row],[Féminin]:[Masculin]])","v":0}]
[null,null,"",null,"",null,null,null,null,null,null,{"$f":"VLOOKUP(K291,[1]Paramètres!$M$5:$O$101,2,0)","v":{"$error":"#N/A"}},{"$f":"VLOOKUP(K291,[1]Paramètres!$M$5:$O$101,3,0)","v":{"$error":"#N/A"}},null,null,null,null,null,null,null,null,null,null,{"$f":"SUM(Tableau_Data[[#This Row],[Féminin]:[Masculin]])","v":0}]
[null,null,"",null,"",null,null,null,null,null,null,{"$f":"VLOOKUP(K292,[1]Paramètres!$M$5:$O$101,2,0)","v":{"$error":"#N/A"}},{"$f":"VLOOKUP(K292,[1]Paramètres!$M$5:$O$101,3,0)","v":{"$error":"#N/A"}},null,null,null,null,null,null,null,null,null,null,{"$f":"SUM(Tableau_Data[[#This Row],[Féminin]:[Masculin]])","v":0}]
[null,null,"",null,"",null,null,null,null,null,null,{"$f":"VLOOKUP(K293,[1]Paramètres!$M$5:$O$101,2,0)","v":{"$error":"#N/A"}},{"$f":"VLOOKUP(K293,[1]Paramètres!$M$5:$O$101,3,0)","v":{"$error":"#N/A"}},null,null,null,null,null,null,null,null,null,null,{"$f":"SUM(Tableau_Data[[#This Row],[Féminin]:[Masculin]])","v":0}]
[null,null,"",null,"",null,null,null,null,null,null,{"$f":"VLOOKUP(K294,[1]Paramètres!$M$5:$O$101,2,0)","v":{"$error":"#N/A"}},{"$f":"VLOOKUP(K294,[1]Paramètres!$M$5:$O$101,3,0)","v":{"$error":"#N/A"}},null,null,null,null,null,null,null,null,null,null,{"$f":"SUM(Tableau_Data[[#This Row],[Féminin]:[Masculin]])","v":0}]
[null,null,{"$f":"IF(D295=\"\",\"\",YEAR(D295))","v":""},null,"",null,null,null,null,null,null,{"$f":"VLOOKUP(K295,[1]Paramètres!$M$5:$O$101,2,0)","v":{"$error":"#N/A"}},{"$f":"VLOOKUP(K295,[1]Paramètres!$M$5:$O$101,3,0)","v":{"$error":"#N/A"}},null,null,null,null,null,null,null,null,null,null,{"$f":"SUM(Tableau_Data[[#This Row],[Féminin]:[Masculin]])","v":0}]
[null,null,"",null,"",null,null,null,null,null,null,{"$f":"VLOOKUP(K296,[1]Paramètres!$M$5:$O$101,2,0)","v":{"$error":"#N/A"}},{"$f":"VLOOKUP(K296,[1]Paramètres!$M$5:$O$101,3,0)","v":{"$error":"#N/A"}},null,null,null,null,null,null,null,null,null,null,{"$f":"SUM(Tableau_Data[[#This Row],[Féminin]:[Masculin]])","v":0}]
[null,null,"",null,"",null,null,null,null,null,null,{"$f":"VLOOKUP(K297,[1]Paramètres!$M$5:$O$101,2,0)","v":{"$error":"#N/A"}},{"$f":"VLOOKUP(K297,[1]Paramètres!$M$5:$O$101,3,0)","v":{"$error":"#N/A"}},null,null,null,null,null,null,null,null,null,null,{"$f":"SUM(Tableau_Data[[#This Row],[Féminin]:[Masculin]])","v":0}]
[null,null,"",null,"",null,null,null,null,null,null,{"$f":"VLOOKUP(K298,[1]Paramètres!$M$5:$O$101,2,0)","v":{"$error":"#N/A"}},{"$f":"VLOOKUP(K298,[1]Paramètres!$M$5:$O$101,3,0)","v":{"$error":"#N/A"}},null,null,null,null,null,null,null,null,null,null,{"$f":"SUM(Tableau_Data[[#This Row],[Féminin]:[Masculin]])","v":0}]
[null,null,"",null,"",null,null,null,null,null,null,{"$f":"VLOOKUP(K299,[1]Paramètres!$M$5:$O$101,2,0)","v":{"$error":"#N/A"}},{"$f":"VLOOKUP(K299,[1]Paramètres!$M$5:$O$101,3,0)","v":{"$error":"#N/A"}},null,null,null,null,null,null,null,null,null,null,{"$f":"SUM(Tableau_Data[[#This Row],[Féminin]:[Masculin]])","v":0}]
[null,null,"",null,"",null,null,null,null,null,null,{"$f":"VLOOKUP(K300,[1]Paramètres!$M$5:$O$101,2,0)","v":{"$error":"#N/A"}},{"$f":"VLOOKUP(K300,[1]Paramètres!$M$5:$O$101,3,0)","v":{"$error":"#N/A"}},null,null,null,null,null,null,null,null,null,null,{"$f":"SUM(Tableau_Data[[#This Row],[Féminin]:[Masculin]])","v":0}]
[null,null,"",null,"",null,null,null,null,null,null,{"$f":"VLOOKUP(K301,[1]Paramètres!$M$5:$O$101,2,0)","v":{"$error":"#N/A"}},{"$f":"VLOOKUP(K301,[1]Paramètres!$M$5:$O$101,3,0)","v":{"$error":"#N/A"}},null,null,null,null,null,null,null,null,null,null,{"$f":"SUM(Tableau_Data[[#This Row],[Féminin]:[Masculin]])","v":0}]
[null,null,"",null,"",null,null,null,null,null,null,{"$f":"VLOOKUP(K302,[1]Paramètres!$M$5:$O$101,2,0)","v":{"$error":"#N/A"}},{"$f":"VLOOKUP(K302,[1]Paramètres!$M$5:$O$101,3,0)","v":{"$error":"#N/A"}},null,null,null,null,null,null,null,null,null,null,{"$f":"SUM(Tableau_Data[[#This Row],[Féminin]:[Masculin]])","v":0}]
[null,null,"",null,"",null,null,null,null,null,null,{"$f":"VLOOKUP(K303,[1]Paramètres!$M$5:$O$101,2,0)","v":{"$error":"#N/A"}},{"$f":"VLOOKUP(K303,[1]Paramètres!$M$5:$O$101,3,0)","v":{"$error":"#N/A"}},null,null,null,null,null,null,null,null,null,null,{"$f":"SUM(Tableau_Data[[#This Row],[Féminin]:[Masculin]])","v":0}]
[null,null,"",null,"",null,null,null,null,null,null,{"$f":"VLOOKUP(K304,[1]Paramètres!$M$5:$O$101,2,0)","v":{"$error":"#N/A"}},{"$f":"VLOOKUP(K304,[1]Paramètres!$M$5:$O$101,3,0)","v":{"$error":"#N/A"}},null,null,null,null,null,null,null,null,null,null,{"$f":"SUM(Tableau_Data[[#This Row],[Féminin]:[Masculin]])","v":0}]
[null,null,"",null,"",null,null,null,null,null,null,{"$f":"VLOOKUP(K305,[1]Paramètres!$M$5:$O$101,2,0)","v":{"$error":"#N/A"}},{"$f":"VLOOKUP(K305,[1]Paramètres!$M$5:$O$101,3,0)","v":{"$error":"#N/A"}},null,null,null,null,null,null,null,null,null,null,{"$f":"SUM(Tableau_Data[[#This Row],[Féminin]:[Masculin]])","v":0}]
[null,null,"",null,"",null,null,null,null,null,null,{"$f":"VLOOKUP(K306,[1]Paramètres!$M$5:$O$101,2,0)","v":{"$error":"#N/A"}},{"$f":"VLOOKUP(K306,[1]Paramètres!$M$5:$O$101,3,0)","v":{"$error":"#N/A"}},null,null,null,null,null,null,null,null,null,null,{"$f":"SUM(Tableau_Data[[#This Row],[Féminin]:[Masculin]])","v":0}]
[null,null,"",null,"",null,null,null,null,null,null,{"$f":"VLOOKUP(K307,[1]Paramètres!$M$5:$O$101,2,0)","v":{"$error":"#N/A"}},{"$f":"VLOOKUP(K307,[1]Paramètres!$M$5:$O$101,3,0)","v":{"$error":"#N/A"}},null,null,null,null,null,null,null,null,null,null,{"$f":"SUM(Tableau_Data[[#This Row],[Féminin]:[Masculin]])","v":0}]
[null,null,"",null,"",null,null,null,null,null,null,{"$f":"VLOOKUP(K308,[1]Paramètres!$M$5:$O$101,2,0)","v":{"$error":"#N/A"}},{"$f":"VLOOKUP(K308,[1]Paramètres!$M$5:$O$101,3,0)","v":{"$error":"#N/A"}},null,null,null,null,null,null,null,null,null,null,{"$f":"SUM(Tableau_Data[[#This Row],[Féminin]:[Masculin]])","v":0}]
[null,null,"",null,"",null,null,null,null,null,null,{"$f":"VLOOKUP(K309,[1]Paramètres!$M$5:$O$101,2,0)","v":{"$error":"#N/A"}},{"$f":"VLOOKUP(K309,[1]Paramètres!$M$5:$O$101,3,0)","v":{"$error":"#N/A"}},null,null,null,null,null,null,null,null,null,null,{"$f":"SUM(Tableau_Data[[#This Row],[Féminin]:[Masculin]])","v":0}]
[null,null,"",null,"",null,null,null,null,null,null,{"$f":"VLOOKUP(K310,[1]Paramètres!$M$5:$O$101,2,0)","v":{"$error":"#N/A"}},{"$f":"VLOOKUP(K310,[1]Paramètres!$M$5:$O$101,3,0)","v":{"$error":"#N/A"}},null,null,null,null,null,null,null,null,null,null,{"$f":"SUM(Tableau_Data[[#This Row],[Féminin]:[Masculin]])","v":0}]
[null,null,"",null,"",null,null,null,null,null,null,{"$f":"VLOOKUP(K311,[1]Paramètres!$M$5:$O$101,2,0)","v":{"$error":"#N/A"}},{"$f":"VLOOKUP(K311,[1]Paramètres!$M$5:$O$101,3,0)","v":{"$error":"#N/A"}},null,null,null,null,null,null,null,null,null,null,{"$f":"SUM(Tableau_Data[[#This Row],[Féminin]:[Masculin]])","v":0}]
[null,null,"",null,"",null,null,null,null,null,null,{"$f":"VLOOKUP(K312,[1]Paramètres!$M$5:$O$101,2,0)","v":{"$error":"#N/A"}},{"$f":"VLOOKUP(K312,[1]Paramètres!$M$5:$O$101,3,0)","v":{"$error":"#N/A"}},null,null,null,null,null,null,null,null,null,null,{"$f":"SUM(Tableau_Data[[#This Row],[Féminin]:[Masculin]])","v":0}]
[null,null,"",null,"",null,null,null,null,null,null,{"$f":"VLOOKUP(K313,[1]Paramètres!$M$5:$O$101,2,0)","v":{"$error":"#N/A"}},{"$f":"VLOOKUP(K313,[1]Paramètres!$M$5:$O$101,3,0)","v":{"$error":"#N/A"}},null,null,null,null,null,null,null,null,null,null,{"$f":"SUM(Tableau_Data[[#This Row],[Féminin]:[Masculin]])","v":0}]
[null,null,"",null,"",null,null,null,null,null,null,{"$f":"VLOOKUP(K314,[1]Paramètres!$M$5:$O$101,2,0)","v":{"$error":"#N/A"}},{"$f":"VLOOKUP(K314,[1]Paramètres!$M$5:$O$101,3,0)","v":{"$error":"#N/A"}},null,null,null,null,null,null,null,null,null,null,{"$f":"SUM(Tableau_Data[[#This Row],[Féminin]:[Masculin]])","v":0}]
[null,null,"",null,"",null,null,null,null,null,null,{"$f":"VLOOKUP(K315,[1]Paramètres!$M$5:$O$101,2,0)","v":{"$error":"#N/A"}},{"$f":"VLOOKUP(K315,[1]Paramètres!$M$5:$O$101,3,0)","v":{"$error":"#N/A"}},null,null,null,null,null,null,null,null,null,null,{"$f":"SUM(Tableau_Data[[#This Row],[Féminin]:[Masculin]])","v":0}]
[null,null,"",null,"",null,null,null,null,null,null,{"$f":"VLOOKUP(K316,[1]Paramètres!$M$5:$O$101,2,0)","v":{"$error":"#N/A"}},{"$f":"VLOOKUP(K316,[1]Paramètres!$M$5:$O$101,3,0)","v":{"$error":"#N/A"}},null,null,null,null,null,null,null,null,null,null,{"$f":"SUM(Tableau_Data[[#This Row],[Féminin]:[Masculin]])","v":0}]
[null,null,"",null,"",null,null,null,null,null,null,{"$f":"VLOOKUP(K317,[1]Paramètres!$M$5:$O$101,2,0)","v":{"$error":"#N/A"}},{"$f":"VLOOKUP(K317,[1]Paramètres!$M$5:$O$101,3,0)","v":{"$error":"#N/A"}},null,null,null,null,null,null,null,null,null,null,{"$f":"SUM(Tableau_Data[[#This Row],[Féminin]:[Masculin]])","v":0}]
[null,null,"",null,"",null,null,null,null,null,null,{"$f":"VLOOKUP(K318,[1]Paramètres!$M$5:$O$101,2,0)","v":{"$error":"#N/A"}},{"$f":"VLOOKUP(K318,[1]Paramètres!$M$5:$O$101,3,0)","v":{"$error":"#N/A"}},null,null,null,null,null,null,null,null,null,null,{"$f":"SUM(Tableau_Data[[#This Row],[Féminin]:[Masculin]])","v":0}]
[null,null,"",null,"",null,null,null,null,null,null,{"$f":"VLOOKUP(K319,[1]Paramètres!$M$5:$O$101,2,0)","v":{"$error":"#N/A"}},{"$f":"VLOOKUP(K319,[1]Paramètres!$M$5:$O$101,3,0)","v":{"$error":"#N/A"}},null,null,null,null,null,null,null,null,null,null,{"$f":"SUM(Tableau_Data[[#This Row],[Féminin]:[Masculin]])","v":0}]
[null,null,"",null,"",null,null,null,null,null,null,{"$f":"VLOOKUP(K320,[1]Paramètres!$M$5:$O$101,2,0)","v":{"$error":"#N/A"}},{"$f":"VLOOKUP(K320,[1]Paramètres!$M$5:$O$101,3,0)","v":{"$error":"#N/A"}},null,null,null,null,null,null,null,null,null,null,{"$f":"SUM(Tableau_Data[[#This Row],[Féminin]:[Masculin]])","v":0}]
[null,null,"",null,"",null,null,null,null,null,null,{"$f":"VLOOKUP(K321,[1]Paramètres!$M$5:$O$101,2,0)","v":{"$error":"#N/A"}},{"$f":"VLOOKUP(K321,[1]Paramètres!$M$5:$O$101,3,0)","v":{"$error":"#N/A"}},null,null,null,null,null,null,null,null,null,null,{"$f":"SUM(Tableau_Data[[#This Row],[Féminin]:[Masculin]])","v":0}]
[null,null,"",null,"",null,null,null,null,null,null,{"$f":"VLOOKUP(K322,[1]Paramètres!$M$5:$O$101,2,0)","v":{"$error":"#N/A"}},{"$f":"VLOOKUP(K322,[1]Paramètres!$M$5:$O$101,3,0)","v":{"$error":"#N/A"}},null,null,null,null,null,null,null,null,null,null,{"$f":"SUM(Tableau_Data[[#This Row],[Féminin]:[Masculin]])","v":0}]
[null,null,"",null,"",null,null,null,null,null,null,{"$f":"VLOOKUP(K323,[1]Paramètres!$M$5:$O$101,2,0)","v":{"$error":"#N/A"}},{"$f":"VLOOKUP(K323,[1]Paramètres!$M$5:$O$101,3,0)","v":{"$error":"#N/A"}},null,null,null,null,null,null,null,null,null,null,{"$f":"SUM(Tableau_Data[[#This Row],[Féminin]:[Masculin]])","v":0}]
[null,null,"",null,"",null,null,null,null,null,null,{"$f":"VLOOKUP(K324,[1]Paramètres!$M$5:$O$101,2,0)","v":{"$error":"#N/A"}},{"$f":"VLOOKUP(K324,[1]Paramètres!$M$5:$O$101,3,0)","v":{"$error":"#N/A"}},null,null,null,null,null,null,null,null,null,null,{"$f":"SUM(Tableau_Data[[#This Row],[Féminin]:[Masculin]])","v":0}]
[null,null,"",null,"",null,null,null,null,null,null,{"$f":"VLOOKUP(K325,[1]Paramètres!$M$5:$O$101,2,0)","v":{"$error":"#N/A"}},{"$f":"VLOOKUP(K325,[1]Paramètres!$M$5:$O$101,3,0)","v":{"$error":"#N/A"}},null,null,null,null,null,null,null,null,null,null,{"$f":"SUM(Tableau_Data[[#This Row],[Féminin]:[Masculin]])","v":0}]
[null,null,"",null,"",null,null,null,null,null,null,{"$f":"VLOOKUP(K326,[1]Paramètres!$M$5:$O$101,2,0)","v":{"$error":"#N/A"}},{"$f":"VLOOKUP(K326,[1]Paramètres!$M$5:$O$101,3,0)","v":{"$error":"#N/A"}},null,null,null,null,null,null,null,null,null,null,{"$f":"SUM(Tableau_Data[[#This Row],[Féminin]:[Masculin]])","v":0}]
[null,null,"",null,"",null,null,null,null,null,null,{"$f":"VLOOKUP(K327,[1]Paramètres!$M$5:$O$101,2,0)","v":{"$error":"#N/A"}},{"$f":"VLOOKUP(K327,[1]Paramètres!$M$5:$O$101,3,0)","v":{"$error":"#N/A"}},null,null,null,null,null,null,null,null,null,null,{"$f":"SUM(Tableau_Data[[#This Row],[Féminin]:[Masculin]])","v":0}]
[null,null,"",null,"",null,null,null,null,null,null,{"$f":"VLOOKUP(K328,[1]Paramètres!$M$5:$O$101,2,0)","v":{"$error":"#N/A"}},{"$f":"VLOOKUP(K328,[1]Paramètres!$M$5:$O$101,3,0)","v":{"$error":"#N/A"}},null,null,null,null,null,null,null,null,null,null,{"$f":"SUM(Tableau_Data[[#This Row],[Féminin]:[Masculin]])","v":0}]
[null,null,"",null,"",null,null,null,null,null,null,{"$f":"VLOOKUP(K329,[1]Paramètres!$M$5:$O$101,2,0)","v":{"$error":"#N/A"}},{"$f":"VLOOKUP(K329,[1]Paramètres!$M$5:$O$101,3,0)","v":{"$error":"#N/A"}},null,null,null,null,null,null,null,null,null,null,{"$f":"SUM(Tableau_Data[[#This Row],[Féminin]:[Masculin]])","v":0}]
[null,null,"",null,"",null,null,null,null,null,null,{"$f":"VLOOKUP(K330,[1]Paramètres!$M$5:$O$101,2,0)","v":{"$error":"#N/A"}},{"$f":"VLOOKUP(K330,[1]Paramètres!$M$5:$O$101,3,0)","v":{"$error":"#N/A"}},null,null,null,null,null,null,null,null,null,null,{"$f":"SUM(Tableau_Data[[#This Row],[Féminin]:[Masculin]])","v":0}]
[null,null,"",null,"",null,null,null,null,null,null,{"$f":"VLOOKUP(K331,[1]Paramètres!$M$5:$O$101,2,0)","v":{"$error":"#N/A"}},{"$f":"VLOOKUP(K331,[1]Paramètres!$M$5:$O$101,3,0)","v":{"$error":"#N/A"}},null,null,null,null,null,null,null,null,null,null,{"$f":"SUM(Tableau_Data[[#This Row],[Féminin]:[Masculin]])","v":0}]
[null,null,"",null,"",null,null,null,null,null,null,{"$f":"VLOOKUP(K332,[1]Paramètres!$M$5:$O$101,2,0)","v":{"$error":"#N/A"}},{"$f":"VLOOKUP(K332,[1]Paramètres!$M$5:$O$101,3,0)","v":{"$error":"#N/A"}},null,null,null,null,null,null,null,null,null,null,{"$f":"SUM(Tableau_Data[[#This Row],[Féminin]:[Masculin]])","v":0}]
[null,null,"",null,"",null,null,null,null,null,null,{"$f":"VLOOKUP(K333,[1]Paramètres!$M$5:$O$101,2,0)","v":{"$error":"#N/A"}},{"$f":"VLOOKUP(K333,[1]Paramètres!$M$5:$O$101,3,0)","v":{"$error":"#N/A"}},null,null,null,null,null,null,null,null,null,null,{"$f":"SUM(Tableau_Data[[#This Row],[Féminin]:[Masculin]])","v":0}]
[null,null,"",null,"",null,null,null,null,null,null,{"$f":"VLOOKUP(K334,[1]Paramètres!$M$5:$O$101,2,0)","v":{"$error":"#N/A"}},{"$f":"VLOOKUP(K334,[1]Paramètres!$M$5:$O$101,3,0)","v":{"$error":"#N/A"}},null,null,null,null,null,null,null,null,null,null,{"$f":"SUM(Tableau_Data[[#This Row],[Féminin]:[Masculin]])","v":0}]
[null,null,"",null,"",null,null,null,null,null,null,{"$f":"VLOOKUP(K335,[1]Paramètres!$M$5:$O$101,2,0)","v":{"$error":"#N/A"}},{"$f":"VLOOKUP(K335,[1]Paramètres!$M$5:$O$101,3,0)","v":{"$error":"#N/A"}},null,null,null,null,null,null,null,null,null,null,{"$f":"SUM(Tableau_Data[[#This Row],[Féminin]:[Masculin]])","v":0}]
[null,null,"",null,"",null,null,null,null,null,null,{"$f":"VLOOKUP(K336,[1]Paramètres!$M$5:$O$101,2,0)","v":{"$error":"#N/A"}},{"$f":"VLOOKUP(K336,[1]Paramètres!$M$5:$O$101,3,0)","v":{"$error":"#N/A"}},null,null,null,null,null,null,null,null,null,null,{"$f":"SUM(Tableau_Data[[#This Row],[Féminin]:[Masculin]])","v":0}]
[null,null,"",null,"",null,null,null,null,null,null,{"$f":"VLOOKUP(K337,[1]Paramètres!$M$5:$O$101,2,0)","v":{"$error":"#N/A"}},{"$f":"VLOOKUP(K337,[1]Paramètres!$M$5:$O$101,3,0)","v":{"$error":"#N/A"}},null,null,null,null,null,null,null,null,null,null,{"$f":"SUM(Tableau_Data[[#This Row],[Féminin]:[Masculin]])","v":0}]
[null,null,"",null,"",null,null,null,null,null,null,{"$f":"VLOOKUP(K338,[1]Paramètres!$M$5:$O$101,2,0)","v":{"$error":"#N/A"}},{"$f":"VLOOKUP(K338,[1]Paramètres!$M$5:$O$101,3,0)","v":{"$error":"#N/A"}},null,null,null,null,null,null,null,null,null,null,{"$f":"SUM(Tableau_Data[[#This Row],[Féminin]:[Masculin]])","v":0}]
[null,null,"",null,"",null,null,null,null,null,null,{"$f":"VLOOKUP(K339,[1]Paramètres!$M$5:$O$101,2,0)","v":{"$error":"#N/A"}},{"$f":"VLOOKUP(K339,[1]Paramètres!$M$5:$O$101,3,0)","v":{"$error":"#N/A"}},null,null,null,null,null,null,null,null,null,null,{"$f":"SUM(Tableau_Data[[#This Row],[Féminin]:[Masculin]])","v":0}]
[null,null,"",null,"",null,null,null,null,null,null,{"$f":"VLOOKUP(K340,[1]Paramètres!$M$5:$O$101,2,0)","v":{"$error":"#N/A"}},{"$f":"VLOOKUP(K340,[1]Paramètres!$M$5:$O$101,3,0)","v":{"$error":"#N/A"}},null,null,null,null,null,null,null,null,null,null,{"$f":"SUM(Tableau_Data[[#This Row],[Féminin]:[Masculin]])","v":0}]
[null,null,"",null,"",null,null,null,null,null,null,{"$f":"VLOOKUP(K341,[1]Paramètres!$M$5:$O$101,2,0)","v":{"$error":"#N/A"}},{"$f":"VLOOKUP(K341,[1]Paramètres!$M$5:$O$101,3,0)","v":{"$error":"#N/A"}},null,null,null,null,null,null,null,null,null,null,{"$f":"SUM(Tableau_Data[[#This Row],[Féminin]:[Masculin]])","v":0}]
[null,null,"",null,"",null,null,null,null,null,null,{"$f":"VLOOKUP(K342,[1]Paramètres!$M$5:$O$101,2,0)","v":{"$error":"#N/A"}},{"$f":"VLOOKUP(K342,[1]Paramètres!$M$5:$O$101,3,0)","v":{"$error":"#N/A"}},null,null,null,null,null,null,null,null,null,null,{"$f":"SUM(Tableau_Data[[#This Row],[Féminin]:[Masculin]])","v":0}]
[null,null,"",null,"",null,null,null,null,null,null,{"$f":"VLOOKUP(K343,[1]Paramètres!$M$5:$O$101,2,0)","v":{"$error":"#N/A"}},{"$f":"VLOOKUP(K343,[1]Paramètres!$M$5:$O$101,3,0)","v":{"$error":"#N/A"}},null,null,null,null,null,null,null,null,null,null,{"$f":"SUM(Tableau_Data[[#This Row],[Féminin]:[Masculin]])","v":0}]
[null,null,"",null,"",null,null,null,null,null,null,{"$f":"VLOOKUP(K344,[1]Paramètres!$M$5:$O$101,2,0)","v":{"$error":"#N/A"}},{"$f":"VLOOKUP(K344,[1]Paramètres!$M$5:$O$101,3,0)","v":{"$error":"#N/A"}},null,null,null,null,null,null,null,null,null,null,{"$f":"SUM(Tableau_Data[[#This Row],[Féminin]:[Masculin]])","v":0}]
[null,null,"",null,"",null,null,null,null,null,null,{"$f":"VLOOKUP(K345,[1]Paramètres!$M$5:$O$101,2,0)","v":{"$error":"#N/A"}},{"$f":"VLOOKUP(K345,[1]Paramètres!$M$5:$O$101,3,0)","v":{"$error":"#N/A"}},null,null,null,null,null,null,null,null,null,null,{"$f":"SUM(Tableau_Data[[#This Row],[Féminin]:[Masculin]])","v":0}]
[null,null,"",null,"",null,null,null,null,null,null,{"$f":"VLOOKUP(K346,[1]Paramètres!$M$5:$O$101,2,0)","v":{"$error":"#N/A"}},{"$f":"VLOOKUP(K346,[1]Paramètres!$M$5:$O$101,3,0)","v":{"$error":"#N/A"}},null,null,null,null,null,null,null,null,null,null,{"$f":"SUM(Tableau_Data[[#This Row],[Féminin]:[Masculin]])","v":0}]
[null,null,"",null,"",null,null,null,null,null,null,{"$f":"VLOOKUP(K347,[1]Paramètres!$M$5:$O$101,2,0)","v":{"$error":"#N/A"}},{"$f":"VLOOKUP(K347,[1]Paramètres!$M$5:$O$101,3,0)","v":{"$error":"#N/A"}},null,null,null,null,null,null,null,null,null,null,{"$f":"SUM(Tableau_Data[[#This Row],[Féminin]:[Masculin]])","v":0}]
[null,null,"",null,"",null,null,null,null,null,null,{"$f":"VLOOKUP(K348,[1]Paramètres!$M$5:$O$101,2,0)","v":{"$error":"#N/A"}},{"$f":"VLOOKUP(K348,[1]Paramètres!$M$5:$O$101,3,0)","v":{"$error":"#N/A"}},null,null,null,null,null,null,null,null,null,null,{"$f":"SUM(Tableau_Data[[#This Row],[Féminin]:[Masculin]])","v":0}]
[null,null,"",null,{"$f":"IF(D349=\"\",\"\",MONTH(D349))","v":""},null,null,null,null,null,null,{"$f":"VLOOKUP(K349,[1]Paramètres!$M$5:$O$101,2,0)","v":{"$error":"#N/A"}},{"$f":"VLOOKUP(K349,[1]Paramètres!$M$5:$O$101,3,0)","v":{"$error":"#N/A"}},null,null,null,null,null,null,null,null,null,null,{"$f":"SUM(Tableau_Data[[#This Row],[Féminin]:[Masculin]])","v":0}]
[null,null,"",null,"",null,null,null,null,null,null,{"$f":"VLOOKUP(K350,[1]Paramètres!$M$5:$O$101,2,0)","v":{"$error":"#N/A"}},{"$f":"VLOOKUP(K350,[1]Paramètres!$M$5:$O$101,3,0)","v":{"$error":"#N/A"}},null,null,null,null,null,null,null,null,null,null,{"$f":"SUM(Tableau_Data[[#This Row],[Féminin]:[Masculin]])","v":0}]
[null,null,"",null,"",null,null,null,null,null,null,{"$f":"VLOOKUP(K351,[1]Paramètres!$M$5:$O$101,2,0)","v":{"$error":"#N/A"}},{"$f":"VLOOKUP(K351,[1]Paramètres!$M$5:$O$101,3,0)","v":{"$error":"#N/A"}},null,null,null,null,null,null,null,null,null,null,{"$f":"SUM(Tableau_Data[[#This Row],[Féminin]:[Masculin]])","v":0}]
[null,null,"",null,"",null,null,null,null,null,null,{"$f":"VLOOKUP(K352,[1]Paramètres!$M$5:$O$101,2,0)","v":{"$error":"#N/A"}},{"$f":"VLOOKUP(K352,[1]Paramètres!$M$5:$O$101,3,0)","v":{"$error":"#N/A"}},null,null,null,null,null,null,null,null,null,null,{"$f":"SUM(Tableau_Data[[#This Row],[Féminin]:[Masculin]])","v":0}]
[null,null,"",null,"",null,null,null,null,null,null,{"$f":"VLOOKUP(K353,[1]Paramètres!$M$5:$O$101,2,0)","v":{"$error":"#N/A"}},{"$f":"VLOOKUP(K353,[1]Paramètres!$M$5:$O$101,3,0)","v":{"$error":"#N/A"}},null,null,null,null,null,null,null,null,null,null,{"$f":"SUM(Tableau_Data[[#This Row],[Féminin]:[Masculin]])","v":0}]
[null,null,"",null,"",null,null,null,null,null,null,{"$f":"VLOOKUP(K354,[1]Paramètres!$M$5:$O$101,2,0)","v":{"$error":"#N/A"}},{"$f":"VLOOKUP(K354,[1]Paramètres!$M$5:$O$101,3,0)","v":{"$error":"#N/A"}},null,null,null,null,null,null,null,null,null,null,{"$f":"SUM(Tableau_Data[[#This Row],[Féminin]:[Masculin]])","v":0}]
[null,null,"",null,"",null,null,null,null,null,null,{"$f":"VLOOKUP(K355,[1]Paramètres!$M$5:$O$101,2,0)","v":{"$error":"#N/A"}},{"$f":"VLOOKUP(K355,[1]Paramètres!$M$5:$O$101,3,0)","v":{"$error":"#N/A"}},null,null,null,null,null,null,null,null,null,null,{"$f":"SUM(Tableau_Data[[#This Row],[Féminin]:[Masculin]])","v":0}]
[null,null,"",null,"",null,null,null,null,null,null,{"$f":"VLOOKUP(K356,[1]Paramètres!$M$5:$O$101,2,0)","v":{"$error":"#N/A"}},{"$f":"VLOOKUP(K356,[1]Paramètres!$M$5:$O$101,3,0)","v":{"$error":"#N/A"}},null,null,null,null,null,null,null,null,null,null,{"$f":"SUM(Tableau_Data[[#This Row],[Féminin]:[Masculin]])","v":0}]
[null,null,"",null,"",null,null,null,null,null,null,{"$f":"VLOOKUP(K357,[1]Paramètres!$M$5:$O$101,2,0)","v":{"$error":"#N/A"}},{"$f":"VLOOKUP(K357,[1]Paramètres!$M$5:$O$101,3,0)","v":{"$error":"#N/A"}},null,null,null,null,null,null,null,null,null,null,{"$f":"SUM(Tableau_Data[[#This Row],[Féminin]:[Masculin]])","v":0}]
[null,null,"",null,"",null,null,null,null,null,null,{"$f":"VLOOKUP(K358,[1]Paramètres!$M$5:$O$101,2,0)","v":{"$error":"#N/A"}},{"$f":"VLOOKUP(K358,[1]Paramètres!$M$5:$O$101,3,0)","v":{"$error":"#N/A"}},null,null,null,null,null,null,null,null,null,null,{"$f":"SUM(Tableau_Data[[#This Row],[Féminin]:[Masculin]])","v":0}]
[null,null,{"$f":"IF(D359=\"\",\"\",YEAR(D359))","v":""},null,"",null,null,null,null,null,null,{"$f":"VLOOKUP(K359,[1]Paramètres!$M$5:$O$101,2,0)","v":{"$error":"#N/A"}},{"$f":"VLOOKUP(K359,[1]Paramètres!$M$5:$O$101,3,0)","v":{"$error":"#N/A"}},null,null,null,null,null,null,null,null,null,null,{"$f":"SUM(Tableau_Data[[#This Row],[Féminin]:[Masculin]])","v":0}]
[null,null,"",null,"",null,null,null,null,null,null,{"$f":"VLOOKUP(K360,[1]Paramètres!$M$5:$O$101,2,0)","v":{"$error":"#N/A"}},{"$f":"VLOOKUP(K360,[1]Paramètres!$M$5:$O$101,3,0)","v":{"$error":"#N/A"}},null,null,null,null,null,null,null,null,null,null,{"$f":"SUM(Tableau_Data[[#This Row],[Féminin]:[Masculin]])","v":0}]
[null,null,"",null,"",null,null,null,null,null,null,{"$f":"VLOOKUP(K361,[1]Paramètres!$M$5:$O$101,2,0)","v":{"$error":"#N/A"}},{"$f":"VLOOKUP(K361,[1]Paramètres!$M$5:$O$101,3,0)","v":{"$error":"#N/A"}},null,null,null,null,null,null,null,null,null,null,{"$f":"SUM(Tableau_Data[[#This Row],[Féminin]:[Masculin]])","v":0}]
[null,null,"",null,"",null,null,null,null,null,null,{"$f":"VLOOKUP(K362,[1]Paramètres!$M$5:$O$101,2,0)","v":{"$error":"#N/A"}},{"$f":"VLOOKUP(K362,[1]Paramètres!$M$5:$O$101,3,0)","v":{"$error":"#N/A"}},null,null,null,null,null,null,null,null,null,null,{"$f":"SUM(Tableau_Data[[#This Row],[Féminin]:[Masculin]])","v":0}]
[null,null,"",null,"",null,null,null,null,null,null,{"$f":"VLOOKUP(K363,[1]Paramètres!$M$5:$O$101,2,0)","v":{"$error":"#N/A"}},{"$f":"VLOOKUP(K363,[1]Paramètres!$M$5:$O$101,3,0)","v":{"$error":"#N/A"}},null,null,null,null,null,null,null,null,null,null,{"$f":"SUM(Tableau_Data[[#This Row],[Féminin]:[Masculin]])","v":0}]
[null,null,"",null,"",null,null,null,null,null,null,{"$f":"VLOOKUP(K364,[1]Paramètres!$M$5:$O$101,2,0)","v":{"$error":"#N/A"}},{"$f":"VLOOKUP(K364,[1]Paramètres!$M$5:$O$101,3,0)","v":{"$error":"#N/A"}},null,null,null,null,null,null,null,null,null,null,{"$f":"SUM(Tableau_Data[[#This Row],[Féminin]:[Masculin]])","v":0}]
[null,null,"",null,"",null,null,null,null,null,null,{"$f":"VLOOKUP(K365,[1]Paramètres!$M$5:$O$101,2,0)","v":{"$error":"#N/A"}},{"$f":"VLOOKUP(K365,[1]Paramètres!$M$5:$O$101,3,0)","v":{"$error":"#N/A"}},null,null,null,null,null,null,null,null,null,null,{"$f":"SUM(Tableau_Data[[#This Row],[Féminin]:[Masculin]])","v":0}]
[null,null,"",null,"",null,null,null,null,null,null,{"$f":"VLOOKUP(K366,[1]Paramètres!$M$5:$O$101,2,0)","v":{"$error":"#N/A"}},{"$f":"VLOOKUP(K366,[1]Paramètres!$M$5:$O$101,3,0)","v":{"$error":"#N/A"}},null,null,null,null,null,null,null,null,null,null,{"$f":"SUM(Tableau_Data[[#This Row],[Féminin]:[Masculin]])","v":0}]
[null,null,"",null,"",null,null,null,null,null,null,{"$f":"VLOOKUP(K367,[1]Paramètres!$M$5:$O$101,2,0)","v":{"$error":"#N/A"}},{"$f":"VLOOKUP(K367,[1]Paramètres!$M$5:$O$101,3,0)","v":{"$error":"#N/A"}},null,null,null,null,null,null,null,null,null,null,{"$f":"SUM(Tableau_Data[[#This Row],[Féminin]:[Masculin]])","v":0}]
[null,null,"",null,"",null,null,null,null,null,null,{"$f":"VLOOKUP(K368,[1]Paramètres!$M$5:$O$101,2,0)","v":{"$error":"#N/A"}},{"$f":"VLOOKUP(K368,[1]Paramètres!$M$5:$O$101,3,0)","v":{"$error":"#N/A"}},null,null,null,null,null,null,null,null,null,null,{"$f":"SUM(Tableau_Data[[#This Row],[Féminin]:[Masculin]])","v":0}]
[null,null,"",null,"",null,null,null,null,null,null,{"$f":"VLOOKUP(K369,[1]Paramètres!$M$5:$O$101,2,0)","v":{"$error":"#N/A"}},{"$f":"VLOOKUP(K369,[1]Paramètres!$M$5:$O$101,3,0)","v":{"$error":"#N/A"}},null,null,null,null,null,null,null,null,null,null,{"$f":"SUM(Tableau_Data[[#This Row],[Féminin]:[Masculin]])","v":0}]
[null,null,"",null,"",null,null,null,null,null,null,{"$f":"VLOOKUP(K370,[1]Paramètres!$M$5:$O$101,2,0)","v":{"$error":"#N/A"}},{"$f":"VLOOKUP(K370,[1]Paramètres!$M$5:$O$101,3,0)","v":{"$error":"#N/A"}},null,null,null,null,null,null,null,null,null,null,{"$f":"SUM(Tableau_Data[[#This Row],[Féminin]:[Masculin]])","v":0}]
[null,null,"",null,"",null,null,null,null,null,null,{"$f":"VLOOKUP(K371,[1]Paramètres!$M$5:$O$101,2,0)","v":{"$error":"#N/A"}},{"$f":"VLOOKUP(K371,[1]Paramètres!$M$5:$O$101,3,0)","v":{"$error":"#N/A"}},null,null,null,null,null,null,null,null,null,null,{"$f":"SUM(Tableau_Data[[#This Row],[Féminin]:[Masculin]])","v":0}]
[null,null,"",null,"",null,null,null,null,null,null,{"$f":"VLOOKUP(K372,[1]Paramètres!$M$5:$O$101,2,0)","v":{"$error":"#N/A"}},{"$f":"VLOOKUP(K372,[1]Paramètres!$M$5:$O$101,3,0)","v":{"$error":"#N/A"}},null,null,null,null,null,null,null,null,null,null,{"$f":"SUM(Tableau_Data[[#This Row],[Féminin]:[Masculin]])","v":0}]
[null,null,"",null,"",null,null,null,null,null,null,{"$f":"VLOOKUP(K373,[1]Paramètres!$M$5:$O$101,2,0)","v":{"$error":"#N/A"}},{"$f":"VLOOKUP(K373,[1]Paramètres!$M$5:$O$101,3,0)","v":{"$error":"#N/A"}},null,null,null,null,null,null,null,null,null,null,{"$f":"SUM(Tableau_Data[[#This Row],[Féminin]:[Masculin]])","v":0}]
[null,null,"",null,"",null,null,null,null,null,null,{"$f":"VLOOKUP(K374,[1]Paramètres!$M$5:$O$101,2,0)","v":{"$error":"#N/A"}},{"$f":"VLOOKUP(K374,[1]Paramètres!$M$5:$O$101,3,0)","v":{"$error":"#N/A"}},null,null,null,null,null,null,null,null,null,null,{"$f":"SUM(Tableau_Data[[#This Row],[Féminin]:[Masculin]])","v":0}]
[null,null,"",null,"",null,null,null,null,null,null,{"$f":"VLOOKUP(K375,[1]Paramètres!$M$5:$O$101,2,0)","v":{"$error":"#N/A"}},{"$f":"VLOOKUP(K375,[1]Paramètres!$M$5:$O$101,3,0)","v":{"$error":"#N/A"}},null,null,null,null,null,null,null,null,null,null,{"$f":"SUM(Tableau_Data[[#This Row],[Féminin]:[Masculin]])","v":0}]
[null,null,"",null,"",null,null,null,null,null,null,{"$f":"VLOOKUP(K376,[1]Paramètres!$M$5:$O$101,2,0)","v":{"$error":"#N/A"}},{"$f":"VLOOKUP(K376,[1]Paramètres!$M$5:$O$101,3,0)","v":{"$error":"#N/A"}},null,null,null,null,null,null,null,null,null,null,{"$f":"SUM(Tableau_Data[[#This Row],[Féminin]:[Masculin]])","v":0}]
[null,null,"",null,"",null,null,null,null,null,null,{"$f":"VLOOKUP(K377,[1]Paramètres!$M$5:$O$101,2,0)","v":{"$error":"#N/A"}},{"$f":"VLOOKUP(K377,[1]Paramètres!$M$5:$O$101,3,0)","v":{"$error":"#N/A"}},null,null,null,null,null,null,null,null,null,null,{"$f":"SUM(Tableau_Data[[#This Row],[Féminin]:[Masculin]])","v":0}]
[null,null,"",null,"",null,null,null,null,null,null,{"$f":"VLOOKUP(K378,[1]Paramètres!$M$5:$O$101,2,0)","v":{"$error":"#N/A"}},{"$f":"VLOOKUP(K378,[1]Paramètres!$M$5:$O$101,3,0)","v":{"$error":"#N/A"}},null,null,null,null,null,null,null,null,null,null,{"$f":"SUM(Tableau_Data[[#This Row],[Féminin]:[Masculin]])","v":0}]
[null,null,"",null,"",null,null,null,null,null,null,{"$f":"VLOOKUP(K379,[1]Paramètres!$M$5:$O$101,2,0)","v":{"$error":"#N/A"}},{"$f":"VLOOKUP(K379,[1]Paramètres!$M$5:$O$101,3,0)","v":{"$error":"#N/A"}},null,null,null,null,null,null,null,null,null,null,{"$f":"SUM(Tableau_Data[[#This Row],[Féminin]:[Masculin]])","v":0}]
[null,null,"",null,"",null,null,null,null,null,null,{"$f":"VLOOKUP(K380,[1]Paramètres!$M$5:$O$101,2,0)","v":{"$error":"#N/A"}},{"$f":"VLOOKUP(K380,[1]Paramètres!$M$5:$O$101,3,0)","v":{"$error":"#N/A"}},null,null,null,null,null,null,null,null,null,null,{"$f":"SUM(Tableau_Data[[#This Row],[Féminin]:[Masculin]])","v":0}]
[null,null,"",null,"",null,null,null,null,null,null,{"$f":"VLOOKUP(K381,[1]Paramètres!$M$5:$O$101,2,0)","v":{"$error":"#N/A"}},{"$f":"VLOOKUP(K381,[1]Paramètres!$M$5:$O$101,3,0)","v":{"$error":"#N/A"}},null,null,null,null,null,null,null,null,null,null,{"$f":"SUM(Tableau_Data[[#This Row],[Féminin]:[Masculin]])","v":0}]
[null,null,"",null,"",null,null,null,null,null,null,{"$f":"VLOOKUP(K382,[1]Paramètres!$M$5:$O$101,2,0)","v":{"$error":"#N/A"}},{"$f":"VLOOKUP(K382,[1]Paramètres!$M$5:$O$101,3,0)","v":{"$error":"#N/A"}},null,null,null,null,null,null,null,null,null,null,{"$f":"SUM(Tableau_Data[[#This Row],[Féminin]:[Masculin]])","v":0}]
[null,null,"",null,"",null,null,null,null,null,null,{"$f":"VLOOKUP(K383,[1]Paramètres!$M$5:$O$101,2,0)","v":{"$error":"#N/A"}},{"$f":"VLOOKUP(K383,[1]Paramètres!$M$5:$O$101,3,0)","v":{"$error":"#N/A"}},null,null,null,null,null,null,null,null,null,null,{"$f":"SUM(Tableau_Data[[#This Row],[Féminin]:[Masculin]])","v":0}]
[null,null,"",null,"",null,null,null,null,null,null,{"$f":"VLOOKUP(K384,[1]Paramètres!$M$5:$O$101,2,0)","v":{"$error":"#N/A"}},{"$f":"VLOOKUP(K384,[1]Paramètres!$M$5:$O$101,3,0)","v":{"$error":"#N/A"}},null,null,null,null,null,null,null,null,null,null,{"$f":"SUM(Tableau_Data[[#This Row],[Féminin]:[Masculin]])","v":0}]
[null,null,"",null,"",null,null,null,null,null,null,{"$f":"VLOOKUP(K385,[1]Paramètres!$M$5:$O$101,2,0)","v":{"$error":"#N/A"}},{"$f":"VLOOKUP(K385,[1]Paramètres!$M$5:$O$101,3,0)","v":{"$error":"#N/A"}},null,null,null,null,null,null,null,null,null,null,{"$f":"SUM(Tableau_Data[[#This Row],[Féminin]:[Masculin]])","v":0}]
[null,null,"",null,"",null,null,null,null,null,null,{"$f":"VLOOKUP(K386,[1]Paramètres!$M$5:$O$101,2,0)","v":{"$error":"#N/A"}},{"$f":"VLOOKUP(K386,[1]Paramètres!$M$5:$O$101,3,0)","v":{"$error":"#N/A"}},null,null,null,null,null,null,null,null,null,null,{"$f":"SUM(Tableau_Data[[#This Row],[Féminin]:[Masculin]])","v":0}]
[null,null,"",null,"",null,null,null,null,null,null,{"$f":"VLOOKUP(K387,[1]Paramètres!$M$5:$O$101,2,0)","v":{"$error":"#N/A"}},{"$f":"VLOOKUP(K387,[1]Paramètres!$M$5:$O$101,3,0)","v":{"$error":"#N/A"}},null,null,null,null,null,null,null,null,null,null,{"$f":"SUM(Tableau_Data[[#This Row],[Féminin]:[Masculin]])","v":0}]
[null,null,"",null,"",null,null,null,null,null,null,{"$f":"VLOOKUP(K388,[1]Paramètres!$M$5:$O$101,2,0)","v":{"$error":"#N/A"}},{"$f":"VLOOKUP(K388,[1]Paramètres!$M$5:$O$101,3,0)","v":{"$error":"#N/A"}},null,null,null,null,null,null,null,null,null,null,{"$f":"SUM(Tableau_Data[[#This Row],[Féminin]:[Masculin]])","v":0}]
[null,null,"",null,"",null,null,null,null,null,null,{"$f":"VLOOKUP(K389,[1]Paramètres!$M$5:$O$101,2,0)","v":{"$error":"#N/A"}},{"$f":"VLOOKUP(K389,[1]Paramètres!$M$5:$O$101,3,0)","v":{"$error":"#N/A"}},null,null,null,null,null,null,null,null,null,null,{"$f":"SUM(Tableau_Data[[#This Row],[Féminin]:[Masculin]])","v":0}]
[null,null,"",null,"",null,null,null,null,null,null,{"$f":"VLOOKUP(K390,[1]Paramètres!$M$5:$O$101,2,0)","v":{"$error":"#N/A"}},{"$f":"VLOOKUP(K390,[1]Paramètres!$M$5:$O$101,3,0)","v":{"$error":"#N/A"}},null,null,null,null,null,null,null,null,null,null,{"$f":"SUM(Tableau_Data[[#This Row],[Féminin]:[Masculin]])","v":0}]
[null,null,"",null,"",null,null,null,null,null,null,{"$f":"VLOOKUP(K391,[1]Paramètres!$M$5:$O$101,2,0)","v":{"$error":"#N/A"}},{"$f":"VLOOKUP(K391,[1]Paramètres!$M$5:$O$101,3,0)","v":{"$error":"#N/A"}},null,null,null,null,null,null,null,null,null,null,{"$f":"SUM(Tableau_Data[[#This Row],[Féminin]:[Masculin]])","v":0}]
[null,null,"",null,"",null,null,null,null,null,null,{"$f":"VLOOKUP(K392,[1]Paramètres!$M$5:$O$101,2,0)","v":{"$error":"#N/A"}},{"$f":"VLOOKUP(K392,[1]Paramètres!$M$5:$O$101,3,0)","v":{"$error":"#N/A"}},null,null,null,null,null,null,null,null,null,null,{"$f":"SUM(Tableau_Data[[#This Row],[Féminin]:[Masculin]])","v":0}]
[null,null,"",null,"",null,null,null,null,null,null,{"$f":"VLOOKUP(K393,[1]Paramètres!$M$5:$O$101,2,0)","v":{"$error":"#N/A"}},{"$f":"VLOOKUP(K393,[1]Paramètres!$M$5:$O$101,3,0)","v":{"$error":"#N/A"}},null,null,null,null,null,null,null,null,null,null,{"$f":"SUM(Tableau_Data[[#This Row],[Féminin]:[Masculin]])","v":0}]
[null,null,"",null,"",null,null,null,null,null,null,{"$f":"VLOOKUP(K394,[1]Paramètres!$M$5:$O$101,2,0)","v":{"$error":"#N/A"}},{"$f":"VLOOKUP(K394,[1]Paramètres!$M$5:$O$101,3,0)","v":{"$error":"#N/A"}},null,null,null,null,null,null,null,null,null,null,{"$f":"SUM(Tableau_Data[[#This Row],[Féminin]:[Masculin]])","v":0}]
[null,null,"",null,"",null,null,null,null,null,null,{"$f":"VLOOKUP(K395,[1]Paramètres!$M$5:$O$101,2,0)","v":{"$error":"#N/A"}},{"$f":"VLOOKUP(K395,[1]Paramètres!$M$5:$O$101,3,0)","v":{"$error":"#N/A"}},null,null,null,null,null,null,null,null,null,null,{"$f":"SUM(Tableau_Data[[#This Row],[Féminin]:[Masculin]])","v":0}]
[null,null,"",null,"",null,null,null,null,null,null,{"$f":"VLOOKUP(K396,[1]Paramètres!$M$5:$O$101,2,0)","v":{"$error":"#N/A"}},{"$f":"VLOOKUP(K396,[1]Paramètres!$M$5:$O$101,3,0)","v":{"$error":"#N/A"}},null,null,null,null,null,null,null,null,null,null,{"$f":"SUM(Tableau_Data[[#This Row],[Féminin]:[Masculin]])","v":0}]
[null,null,"",null,"",null,null,null,null,null,null,{"$f":"VLOOKUP(K397,[1]Paramètres!$M$5:$O$101,2,0)","v":{"$error":"#N/A"}},{"$f":"VLOOKUP(K397,[1]Paramètres!$M$5:$O$101,3,0)","v":{"$error":"#N/A"}},null,null,null,null,null,null,null,null,null,null,{"$f":"SUM(Tableau_Data[[#This Row],[Féminin]:[Masculin]])","v":0}]
[null,null,"",null,"",null,null,null,null,null,null,{"$f":"VLOOKUP(K398,[1]Paramètres!$M$5:$O$101,2,0)","v":{"$error":"#N/A"}},{"$f":"VLOOKUP(K398,[1]Paramètres!$M$5:$O$101,3,0)","v":{"$error":"#N/A"}},null,null,null,null,null,null,null,null,null,null,{"$f":"SUM(Tableau_Data[[#This Row],[Féminin]:[Masculin]])","v":0}]
[null,null,"",null,"",null,null,null,null,null,null,{"$f":"VLOOKUP(K399,[1]Paramètres!$M$5:$O$101,2,0)","v":{"$error":"#N/A"}},{"$f":"VLOOKUP(K399,[1]Paramètres!$M$5:$O$101,3,0)","v":{"$error":"#N/A"}},null,null,null,null,null,null,null,null,null,null,{"$f":"SUM(Tableau_Data[[#This Row],[Féminin]:[Masculin]])","v":0}]
[null,null,"",null,"",null,null,null,null,null,null,{"$f":"VLOOKUP(K400,[1]Paramètres!$M$5:$O$101,2,0)","v":{"$error":"#N/A"}},{"$f":"VLOOKUP(K400,[1]Paramètres!$M$5:$O$101,3,0)","v":{"$error":"#N/A"}},null,null,null,null,null,null,null,null,null,null,{"$f":"SUM(Tableau_Data[[#This Row],[Féminin]:[Masculin]])","v":0}]
[null,null,"",null,"",null,null,null,null,null,null,{"$f":"VLOOKUP(K401,[1]Paramètres!$M$5:$O$101,2,0)","v":{"$error":"#N/A"}},{"$f":"VLOOKUP(K401,[1]Paramètres!$M$5:$O$101,3,0)","v":{"$error":"#N/A"}},null,null,null,null,null,null,null,null,null,null,{"$f":"SUM(Tableau_Data[[#This Row],[Féminin]:[Masculin]])","v":0}]
[null,null,"",null,"",null,null,null,null,null,null,{"$f":"VLOOKUP(K402,[1]Paramètres!$M$5:$O$101,2,0)","v":{"$error":"#N/A"}},{"$f":"VLOOKUP(K402,[1]Paramètres!$M$5:$O$101,3,0)","v":{"$error":"#N/A"}},null,null,null,null,null,null,null,null,null,null,{"$f":"SUM(Tableau_Data[[#This Row],[Féminin]:[Masculin]])","v":0}]
[null,null,"",null,"",null,null,null,null,null,null,{"$f":"VLOOKUP(K403,[1]Paramètres!$M$5:$O$101,2,0)","v":{"$error":"#N/A"}},{"$f":"VLOOKUP(K403,[1]Paramètres!$M$5:$O$101,3,0)","v":{"$error":"#N/A"}},null,null,null,null,null,null,null,null,null,null,{"$f":"SUM(Tableau_Data[[#This Row],[Féminin]:[Masculin]])","v":0}]
[null,null,"",null,"",null,null,null,null,null,null,{"$f":"VLOOKUP(K404,[1]Paramètres!$M$5:$O$101,2,0)","v":{"$error":"#N/A"}},{"$f":"VLOOKUP(K404,[1]Paramètres!$M$5:$O$101,3,0)","v":{"$error":"#N/A"}},null,null,null,null,null,null,null,null,null,null,{"$f":"SUM(Tableau_Data[[#This Row],[Féminin]:[Masculin]])","v":0}]
[null,null,"",null,{"$f":"IF(D405=\"\",\"\",MONTH(D405))","v":""},null,null,null,null,null,null,{"$f":"VLOOKUP(K405,[1]Paramètres!$M$5:$O$101,2,0)","v":{"$error":"#N/A"}},{"$f":"VLOOKUP(K405,[1]Paramètres!$M$5:$O$101,3,0)","v":{"$error":"#N/A"}},null,null,null,null,null,null,null,null,null,null,{"$f":"SUM(Tableau_Data[[#This Row],[Féminin]:[Masculin]])","v":0}]
[null,null,"",null,"",null,null,null,null,null,null,{"$f":"VLOOKUP(K406,[1]Paramètres!$M$5:$O$101,2,0)","v":{"$error":"#N/A"}},{"$f":"VLOOKUP(K406,[1]Paramètres!$M$5:$O$101,3,0)","v":{"$error":"#N/A"}},null,null,null,null,null,null,null,null,null,null,{"$f":"SUM(Tableau_Data[[#This Row],[Féminin]:[Masculin]])","v":0}]
[null,null,"",null,"",null,null,null,null,null,null,{"$f":"VLOOKUP(K407,[1]Paramètres!$M$5:$O$101,2,0)","v":{"$error":"#N/A"}},{"$f":"VLOOKUP(K407,[1]Paramètres!$M$5:$O$101,3,0)","v":{"$error":"#N/A"}},null,null,null,null,null,null,null,null,null,null,{"$f":"SUM(Tableau_Data[[#This Row],[Féminin]:[Masculin]])","v":0}]
[null,null,"",null,"",null,null,null,null,null,null,{"$f":"VLOOKUP(K408,[1]Paramètres!$M$5:$O$101,2,0)","v":{"$error":"#N/A"}},{"$f":"VLOOKUP(K408,[1]Paramètres!$M$5:$O$101,3,0)","v":{"$error":"#N/A"}},null,null,null,null,null,null,null,null,null,null,{"$f":"SUM(Tableau_Data[[#This Row],[Féminin]:[Masculin]])","v":0}]
[null,null,"",null,"",null,null,null,null,null,null,{"$f":"VLOOKUP(K409,[1]Paramètres!$M$5:$O$101,2,0)","v":{"$error":"#N/A"}},{"$f":"VLOOKUP(K409,[1]Paramètres!$M$5:$O$101,3,0)","v":{"$error":"#N/A"}},null,null,null,null,null,null,null,null,null,null,{"$f":"SUM(Tableau_Data[[#This Row],[Féminin]:[Masculin]])","v":0}]
[null,null,"",null,"",null,null,null,null,null,null,{"$f":"VLOOKUP(K410,[1]Paramètres!$M$5:$O$101,2,0)","v":{"$error":"#N/A"}},{"$f":"VLOOKUP(K410,[1]Paramètres!$M$5:$O$101,3,0)","v":{"$error":"#N/A"}},null,null,null,null,null,null,null,null,null,null,{"$f":"SUM(Tableau_Data[[#This Row],[Féminin]:[Masculin]])","v":0}]
[null,null,"",null,"",null,null,null,null,null,null,{"$f":"VLOOKUP(K411,[1]Paramètres!$M$5:$O$101,2,0)","v":{"$error":"#N/A"}},{"$f":"VLOOKUP(K411,[1]Paramètres!$M$5:$O$101,3,0)","v":{"$error":"#N/A"}},null,null,null,null,null,null,null,null,null,null,{"$f":"SUM(Tableau_Data[[#This Row],[Féminin]:[Masculin]])","v":0}]
[null,null,"",null,"",null,null,null,null,null,null,{"$f":"VLOOKUP(K412,[1]Paramètres!$M$5:$O$101,2,0)","v":{"$error":"#N/A"}},{"$f":"VLOOKUP(K412,[1]Paramètres!$M$5:$O$101,3,0)","v":{"$error":"#N/A"}},null,null,null,null,null,null,null,null,null,null,{"$f":"SUM(Tableau_Data[[#This Row],[Féminin]:[Masculin]])","v":0}]
[null,null,"",null,"",null,null,null,null,null,null,{"$f":"VLOOKUP(K413,[1]Paramètres!$M$5:$O$101,2,0)","v":{"$error":"#N/A"}},{"$f":"VLOOKUP(K413,[1]Paramètres!$M$5:$O$101,3,0)","v":{"$error":"#N/A"}},null,null,null,null,null,null,null,null,null,null,{"$f":"SUM(Tableau_Data[[#This Row],[Féminin]:[Masculin]])","v":0}]
[null,null,"",null,"",null,null,null,null,null,null,{"$f":"VLOOKUP(K414,[1]Paramètres!$M$5:$O$101,2,0)","v":{"$error":"#N/A"}},{"$f":"VLOOKUP(K414,[1]Paramètres!$M$5:$O$101,3,0)","v":{"$error":"#N/A"}},null,null,null,null,null,null,null,null,null,null,{"$f":"SUM(Tableau_Data[[#This Row],[Féminin]:[Masculin]])","v":0}]
[null,null,{"$f":"IF(D415=\"\",\"\",YEAR(D415))","v":""},null,"",null,null,null,null,null,null,{"$f":"VLOOKUP(K415,[1]Paramètres!$M$5:$O$101,2,0)","v":{"$error":"#N/A"}},{"$f":"VLOOKUP(K415,[1]Paramètres!$M$5:$O$101,3,0)","v":{"$error":"#N/A"}},null,null,null,null,null,null,null,null,null,null,{"$f":"SUM(Tableau_Data[[#This Row],[Féminin]:[Masculin]])","v":0}]
[null,null,"",null,"",null,null,null,null,null,null,{"$f":"VLOOKUP(K416,[1]Paramètres!$M$5:$O$101,2,0)","v":{"$error":"#N/A"}},{"$f":"VLOOKUP(K416,[1]Paramètres!$M$5:$O$101,3,0)","v":{"$error":"#N/A"}},null,null,null,null,null,null,null,null,null,null,{"$f":"SUM(Tableau_Data[[#This Row],[Féminin]:[Masculin]])","v":0}]
[null,null,"",null,"",null,null,null,null,null,null,{"$f":"VLOOKUP(K417,[1]Paramètres!$M$5:$O$101,2,0)","v":{"$error":"#N/A"}},{"$f":"VLOOKUP(K417,[1]Paramètres!$M$5:$O$101,3,0)","v":{"$error":"#N/A"}},null,null,null,null,null,null,null,null,null,null,{"$f":"SUM(Tableau_Data[[#This Row],[Féminin]:[Masculin]])","v":0}]
[null,null,"",null,"",null,null,null,null,null,null,{"$f":"VLOOKUP(K418,[1]Paramètres!$M$5:$O$101,2,0)","v":{"$error":"#N/A"}},{"$f":"VLOOKUP(K418,[1]Paramètres!$M$5:$O$101,3,0)","v":{"$error":"#N/A"}},null,null,null,null,null,null,null,null,null,null,{"$f":"SUM(Tableau_Data[[#This Row],[Féminin]:[Masculin]])","v":0}]
[null,null,"",null,"",null,null,null,null,null,null,{"$f":"VLOOKUP(K419,[1]Paramètres!$M$5:$O$101,2,0)","v":{"$error":"#N/A"}},{"$f":"VLOOKUP(K419,[1]Paramètres!$M$5:$O$101,3,0)","v":{"$error":"#N/A"}},null,null,null,null,null,null,null,null,null,null,{"$f":"SUM(Tableau_Data[[#This Row],[Féminin]:[Masculin]])","v":0}]
[null,null,"",null,"",null,null,null,null,null,null,{"$f":"VLOOKUP(K420,[1]Paramètres!$M$5:$O$101,2,0)","v":{"$error":"#N/A"}},{"$f":"VLOOKUP(K420,[1]Paramètres!$M$5:$O$101,3,0)","v":{"$error":"#N/A"}},null,null,null,null,null,null,null,null,null,null,{"$f":"SUM(Tableau_Data[[#This Row],[Féminin]:[Masculin]])","v":0}]
[null,null,"",null,"",null,null,null,null,null,null,{"$f":"VLOOKUP(K421,[1]Paramètres!$M$5:$O$101,2,0)","v":{"$error":"#N/A"}},{"$f":"VLOOKUP(K421,[1]Paramètres!$M$5:$O$101,3,0)","v":{"$error":"#N/A"}},null,null,null,null,null,null,null,null,null,null,{"$f":"SUM(Tableau_Data[[#This Row],[Féminin]:[Masculin]])","v":0}]
[null,null,"",null,"",null,null,null,null,null,null,{"$f":"VLOOKUP(K422,[1]Paramètres!$M$5:$O$101,2,0)","v":{"$error":"#N/A"}},{"$f":"VLOOKUP(K422,[1]Paramètres!$M$5:$O$101,3,0)","v":{"$error":"#N/A"}},null,null,null,null,null,null,null,null,null,null,{"$f":"SUM(Tableau_Data[[#This Row],[Féminin]:[Masculin]])","v":0}]
[null,null,"",null,"",null,null,null,null,null,null,{"$f":"VLOOKUP(K423,[1]Paramètres!$M$5:$O$101,2,0)","v":{"$error":"#N/A"}},{"$f":"VLOOKUP(K423,[1]Paramètres!$M$5:$O$101,3,0)","v":{"$error":"#N/A"}},null,null,null,null,null,null,null,null,null,null,{"$f":"SUM(Tableau_Data[[#This Row],[Féminin]:[Masculin]])","v":0}]
[null,null,"",null,"",null,null,null,null,null,null,{"$f":"VLOOKUP(K424,[1]Paramètres!$M$5:$O$101,2,0)","v":{"$error":"#N/A"}},{"$f":"VLOOKUP(K424,[1]Paramètres!$M$5:$O$101,3,0)","v":{"$error":"#N/A"}},null,null,null,null,null,null,null,null,null,null,{"$f":"SUM(Tableau_Data[[#This Row],[Féminin]:[Masculin]])","v":0}]
[null,null,"",null,"",null,null,null,null,null,null,{"$f":"VLOOKUP(K425,[1]Paramètres!$M$5:$O$101,2,0)","v":{"$error":"#N/A"}},{"$f":"VLOOKUP(K425,[1]Paramètres!$M$5:$O$101,3,0)","v":{"$error":"#N/A"}},null,null,null,null,null,null,null,null,null,null,{"$f":"SUM(Tableau_Data[[#This Row],[Féminin]:[Masculin]])","v":0}]
[null,null,"",null,"",null,null,null,null,null,null,{"$f":"VLOOKUP(K426,[1]Paramètres!$M$5:$O$101,2,0)","v":{"$error":"#N/A"}},{"$f":"VLOOKUP(K426,[1]Paramètres!$M$5:$O$101,3,0)","v":{"$error":"#N/A"}},null,null,null,null,null,null,null,null,null,null,{"$f":"SUM(Tableau_Data[[#This Row],[Féminin]:[Masculin]])","v":0}]
[null,null,"",null,"",null,null,null,null,null,null,{"$f":"VLOOKUP(K427,[1]Paramètres!$M$5:$O$101,2,0)","v":{"$error":"#N/A"}},{"$f":"VLOOKUP(K427,[1]Paramètres!$M$5:$O$101,3,0)","v":{"$error":"#N/A"}},null,null,null,null,null,null,null,null,null,null,{"$f":"SUM(Tableau_Data[[#This Row],[Féminin]:[Masculin]])","v":0}]
[null,null,"",null,"",null,null,null,null,null,null,{"$f":"VLOOKUP(K428,[1]Paramètres!$M$5:$O$101,2,0)","v":{"$error":"#N/A"}},{"$f":"VLOOKUP(K428,[1]Paramètres!$M$5:$O$101,3,0)","v":{"$error":"#N/A"}},null,null,null,null,null,null,null,null,null,null,{"$f":"SUM(Tableau_Data[[#This Row],[Féminin]:[Masculin]])","v":0}]
[null,null,"",null,"",null,null,null,null,null,null,{"$f":"VLOOKUP(K429,[1]Paramètres!$M$5:$O$101,2,0)","v":{"$error":"#N/A"}},{"$f":"VLOOKUP(K429,[1]Paramètres!$M$5:$O$101,3,0)","v":{"$error":"#N/A"}},null,null,null,null,null,null,null,null,null,null,{"$f":"SUM(Tableau_Data[[#This Row],[Féminin]:[Masculin]])","v":0}]
[null,null,"",null,"",null,null,null,null,null,null,{"$f":"VLOOKUP(K430,[1]Paramètres!$M$5:$O$101,2,0)","v":{"$error":"#N/A"}},{"$f":"VLOOKUP(K430,[1]Paramètres!$M$5:$O$101,3,0)","v":{"$error":"#N/A"}},null,null,null,null,null,null,null,null,null,null,{"$f":"SUM(Tableau_Data[[#This Row],[Féminin]:[Masculin]])","v":0}]
[null,null,"",null,"",null,null,null,null,null,null,{"$f":"VLOOKUP(K431,[1]Paramètres!$M$5:$O$101,2,0)","v":{"$error":"#N/A"}},{"$f":"VLOOKUP(K431,[1]Paramètres!$M$5:$O$101,3,0)","v":{"$error":"#N/A"}},null,null,null,null,null,null,null,null,null,null,{"$f":"SUM(Tableau_Data[[#This Row],[Féminin]:[Masculin]])","v":0}]
[null,null,"",null,"",null,null,null,null,null,null,{"$f":"VLOOKUP(K432,[1]Paramètres!$M$5:$O$101,2,0)","v":{"$error":"#N/A"}},{"$f":"VLOOKUP(K432,[1]Paramètres!$M$5:$O$101,3,0)","v":{"$error":"#N/A"}},null,null,null,null,null,null,null,null,null,null,{"$f":"SUM(Tableau_Data[[#This Row],[Féminin]:[Masculin]])","v":0}]
[null,null,"",null,"",null,null,null,null,null,null,{"$f":"VLOOKUP(K433,[1]Paramètres!$M$5:$O$101,2,0)","v":{"$error":"#N/A"}},{"$f":"VLOOKUP(K433,[1]Paramètres!$M$5:$O$101,3,0)","v":{"$error":"#N/A"}},null,null,null,null,null,null,null,null,null,null,{"$f":"SUM(Tableau_Data[[#This Row],[Féminin]:[Masculin]])","v":0}]
[null,null,"",null,"",null,null,null,null,null,null,{"$f":"VLOOKUP(K434,[1]Paramètres!$M$5:$O$101,2,0)","v":{"$error":"#N/A"}},{"$f":"VLOOKUP(K434,[1]Paramètres!$M$5:$O$101,3,0)","v":{"$error":"#N/A"}},null,null,null,null,null,null,null,null,null,null,{"$f":"SUM(Tableau_Data[[#This Row],[Féminin]:[Masculin]])","v":0}]
[null,null,"",null,"",null,null,null,null,null,null,{"$f":"VLOOKUP(K435,[1]Paramètres!$M$5:$O$101,2,0)","v":{"$error":"#N/A"}},{"$f":"VLOOKUP(K435,[1]Paramètres!$M$5:$O$101,3,0)","v":{"$error":"#N/A"}},null,null,null,null,null,null,null,null,null,null,{"$f":"SUM(Tableau_Data[[#This Row],[Féminin]:[Masculin]])","v":0}]
[null,null,"",null,"",null,null,null,null,null,null,{"$f":"VLOOKUP(K436,[1]Paramètres!$M$5:$O$101,2,0)","v":{"$error":"#N/A"}},{"$f":"VLOOKUP(K436,[1]Paramètres!$M$5:$O$101,3,0)","v":{"$error":"#N/A"}},null,null,null,null,null,null,null,null,null,null,{"$f":"SUM(Tableau_Data[[#This Row],[Féminin]:[Masculin]])","v":0}]
[null,null,"",null,"",null,null,null,null,null,null,{"$f":"VLOOKUP(K437,[1]Paramètres!$M$5:$O$101,2,0)","v":{"$error":"#N/A"}},{"$f":"VLOOKUP(K437,[1]Paramètres!$M$5:$O$101,3,0)","v":{"$error":"#N/A"}},null,null,null,null,null,null,null,null,null,null,{"$f":"SUM(Tableau_Data[[#This Row],[Féminin]:[Masculin]])","v":0}]
[null,null,"",null,"",null,null,null,null,null,null,{"$f":"VLOOKUP(K438,[1]Paramètres!$M$5:$O$101,2,0)","v":{"$error":"#N/A"}},{"$f":"VLOOKUP(K438,[1]Paramètres!$M$5:$O$101,3,0)","v":{"$error":"#N/A"}},null,null,null,null,null,null,null,null,null,null,{"$f":"SUM(Tableau_Data[[#This Row],[Féminin]:[Masculin]])","v":0}]
[null,null,"",null,"",null,null,null,null,null,null,{"$f":"VLOOKUP(K439,[1]Paramètres!$M$5:$O$101,2,0)","v":{"$error":"#N/A"}},{"$f":"VLOOKUP(K439,[1]Paramètres!$M$5:$O$101,3,0)","v":{"$error":"#N/A"}},null,null,null,null,null,null,null,null,null,null,{"$f":"SUM(Tableau_Data[[#This Row],[Féminin]:[Masculin]])","v":0}]
[null,null,"",null,"",null,null,null,null,null,null,{"$f":"VLOOKUP(K440,[1]Paramètres!$M$5:$O$101,2,0)","v":{"$error":"#N/A"}},{"$f":"VLOOKUP(K440,[1]Paramètres!$M$5:$O$101,3,0)","v":{"$error":"#N/A"}},null,null,null,null,null,null,null,null,null,null,{"$f":"SUM(Tableau_Data[[#This Row],[Féminin]:[Masculin]])","v":0}]
[null,null,"",null,"",null,null,null,null,null,null,{"$f":"VLOOKUP(K441,[1]Paramètres!$M$5:$O$101,2,0)","v":{"$error":"#N/A"}},{"$f":"VLOOKUP(K441,[1]Paramètres!$M$5:$O$101,3,0)","v":{"$error":"#N/A"}},null,null,null,null,null,null,null,null,null,null,{"$f":"SUM(Tableau_Data[[#This Row],[Féminin]:[Masculin]])","v":0}]
[null,null,"",null,"",null,null,null,null,null,null,{"$f":"VLOOKUP(K442,[1]Paramètres!$M$5:$O$101,2,0)","v":{"$error":"#N/A"}},{"$f":"VLOOKUP(K442,[1]Paramètres!$M$5:$O$101,3,0)","v":{"$error":"#N/A"}},null,null,null,null,null,null,null,null,null,null,{"$f":"SUM(Tableau_Data[[#This Row],[Féminin]:[Masculin]])","v":0}]
[null,null,"",null,"",null,null,null,null,null,null,{"$f":"VLOOKUP(K443,[1]Paramètres!$M$5:$O$101,2,0)","v":{"$error":"#N/A"}},{"$f":"VLOOKUP(K443,[1]Paramètres!$M$5:$O$101,3,0)","v":{"$error":"#N/A"}},null,null,null,null,null,null,null,null,null,null,{"$f":"SUM(Tableau_Data[[#This Row],[Féminin]:[Masculin]])","v":0}]
[null,null,"",null,"",null,null,null,null,null,null,{"$f":"VLOOKUP(K444,[1]Paramètres!$M$5:$O$101,2,0)","v":{"$error":"#N/A"}},{"$f":"VLOOKUP(K444,[1]Paramètres!$M$5:$O$101,3,0)","v":{"$error":"#N/A"}},null,null,null,null,null,null,null,null,null,null,{"$f":"SUM(Tableau_Data[[#This Row],[Féminin]:[Masculin]])","v":0}]
[null,null,"",null,"",null,null,null,null,null,null,{"$f":"VLOOKUP(K445,[1]Paramètres!$M$5:$O$101,2,0)","v":{"$error":"#N/A"}},{"$f":"VLOOKUP(K445,[1]Paramètres!$M$5:$O$101,3,0)","v":{"$error":"#N/A"}},null,null,null,null,null,null,null,null,null,null,{"$f":"SUM(Tableau_Data[[#This Row],[Féminin]:[Masculin]])","v":0}]
[null,null,"",null,"",null,null,null,null,null,null,{"$f":"VLOOKUP(K446,[1]Paramètres!$M$5:$O$101,2,0)","v":{"$error":"#N/A"}},{"$f":"VLOOKUP(K446,[1]Paramètres!$M$5:$O$101,3,0)","v":{"$error":"#N/A"}},null,null,null,null,null,null,null,null,null,null,{"$f":"SUM(Tableau_Data[[#This Row],[Féminin]:[Masculin]])","v":0}]
[null,null,"",null,"",null,null,null,null,null,null,{"$f":"VLOOKUP(K447,[1]Paramètres!$M$5:$O$101,2,0)","v":{"$error":"#N/A"}},{"$f":"VLOOKUP(K447,[1]Paramètres!$M$5:$O$101,3,0)","v":{"$error":"#N/A"}},null,null,null,null,null,null,null,null,null,null,{"$f":"SUM(Tableau_Data[[#This Row],[Féminin]:[Masculin]])","v":0}]
[null,null,"",null,"",null,null,null,null,null,null,{"$f":"VLOOKUP(K448,[1]Paramètres!$M$5:$O$101,2,0)","v":{"$error":"#N/A"}},{"$f":"VLOOKUP(K448,[1]Paramètres!$M$5:$O$101,3,0)","v":{"$error":"#N/A"}},null,null,null,null,null,null,null,null,null,null,{"$f":"SUM(Tableau_Data[[#This Row],[Féminin]:[Masculin]])","v":0}]
[null,null,"",null,"",null,null,null,null,null,null,{"$f":"VLOOKUP(K449,[1]Paramètres!$M$5:$O$101,2,0)","v":{"$error":"#N/A"}},{"$f":"VLOOKUP(K449,[1]Paramètres!$M$5:$O$101,3,0)","v":{"$error":"#N/A"}},null,null,null,null,null,null,null,null,null,null,{"$f":"SUM(Tableau_Data[[#This Row],[Féminin]:[Masculin]])","v":0}]
[null,null,"",null,"",null,null,null,null,null,null,{"$f":"VLOOKUP(K450,[1]Paramètres!$M$5:$O$101,2,0)","v":{"$error":"#N/A"}},{"$f":"VLOOKUP(K450,[1]Paramètres!$M$5:$O$101,3,0)","v":{"$error":"#N/A"}},null,null,null,null,null,null,null,null,null,null,{"$f":"SUM(Tableau_Data[[#This Row],[Féminin]:[Masculin]])","v":0}]
[null,null,"",null,"",null,null,null,null,null,null,{"$f":"VLOOKUP(K451,[1]Paramètres!$M$5:$O$101,2,0)","v":{"$error":"#N/A"}},{"$f":"VLOOKUP(K451,[1]Paramètres!$M$5:$O$101,3,0)","v":{"$error":"#N/A"}},null,null,null,null,null,null,null,null,null,null,{"$f":"SUM(Tableau_Data[[#This Row],[Féminin]:[Masculin]])","v":0}]
[null,null,"",null,"",null,null,null,null,null,null,{"$f":"VLOOKUP(K452,[1]Paramètres!$M$5:$O$101,2,0)","v":{"$error":"#N/A"}},{"$f":"VLOOKUP(K452,[1]Paramètres!$M$5:$O$101,3,0)","v":{"$error":"#N/A"}},null,null,null,null,null,null,null,null,null,null,{"$f":"SUM(Tableau_Data[[#This Row],[Féminin]:[Masculin]])","v":0}]
[null,null,"",null,"",null,null,null,null,null,null,{"$f":"VLOOKUP(K453,[1]Paramètres!$M$5:$O$101,2,0)","v":{"$error":"#N/A"}},{"$f":"VLOOKUP(K453,[1]Paramètres!$M$5:$O$101,3,0)","v":{"$error":"#N/A"}},null,null,null,null,null,null,null,null,null,null,{"$f":"SUM(Tableau_Data[[#This Row],[Féminin]:[Masculin]])","v":0}]
[null,null,"",null,"",null,null,null,null,null,null,{"$f":"VLOOKUP(K454,[1]Paramètres!$M$5:$O$101,2,0)","v":{"$error":"#N/A"}},{"$f":"VLOOKUP(K454,[1]Paramètres!$M$5:$O$101,3,0)","v":{"$error":"#N/A"}},null,null,null,null,null,null,null,null,null,null,{"$f":"SUM(Tableau_Data[[#This Row],[Féminin]:[Masculin]])","v":0}]
[null,null,"",null,"",null,null,null,null,null,null,{"$f":"VLOOKUP(K455,[1]Paramètres!$M$5:$O$101,2,0)","v":{"$error":"#N/A"}},{"$f":"VLOOKUP(K455,[1]Paramètres!$M$5:$O$101,3,0)","v":{"$error":"#N/A"}},null,null,null,null,null,null,null,null,null,null,{"$f":"SUM(Tableau_Data[[#This Row],[Féminin]:[Masculin]])","v":0}]
[null,null,"",null,"",null,null,null,null,null,null,{"$f":"VLOOKUP(K456,[1]Paramètres!$M$5:$O$101,2,0)","v":{"$error":"#N/A"}},{"$f":"VLOOKUP(K456,[1]Paramètres!$M$5:$O$101,3,0)","v":{"$error":"#N/A"}},null,null,null,null,null,null,null,null,null,null,{"$f":"SUM(Tableau_Data[[#This Row],[Féminin]:[Masculin]])","v":0}]
[null,null,"",null,"",null,null,null,null,null,null,{"$f":"VLOOKUP(K457,[1]Paramètres!$M$5:$O$101,2,0)","v":{"$error":"#N/A"}},{"$f":"VLOOKUP(K457,[1]Paramètres!$M$5:$O$101,3,0)","v":{"$error":"#N/A"}},null,null,null,null,null,null,null,null,null,null,{"$f":"SUM(Tableau_Data[[#This Row],[Féminin]:[Masculin]])","v":0}]
[null,null,"",null,"",null,null,null,null,null,null,{"$f":"VLOOKUP(K458,[1]Paramètres!$M$5:$O$101,2,0)","v":{"$error":"#N/A"}},{"$f":"VLOOKUP(K458,[1]Paramètres!$M$5:$O$101,3,0)","v":{"$error":"#N/A"}},null,null,null,null,null,null,null,null,null,null,{"$f":"SUM(Tableau_Data[[#This Row],[Féminin]:[Masculin]])","v":0}]
[null,null,"",null,"",null,null,null,null,null,null,{"$f":"VLOOKUP(K459,[1]Paramètres!$M$5:$O$101,2,0)","v":{"$error":"#N/A"}},{"$f":"VLOOKUP(K459,[1]Paramètres!$M$5:$O$101,3,0)","v":{"$error":"#N/A"}},null,null,null,null,null,null,null,null,null,null,{"$f":"SUM(Tableau_Data[[#This Row],[Féminin]:[Masculin]])","v":0}]
[null,null,"",null,"",null,null,null,null,null,null,{"$f":"VLOOKUP(K460,[1]Paramètres!$M$5:$O$101,2,0)","v":{"$error":"#N/A"}},{"$f":"VLOOKUP(K460,[1]Paramètres!$M$5:$O$101,3,0)","v":{"$error":"#N/A"}},null,null,null,null,null,null,null,null,null,null,{"$f":"SUM(Tableau_Data[[#This Row],[Féminin]:[Masculin]])","v":0}]
[null,null,"",null,"",null,null,null,null,null,null,{"$f":"VLOOKUP(K461,[1]Paramètres!$M$5:$O$101,2,0)","v":{"$error":"#N/A"}},{"$f":"VLOOKUP(K461,[1]Paramètres!$M$5:$O$101,3,0)","v":{"$error":"#N/A"}},null,null,null,null,null,null,null,null,null,null,{"$f":"SUM(Tableau_Data[[#This Row],[Féminin]:[Masculin]])","v":0}]
[null,null,"",null,"",null,null,null,null,null,null,{"$f":"VLOOKUP(K462,[1]Paramètres!$M$5:$O$101,2,0)","v":{"$error":"#N/A"}},{"$f":"VLOOKUP(K462,[1]Paramètres!$M$5:$O$101,3,0)","v":{"$error":"#N/A"}},null,null,null,null,null,null,null,null,null,null,{"$f":"SUM(Tableau_Data[[#This Row],[Féminin]:[Masculin]])","v":0}]
[null,null,"",null,"",null,null,null,null,null,null,{"$f":"VLOOKUP(K463,[1]Paramètres!$M$5:$O$101,2,0)","v":{"$error":"#N/A"}},{"$f":"VLOOKUP(K463,[1]Paramètres!$M$5:$O$101,3,0)","v":{"$error":"#N/A"}},null,null,null,null,null,null,null,null,null,null,{"$f":"SUM(Tableau_Data[[#This Row],[Féminin]:[Masculin]])","v":0}]
[null,null,"",null,"",null,null,null,null,null,null,{"$f":"VLOOKUP(K464,[1]Paramètres!$M$5:$O$101,2,0)","v":{"$error":"#N/A"}},{"$f":"VLOOKUP(K464,[1]Paramètres!$M$5:$O$101,3,0)","v":{"$error":"#N/A"}},null,null,null,null,null,null,null,null,null,null,{"$f":"SUM(Tableau_Data[[#This Row],[Féminin]:[Masculin]])","v":0}]
[null,null,"",null,"",null,null,null,null,null,null,{"$f":"VLOOKUP(K465,[1]Paramètres!$M$5:$O$101,2,0)","v":{"$error":"#N/A"}},{"$f":"VLOOKUP(K465,[1]Paramètres!$M$5:$O$101,3,0)","v":{"$error":"#N/A"}},null,null,null,null,null,null,null,null,null,null,{"$f":"SUM(Tableau_Data[[#This Row],[Féminin]:[Masculin]])","v":0}]
[null,null,"",null,"",null,null,null,null,null,null,{"$f":"VLOOKUP(K466,[1]Paramètres!$M$5:$O$101,2,0)","v":{"$error":"#N/A"}},{"$f":"VLOOKUP(K466,[1]Paramètres!$M$5:$O$101,3,0)","v":{"$error":"#N/A"}},null,null,null,null,null,null,null,null,null,null,{"$f":"SUM(Tableau_Data[[#This Row],[Féminin]:[Masculin]])","v":0}]
[null,null,"",null,"",null,null,null,null,null,null,{"$f":"VLOOKUP(K467,[1]Paramètres!$M$5:$O$101,2,0)","v":{"$error":"#N/A"}},{"$f":"VLOOKUP(K467,[1]Paramètres!$M$5:$O$101,3,0)","v":{"$error":"#N/A"}},null,null,null,null,null,null,null,null,null,null,{"$f":"SUM(Tableau_Data[[#This Row],[Féminin]:[Masculin]])","v":0}]
[null,null,"",null,"",null,null,null,null,null,null,{"$f":"VLOOKUP(K468,[1]Paramètres!$M$5:$O$101,2,0)","v":{"$error":"#N/A"}},{"$f":"VLOOKUP(K468,[1]Paramètres!$M$5:$O$101,3,0)","v":{"$error":"#N/A"}},null,null,null,null,null,null,null,null,null,null,{"$f":"SUM(Tableau_Data[[#This Row],[Féminin]:[Masculin]])","v":0}]
[null,null,"",null,{"$f":"IF(D469=\"\",\"\",MONTH(D469))","v":""},null,null,null,null,null,null,{"$f":"VLOOKUP(K469,[1]Paramètres!$M$5:$O$101,2,0)","v":{"$error":"#N/A"}},{"$f":"VLOOKUP(K469,[1]Paramètres!$M$5:$O$101,3,0)","v":{"$error":"#N/A"}},null,null,null,null,null,null,null,null,null,null,{"$f":"SUM(Tableau_Data[[#This Row],[Féminin]:[Masculin]])","v":0}]
[null,null,"",null,"",null,null,null,null,null,null,{"$f":"VLOOKUP(K470,[1]Paramètres!$M$5:$O$101,2,0)","v":{"$error":"#N/A"}},{"$f":"VLOOKUP(K470,[1]Paramètres!$M$5:$O$101,3,0)","v":{"$error":"#N/A"}},null,null,null,null,null,null,null,null,null,null,{"$f":"SUM(Tableau_Data[[#This Row],[Féminin]:[Masculin]])","v":0}]
[null,null,"",null,"",null,null,null,null,null,null,{"$f":"VLOOKUP(K471,[1]Paramètres!$M$5:$O$101,2,0)","v":{"$error":"#N/A"}},{"$f":"VLOOKUP(K471,[1]Paramètres!$M$5:$O$101,3,0)","v":{"$error":"#N/A"}},null,null,null,null,null,null,null,null,null,null,{"$f":"SUM(Tableau_Data[[#This Row],[Féminin]:[Masculin]])","v":0}]
[null,null,"",null,"",null,null,null,null,null,null,{"$f":"VLOOKUP(K472,[1]Paramètres!$M$5:$O$101,2,0)","v":{"$error":"#N/A"}},{"$f":"VLOOKUP(K472,[1]Paramètres!$M$5:$O$101,3,0)","v":{"$error":"#N/A"}},null,null,null,null,null,null,null,null,null,null,{"$f":"SUM(Tableau_Data[[#This Row],[Féminin]:[Masculin]])","v":0}]
[null,null,"",null,"",null,null,null,null,null,null,{"$f":"VLOOKUP(K473,[1]Paramètres!$M$5:$O$101,2,0)","v":{"$error":"#N/A"}},{"$f":"VLOOKUP(K473,[1]Paramètres!$M$5:$O$101,3,0)","v":{"$error":"#N/A"}},null,null,null,null,null,null,null,null,null,null,{"$f":"SUM(Tableau_Data[[#This Row],[Féminin]:[Masculin]])","v":0}]
[null,null,"",null,"",null,null,null,null,null,null,{"$f":"VLOOKUP(K474,[1]Paramètres!$M$5:$O$101,2,0)","v":{"$error":"#N/A"}},{"$f":"VLOOKUP(K474,[1]Paramètres!$M$5:$O$101,3,0)","v":{"$error":"#N/A"}},null,null,null,null,null,null,null,null,null,null,{"$f":"SUM(Tableau_Data[[#This Row],[Féminin]:[Masculin]])","v":0}]
[null,null,"",null,"",null,null,null,null,null,null,{"$f":"VLOOKUP(K475,[1]Paramètres!$M$5:$O$101,2,0)","v":{"$error":"#N/A"}},{"$f":"VLOOKUP(K475,[1]Paramètres!$M$5:$O$101,3,0)","v":{"$error":"#N/A"}},null,null,null,null,null,null,null,null,null,null,{"$f":"SUM(Tableau_Data[[#This Row],[Féminin]:[Masculin]])","v":0}]
[null,null,"",null,"",null,null,null,null,null,null,{"$f":"VLOOKUP(K476,[1]Paramètres!$M$5:$O$101,2,0)","v":{"$error":"#N/A"}},{"$f":"VLOOKUP(K476,[1]Paramètres!$M$5:$O$101,3,0)","v":{"$error":"#N/A"}},null,null,null,null,null,null,null,null,null,null,{"$f":"SUM(Tableau_Data[[#This Row],[Féminin]:[Masculin]])","v":0}]
[null,null,"",null,"",null,null,null,null,null,null,{"$f":"VLOOKUP(K477,[1]Paramètres!$M$5:$O$101,2,0)","v":{"$error":"#N/A"}},{"$f":"VLOOKUP(K477,[1]Paramètres!$M$5:$O$101,3,0)","v":{"$error":"#N/A"}},null,null,null,null,null,null,null,null,null,null,{"$f":"SUM(Tableau_Data[[#This Row],[Féminin]:[Masculin]])","v":0}]
[null,null,"",null,"",null,null,null,null,null,null,{"$f":"VLOOKUP(K478,[1]Paramètres!$M$5:$O$101,2,0)","v":{"$error":"#N/A"}},{"$f":"VLOOKUP(K478,[1]Paramètres!$M$5:$O$101,3,0)","v":{"$error":"#N/A"}},null,null,null,null,null,null,null,null,null,null,{"$f":"SUM(Tableau_Data[[#This Row],[Féminin]:[Masculin]])","v":0}]
[null,null,{"$f":"IF(D479=\"\",\"\",YEAR(D479))","v":""},null,"",null,null,null,null,null,null,{"$f":"VLOOKUP(K479,[1]Paramètres!$M$5:$O$101,2,0)","v":{"$error":"#N/A"}},{"$f":"VLOOKUP(K479,[1]Paramètres!$M$5:$O$101,3,0)","v":{"$error":"#N/A"}},null,null,null,null,null,null,null,null,null,null,{"$f":"SUM(Tableau_Data[[#This Row],[Féminin]:[Masculin]])","v":0}]
[null,null,"",null,"",null,null,null,null,null,null,{"$f":"VLOOKUP(K480,[1]Paramètres!$M$5:$O$101,2,0)","v":{"$error":"#N/A"}},{"$f":"VLOOKUP(K480,[1]Paramètres!$M$5:$O$101,3,0)","v":{"$error":"#N/A"}},null,null,null,null,null,null,null,null,null,null,{"$f":"SUM(Tableau_Data[[#This Row],[Féminin]:[Masculin]])","v":0}]
[null,null,"",null,"",null,null,null,null,null,null,{"$f":"VLOOKUP(K481,[1]Paramètres!$M$5:$O$101,2,0)","v":{"$error":"#N/A"}},{"$f":"VLOOKUP(K481,[1]Paramètres!$M$5:$O$101,3,0)","v":{"$error":"#N/A"}},null,null,null,null,null,null,null,null,null,null,{"$f":"SUM(Tableau_Data[[#This Row],[Féminin]:[Masculin]])","v":0}]
[null,null,"",null,"",null,null,null,null,null,null,{"$f":"VLOOKUP(K482,[1]Paramètres!$M$5:$O$101,2,0)","v":{"$error":"#N/A"}},{"$f":"VLOOKUP(K482,[1]Paramètres!$M$5:$O$101,3,0)","v":{"$error":"#N/A"}},null,null,null,null,null,null,null,null,null,null,{"$f":"SUM(Tableau_Data[[#This Row],[Féminin]:[Masculin]])","v":0}]
[null,null,"",null,"",null,null,null,null,null,null,{"$f":"VLOOKUP(K483,[1]Paramètres!$M$5:$O$101,2,0)","v":{"$error":"#N/A"}},{"$f":"VLOOKUP(K483,[1]Paramètres!$M$5:$O$101,3,0)","v":{"$error":"#N/A"}},null,null,null,null,null,null,null,null,null,null,{"$f":"SUM(Tableau_Data[[#This Row],[Féminin]:[Masculin]])","v":0}]
[null,null,"",null,"",null,null,null,null,null,null,{"$f":"VLOOKUP(K484,[1]Paramètres!$M$5:$O$101,2,0)","v":{"$error":"#N/A"}},{"$f":"VLOOKUP(K484,[1]Paramètres!$M$5:$O$101,3,0)","v":{"$error":"#N/A"}},null,null,null,null,null,null,null,null,null,null,{"$f":"SUM(Tableau_Data[[#This Row],[Féminin]:[Masculin]])","v":0}]
[null,null,"",null,"",null,null,null,null,null,null,{"$f":"VLOOKUP(K485,[1]Paramètres!$M$5:$O$101,2,0)","v":{"$error":"#N/A"}},{"$f":"VLOOKUP(K485,[1]Paramètres!$M$5:$O$101,3,0)","v":{"$error":"#N/A"}},null,null,null,null,null,null,null,null,null,null,{"$f":"SUM(Tableau_Data[[#This Row],[Féminin]:[Masculin]])","v":0}]
[null,null,"",null,"",null,null,null,null,null,null,{"$f":"VLOOKUP(K486,[1]Paramètres!$M$5:$O$101,2,0)","v":{"$error":"#N/A"}},{"$f":"VLOOKUP(K486,[1]Paramètres!$M$5:$O$101,3,0)","v":{"$error":"#N/A"}},null,null,null,null,null,null,null,null,null,null,{"$f":"SUM(Tableau_Data[[#This Row],[Féminin]:[Masculin]])","v":0}]
[null,null,"",null,"",null,null,null,null,null,null,{"$f":"VLOOKUP(K487,[1]Paramètres!$M$5:$O$101,2,0)","v":{"$error":"#N/A"}},{"$f":"VLOOKUP(K487,[1]Paramètres!$M$5:$O$101,3,0)","v":{"$error":"#N/A"}},null,null,null,null,null,null,null,null,null,null,{"$f":"SUM(Tableau_Data[[#This Row],[Féminin]:[Masculin]])","v":0}]
[null,null,"",null,"",null,null,null,null,null,null,{"$f":"VLOOKUP(K488,[1]Paramètres!$M$5:$O$101,2,0)","v":{"$error":"#N/A"}},{"$f":"VLOOKUP(K488,[1]Paramètres!$M$5:$O$101,3,0)","v":{"$error":"#N/A"}},null,null,null,null,null,null,null,null,null,null,{"$f":"SUM(Tableau_Data[[#This Row],[Féminin]:[Masculin]])","v":0}]
[null,null,"",null,"",null,null,null,null,null,null,{"$f":"VLOOKUP(K489,[1]Paramètres!$M$5:$O$101,2,0)","v":{"$error":"#N/A"}},{"$f":"VLOOKUP(K489,[1]Paramètres!$M$5:$O$101,3,0)","v":{"$error":"#N/A"}},null,null,null,null,null,null,null,null,null,null,{"$f":"SUM(Tableau_Data[[#This Row],[Féminin]:[Masculin]])","v":0}]
[null,null,"",null,"",null,null,null,null,null,null,{"$f":"VLOOKUP(K490,[1]Paramètres!$M$5:$O$101,2,0)","v":{"$error":"#N/A"}},{"$f":"VLOOKUP(K490,[1]Paramètres!$M$5:$O$101,3,0)","v":{"$error":"#N/A"}},null,null,null,null,null,null,null,null,null,null,{"$f":"SUM(Tableau_Data[[#This Row],[Féminin]:[Masculin]])","v":0}]
[null,null,"",null,"",null,null,null,null,null,null,{"$f":"VLOOKUP(K491,[1]Paramètres!$M$5:$O$101,2,0)","v":{"$error":"#N/A"}},{"$f":"VLOOKUP(K491,[1]Paramètres!$M$5:$O$101,3,0)","v":{"$error":"#N/A"}},null,null,null,null,null,null,null,null,null,null,{"$f":"SUM(Tableau_Data[[#This Row],[Féminin]:[Masculin]])","v":0}]
[null,null,"",null,"",null,null,null,null,null,null,{"$f":"VLOOKUP(K492,[1]Paramètres!$M$5:$O$101,2,0)","v":{"$error":"#N/A"}},{"$f":"VLOOKUP(K492,[1]Paramètres!$M$5:$O$101,3,0)","v":{"$error":"#N/A"}},null,null,null,null,null,null,null,null,null,null,{"$f":"SUM(Tableau_Data[[#This Row],[Féminin]:[Masculin]])","v":0}]
[null,null,"",null,"",null,null,null,null,null,null,{"$f":"VLOOKUP(K493,[1]Paramètres!$M$5:$O$101,2,0)","v":{"$error":"#N/A"}},{"$f":"VLOOKUP(K493,[1]Paramètres!$M$5:$O$101,3,0)","v":{"$error":"#N/A"}},null,null,null,null,null,null,null,null,null,null,{"$f":"SUM(Tableau_Data[[#This Row],[Féminin]:[Masculin]])","v":0}]
[null,null,"",null,"",null,null,null,null,null,null,{"$f":"VLOOKUP(K494,[1]Paramètres!$M$5:$O$101,2,0)","v":{"$error":"#N/A"}},{"$f":"VLOOKUP(K494,[1]Paramètres!$M$5:$O$101,3,0)","v":{"$error":"#N/A"}},null,null,null,null,null,null,null,null,null,null,{"$f":"SUM(Tableau_Data[[#This Row],[Féminin]:[Masculin]])","v":0}]
[null,null,"",null,"",null,null,null,null,null,null,{"$f":"VLOOKUP(K495,[1]Paramètres!$M$5:$O$101,2,0)","v":{"$error":"#N/A"}},{"$f":"VLOOKUP(K495,[1]Paramètres!$M$5:$O$101,3,0)","v":{"$error":"#N/A"}},null,null,null,null,null,null,null,null,null,null,{"$f":"SUM(Tableau_Data[[#This Row],[Féminin]:[Masculin]])","v":0}]
[null,null,"",null,"",null,null,null,null,null,null,{"$f":"VLOOKUP(K496,[1]Paramètres!$M$5:$O$101,2,0)","v":{"$error":"#N/A"}},{"$f":"VLOOKUP(K496,[1]Paramètres!$M$5:$O$101,3,0)","v":{"$error":"#N/A"}},null,null,null,null,null,null,null,null,null,null,{"$f":"SUM(Tableau_Data[[#This Row],[Féminin]:[Masculin]])","v":0}]
[null,null,"",null,"",null,null,null,null,null,null,{"$f":"VLOOKUP(K497,[1]Paramètres!$M$5:$O$101,2,0)","v":{"$error":"#N/A"}},{"$f":"VLOOKUP(K497,[1]Paramètres!$M$5:$O$101,3,0)","v":{"$error":"#N/A"}},null,null,null,null,null,null,null,null,null,null,{"$f":"SUM(Tableau_Data[[#This Row],[Féminin]:[Masculin]])","v":0}]
[null,null,"",null,"",null,null,null,null,null,null,{"$f":"VLOOKUP(K498,[1]Paramètres!$M$5:$O$101,2,0)","v":{"$error":"#N/A"}},{"$f":"VLOOKUP(K498,[1]Paramètres!$M$5:$O$101,3,0)","v":{"$error":"#N/A"}},null,null,null,null,null,null,null,null,null,null,{"$f":"SUM(Tableau_Data[[#This Row],[Féminin]:[Masculin]])","v":0}]
[null,null,"",null,"",null,null,null,null,null,null,{"$f":"VLOOKUP(K499,[1]Paramètres!$M$5:$O$101,2,0)","v":{"$error":"#N/A"}},{"$f":"VLOOKUP(K499,[1]Paramètres!$M$5:$O$101,3,0)","v":{"$error":"#N/A"}},null,null,null,null,null,null,null,null,null,null,{"$f":"SUM(Tableau_Data[[#This Row],[Féminin]:[Masculin]])","v":0}]
[null,null,"",null,"",null,null,null,null,null,null,{"$f":"VLOOKUP(K500,[1]Paramètres!$M$5:$O$101,2,0)","v":{"$error":"#N/A"}},{"$f":"VLOOKUP(K500,[1]Paramètres!$M$5:$O$101,3,0)","v":{"$error":"#N/A"}},null,null,null,null,null,null,null,null,null,null,{"$f":"SUM(Tableau_Data[[#This Row],[Féminin]:[Masculin]])","v":0}]
[null,null,"",null,"",null,null,null,null,null,null,{"$f":"VLOOKUP(K501,[1]Paramètres!$M$5:$O$101,2,0)","v":{"$error":"#N/A"}},{"$f":"VLOOKUP(K501,[1]Paramètres!$M$5:$O$101,3,0)","v":{"$error":"#N/A"}},null,null,null,null,null,null,null,null,null,null,{"$f":"SUM(Tableau_Data[[#This Row],[Féminin]:[Masculin]])","v":0}]
[null,null,"",null,"",null,null,null,null,null,null,{"$f":"VLOOKUP(K502,[1]Paramètres!$M$5:$O$101,2,0)","v":{"$error":"#N/A"}},{"$f":"VLOOKUP(K502,[1]Paramètres!$M$5:$O$101,3,0)","v":{"$error":"#N/A"}},null,null,null,null,null,null,null,null,null,null,{"$f":"SUM(Tableau_Data[[#This Row],[Féminin]:[Masculin]])","v":0}]
[null,null,"",null,"",null,null,null,null,null,null,{"$f":"VLOOKUP(K503,[1]Paramètres!$M$5:$O$101,2,0)","v":{"$error":"#N/A"}},{"$f":"VLOOKUP(K503,[1]Paramètres!$M$5:$O$101,3,0)","v":{"$error":"#N/A"}},null,null,null,null,null,null,null,null,null,null,{"$f":"SUM(Tableau_Data[[#This Row],[Féminin]:[Masculin]])","v":0}]
[null,null,"",null,"",null,null,null,null,null,null,{"$f":"VLOOKUP(K504,[1]Paramètres!$M$5:$O$101,2,0)","v":{"$error":"#N/A"}},{"$f":"VLOOKUP(K504,[1]Paramètres!$M$5:$O$101,3,0)","v":{"$error":"#N/A"}},null,null,null,null,null,null,null,null,null,null,{"$f":"SUM(Tableau_Data[[#This Row],[Féminin]:[Masculin]])","v":0}]
[null,null,"",null,"",null,null,null,null,null,null,{"$f":"VLOOKUP(K505,[1]Paramètres!$M$5:$O$101,2,0)","v":{"$error":"#N/A"}},{"$f":"VLOOKUP(K505,[1]Paramètres!$M$5:$O$101,3,0)","v":{"$error":"#N/A"}},null,null,null,null,null,null,null,null,null,null,{"$f":"SUM(Tableau_Data[[#This Row],[Féminin]:[Masculin]])","v":0}]
[null,null,"",null,"",null,null,null,null,null,null,{"$f":"VLOOKUP(K506,[1]Paramètres!$M$5:$O$101,2,0)","v":{"$error":"#N/A"}},{"$f":"VLOOKUP(K506,[1]Paramètres!$M$5:$O$101,3,0)","v":{"$error":"#N/A"}},null,null,null,null,null,null,null,null,null,null,{"$f":"SUM(Tableau_Data[[#This Row],[Féminin]:[Masculin]])","v":0}]
[null,null,"",null,"",null,null,null,null,null,null,{"$f":"VLOOKUP(K507,[1]Paramètres!$M$5:$O$101,2,0)","v":{"$error":"#N/A"}},{"$f":"VLOOKUP(K507,[1]Paramètres!$M$5:$O$101,3,0)","v":{"$error":"#N/A"}},null,null,null,null,null,null,null,null,null,null,{"$f":"SUM(Tableau_Data[[#This Row],[Féminin]:[Masculin]])","v":0}]
[null,null,"",null,"",null,null,null,null,null,null,{"$f":"VLOOKUP(K508,[1]Paramètres!$M$5:$O$101,2,0)","v":{"$error":"#N/A"}},{"$f":"VLOOKUP(K508,[1]Paramètres!$M$5:$O$101,3,0)","v":{"$error":"#N/A"}},null,null,null,null,null,null,null,null,null,null,{"$f":"SUM(Tableau_Data[[#This Row],[Féminin]:[Masculin]])","v":0}]
[null,null,"",null,"",null,null,null,null,null,null,{"$f":"VLOOKUP(K509,[1]Paramètres!$M$5:$O$101,2,0)","v":{"$error":"#N/A"}},{"$f":"VLOOKUP(K509,[1]Paramètres!$M$5:$O$101,3,0)","v":{"$error":"#N/A"}},null,null,null,null,null,null,null,null,null,null,{"$f":"SUM(Tableau_Data[[#This Row],[Féminin]:[Masculin]])","v":0}]
[null,null,"",null,"",null,null,null,null,null,null,{"$f":"VLOOKUP(K510,[1]Paramètres!$M$5:$O$101,2,0)","v":{"$error":"#N/A"}},{"$f":"VLOOKUP(K510,[1]Paramètres!$M$5:$O$101,3,0)","v":{"$error":"#N/A"}},null,null,null,null,null,null,null,null,null,null,{"$f":"SUM(Tableau_Data[[#This Row],[Féminin]:[Masculin]])","v":0}]
[null,null,"",null,"",null,null,null,null,null,null,{"$f":"VLOOKUP(K511,[1]Paramètres!$M$5:$O$101,2,0)","v":{"$error":"#N/A"}},{"$f":"VLOOKUP(K511,[1]Paramètres!$M$5:$O$101,3,0)","v":{"$error":"#N/A"}},null,null,null,null,null,null,null,null,null,null,{"$f":"SUM(Tableau_Data[[#This Row],[Féminin]:[Masculin]])","v":0}]
[null,null,"",null,"",null,null,null,null,null,null,{"$f":"VLOOKUP(K512,[1]Paramètres!$M$5:$O$101,2,0)","v":{"$error":"#N/A"}},{"$f":"VLOOKUP(K512,[1]Paramètres!$M$5:$O$101,3,0)","v":{"$error":"#N/A"}},null,null,null,null,null,null,null,null,null,null,{"$f":"SUM(Tableau_Data[[#This Row],[Féminin]:[Masculin]])","v":0}]
[null,null,"",null,"",null,null,null,null,null,null,{"$f":"VLOOKUP(K513,[1]Paramètres!$M$5:$O$101,2,0)","v":{"$error":"#N/A"}},{"$f":"VLOOKUP(K513,[1]Paramètres!$M$5:$O$101,3,0)","v":{"$error":"#N/A"}},null,null,null,null,null,null,null,null,null,null,{"$f":"SUM(Tableau_Data[[#This Row],[Féminin]:[Masculin]])","v":0}]
[null,null,"",null,"",null,null,null,null,null,null,{"$f":"VLOOKUP(K514,[1]Paramètres!$M$5:$O$101,2,0)","v":{"$error":"#N/A"}},{"$f":"VLOOKUP(K514,[1]Paramètres!$M$5:$O$101,3,0)","v":{"$error":"#N/A"}},null,null,null,null,null,null,null,null,null,null,{"$f":"SUM(Tableau_Data[[#This Row],[Féminin]:[Masculin]])","v":0}]
[null,null,"",null,"",null,null,null,null,null,null,{"$f":"VLOOKUP(K515,[1]Paramètres!$M$5:$O$101,2,0)","v":{"$error":"#N/A"}},{"$f":"VLOOKUP(K515,[1]Paramètres!$M$5:$O$101,3,0)","v":{"$error":"#N/A"}},null,null,null,null,null,null,null,null,null,null,{"$f":"SUM(Tableau_Data[[#This Row],[Féminin]:[Masculin]])","v":0}]
[null,null,"",null,"",null,null,null,null,null,null,{"$f":"VLOOKUP(K516,[1]Paramètres!$M$5:$O$101,2,0)","v":{"$error":"#N/A"}},{"$f":"VLOOKUP(K516,[1]Paramètres!$M$5:$O$101,3,0)","v":{"$error":"#N/A"}},null,null,null,null,null,null,null,null,null,null,{"$f":"SUM(Tableau_Data[[#This Row],[Féminin]:[Masculin]])","v":0}]
[null,null,"",null,"",null,null,null,null,null,null,{"$f":"VLOOKUP(K517,[1]Paramètres!$M$5:$O$101,2,0)","v":{"$error":"#N/A"}},{"$f":"VLOOKUP(K517,[1]Paramètres!$M$5:$O$101,3,0)","v":{"$error":"#N/A"}},null,null,null,null,null,null,null,null,null,null,{"$f":"SUM(Tableau_Data[[#This Row],[Féminin]:[Masculin]])","v":0}]
[null,null,"",null,"",null,null,null,null,null,null,{"$f":"VLOOKUP(K518,[1]Paramètres!$M$5:$O$101,2,0)","v":{"$error":"#N/A"}},{"$f":"VLOOKUP(K518,[1]Paramètres!$M$5:$O$101,3,0)","v":{"$error":"#N/A"}},null,null,null,null,null,null,null,null,null,null,{"$f":"SUM(Tableau_Data[[#This Row],[Féminin]:[Masculin]])","v":0}]
[null,null,"",null,"",null,null,null,null,null,null,{"$f":"VLOOKUP(K519,[1]Paramètres!$M$5:$O$101,2,0)","v":{"$error":"#N/A"}},{"$f":"VLOOKUP(K519,[1]Paramètres!$M$5:$O$101,3,0)","v":{"$error":"#N/A"}},null,null,null,null,null,null,null,null,null,null,{"$f":"SUM(Tableau_Data[[#This Row],[Féminin]:[Masculin]])","v":0}]
[null,null,"",null,"",null,null,null,null,null,null,{"$f":"VLOOKUP(K520,[1]Paramètres!$M$5:$O$101,2,0)","v":{"$error":"#N/A"}},{"$f":"VLOOKUP(K520,[1]Paramètres!$M$5:$O$101,3,0)","v":{"$error":"#N/A"}},null,null,null,null,null,null,null,null,null,null,{"$f":"SUM(Tableau_Data[[#This Row],[Féminin]:[Masculin]])","v":0}]
[null,null,"",null,"",null,null,null,null,null,null,{"$f":"VLOOKUP(K521,[1]Paramètres!$M$5:$O$101,2,0)","v":{"$error":"#N/A"}},{"$f":"VLOOKUP(K521,[1]Paramètres!$M$5:$O$101,3,0)","v":{"$error":"#N/A"}},null,null,null,null,null,null,null,null,null,null,{"$f":"SUM(Tableau_Data[[#This Row],[Féminin]:[Masculin]])","v":0}]
[null,null,"",null,"",null,null,null,null,null,null,{"$f":"VLOOKUP(K522,[1]Paramètres!$M$5:$O$101,2,0)","v":{"$error":"#N/A"}},{"$f":"VLOOKUP(K522,[1]Paramètres!$M$5:$O$101,3,0)","v":{"$error":"#N/A"}},null,null,null,null,null,null,null,null,null,null,{"$f":"SUM(Tableau_Data[[#This Row],[Féminin]:[Masculin]])","v":0}]
[null,null,"",null,"",null,null,null,null,null,null,{"$f":"VLOOKUP(K523,[1]Paramètres!$M$5:$O$101,2,0)","v":{"$error":"#N/A"}},{"$f":"VLOOKUP(K523,[1]Paramètres!$M$5:$O$101,3,0)","v":{"$error":"#N/A"}},null,null,null,null,null,null,null,null,null,null,{"$f":"SUM(Tableau_Data[[#This Row],[Féminin]:[Masculin]])","v":0}]
[null,null,"",null,"",null,null,null,null,null,null,{"$f":"VLOOKUP(K524,[1]Paramètres!$M$5:$O$101,2,0)","v":{"$error":"#N/A"}},{"$f":"VLOOKUP(K524,[1]Paramètres!$M$5:$O$101,3,0)","v":{"$error":"#N/A"}},null,null,null,null,null,null,null,null,null,null,{"$f":"SUM(Tableau_Data[[#This Row],[Féminin]:[Masculin]])","v":0}]
[null,null,"",null,"",null,null,null,null,null,null,{"$f":"VLOOKUP(K525,[1]Paramètres!$M$5:$O$101,2,0)","v":{"$error":"#N/A"}},{"$f":"VLOOKUP(K525,[1]Paramètres!$M$5:$O$101,3,0)","v":{"$error":"#N/A"}},null,null,null,null,null,null,null,null,null,null,{"$f":"SUM(Tableau_Data[[#This Row],[Féminin]:[Masculin]])","v":0}]
[null,null,"",null,"",null,null,null,null,null,null,{"$f":"VLOOKUP(K526,[1]Paramètres!$M$5:$O$101,2,0)","v":{"$error":"#N/A"}},{"$f":"VLOOKUP(K526,[1]Paramètres!$M$5:$O$101,3,0)","v":{"$error":"#N/A"}},null,null,null,null,null,null,null,null,null,null,{"$f":"SUM(Tableau_Data[[#This Row],[Féminin]:[Masculin]])","v":0}]
[null,null,"",null,"",null,null,null,null,null,null,{"$f":"VLOOKUP(K527,[1]Paramètres!$M$5:$O$101,2,0)","v":{"$error":"#N/A"}},{"$f":"VLOOKUP(K527,[1]Paramètres!$M$5:$O$101,3,0)","v":{"$error":"#N/A"}},null,null,null,null,null,null,null,null,null,null,{"$f":"SUM(Tableau_Data[[#This Row],[Féminin]:[Masculin]])","v":0}]
[null,null,"",null,"",null,null,null,null,null,null,{"$f":"VLOOKUP(K528,[1]Paramètres!$M$5:$O$101,2,0)","v":{"$error":"#N/A"}},{"$f":"VLOOKUP(K528,[1]Paramètres!$M$5:$O$101,3,0)","v":{"$error":"#N/A"}},null,null,null,null,null,null,null,null,null,null,{"$f":"SUM(Tableau_Data[[#This Row],[Féminin]:[Masculin]])","v":0}]
[null,null,"",null,"",null,null,null,null,null,null,{"$f":"VLOOKUP(K529,[1]Paramètres!$M$5:$O$101,2,0)","v":{"$error":"#N/A"}},{"$f":"VLOOKUP(K529,[1]Paramètres!$M$5:$O$101,3,0)","v":{"$error":"#N/A"}},null,null,null,null,null,null,null,null,null,null,{"$f":"SUM(Tableau_Data[[#This Row],[Féminin]:[Masculin]])","v":0}]
[null,null,"",null,"",null,null,null,null,null,null,{"$f":"VLOOKUP(K530,[1]Paramètres!$M$5:$O$101,2,0)","v":{"$error":"#N/A"}},{"$f":"VLOOKUP(K530,[1]Paramètres!$M$5:$O$101,3,0)","v":{"$error":"#N/A"}},null,null,null,null,null,null,null,null,null,null,{"$f":"SUM(Tableau_Data[[#This Row],[Féminin]:[Masculin]])","v":0}]
[null,null,"",null,"",null,null,null,null,null,null,{"$f":"VLOOKUP(K531,[1]Paramètres!$M$5:$O$101,2,0)","v":{"$error":"#N/A"}},{"$f":"VLOOKUP(K531,[1]Paramètres!$M$5:$O$101,3,0)","v":{"$error":"#N/A"}},null,null,null,null,null,null,null,null,null,null,{"$f":"SUM(Tableau_Data[[#This Row],[Féminin]:[Masculin]])","v":0}]
[null,null,"",null,"",null,null,null,null,null,null,{"$f":"VLOOKUP(K532,[1]Paramètres!$M$5:$O$101,2,0)","v":{"$error":"#N/A"}},{"$f":"VLOOKUP(K532,[1]Paramètres!$M$5:$O$101,3,0)","v":{"$error":"#N/A"}},null,null,null,null,null,null,null,null,null,null,{"$f":"SUM(Tableau_Data[[#This Row],[Féminin]:[Masculin]])","v":0}]
[null,null,"",null,{"$f":"IF(D533=\"\",\"\",MONTH(D533))","v":""},null,null,null,null,null,null,{"$f":"VLOOKUP(K533,[1]Paramètres!$M$5:$O$101,2,0)","v":{"$error":"#N/A"}},{"$f":"VLOOKUP(K533,[1]Paramètres!$M$5:$O$101,3,0)","v":{"$error":"#N/A"}},null,null,null,null,null,null,null,null,null,null,{"$f":"SUM(Tableau_Data[[#This Row],[Féminin]:[Masculin]])","v":0}]
[null,null,"",null,"",null,null,null,null,null,null,{"$f":"VLOOKUP(K534,[1]Paramètres!$M$5:$O$101,2,0)","v":{"$error":"#N/A"}},{"$f":"VLOOKUP(K534,[1]Paramètres!$M$5:$O$101,3,0)","v":{"$error":"#N/A"}},null,null,null,null,null,null,null,null,null,null,{"$f":"SUM(Tableau_Data[[#This Row],[Féminin]:[Masculin]])","v":0}]
[null,null,"",null,"",null,null,null,null,null,null,{"$f":"VLOOKUP(K535,[1]Paramètres!$M$5:$O$101,2,0)","v":{"$error":"#N/A"}},{"$f":"VLOOKUP(K535,[1]Paramètres!$M$5:$O$101,3,0)","v":{"$error":"#N/A"}},null,null,null,null,null,null,null,null,null,null,{"$f":"SUM(Tableau_Data[[#This Row],[Féminin]:[Masculin]])","v":0}]
[null,null,"",null,"",null,null,null,null,null,null,{"$f":"VLOOKUP(K536,[1]Paramètres!$M$5:$O$101,2,0)","v":{"$error":"#N/A"}},{"$f":"VLOOKUP(K536,[1]Paramètres!$M$5:$O$101,3,0)","v":{"$error":"#N/A"}},null,null,null,null,null,null,null,null,null,null,{"$f":"SUM(Tableau_Data[[#This Row],[Féminin]:[Masculin]])","v":0}]
[null,null,"",null,"",null,null,null,null,null,null,{"$f":"VLOOKUP(K537,[1]Paramètres!$M$5:$O$101,2,0)","v":{"$error":"#N/A"}},{"$f":"VLOOKUP(K537,[1]Paramètres!$M$5:$O$101,3,0)","v":{"$error":"#N/A"}},null,null,null,null,null,null,null,null,null,null,{"$f":"SUM(Tableau_Data[[#This Row],[Féminin]:[Masculin]])","v":0}]
[null,null,"",null,"",null,null,null,null,null,null,{"$f":"VLOOKUP(K538,[1]Paramètres!$M$5:$O$101,2,0)","v":{"$error":"#N/A"}},{"$f":"VLOOKUP(K538,[1]Paramètres!$M$5:$O$101,3,0)","v":{"$error":"#N/A"}},null,null,null,null,null,null,null,null,null,null,{"$f":"SUM(Tableau_Data[[#This Row],[Féminin]:[Masculin]])","v":0}]
[null,null,"",null,"",null,null,null,null,null,null,{"$f":"VLOOKUP(K539,[1]Paramètres!$M$5:$O$101,2,0)","v":{"$error":"#N/A"}},{"$f":"VLOOKUP(K539,[1]Paramètres!$M$5:$O$101,3,0)","v":{"$error":"#N/A"}},null,null,null,null,null,null,null,null,null,null,{"$f":"SUM(Tableau_Data[[#This Row],[Féminin]:[Masculin]])","v":0}]
[null,null,"",null,"",null,null,null,null,null,null,{"$f":"VLOOKUP(K540,[1]Paramètres!$M$5:$O$101,2,0)","v":{"$error":"#N/A"}},{"$f":"VLOOKUP(K540,[1]Paramètres!$M$5:$O$101,3,0)","v":{"$error":"#N/A"}},null,null,null,null,null,null,null,null,null,null,{"$f":"SUM(Tableau_Data[[#This Row],[Féminin]:[Masculin]])","v":0}]
[null,null,"",null,"",null,null,null,null,null,null,{"$f":"VLOOKUP(K541,[1]Paramètres!$M$5:$O$101,2,0)","v":{"$error":"#N/A"}},{"$f":"VLOOKUP(K541,[1]Paramètres!$M$5:$O$101,3,0)","v":{"$error":"#N/A"}},null,null,null,null,null,null,null,null,null,null,{"$f":"SUM(Tableau_Data[[#This Row],[Féminin]:[Masculin]])","v":0}]
[null,null,"",null,"",null,null,null,null,null,null,{"$f":"VLOOKUP(K542,[1]Paramètres!$M$5:$O$101,2,0)","v":{"$error":"#N/A"}},{"$f":"VLOOKUP(K542,[1]Paramètres!$M$5:$O$101,3,0)","v":{"$error":"#N/A"}},null,null,null,null,null,null,null,null,null,null,{"$f":"SUM(Tableau_Data[[#This Row],[Féminin]:[Masculin]])","v":0}]
[null,null,{"$f":"IF(D543=\"\",\"\",YEAR(D543))","v":""},null,"",null,null,null,null,null,null,{"$f":"VLOOKUP(K543,[1]Paramètres!$M$5:$O$101,2,0)","v":{"$error":"#N/A"}},{"$f":"VLOOKUP(K543,[1]Paramètres!$M$5:$O$101,3,0)","v":{"$error":"#N/A"}},null,null,null,null,null,null,null,null,null,null,{"$f":"SUM(Tableau_Data[[#This Row],[Féminin]:[Masculin]])","v":0}]
[null,null,"",null,"",null,null,null,null,null,null,{"$f":"VLOOKUP(K544,[1]Paramètres!$M$5:$O$101,2,0)","v":{"$error":"#N/A"}},{"$f":"VLOOKUP(K544,[1]Paramètres!$M$5:$O$101,3,0)","v":{"$error":"#N/A"}},null,null,null,null,null,null,null,null,null,null,{"$f":"SUM(Tableau_Data[[#This Row],[Féminin]:[Masculin]])","v":0}]
[null,null,"",null,"",null,null,null,null,null,null,{"$f":"VLOOKUP(K545,[1]Paramètres!$M$5:$O$101,2,0)","v":{"$error":"#N/A"}},{"$f":"VLOOKUP(K545,[1]Paramètres!$M$5:$O$101,3,0)","v":{"$error":"#N/A"}},null,null,null,null,null,null,null,null,null,null,{"$f":"SUM(Tableau_Data[[#This Row],[Féminin]:[Masculin]])","v":0}]
[null,null,"",null,"",null,null,null,null,null,null,{"$f":"VLOOKUP(K546,[1]Paramètres!$M$5:$O$101,2,0)","v":{"$error":"#N/A"}},{"$f":"VLOOKUP(K546,[1]Paramètres!$M$5:$O$101,3,0)","v":{"$error":"#N/A"}},null,null,null,null,null,null,null,null,null,null,{"$f":"SUM(Tableau_Data[[#This Row],[Féminin]:[Masculin]])","v":0}]
[null,null,"",null,"",null,null,null,null,null,null,{"$f":"VLOOKUP(K547,[1]Paramètres!$M$5:$O$101,2,0)","v":{"$error":"#N/A"}},{"$f":"VLOOKUP(K547,[1]Paramètres!$M$5:$O$101,3,0)","v":{"$error":"#N/A"}},null,null,null,null,null,null,null,null,null,null,{"$f":"SUM(Tableau_Data[[#This Row],[Féminin]:[Masculin]])","v":0}]
[null,null,"",null,"",null,null,null,null,null,null,{"$f":"VLOOKUP(K548,[1]Paramètres!$M$5:$O$101,2,0)","v":{"$error":"#N/A"}},{"$f":"VLOOKUP(K548,[1]Paramètres!$M$5:$O$101,3,0)","v":{"$error":"#N/A"}},null,null,null,null,null,null,null,null,null,null,{"$f":"SUM(Tableau_Data[[#This Row],[Féminin]:[Masculin]])","v":0}]
[null,null,"",null,"",null,null,null,null,null,null,{"$f":"VLOOKUP(K549,[1]Paramètres!$M$5:$O$101,2,0)","v":{"$error":"#N/A"}},{"$f":"VLOOKUP(K549,[1]Paramètres!$M$5:$O$101,3,0)","v":{"$error":"#N/A"}},null,null,null,null,null,null,null,null,null,null,{"$f":"SUM(Tableau_Data[[#This Row],[Féminin]:[Masculin]])","v":0}]
[null,null,"",null,"",null,null,null,null,null,null,{"$f":"VLOOKUP(K550,[1]Paramètres!$M$5:$O$101,2,0)","v":{"$error":"#N/A"}},{"$f":"VLOOKUP(K550,[1]Paramètres!$M$5:$O$101,3,0)","v":{"$error":"#N/A"}},null,null,null,null,null,null,null,null,null,null,{"$f":"SUM(Tableau_Data[[#This Row],[Féminin]:[Masculin]])","v":0}]
[null,null,"",null,"",null,null,null,null,null,null,{"$f":"VLOOKUP(K551,[1]Paramètres!$M$5:$O$101,2,0)","v":{"$error":"#N/A"}},{"$f":"VLOOKUP(K551,[1]Paramètres!$M$5:$O$101,3,0)","v":{"$error":"#N/A"}},null,null,null,null,null,null,null,null,null,null,{"$f":"SUM(Tableau_Data[[#This Row],[Féminin]:[Masculin]])","v":0}]
[null,null,"",null,"",null,null,null,null,null,null,{"$f":"VLOOKUP(K552,[1]Paramètres!$M$5:$O$101,2,0)","v":{"$error":"#N/A"}},{"$f":"VLOOKUP(K552,[1]Paramètres!$M$5:$O$101,3,0)","v":{"$error":"#N/A"}},null,null,null,null,null,null,null,null,null,null,{"$f":"SUM(Tableau_Data[[#This Row],[Féminin]:[Masculin]])","v":0}]
[null,null,"",null,"",null,null,null,null,null,null,{"$f":"VLOOKUP(K553,[1]Paramètres!$M$5:$O$101,2,0)","v":{"$error":"#N/A"}},{"$f":"VLOOKUP(K553,[1]Paramètres!$M$5:$O$101,3,0)","v":{"$error":"#N/A"}},null,null,null,null,null,null,null,null,null,null,{"$f":"SUM(Tableau_Data[[#This Row],[Féminin]:[Masculin]])","v":0}]
[null,null,"",null,"",null,null,null,null,null,null,{"$f":"VLOOKUP(K554,[1]Paramètres!$M$5:$O$101,2,0)","v":{"$error":"#N/A"}},{"$f":"VLOOKUP(K554,[1]Paramètres!$M$5:$O$101,3,0)","v":{"$error":"#N/A"}},null,null,null,null,null,null,null,null,null,null,{"$f":"SUM(Tableau_Data[[#This Row],[Féminin]:[Masculin]])","v":0}]
[null,null,"",null,"",null,null,null,null,null,null,{"$f":"VLOOKUP(K555,[1]Paramètres!$M$5:$O$101,2,0)","v":{"$error":"#N/A"}},{"$f":"VLOOKUP(K555,[1]Paramètres!$M$5:$O$101,3,0)","v":{"$error":"#N/A"}},null,null,null,null,null,null,null,null,null,null,{"$f":"SUM(Tableau_Data[[#This Row],[Féminin]:[Masculin]])","v":0}]
[null,null,"",null,"",null,null,null,null,null,null,{"$f":"VLOOKUP(K556,[1]Paramètres!$M$5:$O$101,2,0)","v":{"$error":"#N/A"}},{"$f":"VLOOKUP(K556,[1]Paramètres!$M$5:$O$101,3,0)","v":{"$error":"#N/A"}},null,null,null,null,null,null,null,null,null,null,{"$f":"SUM(Tableau_Data[[#This Row],[Féminin]:[Masculin]])","v":0}]
[null,null,"",null,"",null,null,null,null,null,null,{"$f":"VLOOKUP(K557,[1]Paramètres!$M$5:$O$101,2,0)","v":{"$error":"#N/A"}},{"$f":"VLOOKUP(K557,[1]Paramètres!$M$5:$O$101,3,0)","v":{"$error":"#N/A"}},null,null,null,null,null,null,null,null,null,null,{"$f":"SUM(Tableau_Data[[#This Row],[Féminin]:[Masculin]])","v":0}]
[null,null,"",null,"",null,null,null,null,null,null,{"$f":"VLOOKUP(K558,[1]Paramètres!$M$5:$O$101,2,0)","v":{"$error":"#N/A"}},{"$f":"VLOOKUP(K558,[1]Paramètres!$M$5:$O$101,3,0)","v":{"$error":"#N/A"}},null,null,null,null,null,null,null,null,null,null,{"$f":"SUM(Tableau_Data[[#This Row],[Féminin]:[Masculin]])","v":0}]
[null,null,"",null,"",null,null,null,null,null,null,{"$f":"VLOOKUP(K559,[1]Paramètres!$M$5:$O$101,2,0)","v":{"$error":"#N/A"}},{"$f":"VLOOKUP(K559,[1]Paramètres!$M$5:$O$101,3,0)","v":{"$error":"#N/A"}},null,null,null,null,null,null,null,null,null,null,{"$f":"SUM(Tableau_Data[[#This Row],[Féminin]:[Masculin]])","v":0}]
[null,null,"",null,"",null,null,null,null,null,null,{"$f":"VLOOKUP(K560,[1]Paramètres!$M$5:$O$101,2,0)","v":{"$error":"#N/A"}},{"$f":"VLOOKUP(K560,[1]Paramètres!$M$5:$O$101,3,0)","v":{"$error":"#N/A"}},null,null,null,null,null,null,null,null,null,null,{"$f":"SUM(Tableau_Data[[#This Row],[Féminin]:[Masculin]])","v":0}]
[null,null,"",null,"",null,null,null,null,null,null,{"$f":"VLOOKUP(K561,[1]Paramètres!$M$5:$O$101,2,0)","v":{"$error":"#N/A"}},{"$f":"VLOOKUP(K561,[1]Paramètres!$M$5:$O$101,3,0)","v":{"$error":"#N/A"}},null,null,null,null,null,null,null,null,null,null,{"$f":"SUM(Tableau_Data[[#This Row],[Féminin]:[Masculin]])","v":0}]
[null,null,"",null,"",null,null,null,null,null,null,{"$f":"VLOOKUP(K562,[1]Paramètres!$M$5:$O$101,2,0)","v":{"$error":"#N/A"}},{"$f":"VLOOKUP(K562,[1]Paramètres!$M$5:$O$101,3,0)","v":{"$error":"#N/A"}},null,null,null,null,null,null,null,null,null,null,{"$f":"SUM(Tableau_Data[[#This Row],[Féminin]:[Masculin]])","v":0}]
[null,null,"",null,"",null,null,null,null,null,null,{"$f":"VLOOKUP(K563,[1]Paramètres!$M$5:$O$101,2,0)","v":{"$error":"#N/A"}},{"$f":"VLOOKUP(K563,[1]Paramètres!$M$5:$O$101,3,0)","v":{"$error":"#N/A"}},null,null,null,null,null,null,null,null,null,null,{"$f":"SUM(Tableau_Data[[#This Row],[Féminin]:[Masculin]])","v":0}]
[null,null,"",null,"",null,null,null,null,null,null,{"$f":"VLOOKUP(K564,[1]Paramètres!$M$5:$O$101,2,0)","v":{"$error":"#N/A"}},{"$f":"VLOOKUP(K564,[1]Paramètres!$M$5:$O$101,3,0)","v":{"$error":"#N/A"}},null,null,null,null,null,null,null,null,null,null,{"$f":"SUM(Tableau_Data[[#This Row],[Féminin]:[Masculin]])","v":0}]
[null,null,"",null,"",null,null,null,null,null,null,{"$f":"VLOOKUP(K565,[1]Paramètres!$M$5:$O$101,2,0)","v":{"$error":"#N/A"}},{"$f":"VLOOKUP(K565,[1]Paramètres!$M$5:$O$101,3,0)","v":{"$error":"#N/A"}},null,null,null,null,null,null,null,null,null,null,{"$f":"SUM(Tableau_Data[[#This Row],[Féminin]:[Masculin]])","v":0}]
[null,null,"",null,"",null,null,null,null,null,null,{"$f":"VLOOKUP(K566,[1]Paramètres!$M$5:$O$101,2,0)","v":{"$error":"#N/A"}},{"$f":"VLOOKUP(K566,[1]Paramètres!$M$5:$O$101,3,0)","v":{"$error":"#N/A"}},null,null,null,null,null,null,null,null,null,null,{"$f":"SUM(Tableau_Data[[#This Row],[Féminin]:[Masculin]])","v":0}]
[null,null,"",null,"",null,null,null,null,null,null,{"$f":"VLOOKUP(K567,[1]Paramètres!$M$5:$O$101,2,0)","v":{"$error":"#N/A"}},{"$f":"VLOOKUP(K567,[1]Paramètres!$M$5:$O$101,3,0)","v":{"$error":"#N/A"}},null,null,null,null,null,null,null,null,null,null,{"$f":"SUM(Tableau_Data[[#This Row],[Féminin]:[Masculin]])","v":0}]
[null,null,"",null,"",null,null,null,null,null,null,{"$f":"VLOOKUP(K568,[1]Paramètres!$M$5:$O$101,2,0)","v":{"$error":"#N/A"}},{"$f":"VLOOKUP(K568,[1]Paramètres!$M$5:$O$101,3,0)","v":{"$error":"#N/A"}},null,null,null,null,null,null,null,null,null,null,{"$f":"SUM(Tableau_Data[[#This Row],[Féminin]:[Masculin]])","v":0}]
[null,null,"",null,"",null,null,null,null,null,null,{"$f":"VLOOKUP(K569,[1]Paramètres!$M$5:$O$101,2,0)","v":{"$error":"#N/A"}},{"$f":"VLOOKUP(K569,[1]Paramètres!$M$5:$O$101,3,0)","v":{"$error":"#N/A"}},null,null,null,null,null,null,null,null,null,null,{"$f":"SUM(Tableau_Data[[#This Row],[Féminin]:[Masculin]])","v":0}]
[null,null,"",null,"",null,null,null,null,null,null,{"$f":"VLOOKUP(K570,[1]Paramètres!$M$5:$O$101,2,0)","v":{"$error":"#N/A"}},{"$f":"VLOOKUP(K570,[1]Paramètres!$M$5:$O$101,3,0)","v":{"$error":"#N/A"}},null,null,null,null,null,null,null,null,null,null,{"$f":"SUM(Tableau_Data[[#This Row],[Féminin]:[Masculin]])","v":0}]
[null,null,"",null,"",null,null,null,null,null,null,{"$f":"VLOOKUP(K571,[1]Paramètres!$M$5:$O$101,2,0)","v":{"$error":"#N/A"}},{"$f":"VLOOKUP(K571,[1]Paramètres!$M$5:$O$101,3,0)","v":{"$error":"#N/A"}},null,null,null,null,null,null,null,null,null,null,{"$f":"SUM(Tableau_Data[[#This Row],[Féminin]:[Masculin]])","v":0}]
[null,null,"",null,"",null,null,null,null,null,null,{"$f":"VLOOKUP(K572,[1]Paramètres!$M$5:$O$101,2,0)","v":{"$error":"#N/A"}},{"$f":"VLOOKUP(K572,[1]Paramètres!$M$5:$O$101,3,0)","v":{"$error":"#N/A"}},null,null,null,null,null,null,null,null,null,null,{"$f":"SUM(Tableau_Data[[#This Row],[Féminin]:[Masculin]])","v":0}]
[null,null,"",null,"",null,null,null,null,null,null,{"$f":"VLOOKUP(K573,[1]Paramètres!$M$5:$O$101,2,0)","v":{"$error":"#N/A"}},{"$f":"VLOOKUP(K573,[1]Paramètres!$M$5:$O$101,3,0)","v":{"$error":"#N/A"}},null,null,null,null,null,null,null,null,null,null,{"$f":"SUM(Tableau_Data[[#This Row],[Féminin]:[Masculin]])","v":0}]
[null,null,"",null,"",null,null,null,null,null,null,{"$f":"VLOOKUP(K574,[1]Paramètres!$M$5:$O$101,2,0)","v":{"$error":"#N/A"}},{"$f":"VLOOKUP(K574,[1]Paramètres!$M$5:$O$101,3,0)","v":{"$error":"#N/A"}},null,null,null,null,null,null,null,null,null,null,{"$f":"SUM(Tableau_Data[[#This Row],[Féminin]:[Masculin]])","v":0}]
[null,null,"",null,"",null,null,null,null,null,null,{"$f":"VLOOKUP(K575,[1]Paramètres!$M$5:$O$101,2,0)","v":{"$error":"#N/A"}},{"$f":"VLOOKUP(K575,[1]Paramètres!$M$5:$O$101,3,0)","v":{"$error":"#N/A"}},null,null,null,null,null,null,null,null,null,null,{"$f":"SUM(Tableau_Data[[#This Row],[Féminin]:[Masculin]])","v":0}]
[null,null,"",null,"",null,null,null,null,null,null,{"$f":"VLOOKUP(K576,[1]Paramètres!$M$5:$O$101,2,0)","v":{"$error":"#N/A"}},{"$f":"VLOOKUP(K576,[1]Paramètres!$M$5:$O$101,3,0)","v":{"$error":"#N/A"}},null,null,null,null,null,null,null,null,null,null,{"$f":"SUM(Tableau_Data[[#This Row],[Féminin]:[Masculin]])","v":0}]
[null,null,"",null,"",null,null,null,null,null,null,{"$f":"VLOOKUP(K577,[1]Paramètres!$M$5:$O$101,2,0)","v":{"$error":"#N/A"}},{"$f":"VLOOKUP(K577,[1]Paramètres!$M$5:$O$101,3,0)","v":{"$error":"#N/A"}},null,null,null,null,null,null,null,null,null,null,{"$f":"SUM(Tableau_Data[[#This Row],[Féminin]:[Masculin]])","v":0}]
[null,null,"",null,"",null,null,null,null,null,null,{"$f":"VLOOKUP(K578,[1]Paramètres!$M$5:$O$101,2,0)","v":{"$error":"#N/A"}},{"$f":"VLOOKUP(K578,[1]Paramètres!$M$5:$O$101,3,0)","v":{"$error":"#N/A"}},null,null,null,null,null,null,null,null,null,null,{"$f":"SUM(Tableau_Data[[#This Row],[Féminin]:[Masculin]])","v":0}]
[null,null,"",null,"",null,null,null,null,null,null,{"$f":"VLOOKUP(K579,[1]Paramètres!$M$5:$O$101,2,0)","v":{"$error":"#N/A"}},{"$f":"VLOOKUP(K579,[1]Paramètres!$M$5:$O$101,3,0)","v":{"$error":"#N/A"}},null,null,null,null,null,null,null,null,null,null,{"$f":"SUM(Tableau_Data[[#This Row],[Féminin]:[Masculin]])","v":0}]
[null,null,"",null,"",null,null,null,null,null,null,{"$f":"VLOOKUP(K580,[1]Paramètres!$M$5:$O$101,2,0)","v":{"$error":"#N/A"}},{"$f":"VLOOKUP(K580,[1]Paramètres!$M$5:$O$101,3,0)","v":{"$error":"#N/A"}},null,null,null,null,null,null,null,null,null,null,{"$f":"SUM(Tableau_Data[[#This Row],[Féminin]:[Masculin]])","v":0}]
[null,null,"",null,"",null,null,null,null,null,null,{"$f":"VLOOKUP(K581,[1]Paramètres!$M$5:$O$101,2,0)","v":{"$error":"#N/A"}},{"$f":"VLOOKUP(K581,[1]Paramètres!$M$5:$O$101,3,0)","v":{"$error":"#N/A"}},null,null,null,null,null,null,null,null,null,null,{"$f":"SUM(Tableau_Data[[#This Row],[Féminin]:[Masculin]])","v":0}]
[null,null,"",null,"",null,null,null,null,null,null,{"$f":"VLOOKUP(K582,[1]Paramètres!$M$5:$O$101,2,0)","v":{"$error":"#N/A"}},{"$f":"VLOOKUP(K582,[1]Paramètres!$M$5:$O$101,3,0)","v":{"$error":"#N/A"}},null,null,null,null,null,null,null,null,null,null,{"$f":"SUM(Tableau_Data[[#This Row],[Féminin]:[Masculin]])","v":0}]
[null,null,"",null,"",null,null,null,null,null,null,{"$f":"VLOOKUP(K583,[1]Paramètres!$M$5:$O$101,2,0)","v":{"$error":"#N/A"}},{"$f":"VLOOKUP(K583,[1]Paramètres!$M$5:$O$101,3,0)","v":{"$error":"#N/A"}},null,null,null,null,null,null,null,null,null,null,{"$f":"SUM(Tableau_Data[[#This Row],[Féminin]:[Masculin]])","v":0}]
[null,null,"",null,"",null,null,null,null,null,null,{"$f":"VLOOKUP(K584,[1]Paramètres!$M$5:$O$101,2,0)","v":{"$error":"#N/A"}},{"$f":"VLOOKUP(K584,[1]Paramètres!$M$5:$O$101,3,0)","v":{"$error":"#N/A"}},null,null,null,null,null,null,null,null,null,null,{"$f":"SUM(Tableau_Data[[#This Row],[Féminin]:[Masculin]])","v":0}]
[null,null,"",null,"",null,null,null,null,null,null,{"$f":"VLOOKUP(K585,[1]Paramètres!$M$5:$O$101,2,0)","v":{"$error":"#N/A"}},{"$f":"VLOOKUP(K585,[1]Paramètres!$M$5:$O$101,3,0)","v":{"$error":"#N/A"}},null,null,null,null,null,null,null,null,null,null,{"$f":"SUM(Tableau_Data[[#This Row],[Féminin]:[Masculin]])","v":0}]
[null,null,"",null,"",null,null,null,null,null,null,{"$f":"VLOOKUP(K586,[1]Paramètres!$M$5:$O$101,2,0)","v":{"$error":"#N/A"}},{"$f":"VLOOKUP(K586,[1]Paramètres!$M$5:$O$101,3,0)","v":{"$error":"#N/A"}},null,null,null,null,null,null,null,null,null,null,{"$f":"SUM(Tableau_Data[[#This Row],[Féminin]:[Masculin]])","v":0}]
[null,null,"",null,"",null,null,null,null,null,null,{"$f":"VLOOKUP(K587,[1]Paramètres!$M$5:$O$101,2,0)","v":{"$error":"#N/A"}},{"$f":"VLOOKUP(K587,[1]Paramètres!$M$5:$O$101,3,0)","v":{"$error":"#N/A"}},null,null,null,null,null,null,null,null,null,null,{"$f":"SUM(Tableau_Data[[#This Row],[Féminin]:[Masculin]])","v":0}]
[null,null,"",null,"",null,null,null,null,null,null,{"$f":"VLOOKUP(K588,[1]Paramètres!$M$5:$O$101,2,0)","v":{"$error":"#N/A"}},{"$f":"VLOOKUP(K588,[1]Paramètres!$M$5:$O$101,3,0)","v":{"$error":"#N/A"}},null,null,null,null,null,null,null,null,null,null,{"$f":"SUM(Tableau_Data[[#This Row],[Féminin]:[Masculin]])","v":0}]
[null,null,"",null,"",null,null,null,null,null,null,{"$f":"VLOOKUP(K589,[1]Paramètres!$M$5:$O$101,2,0)","v":{"$error":"#N/A"}},{"$f":"VLOOKUP(K589,[1]Paramètres!$M$5:$O$101,3,0)","v":{"$error":"#N/A"}},null,null,null,null,null,null,null,null,null,null,{"$f":"SUM(Tableau_Data[[#This Row],[Féminin]:[Masculin]])","v":0}]
[null,null,"",null,"",null,null,null,null,null,null,{"$f":"VLOOKUP(K590,[1]Paramètres!$M$5:$O$101,2,0)","v":{"$error":"#N/A"}},{"$f":"VLOOKUP(K590,[1]Paramètres!$M$5:$O$101,3,0)","v":{"$error":"#N/A"}},null,null,null,null,null,null,null,null,null,null,{"$f":"SUM(Tableau_Data[[#This Row],[Féminin]:[Masculin]])","v":0}]
[null,null,"",null,"",null,null,null,null,null,null,{"$f":"VLOOKUP(K591,[1]Paramètres!$M$5:$O$101,2,0)","v":{"$error":"#N/A"}},{"$f":"VLOOKUP(K591,[1]Paramètres!$M$5:$O$101,3,0)","v":{"$error":"#N/A"}},null,null,null,null,null,null,null,null,null,null,{"$f":"SUM(Tableau_Data[[#This Row],[Féminin]:[Masculin]])","v":0}]
[null,null,"",null,"",null,null,null,null,null,null,{"$f":"VLOOKUP(K592,[1]Paramètres!$M$5:$O$101,2,0)","v":{"$error":"#N/A"}},{"$f":"VLOOKUP(K592,[1]Paramètres!$M$5:$O$101,3,0)","v":{"$error":"#N/A"}},null,null,null,null,null,null,null,null,null,null,{"$f":"SUM(Tableau_Data[[#This Row],[Féminin]:[Masculin]])","v":0}]
[null,null,"",null,"",null,null,null,null,null,null,{"$f":"VLOOKUP(K593,[1]Paramètres!$M$5:$O$101,2,0)","v":{"$error":"#N/A"}},{"$f":"VLOOKUP(K593,[1]Paramètres!$M$5:$O$101,3,0)","v":{"$error":"#N/A"}},null,null,null,null,null,null,null,null,null,null,{"$f":"SUM(Tableau_Data[[#This Row],[Féminin]:[Masculin]])","v":0}]
[null,null,"",null,"",null,null,null,null,null,null,{"$f":"VLOOKUP(K594,[1]Paramètres!$M$5:$O$101,2,0)","v":{"$error":"#N/A"}},{"$f":"VLOOKUP(K594,[1]Paramètres!$M$5:$O$101,3,0)","v":{"$error":"#N/A"}},null,null,null,null,null,null,null,null,null,null,{"$f":"SUM(Tableau_Data[[#This Row],[Féminin]:[Masculin]])","v":0}]
[null,null,"",null,"",null,null,null,null,null,null,{"$f":"VLOOKUP(K595,[1]Paramètres!$M$5:$O$101,2,0)","v":{"$error":"#N/A"}},{"$f":"VLOOKUP(K595,[1]Paramètres!$M$5:$O$101,3,0)","v":{"$error":"#N/A"}},null,null,null,null,null,null,null,null,null,null,{"$f":"SUM(Tableau_Data[[#This Row],[Féminin]:[Masculin]])","v":0}]
[null,null,"",null,"",null,null,null,null,null,null,{"$f":"VLOOKUP(K596,[1]Paramètres!$M$5:$O$101,2,0)","v":{"$error":"#N/A"}},{"$f":"VLOOKUP(K596,[1]Paramètres!$M$5:$O$101,3,0)","v":{"$error":"#N/A"}},null,null,null,null,null,null,null,null,null,null,{"$f":"SUM(Tableau_Data[[#This Row],[Féminin]:[Masculin]])","v":0}]
[null,null,"",null,{"$f":"IF(D597=\"\",\"\",MONTH(D597))","v":""},null,null,null,null,null,null,{"$f":"VLOOKUP(K597,[1]Paramètres!$M$5:$O$101,2,0)","v":{"$error":"#N/A"}},{"$f":"VLOOKUP(K597,[1]Paramètres!$M$5:$O$101,3,0)","v":{"$error":"#N/A"}},null,null,null,null,null,null,null,null,null,null,{"$f":"SUM(Tableau_Data[[#This Row],[Féminin]:[Masculin]])","v":0}]
[null,null,"",null,"",null,null,null,null,null,null,{"$f":"VLOOKUP(K598,[1]Paramètres!$M$5:$O$101,2,0)","v":{"$error":"#N/A"}},{"$f":"VLOOKUP(K598,[1]Paramètres!$M$5:$O$101,3,0)","v":{"$error":"#N/A"}},null,null,null,null,null,null,null,null,null,null,{"$f":"SUM(Tableau_Data[[#This Row],[Féminin]:[Masculin]])","v":0}]
[null,null,"",null,"",null,null,null,null,null,null,{"$f":"VLOOKUP(K599,[1]Paramètres!$M$5:$O$101,2,0)","v":{"$error":"#N/A"}},{"$f":"VLOOKUP(K599,[1]Paramètres!$M$5:$O$101,3,0)","v":{"$error":"#N/A"}},null,null,null,null,null,null,null,null,null,null,{"$f":"SUM(Tableau_Data[[#This Row],[Féminin]:[Masculin]])","v":0}]
[null,null,"",null,"",null,null,null,null,null,null,{"$f":"VLOOKUP(K600,[1]Paramètres!$M$5:$O$101,2,0)","v":{"$error":"#N/A"}},{"$f":"VLOOKUP(K600,[1]Paramètres!$M$5:$O$101,3,0)","v":{"$error":"#N/A"}},null,null,null,null,null,null,null,null,null,null,{"$f":"SUM(Tableau_Data[[#This Row],[Féminin]:[Masculin]])","v":0}]
[null,null,"",null,"",null,null,null,null,null,null,{"$f":"VLOOKUP(K601,[1]Paramètres!$M$5:$O$101,2,0)","v":{"$error":"#N/A"}},{"$f":"VLOOKUP(K601,[1]Paramètres!$M$5:$O$101,3,0)","v":{"$error":"#N/A"}},null,null,null,null,null,null,null,null,null,null,{"$f":"SUM(Tableau_Data[[#This Row],[Féminin]:[Masculin]])","v":0}]
[null,null,"",null,"",null,null,null,null,null,null,{"$f":"VLOOKUP(K602,[1]Paramètres!$M$5:$O$101,2,0)","v":{"$error":"#N/A"}},{"$f":"VLOOKUP(K602,[1]Paramètres!$M$5:$O$101,3,0)","v":{"$error":"#N/A"}},null,null,null,null,null,null,null,null,null,null,{"$f":"SUM(Tableau_Data[[#This Row],[Féminin]:[Masculin]])","v":0}]
[null,null,"",null,"",null,null,null,null,null,null,{"$f":"VLOOKUP(K603,[1]Paramètres!$M$5:$O$101,2,0)","v":{"$error":"#N/A"}},{"$f":"VLOOKUP(K603,[1]Paramètres!$M$5:$O$101,3,0)","v":{"$error":"#N/A"}},null,null,null,null,null,null,null,null,null,null,{"$f":"SUM(Tableau_Data[[#This Row],[Féminin]:[Masculin]])","v":0}]
[null,null,"",null,"",null,null,null,null,null,null,{"$f":"VLOOKUP(K604,[1]Paramètres!$M$5:$O$101,2,0)","v":{"$error":"#N/A"}},{"$f":"VLOOKUP(K604,[1]Paramètres!$M$5:$O$101,3,0)","v":{"$error":"#N/A"}},null,null,null,null,null,null,null,null,null,null,{"$f":"SUM(Tableau_Data[[#This Row],[Féminin]:[Masculin]])","v":0}]
[null,null,"",null,"",null,null,null,null,null,null,{"$f":"VLOOKUP(K605,[1]Paramètres!$M$5:$O$101,2,0)","v":{"$error":"#N/A"}},{"$f":"VLOOKUP(K605,[1]Paramètres!$M$5:$O$101,3,0)","v":{"$error":"#N/A"}},null,null,null,null,null,null,null,null,null,null,{"$f":"SUM(Tableau_Data[[#This Row],[Féminin]:[Masculin]])","v":0}]
[null,null,"",null,"",null,null,null,null,null,null,{"$f":"VLOOKUP(K606,[1]Paramètres!$M$5:$O$101,2,0)","v":{"$error":"#N/A"}},{"$f":"VLOOKUP(K606,[1]Paramètres!$M$5:$O$101,3,0)","v":{"$error":"#N/A"}},null,null,null,null,null,null,null,null,null,null,{"$f":"SUM(Tableau_Data[[#This Row],[Féminin]:[Masculin]])","v":0}]
[null,null,{"$f":"IF(D607=\"\",\"\",YEAR(D607))","v":""},null,"",null,null,null,null,null,null,{"$f":"VLOOKUP(K607,[1]Paramètres!$M$5:$O$101,2,0)","v":{"$error":"#N/A"}},{"$f":"VLOOKUP(K607,[1]Paramètres!$M$5:$O$101,3,0)","v":{"$error":"#N/A"}},null,null,null,null,null,null,null,null,null,null,{"$f":"SUM(Tableau_Data[[#This Row],[Féminin]:[Masculin]])","v":0}]
[null,null,"",null,"",null,null,null,null,null,null,{"$f":"VLOOKUP(K608,[1]Paramètres!$M$5:$O$101,2,0)","v":{"$error":"#N/A"}},{"$f":"VLOOKUP(K608,[1]Paramètres!$M$5:$O$101,3,0)","v":{"$error":"#N/A"}},null,null,null,null,null,null,null,null,null,null,{"$f":"SUM(Tableau_Data[[#This Row],[Féminin]:[Masculin]])","v":0}]
[null,null,"",null,"",null,null,null,null,null,null,{"$f":"VLOOKUP(K609,[1]Paramètres!$M$5:$O$101,2,0)","v":{"$error":"#N/A"}},{"$f":"VLOOKUP(K609,[1]Paramètres!$M$5:$O$101,3,0)","v":{"$error":"#N/A"}},null,null,null,null,null,null,null,null,null,null,{"$f":"SUM(Tableau_Data[[#This Row],[Féminin]:[Masculin]])","v":0}]
[null,null,"",null,"",null,null,null,null,null,null,{"$f":"VLOOKUP(K610,[1]Paramètres!$M$5:$O$101,2,0)","v":{"$error":"#N/A"}},{"$f":"VLOOKUP(K610,[1]Paramètres!$M$5:$O$101,3,0)","v":{"$error":"#N/A"}},null,null,null,null,null,null,null,null,null,null,{"$f":"SUM(Tableau_Data[[#This Row],[Féminin]:[Masculin]])","v":0}]
[null,null,"",null,"",null,null,null,null,null,null,{"$f":"VLOOKUP(K611,[1]Paramètres!$M$5:$O$101,2,0)","v":{"$error":"#N/A"}},{"$f":"VLOOKUP(K611,[1]Paramètres!$M$5:$O$101,3,0)","v":{"$error":"#N/A"}},null,null,null,null,null,null,null,null,null,null,{"$f":"SUM(Tableau_Data[[#This Row],[Féminin]:[Masculin]])","v":0}]
[null,null,"",null,"",null,null,null,null,null,null,{"$f":"VLOOKUP(K612,[1]Paramètres!$M$5:$O$101,2,0)","v":{"$error":"#N/A"}},{"$f":"VLOOKUP(K612,[1]Paramètres!$M$5:$O$101,3,0)","v":{"$error":"#N/A"}},null,null,null,null,null,null,null,null,null,null,{"$f":"SUM(Tableau_Data[[#This Row],[Féminin]:[Masculin]])","v":0}]
[null,null,"",null,"",null,null,null,null,null,null,{"$f":"VLOOKUP(K613,[1]Paramètres!$M$5:$O$101,2,0)","v":{"$error":"#N/A"}},{"$f":"VLOOKUP(K613,[1]Paramètres!$M$5:$O$101,3,0)","v":{"$error":"#N/A"}},null,null,null,null,null,null,null,null,null,null,{"$f":"SUM(Tableau_Data[[#This Row],[Féminin]:[Masculin]])","v":0}]
[null,null,"",null,"",null,null,null,null,null,null,{"$f":"VLOOKUP(K614,[1]Paramètres!$M$5:$O$101,2,0)","v":{"$error":"#N/A"}},{"$f":"VLOOKUP(K614,[1]Paramètres!$M$5:$O$101,3,0)","v":{"$error":"#N/A"}},null,null,null,null,null,null,null,null,null,null,{"$f":"SUM(Tableau_Data[[#This Row],[Féminin]:[Masculin]])","v":0}]
[null,null,"",null,"",null,null,null,null,null,null,{"$f":"VLOOKUP(K615,[1]Paramètres!$M$5:$O$101,2,0)","v":{"$error":"#N/A"}},{"$f":"VLOOKUP(K615,[1]Paramètres!$M$5:$O$101,3,0)","v":{"$error":"#N/A"}},null,null,null,null,null,null,null,null,null,null,{"$f":"SUM(Tableau_Data[[#This Row],[Féminin]:[Masculin]])","v":0}]
[null,null,"",null,"",null,null,null,null,null,null,{"$f":"VLOOKUP(K616,[1]Paramètres!$M$5:$O$101,2,0)","v":{"$error":"#N/A"}},{"$f":"VLOOKUP(K616,[1]Paramètres!$M$5:$O$101,3,0)","v":{"$error":"#N/A"}},null,null,null,null,null,null,null,null,null,null,{"$f":"SUM(Tableau_Data[[#This Row],[Féminin]:[Masculin]])","v":0}]
[null,null,"",null,"",null,null,null,null,null,null,{"$f":"VLOOKUP(K617,[1]Paramètres!$M$5:$O$101,2,0)","v":{"$error":"#N/A"}},{"$f":"VLOOKUP(K617,[1]Paramètres!$M$5:$O$101,3,0)","v":{"$error":"#N/A"}},null,null,null,null,null,null,null,null,null,null,{"$f":"SUM(Tableau_Data[[#This Row],[Féminin]:[Masculin]])","v":0}]
[null,null,"",null,"",null,null,null,null,null,null,{"$f":"VLOOKUP(K618,[1]Paramètres!$M$5:$O$101,2,0)","v":{"$error":"#N/A"}},{"$f":"VLOOKUP(K618,[1]Paramètres!$M$5:$O$101,3,0)","v":{"$error":"#N/A"}},null,null,null,null,null,null,null,null,null,null,{"$f":"SUM(Tableau_Data[[#This Row],[Féminin]:[Masculin]])","v":0}]
[null,null,"",null,"",null,null,null,null,null,null,{"$f":"VLOOKUP(K619,[1]Paramètres!$M$5:$O$101,2,0)","v":{"$error":"#N/A"}},{"$f":"VLOOKUP(K619,[1]Paramètres!$M$5:$O$101,3,0)","v":{"$error":"#N/A"}},null,null,null,null,null,null,null,null,null,null,{"$f":"SUM(Tableau_Data[[#This Row],[Féminin]:[Masculin]])","v":0}]
[null,null,"",null,"",null,null,null,null,null,null,{"$f":"VLOOKUP(K620,[1]Paramètres!$M$5:$O$101,2,0)","v":{"$error":"#N/A"}},{"$f":"VLOOKUP(K620,[1]Paramètres!$M$5:$O$101,3,0)","v":{"$error":"#N/A"}},null,null,null,null,null,null,null,null,null,null,{"$f":"SUM(Tableau_Data[[#This Row],[Féminin]:[Masculin]])","v":0}]
[null,null,"",null,"",null,null,null,null,null,null,{"$f":"VLOOKUP(K621,[1]Paramètres!$M$5:$O$101,2,0)","v":{"$error":"#N/A"}},{"$f":"VLOOKUP(K621,[1]Paramètres!$M$5:$O$101,3,0)","v":{"$error":"#N/A"}},null,null,null,null,null,null,null,null,null,null,{"$f":"SUM(Tableau_Data[[#This Row],[Féminin]:[Masculin]])","v":0}]
[null,null,"",null,"",null,null,null,null,null,null,{"$f":"VLOOKUP(K622,[1]Paramètres!$M$5:$O$101,2,0)","v":{"$error":"#N/A"}},{"$f":"VLOOKUP(K622,[1]Paramètres!$M$5:$O$101,3,0)","v":{"$error":"#N/A"}},null,null,null,null,null,null,null,null,null,null,{"$f":"SUM(Tableau_Data[[#This Row],[Féminin]:[Masculin]])","v":0}]
[null,null,"",null,"",null,null,null,null,null,null,{"$f":"VLOOKUP(K623,[1]Paramètres!$M$5:$O$101,2,0)","v":{"$error":"#N/A"}},{"$f":"VLOOKUP(K623,[1]Paramètres!$M$5:$O$101,3,0)","v":{"$error":"#N/A"}},null,null,null,null,null,null,null,null,null,null,{"$f":"SUM(Tableau_Data[[#This Row],[Féminin]:[Masculin]])","v":0}]
[null,null,"",null,"",null,null,null,null,null,null,{"$f":"VLOOKUP(K624,[1]Paramètres!$M$5:$O$101,2,0)","v":{"$error":"#N/A"}},{"$f":"VLOOKUP(K624,[1]Paramètres!$M$5:$O$101,3,0)","v":{"$error":"#N/A"}},null,null,null,null,null,null,null,null,null,null,{"$f":"SUM(Tableau_Data[[#This Row],[Féminin]:[Masculin]])","v":0}]
[null,null,"",null,"",null,null,null,null,null,null,{"$f":"VLOOKUP(K625,[1]Paramètres!$M$5:$O$101,2,0)","v":{"$error":"#N/A"}},{"$f":"VLOOKUP(K625,[1]Paramètres!$M$5:$O$101,3,0)","v":{"$error":"#N/A"}},null,null,null,null,null,null,null,null,null,null,{"$f":"SUM(Tableau_Data[[#This Row],[Féminin]:[Masculin]])","v":0}]
[null,null,"",null,"",null,null,null,null,null,null,{"$f":"VLOOKUP(K626,[1]Paramètres!$M$5:$O$101,2,0)","v":{"$error":"#N/A"}},{"$f":"VLOOKUP(K626,[1]Paramètres!$M$5:$O$101,3,0)","v":{"$error":"#N/A"}},null,null,null,null,null,null,null,null,null,null,{"$f":"SUM(Tableau_Data[[#This Row],[Féminin]:[Masculin]])","v":0}]
[null,null,"",null,"",null,null,null,null,null,null,{"$f":"VLOOKUP(K627,[1]Paramètres!$M$5:$O$101,2,0)","v":{"$error":"#N/A"}},{"$f":"VLOOKUP(K627,[1]Paramètres!$M$5:$O$101,3,0)","v":{"$error":"#N/A"}},null,null,null,null,null,null,null,null,null,null,{"$f":"SUM(Tableau_Data[[#This Row],[Féminin]:[Masculin]])","v":0}]
[null,null,"",null,"",null,null,null,null,null,null,{"$f":"VLOOKUP(K628,[1]Paramètres!$M$5:$O$101,2,0)","v":{"$error":"#N/A"}},{"$f":"VLOOKUP(K628,[1]Paramètres!$M$5:$O$101,3,0)","v":{"$error":"#N/A"}},null,null,null,null,null,null,null,null,null,null,{"$f":"SUM(Tableau_Data[[#This Row],[Féminin]:[Masculin]])","v":0}]
[null,null,"",null,"",null,null,null,null,null,null,{"$f":"VLOOKUP(K629,[1]Paramètres!$M$5:$O$101,2,0)","v":{"$error":"#N/A"}},{"$f":"VLOOKUP(K629,[1]Paramètres!$M$5:$O$101,3,0)","v":{"$error":"#N/A"}},null,null,null,null,null,null,null,null,null,null,{"$f":"SUM(Tableau_Data[[#This Row],[Féminin]:[Masculin]])","v":0}]
[null,null,"",null,"",null,null,null,null,null,null,{"$f":"VLOOKUP(K630,[1]Paramètres!$M$5:$O$101,2,0)","v":{"$error":"#N/A"}},{"$f":"VLOOKUP(K630,[1]Paramètres!$M$5:$O$101,3,0)","v":{"$error":"#N/A"}},null,null,null,null,null,null,null,null,null,null,{"$f":"SUM(Tableau_Data[[#This Row],[Féminin]:[Masculin]])","v":0}]
[null,null,"",null,"",null,null,null,null,null,null,{"$f":"VLOOKUP(K631,[1]Paramètres!$M$5:$O$101,2,0)","v":{"$error":"#N/A"}},{"$f":"VLOOKUP(K631,[1]Paramètres!$M$5:$O$101,3,0)","v":{"$error":"#N/A"}},null,null,null,null,null,null,null,null,null,null,{"$f":"SUM(Tableau_Data[[#This Row],[Féminin]:[Masculin]])","v":0}]
[null,null,"",null,"",null,null,null,null,null,null,{"$f":"VLOOKUP(K632,[1]Paramètres!$M$5:$O$101,2,0)","v":{"$error":"#N/A"}},{"$f":"VLOOKUP(K632,[1]Paramètres!$M$5:$O$101,3,0)","v":{"$error":"#N/A"}},null,null,null,null,null,null,null,null,null,null,{"$f":"SUM(Tableau_Data[[#This Row],[Féminin]:[Masculin]])","v":0}]
[null,null,"",null,"",null,null,null,null,null,null,{"$f":"VLOOKUP(K633,[1]Paramètres!$M$5:$O$101,2,0)","v":{"$error":"#N/A"}},{"$f":"VLOOKUP(K633,[1]Paramètres!$M$5:$O$101,3,0)","v":{"$error":"#N/A"}},null,null,null,null,null,null,null,null,null,null,{"$f":"SUM(Tableau_Data[[#This Row],[Féminin]:[Masculin]])","v":0}]
[null,null,"",null,"",null,null,null,null,null,null,{"$f":"VLOOKUP(K634,[1]Paramètres!$M$5:$O$101,2,0)","v":{"$error":"#N/A"}},{"$f":"VLOOKUP(K634,[1]Paramètres!$M$5:$O$101,3,0)","v":{"$error":"#N/A"}},null,null,null,null,null,null,null,null,null,null,{"$f":"SUM(Tableau_Data[[#This Row],[Féminin]:[Masculin]])","v":0}]
[null,null,"",null,"",null,null,null,null,null,null,{"$f":"VLOOKUP(K635,[1]Paramètres!$M$5:$O$101,2,0)","v":{"$error":"#N/A"}},{"$f":"VLOOKUP(K635,[1]Paramètres!$M$5:$O$101,3,0)","v":{"$error":"#N/A"}},null,null,null,null,null,null,null,null,null,null,{"$f":"SUM(Tableau_Data[[#This Row],[Féminin]:[Masculin]])","v":0}]
[null,null,"",null,"",null,null,null,null,null,null,{"$f":"VLOOKUP(K636,[1]Paramètres!$M$5:$O$101,2,0)","v":{"$error":"#N/A"}},{"$f":"VLOOKUP(K636,[1]Paramètres!$M$5:$O$101,3,0)","v":{"$error":"#N/A"}},null,null,null,null,null,null,null,null,null,null,{"$f":"SUM(Tableau_Data[[#This Row],[Féminin]:[Masculin]])","v":0}]
[null,null,"",null,"",null,null,null,null,null,null,{"$f":"VLOOKUP(K637,[1]Paramètres!$M$5:$O$101,2,0)","v":{"$error":"#N/A"}},{"$f":"VLOOKUP(K637,[1]Paramètres!$M$5:$O$101,3,0)","v":{"$error":"#N/A"}},null,null,null,null,null,null,null,null,null,null,{"$f":"SUM(Tableau_Data[[#This Row],[Féminin]:[Masculin]])","v":0}]
[null,null,"",null,"",null,null,null,null,null,null,{"$f":"VLOOKUP(K638,[1]Paramètres!$M$5:$O$101,2,0)","v":{"$error":"#N/A"}},{"$f":"VLOOKUP(K638,[1]Paramètres!$M$5:$O$101,3,0)","v":{"$error":"#N/A"}},null,null,null,null,null,null,null,null,null,null,{"$f":"SUM(Tableau_Data[[#This Row],[Féminin]:[Masculin]])","v":0}]
[null,null,"",null,"",null,null,null,null,null,null,{"$f":"VLOOKUP(K639,[1]Paramètres!$M$5:$O$101,2,0)","v":{"$error":"#N/A"}},{"$f":"VLOOKUP(K639,[1]Paramètres!$M$5:$O$101,3,0)","v":{"$error":"#N/A"}},null,null,null,null,null,null,null,null,null,null,{"$f":"SUM(Tableau_Data[[#This Row],[Féminin]:[Masculin]])","v":0}]
[null,null,"",null,"",null,null,null,null,null,null,{"$f":"VLOOKUP(K640,[1]Paramètres!$M$5:$O$101,2,0)","v":{"$error":"#N/A"}},{"$f":"VLOOKUP(K640,[1]Paramètres!$M$5:$O$101,3,0)","v":{"$error":"#N/A"}},null,null,null,null,null,null,null,null,null,null,{"$f":"SUM(Tableau_Data[[#This Row],[Féminin]:[Masculin]])","v":0}]
[null,null,"",null,"",null,null,null,null,null,null,{"$f":"VLOOKUP(K641,[1]Paramètres!$M$5:$O$101,2,0)","v":{"$error":"#N/A"}},{"$f":"VLOOKUP(K641,[1]Paramètres!$M$5:$O$101,3,0)","v":{"$error":"#N/A"}},null,null,null,null,null,null,null,null,null,null,{"$f":"SUM(Tableau_Data[[#This Row],[Féminin]:[Masculin]])","v":0}]
[null,null,{"$f":"IF(D642=\"\",\"\",YEAR(D642))","v":""},null,{"$f":"IF(D642=\"\",\"\",MONTH(D642))","v":""},null,null,null,null,null,null,{"$f":"VLOOKUP(K642,[1]Paramètres!$M$5:$O$101,2,0)","v":{"$error":"#N/A"}},{"$f":"VLOOKUP(K642,[1]Paramètres!$M$5:$O$101,3,0)","v":{"$error":"#N/A"}},null,null,null,null,null,null,null,null,null,null,{"$f":"SUM(Tableau_Data[[#This Row],[Féminin]:[Masculin]])","v":0}]
[null,null,"",null,"",null,null,null,null,null,null,{"$f":"VLOOKUP(K643,[1]Paramètres!$M$5:$O$101,2,0)","v":{"$error":"#N/A"}},{"$f":"VLOOKUP(K643,[1]Paramètres!$M$5:$O$101,3,0)","v":{"$error":"#N/A"}},null,null,null,null,null,null,null,null,null,null,{"$f":"SUM(Tableau_Data[[#This Row],[Féminin]:[Masculin]])","v":0}]
[null,null,"",null,"",null,null,null,null,null,null,{"$f":"VLOOKUP(K644,[1]Paramètres!$M$5:$O$101,2,0)","v":{"$error":"#N/A"}},{"$f":"VLOOKUP(K644,[1]Paramètres!$M$5:$O$101,3,0)","v":{"$error":"#N/A"}},null,null,null,null,null,null,null,null,null,null,{"$f":"SUM(Tableau_Data[[#This Row],[Féminin]:[Masculin]])","v":0}]
[null,null,"",null,"",null,null,null,null,null,null,{"$f":"VLOOKUP(K645,[1]Paramètres!$M$5:$O$101,2,0)","v":{"$error":"#N/A"}},{"$f":"VLOOKUP(K645,[1]Paramètres!$M$5:$O$101,3,0)","v":{"$error":"#N/A"}},null,null,null,null,null,null,null,null,null,null,{"$f":"SUM(Tableau_Data[[#This Row],[Féminin]:[Masculin]])","v":0}]
[null,null,"",null,"",null,null,null,null,null,null,{"$f":"VLOOKUP(K646,[1]Paramètres!$M$5:$O$101,2,0)","v":{"$error":"#N/A"}},{"$f":"VLOOKUP(K646,[1]Paramètres!$M$5:$O$101,3,0)","v":{"$error":"#N/A"}},null,null,null,null,null,null,null,null,null,null,{"$f":"SUM(Tableau_Data[[#This Row],[Féminin]:[Masculin]])","v":0}]
[null,null,{"$f":"IF(D647=\"\",\"\",YEAR(D647))","v":""},null,"",null,null,null,null,null,null,{"$f":"VLOOKUP(K647,[1]Paramètres!$M$5:$O$101,2,0)","v":{"$error":"#N/A"}},{"$f":"VLOOKUP(K647,[1]Paramètres!$M$5:$O$101,3,0)","v":{"$error":"#N/A"}},null,null,null,null,null,null,null,null,null,null,{"$f":"SUM(Tableau_Data[[#This Row],[Féminin]:[Masculin]])","v":0}]
[null,null,"",null,"",null,null,null,null,null,null,{"$f":"VLOOKUP(K648,[1]Paramètres!$M$5:$O$101,2,0)","v":{"$error":"#N/A"}},{"$f":"VLOOKUP(K648,[1]Paramètres!$M$5:$O$101,3,0)","v":{"$error":"#N/A"}},null,null,null,null,null,null,null,null,null,null,{"$f":"SUM(Tableau_Data[[#This Row],[Féminin]:[Masculin]])","v":0}]
[null,null,"",null,"",null,null,null,null,null,null,{"$f":"VLOOKUP(K649,[1]Paramètres!$M$5:$O$101,2,0)","v":{"$error":"#N/A"}},{"$f":"VLOOKUP(K649,[1]Paramètres!$M$5:$O$101,3,0)","v":{"$error":"#N/A"}},null,null,null,null,null,null,null,null,null,null,{"$f":"SUM(Tableau_Data[[#This Row],[Féminin]:[Masculin]])","v":0}]
[null,null,"",null,"",null,null,null,null,null,null,{"$f":"VLOOKUP(K650,[1]Paramètres!$M$5:$O$101,2,0)","v":{"$error":"#N/A"}},{"$f":"VLOOKUP(K650,[1]Paramètres!$M$5:$O$101,3,0)","v":{"$error":"#N/A"}},null,null,null,null,null,null,null,null,null,null,{"$f":"SUM(Tableau_Data[[#This Row],[Féminin]:[Masculin]])","v":0}]
[null,null,"",null,"",null,null,null,null,null,null,{"$f":"VLOOKUP(K651,[1]Paramètres!$M$5:$O$101,2,0)","v":{"$error":"#N/A"}},{"$f":"VLOOKUP(K651,[1]Paramètres!$M$5:$O$101,3,0)","v":{"$error":"#N/A"}},null,null,null,null,null,null,null,null,null,null,{"$f":"SUM(Tableau_Data[[#This Row],[Féminin]:[Masculin]])","v":0}]
[null,null,"",null,"",null,null,null,null,null,null,{"$f":"VLOOKUP(K652,[1]Paramètres!$M$5:$O$101,2,0)","v":{"$error":"#N/A"}},{"$f":"VLOOKUP(K652,[1]Paramètres!$M$5:$O$101,3,0)","v":{"$error":"#N/A"}},null,null,null,null,null,null,null,null,null,null,{"$f":"SUM(Tableau_Data[[#This Row],[Féminin]:[Masculin]])","v":0}]
[null,null,"",null,"",null,null,null,null,null,null,{"$f":"VLOOKUP(K653,[1]Paramètres!$M$5:$O$101,2,0)","v":{"$error":"#N/A"}},{"$f":"VLOOKUP(K653,[1]Paramètres!$M$5:$O$101,3,0)","v":{"$error":"#N/A"}},null,null,null,null,null,null,null,null,null,null,{"$f":"SUM(Tableau_Data[[#This Row],[Féminin]:[Masculin]])","v":0}]
[null,null,"",null,"",null,null,null,null,null,null,{"$f":"VLOOKUP(K654,[1]Paramètres!$M$5:$O$101,2,0)","v":{"$error":"#N/A"}},{"$f":"VLOOKUP(K654,[1]Paramètres!$M$5:$O$101,3,0)","v":{"$error":"#N/A"}},null,null,null,null,null,null,null,null,null,null,{"$f":"SUM(Tableau_Data[[#This Row],[Féminin]:[Masculin]])","v":0}]
[null,null,"",null,"",null,null,null,null,null,null,{"$f":"VLOOKUP(K655,[1]Paramètres!$M$5:$O$101,2,0)","v":{"$error":"#N/A"}},{"$f":"VLOOKUP(K655,[1]Paramètres!$M$5:$O$101,3,0)","v":{"$error":"#N/A"}},null,null,null,null,null,null,null,null,null,null,{"$f":"SUM(Tableau_Data[[#This Row],[Féminin]:[Masculin]])","v":0}]
[null,null,"",null,"",null,null,null,null,null,null,{"$f":"VLOOKUP(K656,[1]Paramètres!$M$5:$O$101,2,0)","v":{"$error":"#N/A"}},{"$f":"VLOOKUP(K656,[1]Paramètres!$M$5:$O$101,3,0)","v":{"$error":"#N/A"}},null,null,null,null,null,null,null,null,null,null,{"$f":"SUM(Tableau_Data[[#This Row],[Féminin]:[Masculin]])","v":0}]
[null,null,"",null,"",null,null,null,null,null,null,{"$f":"VLOOKUP(K657,[1]Paramètres!$M$5:$O$101,2,0)","v":{"$error":"#N/A"}},{"$f":"VLOOKUP(K657,[1]Paramètres!$M$5:$O$101,3,0)","v":{"$error":"#N/A"}},null,null,null,null,null,null,null,null,null,null,{"$f":"SUM(Tableau_Data[[#This Row],[Féminin]:[Masculin]])","v":0}]
[null,null,"",null,"",null,null,null,null,null,null,{"$f":"VLOOKUP(K658,[1]Paramètres!$M$5:$O$101,2,0)","v":{"$error":"#N/A"}},{"$f":"VLOOKUP(K658,[1]Paramètres!$M$5:$O$101,3,0)","v":{"$error":"#N/A"}},null,null,null,null,null,null,null,null,null,null,{"$f":"SUM(Tableau_Data[[#This Row],[Féminin]:[Masculin]])","v":0}]
[null,null,"",null,"",null,null,null,null,null,null,{"$f":"VLOOKUP(K659,[1]Paramètres!$M$5:$O$101,2,0)","v":{"$error":"#N/A"}},{"$f":"VLOOKUP(K659,[1]Paramètres!$M$5:$O$101,3,0)","v":{"$error":"#N/A"}},null,null,null,null,null,null,null,null,null,null,{"$f":"SUM(Tableau_Data[[#This Row],[Féminin]:[Masculin]])","v":0}]
[null,null,"",null,"",null,null,null,null,null,null,{"$f":"VLOOKUP(K660,[1]Paramètres!$M$5:$O$101,2,0)","v":{"$error":"#N/A"}},{"$f":"VLOOKUP(K660,[1]Paramètres!$M$5:$O$101,3,0)","v":{"$error":"#N/A"}},null,null,null,null,null,null,null,null,null,null,{"$f":"SUM(Tableau_Data[[#This Row],[Féminin]:[Masculin]])","v":0}]
[null,null,"",null,"",null,null,null,null,null,null,{"$f":"VLOOKUP(K661,[1]Paramètres!$M$5:$O$101,2,0)","v":{"$error":"#N/A"}},{"$f":"VLOOKUP(K661,[1]Paramètres!$M$5:$O$101,3,0)","v":{"$error":"#N/A"}},null,null,null,null,null,null,null,null,null,null,{"$f":"SUM(Tableau_Data[[#This Row],[Féminin]:[Masculin]])","v":0}]
[null,null,"",null,"",null,null,null,null,null,null,{"$f":"VLOOKUP(K662,[1]Paramètres!$M$5:$O$101,2,0)","v":{"$error":"#N/A"}},{"$f":"VLOOKUP(K662,[1]Paramètres!$M$5:$O$101,3,0)","v":{"$error":"#N/A"}},null,null,null,null,null,null,null,null,null,null,{"$f":"SUM(Tableau_Data[[#This Row],[Féminin]:[Masculin]])","v":0}]
[null,null,"",null,"",null,null,null,null,null,null,{"$f":"VLOOKUP(K663,[1]Paramètres!$M$5:$O$101,2,0)","v":{"$error":"#N/A"}},{"$f":"VLOOKUP(K663,[1]Paramètres!$M$5:$O$101,3,0)","v":{"$error":"#N/A"}},null,null,null,null,null,null,null,null,null,null,{"$f":"SUM(Tableau_Data[[#This Row],[Féminin]:[Masculin]])","v":0}]
[null,null,"",null,"",null,null,null,null,null,null,{"$f":"VLOOKUP(K664,[1]Paramètres!$M$5:$O$101,2,0)","v":{"$error":"#N/A"}},{"$f":"VLOOKUP(K664,[1]Paramètres!$M$5:$O$101,3,0)","v":{"$error":"#N/A"}},null,null,null,null,null,null,null,null,null,null,{"$f":"SUM(Tableau_Data[[#This Row],[Féminin]:[Masculin]])","v":0}]
[null,null,"",null,"",null,null,null,null,null,null,{"$f":"VLOOKUP(K665,[1]Paramètres!$M$5:$O$101,2,0)","v":{"$error":"#N/A"}},{"$f":"VLOOKUP(K665,[1]Paramètres!$M$5:$O$101,3,0)","v":{"$error":"#N/A"}},null,null,null,null,null,null,null,null,null,null,{"$f":"SUM(Tableau_Data[[#This Row],[Féminin]:[Masculin]])","v":0}]
[null,null,"",null,"",null,null,null,null,null,null,{"$f":"VLOOKUP(K666,[1]Paramètres!$M$5:$O$101,2,0)","v":{"$error":"#N/A"}},{"$f":"VLOOKUP(K666,[1]Paramètres!$M$5:$O$101,3,0)","v":{"$error":"#N/A"}},null,null,null,null,null,null,null,null,null,null,{"$f":"SUM(Tableau_Data[[#This Row],[Féminin]:[Masculin]])","v":0}]
[null,null,"",null,"",null,null,null,null,null,null,{"$f":"VLOOKUP(K667,[1]Paramètres!$M$5:$O$101,2,0)","v":{"$error":"#N/A"}},{"$f":"VLOOKUP(K667,[1]Paramètres!$M$5:$O$101,3,0)","v":{"$error":"#N/A"}},null,null,null,null,null,null,null,null,null,null,{"$f":"SUM(Tableau_Data[[#This Row],[Féminin]:[Masculin]])","v":0}]
[null,null,"",null,"",null,null,null,null,null,null,{"$f":"VLOOKUP(K668,[1]Paramètres!$M$5:$O$101,2,0)","v":{"$error":"#N/A"}},{"$f":"VLOOKUP(K668,[1]Paramètres!$M$5:$O$101,3,0)","v":{"$error":"#N/A"}},null,null,null,null,null,null,null,null,null,null,{"$f":"SUM(Tableau_Data[[#This Row],[Féminin]:[Masculin]])","v":0}]
[null,null,"",null,"",null,null,null,null,null,null,{"$f":"VLOOKUP(K669,[1]Paramètres!$M$5:$O$101,2,0)","v":{"$error":"#N/A"}},{"$f":"VLOOKUP(K669,[1]Paramètres!$M$5:$O$101,3,0)","v":{"$error":"#N/A"}},null,null,null,null,null,null,null,null,null,null,{"$f":"SUM(Tableau_Data[[#This Row],[Féminin]:[Masculin]])","v":0}]
[null,null,"",null,"",null,null,null,null,null,null,{"$f":"VLOOKUP(K670,[1]Paramètres!$M$5:$O$101,2,0)","v":{"$error":"#N/A"}},{"$f":"VLOOKUP(K670,[1]Paramètres!$M$5:$O$101,3,0)","v":{"$error":"#N/A"}},null,null,null,null,null,null,null,null,null,null,{"$f":"SUM(Tableau_Data[[#This Row],[Féminin]:[Masculin]])","v":0}]
[null,null,"",null,"",null,null,null,null,null,null,{"$f":"VLOOKUP(K671,[1]Paramètres!$M$5:$O$101,2,0)","v":{"$error":"#N/A"}},{"$f":"VLOOKUP(K671,[1]Paramètres!$M$5:$O$101,3,0)","v":{"$error":"#N/A"}},null,null,null,null,null,null,null,null,null,null,{"$f":"SUM(Tableau_Data[[#This Row],[Féminin]:[Masculin]])","v":0}]
[null,null,"",null,"",null,null,null,null,null,null,{"$f":"VLOOKUP(K672,[1]Paramètres!$M$5:$O$101,2,0)","v":{"$error":"#N/A"}},{"$f":"VLOOKUP(K672,[1]Paramètres!$M$5:$O$101,3,0)","v":{"$error":"#N/A"}},null,null,null,null,null,null,null,null,null,null,{"$f":"SUM(Tableau_Data[[#This Row],[Féminin]:[Masculin]])","v":0}]
[null,null,"",null,"",null,null,null,null,null,null,{"$f":"VLOOKUP(K673,[1]Paramètres!$M$5:$O$101,2,0)","v":{"$error":"#N/A"}},{"$f":"VLOOKUP(K673,[1]Paramètres!$M$5:$O$101,3,0)","v":{"$error":"#N/A"}},null,null,null,null,null,null,null,null,null,null,{"$f":"SUM(Tableau_Data[[#This Row],[Féminin]:[Masculin]])","v":0}]
[null,null,"",null,"",null,null,null,null,null,null,{"$f":"VLOOKUP(K674,[1]Paramètres!$M$5:$O$101,2,0)","v":{"$error":"#N/A"}},{"$f":"VLOOKUP(K674,[1]Paramètres!$M$5:$O$101,3,0)","v":{"$error":"#N/A"}},null,null,null,null,null,null,null,null,null,null,{"$f":"SUM(Tableau_Data[[#This Row],[Féminin]:[Masculin]])","v":0}]
[null,null,"",null,"",null,null,null,null,null,null,{"$f":"VLOOKUP(K675,[1]Paramètres!$M$5:$O$101,2,0)","v":{"$error":"#N/A"}},{"$f":"VLOOKUP(K675,[1]Paramètres!$M$5:$O$101,3,0)","v":{"$error":"#N/A"}},null,null,null,null,null,null,null,null,null,null,{"$f":"SUM(Tableau_Data[[#This Row],[Féminin]:[Masculin]])","v":0}]
[null,null,"",null,"",null,null,null,null,null,null,{"$f":"VLOOKUP(K676,[1]Paramètres!$M$5:$O$101,2,0)","v":{"$error":"#N/A"}},{"$f":"VLOOKUP(K676,[1]Paramètres!$M$5:$O$101,3,0)","v":{"$error":"#N/A"}},null,null,null,null,null,null,null,null,null,null,{"$f":"SUM(Tableau_Data[[#This Row],[Féminin]:[Masculin]])","v":0}]
[null,null,"",null,"",null,null,null,null,null,null,{"$f":"VLOOKUP(K677,[1]Paramètres!$M$5:$O$101,2,0)","v":{"$error":"#N/A"}},{"$f":"VLOOKUP(K677,[1]Paramètres!$M$5:$O$101,3,0)","v":{"$error":"#N/A"}},null,null,null,null,null,null,null,null,null,null,{"$f":"SUM(Tableau_Data[[#This Row],[Féminin]:[Masculin]])","v":0}]
[null,null,"",null,"",null,null,null,null,null,null,{"$f":"VLOOKUP(K678,[1]Paramètres!$M$5:$O$101,2,0)","v":{"$error":"#N/A"}},{"$f":"VLOOKUP(K678,[1]Paramètres!$M$5:$O$101,3,0)","v":{"$error":"#N/A"}},null,null,null,null,null,null,null,null,null,null,{"$f":"SUM(Tableau_Data[[#This Row],[Féminin]:[Masculin]])","v":0}]
[null,null,"",null,"",null,null,null,null,null,null,{"$f":"VLOOKUP(K679,[1]Paramètres!$M$5:$O$101,2,0)","v":{"$error":"#N/A"}},{"$f":"VLOOKUP(K679,[1]Paramètres!$M$5:$O$101,3,0)","v":{"$error":"#N/A"}},null,null,null,null,null,null,null,null,null,null,{"$f":"SUM(Tableau_Data[[#This Row],[Féminin]:[Masculin]])","v":0}]
[null,null,"",null,"",null,null,null,null,null,null,{"$f":"VLOOKUP(K680,[1]Paramètres!$M$5:$O$101,2,0)","v":{"$error":"#N/A"}},{"$f":"VLOOKUP(K680,[1]Paramètres!$M$5:$O$101,3,0)","v":{"$error":"#N/A"}},null,null,null,null,null,null,null,null,null,null,{"$f":"SUM(Tableau_Data[[#This Row],[Féminin]:[Masculin]])","v":0}]
[null,null,"",null,"",null,null,null,null,null,null,{"$f":"VLOOKUP(K681,[1]Paramètres!$M$5:$O$101,2,0)","v":{"$error":"#N/A"}},{"$f":"VLOOKUP(K681,[1]Paramètres!$M$5:$O$101,3,0)","v":{"$error":"#N/A"}},null,null,null,null,null,null,null,null,null,null,{"$f":"SUM(Tableau_Data[[#This Row],[Féminin]:[Masculin]])","v":0}]
[null,null,"",null,"",null,null,null,null,null,null,{"$f":"VLOOKUP(K682,[1]Paramètres!$M$5:$O$101,2,0)","v":{"$error":"#N/A"}},{"$f":"VLOOKUP(K682,[1]Paramètres!$M$5:$O$101,3,0)","v":{"$error":"#N/A"}},null,null,null,null,null,null,null,null,null,null,{"$f":"SUM(Tableau_Data[[#This Row],[Féminin]:[Masculin]])","v":0}]
[null,null,"",null,"",null,null,null,null,null,null,{"$f":"VLOOKUP(K683,[1]Paramètres!$M$5:$O$101,2,0)","v":{"$error":"#N/A"}},{"$f":"VLOOKUP(K683,[1]Paramètres!$M$5:$O$101,3,0)","v":{"$error":"#N/A"}},null,null,null,null,null,null,null,null,null,null,{"$f":"SUM(Tableau_Data[[#This Row],[Féminin]:[Masculin]])","v":0}]
[null,null,"",null,"",null,null,null,null,null,null,{"$f":"VLOOKUP(K684,[1]Paramètres!$M$5:$O$101,2,0)","v":{"$error":"#N/A"}},{"$f":"VLOOKUP(K684,[1]Paramètres!$M$5:$O$101,3,0)","v":{"$error":"#N/A"}},null,null,null,null,null,null,null,null,null,null,{"$f":"SUM(Tableau_Data[[#This Row],[Féminin]:[Masculin]])","v":0}]
[null,null,"",null,"",null,null,null,null,null,null,{"$f":"VLOOKUP(K685,[1]Paramètres!$M$5:$O$101,2,0)","v":{"$error":"#N/A"}},{"$f":"VLOOKUP(K685,[1]Paramètres!$M$5:$O$101,3,0)","v":{"$error":"#N/A"}},null,null,null,null,null,null,null,null,null,null,{"$f":"SUM(Tableau_Data[[#This Row],[Féminin]:[Masculin]])","v":0}]
[null,null,"",null,"",null,null,null,null,null,null,{"$f":"VLOOKUP(K686,[1]Paramètres!$M$5:$O$101,2,0)","v":{"$error":"#N/A"}},{"$f":"VLOOKUP(K686,[1]Paramètres!$M$5:$O$101,3,0)","v":{"$error":"#N/A"}},null,null,null,null,null,null,null,null,null,null,{"$f":"SUM(Tableau_Data[[#This Row],[Féminin]:[Masculin]])","v":0}]
[null,null,"",null,"",null,null,null,null,null,null,{"$f":"VLOOKUP(K687,[1]Paramètres!$M$5:$O$101,2,0)","v":{"$error":"#N/A"}},{"$f":"VLOOKUP(K687,[1]Paramètres!$M$5:$O$101,3,0)","v":{"$error":"#N/A"}},null,null,null,null,null,null,null,null,null,null,{"$f":"SUM(Tableau_Data[[#This Row],[Féminin]:[Masculin]])","v":0}]
[null,null,"",null,"",null,null,null,null,null,null,{"$f":"VLOOKUP(K688,[1]Paramètres!$M$5:$O$101,2,0)","v":{"$error":"#N/A"}},{"$f":"VLOOKUP(K688,[1]Paramètres!$M$5:$O$101,3,0)","v":{"$error":"#N/A"}},null,null,null,null,null,null,null,null,null,null,{"$f":"SUM(Tableau_Data[[#This Row],[Féminin]:[Masculin]])","v":0}]
[null,null,"",null,"",null,null,null,null,null,null,{"$f":"VLOOKUP(K689,[1]Paramètres!$M$5:$O$101,2,0)","v":{"$error":"#N/A"}},{"$f":"VLOOKUP(K689,[1]Paramètres!$M$5:$O$101,3,0)","v":{"$error":"#N/A"}},null,null,null,null,null,null,null,null,null,null,{"$f":"SUM(Tableau_Data[[#This Row],[Féminin]:[Masculin]])","v":0}]
[null,null,"",null,"",null,null,null,null,null,null,{"$f":"VLOOKUP(K690,[1]Paramètres!$M$5:$O$101,2,0)","v":{"$error":"#N/A"}},{"$f":"VLOOKUP(K690,[1]Paramètres!$M$5:$O$101,3,0)","v":{"$error":"#N/A"}},null,null,null,null,null,null,null,null,null,null,{"$f":"SUM(Tableau_Data[[#This Row],[Féminin]:[Masculin]])","v":0}]
[null,null,"",null,"",null,null,null,null,null,null,{"$f":"VLOOKUP(K691,[1]Paramètres!$M$5:$O$101,2,0)","v":{"$error":"#N/A"}},{"$f":"VLOOKUP(K691,[1]Paramètres!$M$5:$O$101,3,0)","v":{"$error":"#N/A"}},null,null,null,null,null,null,null,null,null,null,{"$f":"SUM(Tableau_Data[[#This Row],[Féminin]:[Masculin]])","v":0}]
[null,null,"",null,{"$f":"IF(D692=\"\",\"\",MONTH(D692))","v":""},null,null,null,null,null,null,{"$f":"VLOOKUP(K692,[1]Paramètres!$M$5:$O$101,2,0)","v":{"$error":"#N/A"}},{"$f":"VLOOKUP(K692,[1]Paramètres!$M$5:$O$101,3,0)","v":{"$error":"#N/A"}},null,null,null,null,null,null,null,null,null,null,{"$f":"SUM(Tableau_Data[[#This Row],[Féminin]:[Masculin]])","v":0}]
[null,null,"",null,"",null,null,null,null,null,null,{"$f":"VLOOKUP(K693,[1]Paramètres!$M$5:$O$101,2,0)","v":{"$error":"#N/A"}},{"$f":"VLOOKUP(K693,[1]Paramètres!$M$5:$O$101,3,0)","v":{"$error":"#N/A"}},null,null,null,null,null,null,null,null,null,null,{"$f":"SUM(Tableau_Data[[#This Row],[Féminin]:[Masculin]])","v":0}]
[null,null,"",null,"",null,null,null,null,null,null,{"$f":"VLOOKUP(K694,[1]Paramètres!$M$5:$O$101,2,0)","v":{"$error":"#N/A"}},{"$f":"VLOOKUP(K694,[1]Paramètres!$M$5:$O$101,3,0)","v":{"$error":"#N/A"}},null,null,null,null,null,null,null,null,null,null,{"$f":"SUM(Tableau_Data[[#This Row],[Féminin]:[Masculin]])","v":0}]
[null,null,"",null,"",null,null,null,null,null,null,{"$f":"VLOOKUP(K695,[1]Paramètres!$M$5:$O$101,2,0)","v":{"$error":"#N/A"}},{"$f":"VLOOKUP(K695,[1]Paramètres!$M$5:$O$101,3,0)","v":{"$error":"#N/A"}},null,null,null,null,null,null,null,null,null,null,{"$f":"SUM(Tableau_Data[[#This Row],[Féminin]:[Masculin]])","v":0}]
[null,null,"",null,"",null,null,null,null,null,null,{"$f":"VLOOKUP(K696,[1]Paramètres!$M$5:$O$101,2,0)","v":{"$error":"#N/A"}},{"$f":"VLOOKUP(K696,[1]Paramètres!$M$5:$O$101,3,0)","v":{"$error":"#N/A"}},null,null,null,null,null,null,null,null,null,null,{"$f":"SUM(Tableau_Data[[#This Row],[Féminin]:[Masculin]])","v":0}]
[null,null,"",null,"",null,null,null,null,null,null,{"$f":"VLOOKUP(K697,[1]Paramètres!$M$5:$O$101,2,0)","v":{"$error":"#N/A"}},{"$f":"VLOOKUP(K697,[1]Paramètres!$M$5:$O$101,3,0)","v":{"$error":"#N/A"}},null,null,null,null,null,null,null,null,null,null,{"$f":"SUM(Tableau_Data[[#This Row],[Féminin]:[Masculin]])","v":0}]
[null,null,"",null,"",null,null,null,null,null,null,{"$f":"VLOOKUP(K698,[1]Paramètres!$M$5:$O$101,2,0)","v":{"$error":"#N/A"}},{"$f":"VLOOKUP(K698,[1]Paramètres!$M$5:$O$101,3,0)","v":{"$error":"#N/A"}},null,null,null,null,null,null,null,null,null,null,{"$f":"SUM(Tableau_Data[[#This Row],[Féminin]:[Masculin]])","v":0}]
[null,null,"",null,"",null,null,null,null,null,null,{"$f":"VLOOKUP(K699,[1]Paramètres!$M$5:$O$101,2,0)","v":{"$error":"#N/A"}},{"$f":"VLOOKUP(K699,[1]Paramètres!$M$5:$O$101,3,0)","v":{"$error":"#N/A"}},null,null,null,null,null,null,null,null,null,null,{"$f":"SUM(Tableau_Data[[#This Row],[Féminin]:[Masculin]])","v":0}]
[null,null,"",null,"",null,null,null,null,null,null,{"$f":"VLOOKUP(K700,[1]Paramètres!$M$5:$O$101,2,0)","v":{"$error":"#N/A"}},{"$f":"VLOOKUP(K700,[1]Paramètres!$M$5:$O$101,3,0)","v":{"$error":"#N/A"}},null,null,null,null,null,null,null,null,null,null,{"$f":"SUM(Tableau_Data[[#This Row],[Féminin]:[Masculin]])","v":0}]
[null,null,"",null,"",null,null,null,null,null,null,{"$f":"VLOOKUP(K701,[1]Paramètres!$M$5:$O$101,2,0)","v":{"$error":"#N/A"}},{"$f":"VLOOKUP(K701,[1]Paramètres!$M$5:$O$101,3,0)","v":{"$error":"#N/A"}},null,null,null,null,null,null,null,null,null,null,{"$f":"SUM(Tableau_Data[[#This Row],[Féminin]:[Masculin]])","v":0}]
[null,null,{"$f":"IF(D702=\"\",\"\",YEAR(D702))","v":""},null,"",null,null,null,null,null,null,{"$f":"VLOOKUP(K702,[1]Paramètres!$M$5:$O$101,2,0)","v":{"$error":"#N/A"}},{"$f":"VLOOKUP(K702,[1]Paramètres!$M$5:$O$101,3,0)","v":{"$error":"#N/A"}},null,null,null,null,null,null,null,null,null,null,{"$f":"SUM(Tableau_Data[[#This Row],[Féminin]:[Masculin]])","v":0}]
[null,null,"",null,"",null,null,null,null,null,null,{"$f":"VLOOKUP(K703,[1]Paramètres!$M$5:$O$101,2,0)","v":{"$error":"#N/A"}},{"$f":"VLOOKUP(K703,[1]Paramètres!$M$5:$O$101,3,0)","v":{"$error":"#N/A"}},null,null,null,null,null,null,null,null,null,null,{"$f":"SUM(Tableau_Data[[#This Row],[Féminin]:[Masculin]])","v":0}]
[null,null,"",null,"",null,null,null,null,null,null,{"$f":"VLOOKUP(K704,[1]Paramètres!$M$5:$O$101,2,0)","v":{"$error":"#N/A"}},{"$f":"VLOOKUP(K704,[1]Paramètres!$M$5:$O$101,3,0)","v":{"$error":"#N/A"}},null,null,null,null,null,null,null,null,null,null,{"$f":"SUM(Tableau_Data[[#This Row],[Féminin]:[Masculin]])","v":0}]
[null,null,"",null,"",null,null,null,null,null,null,{"$f":"VLOOKUP(K705,[1]Paramètres!$M$5:$O$101,2,0)","v":{"$error":"#N/A"}},{"$f":"VLOOKUP(K705,[1]Paramètres!$M$5:$O$101,3,0)","v":{"$error":"#N/A"}},null,null,null,null,null,null,null,null,null,null,{"$f":"SUM(Tableau_Data[[#This Row],[Féminin]:[Masculin]])","v":0}]
[null,null,"",null,"",null,null,null,null,null,null,{"$f":"VLOOKUP(K706,[1]Paramètres!$M$5:$O$101,2,0)","v":{"$error":"#N/A"}},{"$f":"VLOOKUP(K706,[1]Paramètres!$M$5:$O$101,3,0)","v":{"$error":"#N/A"}},null,null,null,null,null,null,null,null,null,null,{"$f":"SUM(Tableau_Data[[#This Row],[Féminin]:[Masculin]])","v":0}]
[null,null,"",null,"",null,null,null,null,null,null,{"$f":"VLOOKUP(K707,[1]Paramètres!$M$5:$O$101,2,0)","v":{"$error":"#N/A"}},{"$f":"VLOOKUP(K707,[1]Paramètres!$M$5:$O$101,3,0)","v":{"$error":"#N/A"}},null,null,null,null,null,null,null,null,null,null,{"$f":"SUM(Tableau_Data[[#This Row],[Féminin]:[Masculin]])","v":0}]
[null,null,"",null,"",null,null,null,null,null,null,{"$f":"VLOOKUP(K708,[1]Paramètres!$M$5:$O$101,2,0)","v":{"$error":"#N/A"}},{"$f":"VLOOKUP(K708,[1]Paramètres!$M$5:$O$101,3,0)","v":{"$error":"#N/A"}},null,null,null,null,null,null,null,null,null,null,{"$f":"SUM(Tableau_Data[[#This Row],[Féminin]:[Masculin]])","v":0}]
[null,null,"",null,"",null,null,null,null,null,null,{"$f":"VLOOKUP(K709,[1]Paramètres!$M$5:$O$101,2,0)","v":{"$error":"#N/A"}},{"$f":"VLOOKUP(K709,[1]Paramètres!$M$5:$O$101,3,0)","v":{"$error":"#N/A"}},null,null,null,null,null,null,null,null,null,null,{"$f":"SUM(Tableau_Data[[#This Row],[Féminin]:[Masculin]])","v":0}]
[null,null,"",null,"",null,null,null,null,null,null,{"$f":"VLOOKUP(K710,[1]Paramètres!$M$5:$O$101,2,0)","v":{"$error":"#N/A"}},{"$f":"VLOOKUP(K710,[1]Paramètres!$M$5:$O$101,3,0)","v":{"$error":"#N/A"}},null,null,null,null,null,null,null,null,null,null,{"$f":"SUM(Tableau_Data[[#This Row],[Féminin]:[Masculin]])","v":0}]
[null,null,"",null,"",null,null,null,null,null,null,{"$f":"VLOOKUP(K711,[1]Paramètres!$M$5:$O$101,2,0)","v":{"$error":"#N/A"}},{"$f":"VLOOKUP(K711,[1]Paramètres!$M$5:$O$101,3,0)","v":{"$error":"#N/A"}},null,null,null,null,null,null,null,null,null,null,{"$f":"SUM(Tableau_Data[[#This Row],[Féminin]:[Masculin]])","v":0}]
[null,null,"",null,"",null,null,null,null,null,null,{"$f":"VLOOKUP(K712,[1]Paramètres!$M$5:$O$101,2,0)","v":{"$error":"#N/A"}},{"$f":"VLOOKUP(K712,[1]Paramètres!$M$5:$O$101,3,0)","v":{"$error":"#N/A"}},null,null,null,null,null,null,null,null,null,null,{"$f":"SUM(Tableau_Data[[#This Row],[Féminin]:[Masculin]])","v":0}]
[null,null,"",null,"",null,null,null,null,null,null,{"$f":"VLOOKUP(K713,[1]Paramètres!$M$5:$O$101,2,0)","v":{"$error":"#N/A"}},{"$f":"VLOOKUP(K713,[1]Paramètres!$M$5:$O$101,3,0)","v":{"$error":"#N/A"}},null,null,null,null,null,null,null,null,null,null,{"$f":"SUM(Tableau_Data[[#This Row],[Féminin]:[Masculin]])","v":0}]
[null,null,"",null,"",null,null,null,null,null,null,{"$f":"VLOOKUP(K714,[1]Paramètres!$M$5:$O$101,2,0)","v":{"$error":"#N/A"}},{"$f":"VLOOKUP(K714,[1]Paramètres!$M$5:$O$101,3,0)","v":{"$error":"#N/A"}},null,null,null,null,null,null,null,null,null,null,{"$f":"SUM(Tableau_Data[[#This Row],[Féminin]:[Masculin]])","v":0}]
[null,null,"",null,"",null,null,null,null,null,null,{"$f":"VLOOKUP(K715,[1]Paramètres!$M$5:$O$101,2,0)","v":{"$error":"#N/A"}},{"$f":"VLOOKUP(K715,[1]Paramètres!$M$5:$O$101,3,0)","v":{"$error":"#N/A"}},null,null,null,null,null,null,null,null,null,null,{"$f":"SUM(Tableau_Data[[#This Row],[Féminin]:[Masculin]])","v":0}]
[null,null,"",null,"",null,null,null,null,null,null,{"$f":"VLOOKUP(K716,[1]Paramètres!$M$5:$O$101,2,0)","v":{"$error":"#N/A"}},{"$f":"VLOOKUP(K716,[1]Paramètres!$M$5:$O$101,3,0)","v":{"$error":"#N/A"}},null,null,null,null,null,null,null,null,null,null,{"$f":"SUM(Tableau_Data[[#This Row],[Féminin]:[Masculin]])","v":0}]
[null,null,"",null,"",null,null,null,null,null,null,{"$f":"VLOOKUP(K717,[1]Paramètres!$M$5:$O$101,2,0)","v":{"$error":"#N/A"}},{"$f":"VLOOKUP(K717,[1]Paramètres!$M$5:$O$101,3,0)","v":{"$error":"#N/A"}},null,null,null,null,null,null,null,null,null,null,{"$f":"SUM(Tableau_Data[[#This Row],[Féminin]:[Masculin]])","v":0}]
[null,null,"",null,"",null,null,null,null,null,null,{"$f":"VLOOKUP(K718,[1]Paramètres!$M$5:$O$101,2,0)","v":{"$error":"#N/A"}},{"$f":"VLOOKUP(K718,[1]Paramètres!$M$5:$O$101,3,0)","v":{"$error":"#N/A"}},null,null,null,null,null,null,null,null,null,null,{"$f":"SUM(Tableau_Data[[#This Row],[Féminin]:[Masculin]])","v":0}]
[null,null,"",null,"",null,null,null,null,null,null,{"$f":"VLOOKUP(K719,[1]Paramètres!$M$5:$O$101,2,0)","v":{"$error":"#N/A"}},{"$f":"VLOOKUP(K719,[1]Paramètres!$M$5:$O$101,3,0)","v":{"$error":"#N/A"}},null,null,null,null,null,null,null,null,null,null,{"$f":"SUM(Tableau_Data[[#This Row],[Féminin]:[Masculin]])","v":0}]
[null,null,"",null,"",null,null,null,null,null,null,{"$f":"VLOOKUP(K720,[1]Paramètres!$M$5:$O$101,2,0)","v":{"$error":"#N/A"}},{"$f":"VLOOKUP(K720,[1]Paramètres!$M$5:$O$101,3,0)","v":{"$error":"#N/A"}},null,null,null,null,null,null,null,null,null,null,{"$f":"SUM(Tableau_Data[[#This Row],[Féminin]:[Masculin]])","v":0}]
[null,null,"",null,"",null,null,null,null,null,null,{"$f":"VLOOKUP(K721,[1]Paramètres!$M$5:$O$101,2,0)","v":{"$error":"#N/A"}},{"$f":"VLOOKUP(K721,[1]Paramètres!$M$5:$O$101,3,0)","v":{"$error":"#N/A"}},null,null,null,null,null,null,null,null,null,null,{"$f":"SUM(Tableau_Data[[#This Row],[Féminin]:[Masculin]])","v":0}]
[null,null,"",null,"",null,null,null,null,null,null,{"$f":"VLOOKUP(K722,[1]Paramètres!$M$5:$O$101,2,0)","v":{"$error":"#N/A"}},{"$f":"VLOOKUP(K722,[1]Paramètres!$M$5:$O$101,3,0)","v":{"$error":"#N/A"}},null,null,null,null,null,null,null,null,null,null,{"$f":"SUM(Tableau_Data[[#This Row],[Féminin]:[Masculin]])","v":0}]
[null,null,"",null,"",null,null,null,null,null,null,{"$f":"VLOOKUP(K723,[1]Paramètres!$M$5:$O$101,2,0)","v":{"$error":"#N/A"}},{"$f":"VLOOKUP(K723,[1]Paramètres!$M$5:$O$101,3,0)","v":{"$error":"#N/A"}},null,null,null,null,null,null,null,null,null,null,{"$f":"SUM(Tableau_Data[[#This Row],[Féminin]:[Masculin]])","v":0}]
[null,null,"",null,"",null,null,null,null,null,null,{"$f":"VLOOKUP(K724,[1]Paramètres!$M$5:$O$101,2,0)","v":{"$error":"#N/A"}},{"$f":"VLOOKUP(K724,[1]Paramètres!$M$5:$O$101,3,0)","v":{"$error":"#N/A"}},null,null,null,null,null,null,null,null,null,null,{"$f":"SUM(Tableau_Data[[#This Row],[Féminin]:[Masculin]])","v":0}]
[null,null,"",null,"",null,null,null,null,null,null,{"$f":"VLOOKUP(K725,[1]Paramètres!$M$5:$O$101,2,0)","v":{"$error":"#N/A"}},{"$f":"VLOOKUP(K725,[1]Paramètres!$M$5:$O$101,3,0)","v":{"$error":"#N/A"}},null,null,null,null,null,null,null,null,null,null,{"$f":"SUM(Tableau_Data[[#This Row],[Féminin]:[Masculin]])","v":0}]
[null,null,"",null,"",null,null,null,null,null,null,{"$f":"VLOOKUP(K726,[1]Paramètres!$M$5:$O$101,2,0)","v":{"$error":"#N/A"}},{"$f":"VLOOKUP(K726,[1]Paramètres!$M$5:$O$101,3,0)","v":{"$error":"#N/A"}},null,null,null,null,null,null,null,null,null,null,{"$f":"SUM(Tableau_Data[[#This Row],[Féminin]:[Masculin]])","v":0}]
[null,null,"",null,"",null,null,null,null,null,null,{"$f":"VLOOKUP(K727,[1]Paramètres!$M$5:$O$101,2,0)","v":{"$error":"#N/A"}},{"$f":"VLOOKUP(K727,[1]Paramètres!$M$5:$O$101,3,0)","v":{"$error":"#N/A"}},null,null,null,null,null,null,null,null,null,null,{"$f":"SUM(Tableau_Data[[#This Row],[Féminin]:[Masculin]])","v":0}]
[null,null,"",null,"",null,null,null,null,null,null,{"$f":"VLOOKUP(K728,[1]Paramètres!$M$5:$O$101,2,0)","v":{"$error":"#N/A"}},{"$f":"VLOOKUP(K728,[1]Paramètres!$M$5:$O$101,3,0)","v":{"$error":"#N/A"}},null,null,null,null,null,null,null,null,null,null,{"$f":"SUM(Tableau_Data[[#This Row],[Féminin]:[Masculin]])","v":0}]
[null,null,"",null,"",null,null,null,null,null,null,{"$f":"VLOOKUP(K729,[1]Paramètres!$M$5:$O$101,2,0)","v":{"$error":"#N/A"}},{"$f":"VLOOKUP(K729,[1]Paramètres!$M$5:$O$101,3,0)","v":{"$error":"#N/A"}},null,null,null,null,null,null,null,null,null,null,{"$f":"SUM(Tableau_Data[[#This Row],[Féminin]:[Masculin]])","v":0}]
[null,null,"",null,"",null,null,null,null,null,null,{"$f":"VLOOKUP(K730,[1]Paramètres!$M$5:$O$101,2,0)","v":{"$error":"#N/A"}},{"$f":"VLOOKUP(K730,[1]Paramètres!$M$5:$O$101,3,0)","v":{"$error":"#N/A"}},null,null,null,null,null,null,null,null,null,null,{"$f":"SUM(Tableau_Data[[#This Row],[Féminin]:[Masculin]])","v":0}]
[null,null,"",null,"",null,null,null,null,null,null,{"$f":"VLOOKUP(K731,[1]Paramètres!$M$5:$O$101,2,0)","v":{"$error":"#N/A"}},{"$f":"VLOOKUP(K731,[1]Paramètres!$M$5:$O$101,3,0)","v":{"$error":"#N/A"}},null,null,null,null,null,null,null,null,null,null,{"$f":"SUM(Tableau_Data[[#This Row],[Féminin]:[Masculin]])","v":0}]
[null,null,"",null,"",null,null,null,null,null,null,{"$f":"VLOOKUP(K732,[1]Paramètres!$M$5:$O$101,2,0)","v":{"$error":"#N/A"}},{"$f":"VLOOKUP(K732,[1]Paramètres!$M$5:$O$101,3,0)","v":{"$error":"#N/A"}},null,null,null,null,null,null,null,null,null,null,{"$f":"SUM(Tableau_Data[[#This Row],[Féminin]:[Masculin]])","v":0}]
[null,null,"",null,"",null,null,null,null,null,null,{"$f":"VLOOKUP(K733,[1]Paramètres!$M$5:$O$101,2,0)","v":{"$error":"#N/A"}},{"$f":"VLOOKUP(K733,[1]Paramètres!$M$5:$O$101,3,0)","v":{"$error":"#N/A"}},null,null,null,null,null,null,null,null,null,null,{"$f":"SUM(Tableau_Data[[#This Row],[Féminin]:[Masculin]])","v":0}]
[null,null,"",null,"",null,null,null,null,null,null,{"$f":"VLOOKUP(K734,[1]Paramètres!$M$5:$O$101,2,0)","v":{"$error":"#N/A"}},{"$f":"VLOOKUP(K734,[1]Paramètres!$M$5:$O$101,3,0)","v":{"$error":"#N/A"}},null,null,null,null,null,null,null,null,null,null,{"$f":"SUM(Tableau_Data[[#This Row],[Féminin]:[Masculin]])","v":0}]
[null,null,"",null,"",null,null,null,null,null,null,{"$f":"VLOOKUP(K735,[1]Paramètres!$M$5:$O$101,2,0)","v":{"$error":"#N/A"}},{"$f":"VLOOKUP(K735,[1]Paramètres!$M$5:$O$101,3,0)","v":{"$error":"#N/A"}},null,null,null,null,null,null,null,null,null,null,{"$f":"SUM(Tableau_Data[[#This Row],[Féminin]:[Masculin]])","v":0}]
[null,null,"",null,"",null,null,null,null,null,null,{"$f":"VLOOKUP(K736,[1]Paramètres!$M$5:$O$101,2,0)","v":{"$error":"#N/A"}},{"$f":"VLOOKUP(K736,[1]Paramètres!$M$5:$O$101,3,0)","v":{"$error":"#N/A"}},null,null,null,null,null,null,null,null,null,null,{"$f":"SUM(Tableau_Data[[#This Row],[Féminin]:[Masculin]])","v":0}]
[null,null,"",null,"",null,null,null,null,null,null,{"$f":"VLOOKUP(K737,[1]Paramètres!$M$5:$O$101,2,0)","v":{"$error":"#N/A"}},{"$f":"VLOOKUP(K737,[1]Paramètres!$M$5:$O$101,3,0)","v":{"$error":"#N/A"}},null,null,null,null,null,null,null,null,null,null,{"$f":"SUM(Tableau_Data[[#This Row],[Féminin]:[Masculin]])","v":0}]
[null,null,"",null,"",null,null,null,null,null,null,{"$f":"VLOOKUP(K738,[1]Paramètres!$M$5:$O$101,2,0)","v":{"$error":"#N/A"}},{"$f":"VLOOKUP(K738,[1]Paramètres!$M$5:$O$101,3,0)","v":{"$error":"#N/A"}},null,null,null,null,null,null,null,null,null,null,{"$f":"SUM(Tableau_Data[[#This Row],[Féminin]:[Masculin]])","v":0}]
[null,null,"",null,"",null,null,null,null,null,null,{"$f":"VLOOKUP(K739,[1]Paramètres!$M$5:$O$101,2,0)","v":{"$error":"#N/A"}},{"$f":"VLOOKUP(K739,[1]Paramètres!$M$5:$O$101,3,0)","v":{"$error":"#N/A"}},null,null,null,null,null,null,null,null,null,null,{"$f":"SUM(Tableau_Data[[#This Row],[Féminin]:[Masculin]])","v":0}]
[null,null,"",null,"",null,null,null,null,null,null,{"$f":"VLOOKUP(K740,[1]Paramètres!$M$5:$O$101,2,0)","v":{"$error":"#N/A"}},{"$f":"VLOOKUP(K740,[1]Paramètres!$M$5:$O$101,3,0)","v":{"$error":"#N/A"}},null,null,null,null,null,null,null,null,null,null,{"$f":"SUM(Tableau_Data[[#This Row],[Féminin]:[Masculin]])","v":0}]
[null,null,"",null,"",null,null,null,null,null,null,{"$f":"VLOOKUP(K741,[1]Paramètres!$M$5:$O$101,2,0)","v":{"$error":"#N/A"}},{"$f":"VLOOKUP(K741,[1]Paramètres!$M$5:$O$101,3,0)","v":{"$error":"#N/A"}},null,null,null,null,null,null,null,null,null,null,{"$f":"SUM(Tableau_Data[[#This Row],[Féminin]:[Masculin]])","v":0}]
[null,null,"",null,"",null,null,null,null,null,null,{"$f":"VLOOKUP(K742,[1]Paramètres!$M$5:$O$101,2,0)","v":{"$error":"#N/A"}},{"$f":"VLOOKUP(K742,[1]Paramètres!$M$5:$O$101,3,0)","v":{"$error":"#N/A"}},null,null,null,null,null,null,null,null,null,null,{"$f":"SUM(Tableau_Data[[#This Row],[Féminin]:[Masculin]])","v":0}]
[null,null,"",null,"",null,null,null,null,null,null,{"$f":"VLOOKUP(K743,[1]Paramètres!$M$5:$O$101,2,0)","v":{"$error":"#N/A"}},{"$f":"VLOOKUP(K743,[1]Paramètres!$M$5:$O$101,3,0)","v":{"$error":"#N/A"}},null,null,null,null,null,null,null,null,null,null,{"$f":"SUM(Tableau_Data[[#This Row],[Féminin]:[Masculin]])","v":0}]
[null,null,"",null,"",null,null,null,null,null,null,{"$f":"VLOOKUP(K744,[1]Paramètres!$M$5:$O$101,2,0)","v":{"$error":"#N/A"}},{"$f":"VLOOKUP(K744,[1]Paramètres!$M$5:$O$101,3,0)","v":{"$error":"#N/A"}},null,null,null,null,null,null,null,null,null,null,{"$f":"SUM(Tableau_Data[[#This Row],[Féminin]:[Masculin]])","v":0}]
[null,null,"",null,"",null,null,null,null,null,null,{"$f":"VLOOKUP(K745,[1]Paramètres!$M$5:$O$101,2,0)","v":{"$error":"#N/A"}},{"$f":"VLOOKUP(K745,[1]Paramètres!$M$5:$O$101,3,0)","v":{"$error":"#N/A"}},null,null,null,null,null,null,null,null,null,null,{"$f":"SUM(Tableau_Data[[#This Row],[Féminin]:[Masculin]])","v":0}]
[null,null,"",null,"",null,null,null,null,null,null,{"$f":"VLOOKUP(K746,[1]Paramètres!$M$5:$O$101,2,0)","v":{"$error":"#N/A"}},{"$f":"VLOOKUP(K746,[1]Paramètres!$M$5:$O$101,3,0)","v":{"$error":"#N/A"}},null,null,null,null,null,null,null,null,null,null,{"$f":"SUM(Tableau_Data[[#This Row],[Féminin]:[Masculin]])","v":0}]
[null,null,"",null,"",null,null,null,null,null,null,{"$f":"VLOOKUP(K747,[1]Paramètres!$M$5:$O$101,2,0)","v":{"$error":"#N/A"}},{"$f":"VLOOKUP(K747,[1]Paramètres!$M$5:$O$101,3,0)","v":{"$error":"#N/A"}},null,null,null,null,null,null,null,null,null,null,{"$f":"SUM(Tableau_Data[[#This Row],[Féminin]:[Masculin]])","v":0}]
[null,null,"",null,"",null,null,null,null,null,null,{"$f":"VLOOKUP(K748,[1]Paramètres!$M$5:$O$101,2,0)","v":{"$error":"#N/A"}},{"$f":"VLOOKUP(K748,[1]Paramètres!$M$5:$O$101,3,0)","v":{"$error":"#N/A"}},null,null,null,null,null,null,null,null,null,null,{"$f":"SUM(Tableau_Data[[#This Row],[Féminin]:[Masculin]])","v":0}]
[null,null,"",null,"",null,null,null,null,null,null,{"$f":"VLOOKUP(K749,[1]Paramètres!$M$5:$O$101,2,0)","v":{"$error":"#N/A"}},{"$f":"VLOOKUP(K749,[1]Paramètres!$M$5:$O$101,3,0)","v":{"$error":"#N/A"}},null,null,null,null,null,null,null,null,null,null,{"$f":"SUM(Tableau_Data[[#This Row],[Féminin]:[Masculin]])","v":0}]
[null,null,"",null,"",null,null,null,null,null,null,{"$f":"VLOOKUP(K750,[1]Paramètres!$M$5:$O$101,2,0)","v":{"$error":"#N/A"}},{"$f":"VLOOKUP(K750,[1]Paramètres!$M$5:$O$101,3,0)","v":{"$error":"#N/A"}},null,null,null,null,null,null,null,null,null,null,{"$f":"SUM(Tableau_Data[[#This Row],[Féminin]:[Masculin]])","v":0}]
[null,null,"",null,"",null,null,null,null,null,null,{"$f":"VLOOKUP(K751,[1]Paramètres!$M$5:$O$101,2,0)","v":{"$error":"#N/A"}},{"$f":"VLOOKUP(K751,[1]Paramètres!$M$5:$O$101,3,0)","v":{"$error":"#N/A"}},null,null,null,null,null,null,null,null,null,null,{"$f":"SUM(Tableau_Data[[#This Row],[Féminin]:[Masculin]])","v":0}]
[null,null,"",null,"",null,null,null,null,null,null,{"$f":"VLOOKUP(K752,[1]Paramètres!$M$5:$O$101,2,0)","v":{"$error":"#N/A"}},{"$f":"VLOOKUP(K752,[1]Paramètres!$M$5:$O$101,3,0)","v":{"$error":"#N/A"}},null,null,null,null,null,null,null,null,null,null,{"$f":"SUM(Tableau_Data[[#This Row],[Féminin]:[Masculin]])","v":0}]
[null,null,"",null,"",null,null,null,null,null,null,{"$f":"VLOOKUP(K753,[1]Paramètres!$M$5:$O$101,2,0)","v":{"$error":"#N/A"}},{"$f":"VLOOKUP(K753,[1]Paramètres!$M$5:$O$101,3,0)","v":{"$error":"#N/A"}},null,null,null,null,null,null,null,null,null,null,{"$f":"SUM(Tableau_Data[[#This Row],[Féminin]:[Masculin]])","v":0}]
[null,null,"",null,"",null,null,null,null,null,null,{"$f":"VLOOKUP(K754,[1]Paramètres!$M$5:$O$101,2,0)","v":{"$error":"#N/A"}},{"$f":"VLOOKUP(K754,[1]Paramètres!$M$5:$O$101,3,0)","v":{"$error":"#N/A"}},null,null,null,null,null,null,null,null,null,null,{"$f":"SUM(Tableau_Data[[#This Row],[Féminin]:[Masculin]])","v":0}]
[null,null,"",null,"",null,null,null,null,null,null,{"$f":"VLOOKUP(K755,[1]Paramètres!$M$5:$O$101,2,0)","v":{"$error":"#N/A"}},{"$f":"VLOOKUP(K755,[1]Paramètres!$M$5:$O$101,3,0)","v":{"$error":"#N/A"}},null,null,null,null,null,null,null,null,null,null,{"$f":"SUM(Tableau_Data[[#This Row],[Féminin]:[Masculin]])","v":0}]
[null,null,"",null,{"$f":"IF(D756=\"\",\"\",MONTH(D756))","v":""},null,null,null,null,null,null,{"$f":"VLOOKUP(K756,[1]Paramètres!$M$5:$O$101,2,0)","v":{"$error":"#N/A"}},{"$f":"VLOOKUP(K756,[1]Paramètres!$M$5:$O$101,3,0)","v":{"$error":"#N/A"}},null,null,null,null,null,null,null,null,null,null,{"$f":"SUM(Tableau_Data[[#This Row],[Féminin]:[Masculin]])","v":0}]
[null,null,"",null,"",null,null,null,null,null,null,{"$f":"VLOOKUP(K757,[1]Paramètres!$M$5:$O$101,2,0)","v":{"$error":"#N/A"}},{"$f":"VLOOKUP(K757,[1]Paramètres!$M$5:$O$101,3,0)","v":{"$error":"#N/A"}},null,null,null,null,null,null,null,null,null,null,{"$f":"SUM(Tableau_Data[[#This Row],[Féminin]:[Masculin]])","v":0}]
[null,null,"",null,"",null,null,null,null,null,null,{"$f":"VLOOKUP(K758,[1]Paramètres!$M$5:$O$101,2,0)","v":{"$error":"#N/A"}},{"$f":"VLOOKUP(K758,[1]Paramètres!$M$5:$O$101,3,0)","v":{"$error":"#N/A"}},null,null,null,null,null,null,null,null,null,null,{"$f":"SUM(Tableau_Data[[#This Row],[Féminin]:[Masculin]])","v":0}]
[null,null,"",null,"",null,null,null,null,null,null,{"$f":"VLOOKUP(K759,[1]Paramètres!$M$5:$O$101,2,0)","v":{"$error":"#N/A"}},{"$f":"VLOOKUP(K759,[1]Paramètres!$M$5:$O$101,3,0)","v":{"$error":"#N/A"}},null,null,null,null,null,null,null,null,null,null,{"$f":"SUM(Tableau_Data[[#This Row],[Féminin]:[Masculin]])","v":0}]
[null,null,"",null,"",null,null,null,null,null,null,{"$f":"VLOOKUP(K760,[1]Paramètres!$M$5:$O$101,2,0)","v":{"$error":"#N/A"}},{"$f":"VLOOKUP(K760,[1]Paramètres!$M$5:$O$101,3,0)","v":{"$error":"#N/A"}},null,null,null,null,null,null,null,null,null,null,{"$f":"SUM(Tableau_Data[[#This Row],[Féminin]:[Masculin]])","v":0}]
[null,null,"",null,"",null,null,null,null,null,null,{"$f":"VLOOKUP(K761,[1]Paramètres!$M$5:$O$101,2,0)","v":{"$error":"#N/A"}},{"$f":"VLOOKUP(K761,[1]Paramètres!$M$5:$O$101,3,0)","v":{"$error":"#N/A"}},null,null,null,null,null,null,null,null,null,null,{"$f":"SUM(Tableau_Data[[#This Row],[Féminin]:[Masculin]])","v":0}]
[null,null,"",null,"",null,null,null,null,null,null,{"$f":"VLOOKUP(K762,[1]Paramètres!$M$5:$O$101,2,0)","v":{"$error":"#N/A"}},{"$f":"VLOOKUP(K762,[1]Paramètres!$M$5:$O$101,3,0)","v":{"$error":"#N/A"}},null,null,null,null,null,null,null,null,null,null,{"$f":"SUM(Tableau_Data[[#This Row],[Féminin]:[Masculin]])","v":0}]
[null,null,"",null,"",null,null,null,null,null,null,{"$f":"VLOOKUP(K763,[1]Paramètres!$M$5:$O$101,2,0)","v":{"$error":"#N/A"}},{"$f":"VLOOKUP(K763,[1]Paramètres!$M$5:$O$101,3,0)","v":{"$error":"#N/A"}},null,null,null,null,null,null,null,null,null,null,{"$f":"SUM(Tableau_Data[[#This Row],[Féminin]:[Masculin]])","v":0}]
[null,null,"",null,"",null,null,null,null,null,null,{"$f":"VLOOKUP(K764,[1]Paramètres!$M$5:$O$101,2,0)","v":{"$error":"#N/A"}},{"$f":"VLOOKUP(K764,[1]Paramètres!$M$5:$O$101,3,0)","v":{"$error":"#N/A"}},null,null,null,null,null,null,null,null,null,null,{"$f":"SUM(Tableau_Data[[#This Row],[Féminin]:[Masculin]])","v":0}]
[null,null,"",null,"",null,null,null,null,null,null,{"$f":"VLOOKUP(K765,[1]Paramètres!$M$5:$O$101,2,0)","v":{"$error":"#N/A"}},{"$f":"VLOOKUP(K765,[1]Paramètres!$M$5:$O$101,3,0)","v":{"$error":"#N/A"}},null,null,null,null,null,null,null,null,null,null,{"$f":"SUM(Tableau_Data[[#This Row],[Féminin]:[Masculin]])","v":0}]
[null,null,{"$f":"IF(D766=\"\",\"\",YEAR(D766))","v":""},null,"",null,null,null,null,null,null,{"$f":"VLOOKUP(K766,[1]Paramètres!$M$5:$O$101,2,0)","v":{"$error":"#N/A"}},{"$f":"VLOOKUP(K766,[1]Paramètres!$M$5:$O$101,3,0)","v":{"$error":"#N/A"}},null,null,null,null,null,null,null,null,null,null,{"$f":"SUM(Tableau_Data[[#This Row],[Féminin]:[Masculin]])","v":0}]
[null,null,"",null,"",null,null,null,null,null,null,{"$f":"VLOOKUP(K767,[1]Paramètres!$M$5:$O$101,2,0)","v":{"$error":"#N/A"}},{"$f":"VLOOKUP(K767,[1]Paramètres!$M$5:$O$101,3,0)","v":{"$error":"#N/A"}},null,null,null,null,null,null,null,null,null,null,{"$f":"SUM(Tableau_Data[[#This Row],[Féminin]:[Masculin]])","v":0}]
[null,null,"",null,"",null,null,null,null,null,null,{"$f":"VLOOKUP(K768,[1]Paramètres!$M$5:$O$101,2,0)","v":{"$error":"#N/A"}},{"$f":"VLOOKUP(K768,[1]Paramètres!$M$5:$O$101,3,0)","v":{"$error":"#N/A"}},null,null,null,null,null,null,null,null,null,null,{"$f":"SUM(Tableau_Data[[#This Row],[Féminin]:[Masculin]])","v":0}]
[null,null,"",null,"",null,null,null,null,null,null,{"$f":"VLOOKUP(K769,[1]Paramètres!$M$5:$O$101,2,0)","v":{"$error":"#N/A"}},{"$f":"VLOOKUP(K769,[1]Paramètres!$M$5:$O$101,3,0)","v":{"$error":"#N/A"}},null,null,null,null,null,null,null,null,null,null,{"$f":"SUM(Tableau_Data[[#This Row],[Féminin]:[Masculin]])","v":0}]
[null,null,"",null,"",null,null,null,null,null,null,{"$f":"VLOOKUP(K770,[1]Paramètres!$M$5:$O$101,2,0)","v":{"$error":"#N/A"}},{"$f":"VLOOKUP(K770,[1]Paramètres!$M$5:$O$101,3,0)","v":{"$error":"#N/A"}},null,null,null,null,null,null,null,null,null,null,{"$f":"SUM(Tableau_Data[[#This Row],[Féminin]:[Masculin]])","v":0}]
[null,null,"",null,"",null,null,null,null,null,null,{"$f":"VLOOKUP(K771,[1]Paramètres!$M$5:$O$101,2,0)","v":{"$error":"#N/A"}},{"$f":"VLOOKUP(K771,[1]Paramètres!$M$5:$O$101,3,0)","v":{"$error":"#N/A"}},null,null,null,null,null,null,null,null,null,null,{"$f":"SUM(Tableau_Data[[#This Row],[Féminin]:[Masculin]])","v":0}]
[null,null,"",null,"",null,null,null,null,null,null,{"$f":"VLOOKUP(K772,[1]Paramètres!$M$5:$O$101,2,0)","v":{"$error":"#N/A"}},{"$f":"VLOOKUP(K772,[1]Paramètres!$M$5:$O$101,3,0)","v":{"$error":"#N/A"}},null,null,null,null,null,null,null,null,null,null,{"$f":"SUM(Tableau_Data[[#This Row],[Féminin]:[Masculin]])","v":0}]
[null,null,"",null,"",null,null,null,null,null,null,{"$f":"VLOOKUP(K773,[1]Paramètres!$M$5:$O$101,2,0)","v":{"$error":"#N/A"}},{"$f":"VLOOKUP(K773,[1]Paramètres!$M$5:$O$101,3,0)","v":{"$error":"#N/A"}},null,null,null,null,null,null,null,null,null,null,{"$f":"SUM(Tableau_Data[[#This Row],[Féminin]:[Masculin]])","v":0}]
[null,null,"",null,"",null,null,null,null,null,null,{"$f":"VLOOKUP(K774,[1]Paramètres!$M$5:$O$101,2,0)","v":{"$error":"#N/A"}},{"$f":"VLOOKUP(K774,[1]Paramètres!$M$5:$O$101,3,0)","v":{"$error":"#N/A"}},null,null,null,null,null,null,null,null,null,null,{"$f":"SUM(Tableau_Data[[#This Row],[Féminin]:[Masculin]])","v":0}]
[null,null,"",null,"",null,null,null,null,null,null,{"$f":"VLOOKUP(K775,[1]Paramètres!$M$5:$O$101,2,0)","v":{"$error":"#N/A"}},{"$f":"VLOOKUP(K775,[1]Paramètres!$M$5:$O$101,3,0)","v":{"$error":"#N/A"}},null,null,null,null,null,null,null,null,null,null,{"$f":"SUM(Tableau_Data[[#This Row],[Féminin]:[Masculin]])","v":0}]
[null,null,"",null,"",null,null,null,null,null,null,{"$f":"VLOOKUP(K776,[1]Paramètres!$M$5:$O$101,2,0)","v":{"$error":"#N/A"}},{"$f":"VLOOKUP(K776,[1]Paramètres!$M$5:$O$101,3,0)","v":{"$error":"#N/A"}},null,null,null,null,null,null,null,null,null,null,{"$f":"SUM(Tableau_Data[[#This Row],[Féminin]:[Masculin]])","v":0}]
[null,null,"",null,"",null,null,null,null,null,null,{"$f":"VLOOKUP(K777,[1]Paramètres!$M$5:$O$101,2,0)","v":{"$error":"#N/A"}},{"$f":"VLOOKUP(K777,[1]Paramètres!$M$5:$O$101,3,0)","v":{"$error":"#N/A"}},null,null,null,null,null,null,null,null,null,null,{"$f":"SUM(Tableau_Data[[#This Row],[Féminin]:[Masculin]])","v":0}]
[null,null,"",null,"",null,null,null,null,null,null,{"$f":"VLOOKUP(K778,[1]Paramètres!$M$5:$O$101,2,0)","v":{"$error":"#N/A"}},{"$f":"VLOOKUP(K778,[1]Paramètres!$M$5:$O$101,3,0)","v":{"$error":"#N/A"}},null,null,null,null,null,null,null,null,null,null,{"$f":"SUM(Tableau_Data[[#This Row],[Féminin]:[Masculin]])","v":0}]
[null,null,"",null,"",null,null,null,null,null,null,{"$f":"VLOOKUP(K779,[1]Paramètres!$M$5:$O$101,2,0)","v":{"$error":"#N/A"}},{"$f":"VLOOKUP(K779,[1]Paramètres!$M$5:$O$101,3,0)","v":{"$error":"#N/A"}},null,null,null,null,null,null,null,null,null,null,{"$f":"SUM(Tableau_Data[[#This Row],[Féminin]:[Masculin]])","v":0}]
[null,null,"",null,"",null,null,null,null,null,null,{"$f":"VLOOKUP(K780,[1]Paramètres!$M$5:$O$101,2,0)","v":{"$error":"#N/A"}},{"$f":"VLOOKUP(K780,[1]Paramètres!$M$5:$O$101,3,0)","v":{"$error":"#N/A"}},null,null,null,null,null,null,null,null,null,null,{"$f":"SUM(Tableau_Data[[#This Row],[Féminin]:[Masculin]])","v":0}]
[null,null,"",null,"",null,null,null,null,null,null,{"$f":"VLOOKUP(K781,[1]Paramètres!$M$5:$O$101,2,0)","v":{"$error":"#N/A"}},{"$f":"VLOOKUP(K781,[1]Paramètres!$M$5:$O$101,3,0)","v":{"$error":"#N/A"}},null,null,null,null,null,null,null,null,null,null,{"$f":"SUM(Tableau_Data[[#This Row],[Féminin]:[Masculin]])","v":0}]
[null,null,"",null,"",null,null,null,null,null,null,{"$f":"VLOOKUP(K782,[1]Paramètres!$M$5:$O$101,2,0)","v":{"$error":"#N/A"}},{"$f":"VLOOKUP(K782,[1]Paramètres!$M$5:$O$101,3,0)","v":{"$error":"#N/A"}},null,null,null,null,null,null,null,null,null,null,{"$f":"SUM(Tableau_Data[[#This Row],[Féminin]:[Masculin]])","v":0}]
[null,null,"",null,"",null,null,null,null,null,null,{"$f":"VLOOKUP(K783,[1]Paramètres!$M$5:$O$101,2,0)","v":{"$error":"#N/A"}},{"$f":"VLOOKUP(K783,[1]Paramètres!$M$5:$O$101,3,0)","v":{"$error":"#N/A"}},null,null,null,null,null,null,null,null,null,null,{"$f":"SUM(Tableau_Data[[#This Row],[Féminin]:[Masculin]])","v":0}]
[null,null,"",null,"",null,null,null,null,null,null,{"$f":"VLOOKUP(K784,[1]Paramètres!$M$5:$O$101,2,0)","v":{"$error":"#N/A"}},{"$f":"VLOOKUP(K784,[1]Paramètres!$M$5:$O$101,3,0)","v":{"$error":"#N/A"}},null,null,null,null,null,null,null,null,null,null,{"$f":"SUM(Tableau_Data[[#This Row],[Féminin]:[Masculin]])","v":0}]
[null,null,"",null,"",null,null,null,null,null,null,{"$f":"VLOOKUP(K785,[1]Paramètres!$M$5:$O$101,2,0)","v":{"$error":"#N/A"}},{"$f":"VLOOKUP(K785,[1]Paramètres!$M$5:$O$101,3,0)","v":{"$error":"#N/A"}},null,null,null,null,null,null,null,null,null,null,{"$f":"SUM(Tableau_Data[[#This Row],[Féminin]:[Masculin]])","v":0}]
[null,null,"",null,"",null,null,null,null,null,null,{"$f":"VLOOKUP(K786,[1]Paramètres!$M$5:$O$101,2,0)","v":{"$error":"#N/A"}},{"$f":"VLOOKUP(K786,[1]Paramètres!$M$5:$O$101,3,0)","v":{"$error":"#N/A"}},null,null,null,null,null,null,null,null,null,null,{"$f":"SUM(Tableau_Data[[#This Row],[Féminin]:[Masculin]])","v":0}]
[null,null,"",null,"",null,null,null,null,null,null,{"$f":"VLOOKUP(K787,[1]Paramètres!$M$5:$O$101,2,0)","v":{"$error":"#N/A"}},{"$f":"VLOOKUP(K787,[1]Paramètres!$M$5:$O$101,3,0)","v":{"$error":"#N/A"}},null,null,null,null,null,null,null,null,null,null,{"$f":"SUM(Tableau_Data[[#This Row],[Féminin]:[Masculin]])","v":0}]
[null,null,"",null,"",null,null,null,null,null,null,{"$f":"VLOOKUP(K788,[1]Paramètres!$M$5:$O$101,2,0)","v":{"$error":"#N/A"}},{"$f":"VLOOKUP(K788,[1]Paramètres!$M$5:$O$101,3,0)","v":{"$error":"#N/A"}},null,null,null,null,null,null,null,null,null,null,{"$f":"SUM(Tableau_Data[[#This Row],[Féminin]:[Masculin]])","v":0}]
[null,null,"",null,"",null,null,null,null,null,null,{"$f":"VLOOKUP(K789,[1]Paramètres!$M$5:$O$101,2,0)","v":{"$error":"#N/A"}},{"$f":"VLOOKUP(K789,[1]Paramètres!$M$5:$O$101,3,0)","v":{"$error":"#N/A"}},null,null,null,null,null,null,null,null,null,null,{"$f":"SUM(Tableau_Data[[#This Row],[Féminin]:[Masculin]])","v":0}]
[null,null,"",null,"",null,null,null,null,null,null,{"$f":"VLOOKUP(K790,[1]Paramètres!$M$5:$O$101,2,0)","v":{"$error":"#N/A"}},{"$f":"VLOOKUP(K790,[1]Paramètres!$M$5:$O$101,3,0)","v":{"$error":"#N/A"}},null,null,null,null,null,null,null,null,null,null,{"$f":"SUM(Tableau_Data[[#This Row],[Féminin]:[Masculin]])","v":0}]
[null,null,"",null,"",null,null,null,null,null,null,{"$f":"VLOOKUP(K791,[1]Paramètres!$M$5:$O$101,2,0)","v":{"$error":"#N/A"}},{"$f":"VLOOKUP(K791,[1]Paramètres!$M$5:$O$101,3,0)","v":{"$error":"#N/A"}},null,null,null,null,null,null,null,null,null,null,{"$f":"SUM(Tableau_Data[[#This Row],[Féminin]:[Masculin]])","v":0}]
[null,null,"",null,"",null,null,null,null,null,null,{"$f":"VLOOKUP(K792,[1]Paramètres!$M$5:$O$101,2,0)","v":{"$error":"#N/A"}},{"$f":"VLOOKUP(K792,[1]Paramètres!$M$5:$O$101,3,0)","v":{"$error":"#N/A"}},null,null,null,null,null,null,null,null,null,null,{"$f":"SUM(Tableau_Data[[#This Row],[Féminin]:[Masculin]])","v":0}]
[null,null,"",null,"",null,null,null,null,null,null,{"$f":"VLOOKUP(K793,[1]Paramètres!$M$5:$O$101,2,0)","v":{"$error":"#N/A"}},{"$f":"VLOOKUP(K793,[1]Paramètres!$M$5:$O$101,3,0)","v":{"$error":"#N/A"}},null,null,null,null,null,null,null,null,null,null,{"$f":"SUM(Tableau_Data[[#This Row],[Féminin]:[Masculin]])","v":0}]
[null,null,"",null,"",null,null,null,null,null,null,{"$f":"VLOOKUP(K794,[1]Paramètres!$M$5:$O$101,2,0)","v":{"$error":"#N/A"}},{"$f":"VLOOKUP(K794,[1]Paramètres!$M$5:$O$101,3,0)","v":{"$error":"#N/A"}},null,null,null,null,null,null,null,null,null,null,{"$f":"SUM(Tableau_Data[[#This Row],[Féminin]:[Masculin]])","v":0}]
[null,null,"",null,"",null,null,null,null,null,null,{"$f":"VLOOKUP(K795,[1]Paramètres!$M$5:$O$101,2,0)","v":{"$error":"#N/A"}},{"$f":"VLOOKUP(K795,[1]Paramètres!$M$5:$O$101,3,0)","v":{"$error":"#N/A"}},null,null,null,null,null,null,null,null,null,null,{"$f":"SUM(Tableau_Data[[#This Row],[Féminin]:[Masculin]])","v":0}]
[null,null,"",null,"",null,null,null,null,null,null,{"$f":"VLOOKUP(K796,[1]Paramètres!$M$5:$O$101,2,0)","v":{"$error":"#N/A"}},{"$f":"VLOOKUP(K796,[1]Paramètres!$M$5:$O$101,3,0)","v":{"$error":"#N/A"}},null,null,null,null,null,null,null,null,null,null,{"$f":"SUM(Tableau_Data[[#This Row],[Féminin]:[Masculin]])","v":0}]
[null,null,"",null,"",null,null,null,null,null,null,{"$f":"VLOOKUP(K797,[1]Paramètres!$M$5:$O$101,2,0)","v":{"$error":"#N/A"}},{"$f":"VLOOKUP(K797,[1]Paramètres!$M$5:$O$101,3,0)","v":{"$error":"#N/A"}},null,null,null,null,null,null,null,null,null,null,{"$f":"SUM(Tableau_Data[[#This Row],[Féminin]:[Masculin]])","v":0}]
[null,null,"",null,"",null,null,null,null,null,null,{"$f":"VLOOKUP(K798,[1]Paramètres!$M$5:$O$101,2,0)","v":{"$error":"#N/A"}},{"$f":"VLOOKUP(K798,[1]Paramètres!$M$5:$O$101,3,0)","v":{"$error":"#N/A"}},null,null,null,null,null,null,null,null,null,null,{"$f":"SUM(Tableau_Data[[#This Row],[Féminin]:[Masculin]])","v":0}]
[null,null,"",null,"",null,null,null,null,null,null,{"$f":"VLOOKUP(K799,[1]Paramètres!$M$5:$O$101,2,0)","v":{"$error":"#N/A"}},{"$f":"VLOOKUP(K799,[1]Paramètres!$M$5:$O$101,3,0)","v":{"$error":"#N/A"}},null,null,null,null,null,null,null,null,null,null,{"$f":"SUM(Tableau_Data[[#This Row],[Féminin]:[Masculin]])","v":0}]
[null,null,"",null,"",null,null,null,null,null,null,{"$f":"VLOOKUP(K800,[1]Paramètres!$M$5:$O$101,2,0)","v":{"$error":"#N/A"}},{"$f":"VLOOKUP(K800,[1]Paramètres!$M$5:$O$101,3,0)","v":{"$error":"#N/A"}},null,null,null,null,null,null,null,null,null,null,{"$f":"SUM(Tableau_Data[[#This Row],[Féminin]:[Masculin]])","v":0}]
[null,null,"",null,"",null,null,null,null,null,null,{"$f":"VLOOKUP(K801,[1]Paramètres!$M$5:$O$101,2,0)","v":{"$error":"#N/A"}},{"$f":"VLOOKUP(K801,[1]Paramètres!$M$5:$O$101,3,0)","v":{"$error":"#N/A"}},null,null,null,null,null,null,null,null,null,null,{"$f":"SUM(Tableau_Data[[#This Row],[Féminin]:[Masculin]])","v":0}]
[null,null,"",null,"",null,null,null,null,null,null,{"$f":"VLOOKUP(K802,[1]Paramètres!$M$5:$O$101,2,0)","v":{"$error":"#N/A"}},{"$f":"VLOOKUP(K802,[1]Paramètres!$M$5:$O$101,3,0)","v":{"$error":"#N/A"}},null,null,null,null,null,null,null,null,null,null,{"$f":"SUM(Tableau_Data[[#This Row],[Féminin]:[Masculin]])","v":0}]
[null,null,"",null,"",null,null,null,null,null,null,{"$f":"VLOOKUP(K803,[1]Paramètres!$M$5:$O$101,2,0)","v":{"$error":"#N/A"}},{"$f":"VLOOKUP(K803,[1]Paramètres!$M$5:$O$101,3,0)","v":{"$error":"#N/A"}},null,null,null,null,null,null,null,null,null,null,{"$f":"SUM(Tableau_Data[[#This Row],[Féminin]:[Masculin]])","v":0}]
[null,null,"",null,"",null,null,null,null,null,null,{"$f":"VLOOKUP(K804,[1]Paramètres!$M$5:$O$101,2,0)","v":{"$error":"#N/A"}},{"$f":"VLOOKUP(K804,[1]Paramètres!$M$5:$O$101,3,0)","v":{"$error":"#N/A"}},null,null,null,null,null,null,null,null,null,null,{"$f":"SUM(Tableau_Data[[#This Row],[Féminin]:[Masculin]])","v":0}]
[null,null,"",null,"",null,null,null,null,null,null,{"$f":"VLOOKUP(K805,[1]Paramètres!$M$5:$O$101,2,0)","v":{"$error":"#N/A"}},{"$f":"VLOOKUP(K805,[1]Paramètres!$M$5:$O$101,3,0)","v":{"$error":"#N/A"}},null,null,null,null,null,null,null,null,null,null,{"$f":"SUM(Tableau_Data[[#This Row],[Féminin]:[Masculin]])","v":0}]
[null,null,"",null,"",null,null,null,null,null,null,{"$f":"VLOOKUP(K806,[1]Paramètres!$M$5:$O$101,2,0)","v":{"$error":"#N/A"}},{"$f":"VLOOKUP(K806,[1]Paramètres!$M$5:$O$101,3,0)","v":{"$error":"#N/A"}},null,null,null,null,null,null,null,null,null,null,{"$f":"SUM(Tableau_Data[[#This Row],[Féminin]:[Masculin]])","v":0}]
[null,null,"",null,"",null,null,null,null,null,null,{"$f":"VLOOKUP(K807,[1]Paramètres!$M$5:$O$101,2,0)","v":{"$error":"#N/A"}},{"$f":"VLOOKUP(K807,[1]Paramètres!$M$5:$O$101,3,0)","v":{"$error":"#N/A"}},null,null,null,null,null,null,null,null,null,null,{"$f":"SUM(Tableau_Data[[#This Row],[Féminin]:[Masculin]])","v":0}]
[null,null,"",null,"",null,null,null,null,null,null,{"$f":"VLOOKUP(K808,[1]Paramètres!$M$5:$O$101,2,0)","v":{"$error":"#N/A"}},{"$f":"VLOOKUP(K808,[1]Paramètres!$M$5:$O$101,3,0)","v":{"$error":"#N/A"}},null,null,null,null,null,null,null,null,null,null,{"$f":"SUM(Tableau_Data[[#This Row],[Féminin]:[Masculin]])","v":0}]
[null,null,"",null,"",null,null,null,null,null,null,{"$f":"VLOOKUP(K809,[1]Paramètres!$M$5:$O$101,2,0)","v":{"$error":"#N/A"}},{"$f":"VLOOKUP(K809,[1]Paramètres!$M$5:$O$101,3,0)","v":{"$error":"#N/A"}},null,null,null,null,null,null,null,null,null,null,{"$f":"SUM(Tableau_Data[[#This Row],[Féminin]:[Masculin]])","v":0}]
[null,null,"",null,"",null,null,null,null,null,null,{"$f":"VLOOKUP(K810,[1]Paramètres!$M$5:$O$101,2,0)","v":{"$error":"#N/A"}},{"$f":"VLOOKUP(K810,[1]Paramètres!$M$5:$O$101,3,0)","v":{"$error":"#N/A"}},null,null,null,null,null,null,null,null,null,null,{"$f":"SUM(Tableau_Data[[#This Row],[Féminin]:[Masculin]])","v":0}]
[null,null,"",null,"",null,null,null,null,null,null,{"$f":"VLOOKUP(K811,[1]Paramètres!$M$5:$O$101,2,0)","v":{"$error":"#N/A"}},{"$f":"VLOOKUP(K811,[1]Paramètres!$M$5:$O$101,3,0)","v":{"$error":"#N/A"}},null,null,null,null,null,null,null,null,null,null,{"$f":"SUM(Tableau_Data[[#This Row],[Féminin]:[Masculin]])","v":0}]
[null,null,"",null,"",null,null,null,null,null,null,{"$f":"VLOOKUP(K812,[1]Paramètres!$M$5:$O$101,2,0)","v":{"$error":"#N/A"}},{"$f":"VLOOKUP(K812,[1]Paramètres!$M$5:$O$101,3,0)","v":{"$error":"#N/A"}},null,null,null,null,null,null,null,null,null,null,{"$f":"SUM(Tableau_Data[[#This Row],[Féminin]:[Masculin]])","v":0}]
[null,null,"",null,"",null,null,null,null,null,null,{"$f":"VLOOKUP(K813,[1]Paramètres!$M$5:$O$101,2,0)","v":{"$error":"#N/A"}},{"$f":"VLOOKUP(K813,[1]Paramètres!$M$5:$O$101,3,0)","v":{"$error":"#N/A"}},null,null,null,null,null,null,null,null,null,null,{"$f":"SUM(Tableau_Data[[#This Row],[Féminin]:[Masculin]])","v":0}]
[null,null,"",null,"",null,null,null,null,null,null,{"$f":"VLOOKUP(K814,[1]Paramètres!$M$5:$O$101,2,0)","v":{"$error":"#N/A"}},{"$f":"VLOOKUP(K814,[1]Paramètres!$M$5:$O$101,3,0)","v":{"$error":"#N/A"}},null,null,null,null,null,null,null,null,null,null,{"$f":"SUM(Tableau_Data[[#This Row],[Féminin]:[Masculin]])","v":0}]
[null,null,"",null,"",null,null,null,null,null,null,{"$f":"VLOOKUP(K815,[1]Paramètres!$M$5:$O$101,2,0)","v":{"$error":"#N/A"}},{"$f":"VLOOKUP(K815,[1]Paramètres!$M$5:$O$101,3,0)","v":{"$error":"#N/A"}},null,null,null,null,null,null,null,null,null,null,{"$f":"SUM(Tableau_Data[[#This Row],[Féminin]:[Masculin]])","v":0}]
[null,null,"",null,"",null,null,null,null,null,null,{"$f":"VLOOKUP(K816,[1]Paramètres!$M$5:$O$101,2,0)","v":{"$error":"#N/A"}},{"$f":"VLOOKUP(K816,[1]Paramètres!$M$5:$O$101,3,0)","v":{"$error":"#N/A"}},null,null,null,null,null,null,null,null,null,null,{"$f":"SUM(Tableau_Data[[#This Row],[Féminin]:[Masculin]])","v":0}]
[null,null,"",null,{"$f":"IF(D817=\"\",\"\",MONTH(D817))","v":""},null,null,null,null,null,null,{"$f":"VLOOKUP(K817,[1]Paramètres!$M$5:$O$101,2,0)","v":{"$error":"#N/A"}},{"$f":"VLOOKUP(K817,[1]Paramètres!$M$5:$O$101,3,0)","v":{"$error":"#N/A"}},null,null,null,null,null,null,null,null,null,null,{"$f":"SUM(Tableau_Data[[#This Row],[Féminin]:[Masculin]])","v":0}]
[null,null,"",null,"",null,null,null,null,null,null,{"$f":"VLOOKUP(K818,[1]Paramètres!$M$5:$O$101,2,0)","v":{"$error":"#N/A"}},{"$f":"VLOOKUP(K818,[1]Paramètres!$M$5:$O$101,3,0)","v":{"$error":"#N/A"}},null,null,null,null,null,null,null,null,null,null,{"$f":"SUM(Tableau_Data[[#This Row],[Féminin]:[Masculin]])","v":0}]
[null,null,"",null,"",null,null,null,null,null,null,{"$f":"VLOOKUP(K819,[1]Paramètres!$M$5:$O$101,2,0)","v":{"$error":"#N/A"}},{"$f":"VLOOKUP(K819,[1]Paramètres!$M$5:$O$101,3,0)","v":{"$error":"#N/A"}},null,null,null,null,null,null,null,null,null,null,{"$f":"SUM(Tableau_Data[[#This Row],[Féminin]:[Masculin]])","v":0}]
[null,null,"",null,"",null,null,null,null,null,null,{"$f":"VLOOKUP(K820,[1]Paramètres!$M$5:$O$101,2,0)","v":{"$error":"#N/A"}},{"$f":"VLOOKUP(K820,[1]Paramètres!$M$5:$O$101,3,0)","v":{"$error":"#N/A"}},null,null,null,null,null,null,null,null,null,null,{"$f":"SUM(Tableau_Data[[#This Row],[Féminin]:[Masculin]])","v":0}]
[null,null,"",null,"",null,null,null,null,null,null,{"$f":"VLOOKUP(K821,[1]Paramètres!$M$5:$O$101,2,0)","v":{"$error":"#N/A"}},{"$f":"VLOOKUP(K821,[1]Paramètres!$M$5:$O$101,3,0)","v":{"$error":"#N/A"}},null,null,null,null,null,null,null,null,null,null,{"$f":"SUM(Tableau_Data[[#This Row],[Féminin]:[Masculin]])","v":0}]
[null,null,"",null,"",null,null,null,null,null,null,{"$f":"VLOOKUP(K822,[1]Paramètres!$M$5:$O$101,2,0)","v":{"$error":"#N/A"}},{"$f":"VLOOKUP(K822,[1]Paramètres!$M$5:$O$101,3,0)","v":{"$error":"#N/A"}},null,null,null,null,null,null,null,null,null,null,{"$f":"SUM(Tableau_Data[[#This Row],[Féminin]:[Masculin]])","v":0}]
[null,null,"",null,"",null,null,null,null,null,null,{"$f":"VLOOKUP(K823,[1]Paramètres!$M$5:$O$101,2,0)","v":{"$error":"#N/A"}},{"$f":"VLOOKUP(K823,[1]Paramètres!$M$5:$O$101,3,0)","v":{"$error":"#N/A"}},null,null,null,null,null,null,null,null,null,null,{"$f":"SUM(Tableau_Data[[#This Row],[Féminin]:[Masculin]])","v":0}]
[null,null,"",null,"",null,null,null,null,null,null,{"$f":"VLOOKUP(K824,[1]Paramètres!$M$5:$O$101,2,0)","v":{"$error":"#N/A"}},{"$f":"VLOOKUP(K824,[1]Paramètres!$M$5:$O$101,3,0)","v":{"$error":"#N/A"}},null,null,null,null,null,null,null,null,null,null,{"$f":"SUM(Tableau_Data[[#This Row],[Féminin]:[Masculin]])","v":0}]
[null,null,"",null,"",null,null,null,null,null,null,{"$f":"VLOOKUP(K825,[1]Paramètres!$M$5:$O$101,2,0)","v":{"$error":"#N/A"}},{"$f":"VLOOKUP(K825,[1]Paramètres!$M$5:$O$101,3,0)","v":{"$error":"#N/A"}},null,null,null,null,null,null,null,null,null,null,{"$f":"SUM(Tableau_Data[[#This Row],[Féminin]:[Masculin]])","v":0}]
[null,null,"",null,"",null,null,null,null,null,null,{"$f":"VLOOKUP(K826,[1]Paramètres!$M$5:$O$101,2,0)","v":{"$error":"#N/A"}},{"$f":"VLOOKUP(K826,[1]Paramètres!$M$5:$O$101,3,0)","v":{"$error":"#N/A"}},null,null,null,null,null,null,null,null,null,null,{"$f":"SUM(Tableau_Data[[#This Row],[Féminin]:[Masculin]])","v":0}]
[null,null,{"$f":"IF(D827=\"\",\"\",YEAR(D827))","v":""},null,"",null,null,null,null,null,null,{"$f":"VLOOKUP(K827,[1]Paramètres!$M$5:$O$101,2,0)","v":{"$error":"#N/A"}},{"$f":"VLOOKUP(K827,[1]Paramètres!$M$5:$O$101,3,0)","v":{"$error":"#N/A"}},null,null,null,null,null,null,null,null,null,null,{"$f":"SUM(Tableau_Data[[#This Row],[Féminin]:[Masculin]])","v":0}]
[null,null,"",null,"",null,null,null,null,null,null,{"$f":"VLOOKUP(K828,[1]Paramètres!$M$5:$O$101,2,0)","v":{"$error":"#N/A"}},{"$f":"VLOOKUP(K828,[1]Paramètres!$M$5:$O$101,3,0)","v":{"$error":"#N/A"}},null,null,null,null,null,null,null,null,null,null,{"$f":"SUM(Tableau_Data[[#This Row],[Féminin]:[Masculin]])","v":0}]
[null,null,"",null,"",null,null,null,null,null,null,{"$f":"VLOOKUP(K829,[1]Paramètres!$M$5:$O$101,2,0)","v":{"$error":"#N/A"}},{"$f":"VLOOKUP(K829,[1]Paramètres!$M$5:$O$101,3,0)","v":{"$error":"#N/A"}},null,null,null,null,null,null,null,null,null,null,{"$f":"SUM(Tableau_Data[[#This Row],[Féminin]:[Masculin]])","v":0}]
[null,null,"",null,"",null,null,null,null,null,null,{"$f":"VLOOKUP(K830,[1]Paramètres!$M$5:$O$101,2,0)","v":{"$error":"#N/A"}},{"$f":"VLOOKUP(K830,[1]Paramètres!$M$5:$O$101,3,0)","v":{"$error":"#N/A"}},null,null,null,null,null,null,null,null,null,null,{"$f":"SUM(Tableau_Data[[#This Row],[Féminin]:[Masculin]])","v":0}]
[null,null,"",null,"",null,null,null,null,null,null,{"$f":"VLOOKUP(K831,[1]Paramètres!$M$5:$O$101,2,0)","v":{"$error":"#N/A"}},{"$f":"VLOOKUP(K831,[1]Paramètres!$M$5:$O$101,3,0)","v":{"$error":"#N/A"}},null,null,null,null,null,null,null,null,null,null,{"$f":"SUM(Tableau_Data[[#This Row],[Féminin]:[Masculin]])","v":0}]
[null,null,"",null,"",null,null,null,null,null,null,{"$f":"VLOOKUP(K832,[1]Paramètres!$M$5:$O$101,2,0)","v":{"$error":"#N/A"}},{"$f":"VLOOKUP(K832,[1]Paramètres!$M$5:$O$101,3,0)","v":{"$error":"#N/A"}},null,null,null,null,null,null,null,null,null,null,{"$f":"SUM(Tableau_Data[[#This Row],[Féminin]:[Masculin]])","v":0}]
[null,null,"",null,"",null,null,null,null,null,null,{"$f":"VLOOKUP(K833,[1]Paramètres!$M$5:$O$101,2,0)","v":{"$error":"#N/A"}},{"$f":"VLOOKUP(K833,[1]Paramètres!$M$5:$O$101,3,0)","v":{"$error":"#N/A"}},null,null,null,null,null,null,null,null,null,null,{"$f":"SUM(Tableau_Data[[#This Row],[Féminin]:[Masculin]])","v":0}]
[null,null,"",null,"",null,null,null,null,null,null,{"$f":"VLOOKUP(K834,[1]Paramètres!$M$5:$O$101,2,0)","v":{"$error":"#N/A"}},{"$f":"VLOOKUP(K834,[1]Paramètres!$M$5:$O$101,3,0)","v":{"$error":"#N/A"}},null,null,null,null,null,null,null,null,null,null,{"$f":"SUM(Tableau_Data[[#This Row],[Féminin]:[Masculin]])","v":0}]
[null,null,"",null,"",null,null,null,null,null,null,{"$f":"VLOOKUP(K835,[1]Paramètres!$M$5:$O$101,2,0)","v":{"$error":"#N/A"}},{"$f":"VLOOKUP(K835,[1]Paramètres!$M$5:$O$101,3,0)","v":{"$error":"#N/A"}},null,null,null,null,null,null,null,null,null,null,{"$f":"SUM(Tableau_Data[[#This Row],[Féminin]:[Masculin]])","v":0}]
[null,null,"",null,"",null,null,null,null,null,null,{"$f":"VLOOKUP(K836,[1]Paramètres!$M$5:$O$101,2,0)","v":{"$error":"#N/A"}},{"$f":"VLOOKUP(K836,[1]Paramètres!$M$5:$O$101,3,0)","v":{"$error":"#N/A"}},null,null,null,null,null,null,null,null,null,null,{"$f":"SUM(Tableau_Data[[#This Row],[Féminin]:[Masculin]])","v":0}]
[null,null,"",null,"",null,null,null,null,null,null,{"$f":"VLOOKUP(K837,[1]Paramètres!$M$5:$O$101,2,0)","v":{"$error":"#N/A"}},{"$f":"VLOOKUP(K837,[1]Paramètres!$M$5:$O$101,3,0)","v":{"$error":"#N/A"}},null,null,null,null,null,null,null,null,null,null,{"$f":"SUM(Tableau_Data[[#This Row],[Féminin]:[Masculin]])","v":0}]
[null,null,"",null,"",null,null,null,null,null,null,{"$f":"VLOOKUP(K838,[1]Paramètres!$M$5:$O$101,2,0)","v":{"$error":"#N/A"}},{"$f":"VLOOKUP(K838,[1]Paramètres!$M$5:$O$101,3,0)","v":{"$error":"#N/A"}},null,null,null,null,null,null,null,null,null,null,{"$f":"SUM(Tableau_Data[[#This Row],[Féminin]:[Masculin]])","v":0}]
[null,null,"",null,"",null,null,null,null,null,null,{"$f":"VLOOKUP(K839,[1]Paramètres!$M$5:$O$101,2,0)","v":{"$error":"#N/A"}},{"$f":"VLOOKUP(K839,[1]Paramètres!$M$5:$O$101,3,0)","v":{"$error":"#N/A"}},null,null,null,null,null,null,null,null,null,null,{"$f":"SUM(Tableau_Data[[#This Row],[Féminin]:[Masculin]])","v":0}]
[null,null,"",null,"",null,null,null,null,null,null,{"$f":"VLOOKUP(K840,[1]Paramètres!$M$5:$O$101,2,0)","v":{"$error":"#N/A"}},{"$f":"VLOOKUP(K840,[1]Paramètres!$M$5:$O$101,3,0)","v":{"$error":"#N/A"}},null,null,null,null,null,null,null,null,null,null,{"$f":"SUM(Tableau_Data[[#This Row],[Féminin]:[Masculin]])","v":0}]
[null,null,"",null,"",null,null,null,null,null,null,{"$f":"VLOOKUP(K841,[1]Paramètres!$M$5:$O$101,2,0)","v":{"$error":"#N/A"}},{"$f":"VLOOKUP(K841,[1]Paramètres!$M$5:$O$101,3,0)","v":{"$error":"#N/A"}},null,null,null,null,null,null,null,null,null,null,{"$f":"SUM(Tableau_Data[[#This Row],[Féminin]:[Masculin]])","v":0}]
[null,null,"",null,"",null,null,null,null,null,null,{"$f":"VLOOKUP(K842,[1]Paramètres!$M$5:$O$101,2,0)","v":{"$error":"#N/A"}},{"$f":"VLOOKUP(K842,[1]Paramètres!$M$5:$O$101,3,0)","v":{"$error":"#N/A"}},null,null,null,null,null,null,null,null,null,null,{"$f":"SUM(Tableau_Data[[#This Row],[Féminin]:[Masculin]])","v":0}]
[null,null,"",null,"",null,null,null,null,null,null,{"$f":"VLOOKUP(K843,[1]Paramètres!$M$5:$O$101,2,0)","v":{"$error":"#N/A"}},{"$f":"VLOOKUP(K843,[1]Paramètres!$M$5:$O$101,3,0)","v":{"$error":"#N/A"}},null,null,null,null,null,null,null,null,null,null,{"$f":"SUM(Tableau_Data[[#This Row],[Féminin]:[Masculin]])","v":0}]
[null,null,"",null,"",null,null,null,null,null,null,{"$f":"VLOOKUP(K844,[1]Paramètres!$M$5:$O$101,2,0)","v":{"$error":"#N/A"}},{"$f":"VLOOKUP(K844,[1]Paramètres!$M$5:$O$101,3,0)","v":{"$error":"#N/A"}},null,null,null,null,null,null,null,null,null,null,{"$f":"SUM(Tableau_Data[[#This Row],[Féminin]:[Masculin]])","v":0}]
[null,null,"",null,"",null,null,null,null,null,null,{"$f":"VLOOKUP(K845,[1]Paramètres!$M$5:$O$101,2,0)","v":{"$error":"#N/A"}},{"$f":"VLOOKUP(K845,[1]Paramètres!$M$5:$O$101,3,0)","v":{"$error":"#N/A"}},null,null,null,null,null,null,null,null,null,null,{"$f":"SUM(Tableau_Data[[#This Row],[Féminin]:[Masculin]])","v":0}]
[null,null,"",null,"",null,null,null,null,null,null,{"$f":"VLOOKUP(K846,[1]Paramètres!$M$5:$O$101,2,0)","v":{"$error":"#N/A"}},{"$f":"VLOOKUP(K846,[1]Paramètres!$M$5:$O$101,3,0)","v":{"$error":"#N/A"}},null,null,null,null,null,null,null,null,null,null,{"$f":"SUM(Tableau_Data[[#This Row],[Féminin]:[Masculin]])","v":0}]
[null,null,"",null,"",null,null,null,null,null,null,{"$f":"VLOOKUP(K847,[1]Paramètres!$M$5:$O$101,2,0)","v":{"$error":"#N/A"}},{"$f":"VLOOKUP(K847,[1]Paramètres!$M$5:$O$101,3,0)","v":{"$error":"#N/A"}},null,null,null,null,null,null,null,null,null,null,{"$f":"SUM(Tableau_Data[[#This Row],[Féminin]:[Masculin]])","v":0}]
[null,null,"",null,"",null,null,null,null,null,null,{"$f":"VLOOKUP(K848,[1]Paramètres!$M$5:$O$101,2,0)","v":{"$error":"#N/A"}},{"$f":"VLOOKUP(K848,[1]Paramètres!$M$5:$O$101,3,0)","v":{"$error":"#N/A"}},null,null,null,null,null,null,null,null,null,null,{"$f":"SUM(Tableau_Data[[#This Row],[Féminin]:[Masculin]])","v":0}]
[null,null,"",null,"",null,null,null,null,null,null,{"$f":"VLOOKUP(K849,[1]Paramètres!$M$5:$O$101,2,0)","v":{"$error":"#N/A"}},{"$f":"VLOOKUP(K849,[1]Paramètres!$M$5:$O$101,3,0)","v":{"$error":"#N/A"}},null,null,null,null,null,null,null,null,null,null,{"$f":"SUM(Tableau_Data[[#This Row],[Féminin]:[Masculin]])","v":0}]
[null,null,"",null,"",null,null,null,null,null,null,{"$f":"VLOOKUP(K850,[1]Paramètres!$M$5:$O$101,2,0)","v":{"$error":"#N/A"}},{"$f":"VLOOKUP(K850,[1]Paramètres!$M$5:$O$101,3,0)","v":{"$error":"#N/A"}},null,null,null,null,null,null,null,null,null,null,{"$f":"SUM(Tableau_Data[[#This Row],[Féminin]:[Masculin]])","v":0}]
[null,null,"",null,"",null,null,null,null,null,null,{"$f":"VLOOKUP(K851,[1]Paramètres!$M$5:$O$101,2,0)","v":{"$error":"#N/A"}},{"$f":"VLOOKUP(K851,[1]Paramètres!$M$5:$O$101,3,0)","v":{"$error":"#N/A"}},null,null,null,null,null,null,null,null,null,null,{"$f":"SUM(Tableau_Data[[#This Row],[Féminin]:[Masculin]])","v":0}]
[null,null,"",null,"",null,null,null,null,null,null,{"$f":"VLOOKUP(K852,[1]Paramètres!$M$5:$O$101,2,0)","v":{"$error":"#N/A"}},{"$f":"VLOOKUP(K852,[1]Paramètres!$M$5:$O$101,3,0)","v":{"$error":"#N/A"}},null,null,null,null,null,null,null,null,null,null,{"$f":"SUM(Tableau_Data[[#This Row],[Féminin]:[Masculin]])","v":0}]
[null,null,"",null,"",null,null,null,null,null,null,{"$f":"VLOOKUP(K853,[1]Paramètres!$M$5:$O$101,2,0)","v":{"$error":"#N/A"}},{"$f":"VLOOKUP(K853,[1]Paramètres!$M$5:$O$101,3,0)","v":{"$error":"#N/A"}},null,null,null,null,null,null,null,null,null,null,{"$f":"SUM(Tableau_Data[[#This Row],[Féminin]:[Masculin]])","v":0}]
[null,null,"",null,"",null,null,null,null,null,null,{"$f":"VLOOKUP(K854,[1]Paramètres!$M$5:$O$101,2,0)","v":{"$error":"#N/A"}},{"$f":"VLOOKUP(K854,[1]Paramètres!$M$5:$O$101,3,0)","v":{"$error":"#N/A"}},null,null,null,null,null,null,null,null,null,null,{"$f":"SUM(Tableau_Data[[#This Row],[Féminin]:[Masculin]])","v":0}]
[null,null,"",null,"",null,null,null,null,null,null,{"$f":"VLOOKUP(K855,[1]Paramètres!$M$5:$O$101,2,0)","v":{"$error":"#N/A"}},{"$f":"VLOOKUP(K855,[1]Paramètres!$M$5:$O$101,3,0)","v":{"$error":"#N/A"}},null,null,null,null,null,null,null,null,null,null,{"$f":"SUM(Tableau_Data[[#This Row],[Féminin]:[Masculin]])","v":0}]
[null,null,"",null,"",null,null,null,null,null,null,{"$f":"VLOOKUP(K856,[1]Paramètres!$M$5:$O$101,2,0)","v":{"$error":"#N/A"}},{"$f":"VLOOKUP(K856,[1]Paramètres!$M$5:$O$101,3,0)","v":{"$error":"#N/A"}},null,null,null,null,null,null,null,null,null,null,{"$f":"SUM(Tableau_Data[[#This Row],[Féminin]:[Masculin]])","v":0}]
[null,null,"",null,"",null,null,null,null,null,null,{"$f":"VLOOKUP(K857,[1]Paramètres!$M$5:$O$101,2,0)","v":{"$error":"#N/A"}},{"$f":"VLOOKUP(K857,[1]Paramètres!$M$5:$O$101,3,0)","v":{"$error":"#N/A"}},null,null,null,null,null,null,null,null,null,null,{"$f":"SUM(Tableau_Data[[#This Row],[Féminin]:[Masculin]])","v":0}]
[null,null,"",null,"",null,null,null,null,null,null,{"$f":"VLOOKUP(K858,[1]Paramètres!$M$5:$O$101,2,0)","v":{"$error":"#N/A"}},{"$f":"VLOOKUP(K858,[1]Paramètres!$M$5:$O$101,3,0)","v":{"$error":"#N/A"}},null,null,null,null,null,null,null,null,null,null,{"$f":"SUM(Tableau_Data[[#This Row],[Féminin]:[Masculin]])","v":0}]
[null,null,"",null,"",null,null,null,null,null,null,{"$f":"VLOOKUP(K859,[1]Paramètres!$M$5:$O$101,2,0)","v":{"$error":"#N/A"}},{"$f":"VLOOKUP(K859,[1]Paramètres!$M$5:$O$101,3,0)","v":{"$error":"#N/A"}},null,null,null,null,null,null,null,null,null,null,{"$f":"SUM(Tableau_Data[[#This Row],[Féminin]:[Masculin]])","v":0}]
[null,null,"",null,"",null,null,null,null,null,null,{"$f":"VLOOKUP(K860,[1]Paramètres!$M$5:$O$101,2,0)","v":{"$error":"#N/A"}},{"$f":"VLOOKUP(K860,[1]Paramètres!$M$5:$O$101,3,0)","v":{"$error":"#N/A"}},null,null,null,null,null,null,null,null,null,null,{"$f":"SUM(Tableau_Data[[#This Row],[Féminin]:[Masculin]])","v":0}]
[null,null,"",null,"",null,null,null,null,null,null,{"$f":"VLOOKUP(K861,[1]Paramètres!$M$5:$O$101,2,0)","v":{"$error":"#N/A"}},{"$f":"VLOOKUP(K861,[1]Paramètres!$M$5:$O$101,3,0)","v":{"$error":"#N/A"}},null,null,null,null,null,null,null,null,null,null,{"$f":"SUM(Tableau_Data[[#This Row],[Féminin]:[Masculin]])","v":0}]
[null,null,"",null,"",null,null,null,null,null,null,{"$f":"VLOOKUP(K862,[1]Paramètres!$M$5:$O$101,2,0)","v":{"$error":"#N/A"}},{"$f":"VLOOKUP(K862,[1]Paramètres!$M$5:$O$101,3,0)","v":{"$error":"#N/A"}},null,null,null,null,null,null,null,null,null,null,{"$f":"SUM(Tableau_Data[[#This Row],[Féminin]:[Masculin]])","v":0}]
[null,null,"",null,"",null,null,null,null,null,null,{"$f":"VLOOKUP(K863,[1]Paramètres!$M$5:$O$101,2,0)","v":{"$error":"#N/A"}},{"$f":"VLOOKUP(K863,[1]Paramètres!$M$5:$O$101,3,0)","v":{"$error":"#N/A"}},null,null,null,null,null,null,null,null,null,null,{"$f":"SUM(Tableau_Data[[#This Row],[Féminin]:[Masculin]])","v":0}]
[null,null,"",null,"",null,null,null,null,null,null,{"$f":"VLOOKUP(K864,[1]Paramètres!$M$5:$O$101,2,0)","v":{"$error":"#N/A"}},{"$f":"VLOOKUP(K864,[1]Paramètres!$M$5:$O$101,3,0)","v":{"$error":"#N/A"}},null,null,null,null,null,null,null,null,null,null,{"$f":"SUM(Tableau_Data[[#This Row],[Féminin]:[Masculin]])","v":0}]
[null,null,"",null,{"$f":"IF(D865=\"\",\"\",MONTH(D865))","v":""},null,null,null,null,null,null,{"$f":"VLOOKUP(K865,[1]Paramètres!$M$5:$O$101,2,0)","v":{"$error":"#N/A"}},{"$f":"VLOOKUP(K865,[1]Paramètres!$M$5:$O$101,3,0)","v":{"$error":"#N/A"}},null,null,null,null,null,null,null,null,null,null,{"$f":"SUM(Tableau_Data[[#This Row],[Féminin]:[Masculin]])","v":0}]
[null,null,"",null,"",null,null,null,null,null,null,{"$f":"VLOOKUP(K866,[1]Paramètres!$M$5:$O$101,2,0)","v":{"$error":"#N/A"}},{"$f":"VLOOKUP(K866,[1]Paramètres!$M$5:$O$101,3,0)","v":{"$error":"#N/A"}},null,null,null,null,null,null,null,null,null,null,{"$f":"SUM(Tableau_Data[[#This Row],[Féminin]:[Masculin]])","v":0}]
[null,null,"",null,"",null,null,null,null,null,null,{"$f":"VLOOKUP(K867,[1]Paramètres!$M$5:$O$101,2,0)","v":{"$error":"#N/A"}},{"$f":"VLOOKUP(K867,[1]Paramètres!$M$5:$O$101,3,0)","v":{"$error":"#N/A"}},null,null,null,null,null,null,null,null,null,null,{"$f":"SUM(Tableau_Data[[#This Row],[Féminin]:[Masculin]])","v":0}]
[null,null,"",null,"",null,null,null,null,null,null,{"$f":"VLOOKUP(K868,[1]Paramètres!$M$5:$O$101,2,0)","v":{"$error":"#N/A"}},{"$f":"VLOOKUP(K868,[1]Paramètres!$M$5:$O$101,3,0)","v":{"$error":"#N/A"}},null,null,null,null,null,null,null,null,null,null,{"$f":"SUM(Tableau_Data[[#This Row],[Féminin]:[Masculin]])","v":0}]
[null,null,"",null,"",null,null,null,null,null,null,{"$f":"VLOOKUP(K869,[1]Paramètres!$M$5:$O$101,2,0)","v":{"$error":"#N/A"}},{"$f":"VLOOKUP(K869,[1]Paramètres!$M$5:$O$101,3,0)","v":{"$error":"#N/A"}},null,null,null,null,null,null,null,null,null,null,{"$f":"SUM(Tableau_Data[[#This Row],[Féminin]:[Masculin]])","v":0}]
[null,null,"",null,"",null,null,null,null,null,null,{"$f":"VLOOKUP(K870,[1]Paramètres!$M$5:$O$101,2,0)","v":{"$error":"#N/A"}},{"$f":"VLOOKUP(K870,[1]Paramètres!$M$5:$O$101,3,0)","v":{"$error":"#N/A"}},null,null,null,null,null,null,null,null,null,null,{"$f":"SUM(Tableau_Data[[#This Row],[Féminin]:[Masculin]])","v":0}]
[null,null,"",null,"",null,null,null,null,null,null,{"$f":"VLOOKUP(K871,[1]Paramètres!$M$5:$O$101,2,0)","v":{"$error":"#N/A"}},{"$f":"VLOOKUP(K871,[1]Paramètres!$M$5:$O$101,3,0)","v":{"$error":"#N/A"}},null,null,null,null,null,null,null,null,null,null,{"$f":"SUM(Tableau_Data[[#This Row],[Féminin]:[Masculin]])","v":0}]
[null,null,"",null,"",null,null,null,null,null,null,{"$f":"VLOOKUP(K872,[1]Paramètres!$M$5:$O$101,2,0)","v":{"$error":"#N/A"}},{"$f":"VLOOKUP(K872,[1]Paramètres!$M$5:$O$101,3,0)","v":{"$error":"#N/A"}},null,null,null,null,null,null,null,null,null,null,{"$f":"SUM(Tableau_Data[[#This Row],[Féminin]:[Masculin]])","v":0}]
[null,null,"",null,"",null,null,null,null,null,null,{"$f":"VLOOKUP(K873,[1]Paramètres!$M$5:$O$101,2,0)","v":{"$error":"#N/A"}},{"$f":"VLOOKUP(K873,[1]Paramètres!$M$5:$O$101,3,0)","v":{"$error":"#N/A"}},null,null,null,null,null,null,null,null,null,null,{"$f":"SUM(Tableau_Data[[#This Row],[Féminin]:[Masculin]])","v":0}]
[null,null,"",null,"",null,null,null,null,null,null,{"$f":"VLOOKUP(K874,[1]Paramètres!$M$5:$O$101,2,0)","v":{"$error":"#N/A"}},{"$f":"VLOOKUP(K874,[1]Paramètres!$M$5:$O$101,3,0)","v":{"$error":"#N/A"}},null,null,null,null,null,null,null,null,null,null,{"$f":"SUM(Tableau_Data[[#This Row],[Féminin]:[Masculin]])","v":0}]
[null,null,{"$f":"IF(D875=\"\",\"\",YEAR(D875))","v":""},null,"",null,null,null,null,null,null,{"$f":"VLOOKUP(K875,[1]Paramètres!$M$5:$O$101,2,0)","v":{"$error":"#N/A"}},{"$f":"VLOOKUP(K875,[1]Paramètres!$M$5:$O$101,3,0)","v":{"$error":"#N/A"}},null,null,null,null,null,null,null,null,null,null,{"$f":"SUM(Tableau_Data[[#This Row],[Féminin]:[Masculin]])","v":0}]
[null,null,"",null,"",null,null,null,null,null,null,{"$f":"VLOOKUP(K876,[1]Paramètres!$M$5:$O$101,2,0)","v":{"$error":"#N/A"}},{"$f":"VLOOKUP(K876,[1]Paramètres!$M$5:$O$101,3,0)","v":{"$error":"#N/A"}},null,null,null,null,null,null,null,null,null,null,{"$f":"SUM(Tableau_Data[[#This Row],[Féminin]:[Masculin]])","v":0}]
[null,null,"",null,"",null,null,null,null,null,null,{"$f":"VLOOKUP(K877,[1]Paramètres!$M$5:$O$101,2,0)","v":{"$error":"#N/A"}},{"$f":"VLOOKUP(K877,[1]Paramètres!$M$5:$O$101,3,0)","v":{"$error":"#N/A"}},null,null,null,null,null,null,null,null,null,null,{"$f":"SUM(Tableau_Data[[#This Row],[Féminin]:[Masculin]])","v":0}]
[null,null,"",null,"",null,null,null,null,null,null,{"$f":"VLOOKUP(K878,[1]Paramètres!$M$5:$O$101,2,0)","v":{"$error":"#N/A"}},{"$f":"VLOOKUP(K878,[1]Paramètres!$M$5:$O$101,3,0)","v":{"$error":"#N/A"}},null,null,null,null,null,null,null,null,null,null,{"$f":"SUM(Tableau_Data[[#This Row],[Féminin]:[Masculin]])","v":0}]
[null,null,"",null,"",null,null,null,null,null,null,{"$f":"VLOOKUP(K879,[1]Paramètres!$M$5:$O$101,2,0)","v":{"$error":"#N/A"}},{"$f":"VLOOKUP(K879,[1]Paramètres!$M$5:$O$101,3,0)","v":{"$error":"#N/A"}},null,null,null,null,null,null,null,null,null,null,{"$f":"SUM(Tableau_Data[[#This Row],[Féminin]:[Masculin]])","v":0}]
[null,null,"",null,"",null,null,null,null,null,null,{"$f":"VLOOKUP(K880,[1]Paramètres!$M$5:$O$101,2,0)","v":{"$error":"#N/A"}},{"$f":"VLOOKUP(K880,[1]Paramètres!$M$5:$O$101,3,0)","v":{"$error":"#N/A"}},null,null,null,null,null,null,null,null,null,null,{"$f":"SUM(Tableau_Data[[#This Row],[Féminin]:[Masculin]])","v":0}]
[null,null,"",null,"",null,null,null,null,null,null,{"$f":"VLOOKUP(K881,[1]Paramètres!$M$5:$O$101,2,0)","v":{"$error":"#N/A"}},{"$f":"VLOOKUP(K881,[1]Paramètres!$M$5:$O$101,3,0)","v":{"$error":"#N/A"}},null,null,null,null,null,null,null,null,null,null,{"$f":"SUM(Tableau_Data[[#This Row],[Féminin]:[Masculin]])","v":0}]
[null,null,"",null,"",null,null,null,null,null,null,{"$f":"VLOOKUP(K882,[1]Paramètres!$M$5:$O$101,2,0)","v":{"$error":"#N/A"}},{"$f":"VLOOKUP(K882,[1]Paramètres!$M$5:$O$101,3,0)","v":{"$error":"#N/A"}},null,null,null,null,null,null,null,null,null,null,{"$f":"SUM(Tableau_Data[[#This Row],[Féminin]:[Masculin]])","v":0}]
[null,null,"",null,"",null,null,null,null,null,null,{"$f":"VLOOKUP(K883,[1]Paramètres!$M$5:$O$101,2,0)","v":{"$error":"#N/A"}},{"$f":"VLOOKUP(K883,[1]Paramètres!$M$5:$O$101,3,0)","v":{"$error":"#N/A"}},null,null,null,null,null,null,null,null,null,null,{"$f":"SUM(Tableau_Data[[#This Row],[Féminin]:[Masculin]])","v":0}]
[null,null,"",null,"",null,null,null,null,null,null,{"$f":"VLOOKUP(K884,[1]Paramètres!$M$5:$O$101,2,0)","v":{"$error":"#N/A"}},{"$f":"VLOOKUP(K884,[1]Paramètres!$M$5:$O$101,3,0)","v":{"$error":"#N/A"}},null,null,null,null,null,null,null,null,null,null,{"$f":"SUM(Tableau_Data[[#This Row],[Féminin]:[Masculin]])","v":0}]
[null,null,"",null,"",null,null,null,null,null,null,{"$f":"VLOOKUP(K885,[1]Paramètres!$M$5:$O$101,2,0)","v":{"$error":"#N/A"}},{"$f":"VLOOKUP(K885,[1]Paramètres!$M$5:$O$101,3,0)","v":{"$error":"#N/A"}},null,null,null,null,null,null,null,null,null,null,{"$f":"SUM(Tableau_Data[[#This Row],[Féminin]:[Masculin]])","v":0}]
[null,null,"",null,"",null,null,null,null,null,null,{"$f":"VLOOKUP(K886,[1]Paramètres!$M$5:$O$101,2,0)","v":{"$error":"#N/A"}},{"$f":"VLOOKUP(K886,[1]Paramètres!$M$5:$O$101,3,0)","v":{"$error":"#N/A"}},null,null,null,null,null,null,null,null,null,null,{"$f":"SUM(Tableau_Data[[#This Row],[Féminin]:[Masculin]])","v":0}]
[null,null,"",null,"",null,null,null,null,null,null,{"$f":"VLOOKUP(K887,[1]Paramètres!$M$5:$O$101,2,0)","v":{"$error":"#N/A"}},{"$f":"VLOOKUP(K887,[1]Paramètres!$M$5:$O$101,3,0)","v":{"$error":"#N/A"}},null,null,null,null,null,null,null,null,null,null,{"$f":"SUM(Tableau_Data[[#This Row],[Féminin]:[Masculin]])","v":0}]
[null,null,"",null,"",null,null,null,null,null,null,{"$f":"VLOOKUP(K888,[1]Paramètres!$M$5:$O$101,2,0)","v":{"$error":"#N/A"}},{"$f":"VLOOKUP(K888,[1]Paramètres!$M$5:$O$101,3,0)","v":{"$error":"#N/A"}},null,null,null,null,null,null,null,null,null,null,{"$f":"SUM(Tableau_Data[[#This Row],[Féminin]:[Masculin]])","v":0}]
[null,null,"",null,"",null,null,null,null,null,null,{"$f":"VLOOKUP(K889,[1]Paramètres!$M$5:$O$101,2,0)","v":{"$error":"#N/A"}},{"$f":"VLOOKUP(K889,[1]Paramètres!$M$5:$O$101,3,0)","v":{"$error":"#N/A"}},null,null,null,null,null,null,null,null,null,null,{"$f":"SUM(Tableau_Data[[#This Row],[Féminin]:[Masculin]])","v":0}]
[null,null,"",null,"",null,null,null,null,null,null,{"$f":"VLOOKUP(K890,[1]Paramètres!$M$5:$O$101,2,0)","v":{"$error":"#N/A"}},{"$f":"VLOOKUP(K890,[1]Paramètres!$M$5:$O$101,3,0)","v":{"$error":"#N/A"}},null,null,null,null,null,null,null,null,null,null,{"$f":"SUM(Tableau_Data[[#This Row],[Féminin]:[Masculin]])","v":0}]
[null,null,"",null,"",null,null,null,null,null,null,{"$f":"VLOOKUP(K891,[1]Paramètres!$M$5:$O$101,2,0)","v":{"$error":"#N/A"}},{"$f":"VLOOKUP(K891,[1]Paramètres!$M$5:$O$101,3,0)","v":{"$error":"#N/A"}},null,null,null,null,null,null,null,null,null,null,{"$f":"SUM(Tableau_Data[[#This Row],[Féminin]:[Masculin]])","v":0}]
[null,null,"",null,"",null,null,null,null,null,null,{"$f":"VLOOKUP(K892,[1]Paramètres!$M$5:$O$101,2,0)","v":{"$error":"#N/A"}},{"$f":"VLOOKUP(K892,[1]Paramètres!$M$5:$O$101,3,0)","v":{"$error":"#N/A"}},null,null,null,null,null,null,null,null,null,null,{"$f":"SUM(Tableau_Data[[#This Row],[Féminin]:[Masculin]])","v":0}]
[null,null,"",null,"",null,null,null,null,null,null,{"$f":"VLOOKUP(K893,[1]Paramètres!$M$5:$O$101,2,0)","v":{"$error":"#N/A"}},{"$f":"VLOOKUP(K893,[1]Paramètres!$M$5:$O$101,3,0)","v":{"$error":"#N/A"}},null,null,null,null,null,null,null,null,null,null,{"$f":"SUM(Tableau_Data[[#This Row],[Féminin]:[Masculin]])","v":0}]
[null,null,"",null,"",null,null,null,null,null,null,{"$f":"VLOOKUP(K894,[1]Paramètres!$M$5:$O$101,2,0)","v":{"$error":"#N/A"}},{"$f":"VLOOKUP(K894,[1]Paramètres!$M$5:$O$101,3,0)","v":{"$error":"#N/A"}},null,null,null,null,null,null,null,null,null,null,{"$f":"SUM(Tableau_Data[[#This Row],[Féminin]:[Masculin]])","v":0}]
[null,null,"",null,"",null,null,null,null,null,null,{"$f":"VLOOKUP(K895,[1]Paramètres!$M$5:$O$101,2,0)","v":{"$error":"#N/A"}},{"$f":"VLOOKUP(K895,[1]Paramètres!$M$5:$O$101,3,0)","v":{"$error":"#N/A"}},null,null,null,null,null,null,null,null,null,null,{"$f":"SUM(Tableau_Data[[#This Row],[Féminin]:[Masculin]])","v":0}]
[null,null,"",null,"",null,null,null,null,null,null,{"$f":"VLOOKUP(K896,[1]Paramètres!$M$5:$O$101,2,0)","v":{"$error":"#N/A"}},{"$f":"VLOOKUP(K896,[1]Paramètres!$M$5:$O$101,3,0)","v":{"$error":"#N/A"}},null,null,null,null,null,null,null,null,null,null,{"$f":"SUM(Tableau_Data[[#This Row],[Féminin]:[Masculin]])","v":0}]
[null,null,"",null,"",null,null,null,null,null,null,{"$f":"VLOOKUP(K897,[1]Paramètres!$M$5:$O$101,2,0)","v":{"$error":"#N/A"}},{"$f":"VLOOKUP(K897,[1]Paramètres!$M$5:$O$101,3,0)","v":{"$error":"#N/A"}},null,null,null,null,null,null,null,null,null,null,{"$f":"SUM(Tableau_Data[[#This Row],[Féminin]:[Masculin]])","v":0}]
[null,null,"",null,"",null,null,null,null,null,null,{"$f":"VLOOKUP(K898,[1]Paramètres!$M$5:$O$101,2,0)","v":{"$error":"#N/A"}},{"$f":"VLOOKUP(K898,[1]Paramètres!$M$5:$O$101,3,0)","v":{"$error":"#N/A"}},null,null,null,null,null,null,null,null,null,null,{"$f":"SUM(Tableau_Data[[#This Row],[Féminin]:[Masculin]])","v":0}]
[null,null,"",null,"",null,null,null,null,null,null,{"$f":"VLOOKUP(K899,[1]Paramètres!$M$5:$O$101,2,0)","v":{"$error":"#N/A"}},{"$f":"VLOOKUP(K899,[1]Paramètres!$M$5:$O$101,3,0)","v":{"$error":"#N/A"}},null,null,null,null,null,null,null,null,null,null,{"$f":"SUM(Tableau_Data[[#This Row],[Féminin]:[Masculin]])","v":0}]
[null,null,"",null,"",null,null,null,null,null,null,{"$f":"VLOOKUP(K900,[1]Paramètres!$M$5:$O$101,2,0)","v":{"$error":"#N/A"}},{"$f":"VLOOKUP(K900,[1]Paramètres!$M$5:$O$101,3,0)","v":{"$error":"#N/A"}},null,null,null,null,null,null,null,null,null,null,{"$f":"SUM(Tableau_Data[[#This Row],[Féminin]:[Masculin]])","v":0}]
[null,null,"",null,"",null,null,null,null,null,null,{"$f":"VLOOKUP(K901,[1]Paramètres!$M$5:$O$101,2,0)","v":{"$error":"#N/A"}},{"$f":"VLOOKUP(K901,[1]Paramètres!$M$5:$O$101,3,0)","v":{"$error":"#N/A"}},null,null,null,null,null,null,null,null,null,null,{"$f":"SUM(Tableau_Data[[#This Row],[Féminin]:[Masculin]])","v":0}]
[null,null,"",null,"",null,null,null,null,null,null,{"$f":"VLOOKUP(K902,[1]Paramètres!$M$5:$O$101,2,0)","v":{"$error":"#N/A"}},{"$f":"VLOOKUP(K902,[1]Paramètres!$M$5:$O$101,3,0)","v":{"$error":"#N/A"}},null,null,null,null,null,null,null,null,null,null,{"$f":"SUM(Tableau_Data[[#This Row],[Féminin]:[Masculin]])","v":0}]
[null,null,"",null,"",null,null,null,null,null,null,{"$f":"VLOOKUP(K903,[1]Paramètres!$M$5:$O$101,2,0)","v":{"$error":"#N/A"}},{"$f":"VLOOKUP(K903,[1]Paramètres!$M$5:$O$101,3,0)","v":{"$error":"#N/A"}},null,null,null,null,null,null,null,null,null,null,{"$f":"SUM(Tableau_Data[[#This Row],[Féminin]:[Masculin]])","v":0}]
[null,null,"",null,"",null,null,null,null,null,null,{"$f":"VLOOKUP(K904,[1]Paramètres!$M$5:$O$101,2,0)","v":{"$error":"#N/A"}},{"$f":"VLOOKUP(K904,[1]Paramètres!$M$5:$O$101,3,0)","v":{"$error":"#N/A"}},null,null,null,null,null,null,null,null,null,null,{"$f":"SUM(Tableau_Data[[#This Row],[Féminin]:[Masculin]])","v":0}]
[null,null,"",null,"",null,null,null,null,null,null,{"$f":"VLOOKUP(K905,[1]Paramètres!$M$5:$O$101,2,0)","v":{"$error":"#N/A"}},{"$f":"VLOOKUP(K905,[1]Paramètres!$M$5:$O$101,3,0)","v":{"$error":"#N/A"}},null,null,null,null,null,null,null,null,null,null,{"$f":"SUM(Tableau_Data[[#This Row],[Féminin]:[Masculin]])","v":0}]
[null,null,"",null,"",null,null,null,null,null,null,{"$f":"VLOOKUP(K906,[1]Paramètres!$M$5:$O$101,2,0)","v":{"$error":"#N/A"}},{"$f":"VLOOKUP(K906,[1]Paramètres!$M$5:$O$101,3,0)","v":{"$error":"#N/A"}},null,null,null,null,null,null,null,null,null,null,{"$f":"SUM(Tableau_Data[[#This Row],[Féminin]:[Masculin]])","v":0}]
[null,null,"",null,"",null,null,null,null,null,null,{"$f":"VLOOKUP(K907,[1]Paramètres!$M$5:$O$101,2,0)","v":{"$error":"#N/A"}},{"$f":"VLOOKUP(K907,[1]Paramètres!$M$5:$O$101,3,0)","v":{"$error":"#N/A"}},null,null,null,null,null,null,null,null,null,null,{"$f":"SUM(Tableau_Data[[#This Row],[Féminin]:[Masculin]])","v":0}]
[null,null,"",null,"",null,null,null,null,null,null,{"$f":"VLOOKUP(K908,[1]Paramètres!$M$5:$O$101,2,0)","v":{"$error":"#N/A"}},{"$f":"VLOOKUP(K908,[1]Paramètres!$M$5:$O$101,3,0)","v":{"$error":"#N/A"}},null,null,null,null,null,null,null,null,null,null,{"$f":"SUM(Tableau_Data[[#This Row],[Féminin]:[Masculin]])","v":0}]
[null,null,"",null,"",null,null,null,null,null,null,{"$f":"VLOOKUP(K909,[1]Paramètres!$M$5:$O$101,2,0)","v":{"$error":"#N/A"}},{"$f":"VLOOKUP(K909,[1]Paramètres!$M$5:$O$101,3,0)","v":{"$error":"#N/A"}},null,null,null,null,null,null,null,null,null,null,{"$f":"SUM(Tableau_Data[[#This Row],[Féminin]:[Masculin]])","v":0}]
[null,null,"",null,"",null,null,null,null,null,null,{"$f":"VLOOKUP(K910,[1]Paramètres!$M$5:$O$101,2,0)","v":{"$error":"#N/A"}},{"$f":"VLOOKUP(K910,[1]Paramètres!$M$5:$O$101,3,0)","v":{"$error":"#N/A"}},null,null,null,null,null,null,null,null,null,null,{"$f":"SUM(Tableau_Data[[#This Row],[Féminin]:[Masculin]])","v":0}]
[null,null,"",null,"",null,null,null,null,null,null,{"$f":"VLOOKUP(K911,[1]Paramètres!$M$5:$O$101,2,0)","v":{"$error":"#N/A"}},{"$f":"VLOOKUP(K911,[1]Paramètres!$M$5:$O$101,3,0)","v":{"$error":"#N/A"}},null,null,null,null,null,null,null,null,null,null,{"$f":"SUM(Tableau_Data[[#This Row],[Féminin]:[Masculin]])","v":0}]
[null,null,"",null,"",null,null,null,null,null,null,{"$f":"VLOOKUP(K912,[1]Paramètres!$M$5:$O$101,2,0)","v":{"$error":"#N/A"}},{"$f":"VLOOKUP(K912,[1]Paramètres!$M$5:$O$101,3,0)","v":{"$error":"#N/A"}},null,null,null,null,null,null,null,null,null,null,{"$f":"SUM(Tableau_Data[[#This Row],[Féminin]:[Masculin]])","v":0}]
[null,null,"",null,"",null,null,null,null,null,null,{"$f":"VLOOKUP(K913,[1]Paramètres!$M$5:$O$101,2,0)","v":{"$error":"#N/A"}},{"$f":"VLOOKUP(K913,[1]Paramètres!$M$5:$O$101,3,0)","v":{"$error":"#N/A"}},null,null,null,null,null,null,null,null,null,null,{"$f":"SUM(Tableau_Data[[#This Row],[Féminin]:[Masculin]])","v":0}]
[null,null,"",null,"",null,null,null,null,null,null,{"$f":"VLOOKUP(K914,[1]Paramètres!$M$5:$O$101,2,0)","v":{"$error":"#N/A"}},{"$f":"VLOOKUP(K914,[1]Paramètres!$M$5:$O$101,3,0)","v":{"$error":"#N/A"}},null,null,null,null,null,null,null,null,null,null,{"$f":"SUM(Tableau_Data[[#This Row],[Féminin]:[Masculin]])","v":0}]
[null,null,"",null,"",null,null,null,null,null,null,{"$f":"VLOOKUP(K915,[1]Paramètres!$M$5:$O$101,2,0)","v":{"$error":"#N/A"}},{"$f":"VLOOKUP(K915,[1]Paramètres!$M$5:$O$101,3,0)","v":{"$error":"#N/A"}},null,null,null,null,null,null,null,null,null,null,{"$f":"SUM(Tableau_Data[[#This Row],[Féminin]:[Masculin]])","v":0}]
[null,null,"",null,"",null,null,null,null,null,null,{"$f":"VLOOKUP(K916,[1]Paramètres!$M$5:$O$101,2,0)","v":{"$error":"#N/A"}},{"$f":"VLOOKUP(K916,[1]Paramètres!$M$5:$O$101,3,0)","v":{"$error":"#N/A"}},null,null,null,null,null,null,null,null,null,null,{"$f":"SUM(Tableau_Data[[#This Row],[Féminin]:[Masculin]])","v":0}]
[null,null,"",null,"",null,null,null,null,null,null,{"$f":"VLOOKUP(K917,[1]Paramètres!$M$5:$O$101,2,0)","v":{"$error":"#N/A"}},{"$f":"VLOOKUP(K917,[1]Paramètres!$M$5:$O$101,3,0)","v":{"$error":"#N/A"}},null,null,null,null,null,null,null,null,null,null,{"$f":"SUM(Tableau_Data[[#This Row],[Féminin]:[Masculin]])","v":0}]
[null,null,"",null,"",null,null,null,null,null,null,{"$f":"VLOOKUP(K918,[1]Paramètres!$M$5:$O$101,2,0)","v":{"$error":"#N/A"}},{"$f":"VLOOKUP(K918,[1]Paramètres!$M$5:$O$101,3,0)","v":{"$error":"#N/A"}},null,null,null,null,null,null,null,null,null,null,{"$f":"SUM(Tableau_Data[[#This Row],[Féminin]:[Masculin]])","v":0}]
[null,null,"",null,"",null,null,null,null,null,null,{"$f":"VLOOKUP(K919,[1]Paramètres!$M$5:$O$101,2,0)","v":{"$error":"#N/A"}},{"$f":"VLOOKUP(K919,[1]Paramètres!$M$5:$O$101,3,0)","v":{"$error":"#N/A"}},null,null,null,null,null,null,null,null,null,null,{"$f":"SUM(Tableau_Data[[#This Row],[Féminin]:[Masculin]])","v":0}]
[null,null,"",null,"",null,null,null,null,null,null,{"$f":"VLOOKUP(K920,[1]Paramètres!$M$5:$O$101,2,0)","v":{"$error":"#N/A"}},{"$f":"VLOOKUP(K920,[1]Paramètres!$M$5:$O$101,3,0)","v":{"$error":"#N/A"}},null,null,null,null,null,null,null,null,null,null,{"$f":"SUM(Tableau_Data[[#This Row],[Féminin]:[Masculin]])","v":0}]
[null,null,"",null,"",null,null,null,null,null,null,{"$f":"VLOOKUP(K921,[1]Paramètres!$M$5:$O$101,2,0)","v":{"$error":"#N/A"}},{"$f":"VLOOKUP(K921,[1]Paramètres!$M$5:$O$101,3,0)","v":{"$error":"#N/A"}},null,null,null,null,null,null,null,null,null,null,{"$f":"SUM(Tableau_Data[[#This Row],[Féminin]:[Masculin]])","v":0}]
[null,null,"",null,"",null,null,null,null,null,null,{"$f":"VLOOKUP(K922,[1]Paramètres!$M$5:$O$101,2,0)","v":{"$error":"#N/A"}},{"$f":"VLOOKUP(K922,[1]Paramètres!$M$5:$O$101,3,0)","v":{"$error":"#N/A"}},null,null,null,null,null,null,null,null,null,null,{"$f":"SUM(Tableau_Data[[#This Row],[Féminin]:[Masculin]])","v":0}]
[null,null,"",null,"",null,null,null,null,null,null,{"$f":"VLOOKUP(K923,[1]Paramètres!$M$5:$O$101,2,0)","v":{"$error":"#N/A"}},{"$f":"VLOOKUP(K923,[1]Paramètres!$M$5:$O$101,3,0)","v":{"$error":"#N/A"}},null,null,null,null,null,null,null,null,null,null,{"$f":"SUM(Tableau_Data[[#This Row],[Féminin]:[Masculin]])","v":0}]
[null,null,"",null,"",null,null,null,null,null,null,{"$f":"VLOOKUP(K924,[1]Paramètres!$M$5:$O$101,2,0)","v":{"$error":"#N/A"}},{"$f":"VLOOKUP(K924,[1]Paramètres!$M$5:$O$101,3,0)","v":{"$error":"#N/A"}},null,null,null,null,null,null,null,null,null,null,{"$f":"SUM(Tableau_Data[[#This Row],[Féminin]:[Masculin]])","v":0}]
[null,null,"",null,{"$f":"IF(D925=\"\",\"\",MONTH(D925))","v":""},null,null,null,null,null,null,{"$f":"VLOOKUP(K925,[1]Paramètres!$M$5:$O$101,2,0)","v":{"$error":"#N/A"}},{"$f":"VLOOKUP(K925,[1]Paramètres!$M$5:$O$101,3,0)","v":{"$error":"#N/A"}},null,null,null,null,null,null,null,null,null,null,{"$f":"SUM(Tableau_Data[[#This Row],[Féminin]:[Masculin]])","v":0}]
[null,null,"",null,"",null,null,null,null,null,null,{"$f":"VLOOKUP(K926,[1]Paramètres!$M$5:$O$101,2,0)","v":{"$error":"#N/A"}},{"$f":"VLOOKUP(K926,[1]Paramètres!$M$5:$O$101,3,0)","v":{"$error":"#N/A"}},null,null,null,null,null,null,null,null,null,null,{"$f":"SUM(Tableau_Data[[#This Row],[Féminin]:[Masculin]])","v":0}]
[null,null,"",null,"",null,null,null,null,null,null,{"$f":"VLOOKUP(K927,[1]Paramètres!$M$5:$O$101,2,0)","v":{"$error":"#N/A"}},{"$f":"VLOOKUP(K927,[1]Paramètres!$M$5:$O$101,3,0)","v":{"$error":"#N/A"}},null,null,null,null,null,null,null,null,null,null,{"$f":"SUM(Tableau_Data[[#This Row],[Féminin]:[Masculin]])","v":0}]
[null,null,"",null,"",null,null,null,null,null,null,{"$f":"VLOOKUP(K928,[1]Paramètres!$M$5:$O$101,2,0)","v":{"$error":"#N/A"}},{"$f":"VLOOKUP(K928,[1]Paramètres!$M$5:$O$101,3,0)","v":{"$error":"#N/A"}},null,null,null,null,null,null,null,null,null,null,{"$f":"SUM(Tableau_Data[[#This Row],[Féminin]:[Masculin]])","v":0}]
[null,null,"",null,"",null,null,null,null,null,null,{"$f":"VLOOKUP(K929,[1]Paramètres!$M$5:$O$101,2,0)","v":{"$error":"#N/A"}},{"$f":"VLOOKUP(K929,[1]Paramètres!$M$5:$O$101,3,0)","v":{"$error":"#N/A"}},null,null,null,null,null,null,null,null,null,null,{"$f":"SUM(Tableau_Data[[#This Row],[Féminin]:[Masculin]])","v":0}]
[null,null,"",null,"",null,null,null,null,null,null,{"$f":"VLOOKUP(K930,[1]Paramètres!$M$5:$O$101,2,0)","v":{"$error":"#N/A"}},{"$f":"VLOOKUP(K930,[1]Paramètres!$M$5:$O$101,3,0)","v":{"$error":"#N/A"}},null,null,null,null,null,null,null,null,null,null,{"$f":"SUM(Tableau_Data[[#This Row],[Féminin]:[Masculin]])","v":0}]
[null,null,"",null,"",null,null,null,null,null,null,{"$f":"VLOOKUP(K931,[1]Paramètres!$M$5:$O$101,2,0)","v":{"$error":"#N/A"}},{"$f":"VLOOKUP(K931,[1]Paramètres!$M$5:$O$101,3,0)","v":{"$error":"#N/A"}},null,null,null,null,null,null,null,null,null,null,{"$f":"SUM(Tableau_Data[[#This Row],[Féminin]:[Masculin]])","v":0}]
[null,null,"",null,"",null,null,null,null,null,null,{"$f":"VLOOKUP(K932,[1]Paramètres!$M$5:$O$101,2,0)","v":{"$error":"#N/A"}},{"$f":"VLOOKUP(K932,[1]Paramètres!$M$5:$O$101,3,0)","v":{"$error":"#N/A"}},null,null,null,null,null,null,null,null,null,null,{"$f":"SUM(Tableau_Data[[#This Row],[Féminin]:[Masculin]])","v":0}]
[null,null,"",null,"",null,null,null,null,null,null,{"$f":"VLOOKUP(K933,[1]Paramètres!$M$5:$O$101,2,0)","v":{"$error":"#N/A"}},{"$f":"VLOOKUP(K933,[1]Paramètres!$M$5:$O$101,3,0)","v":{"$error":"#N/A"}},null,null,null,null,null,null,null,null,null,null,{"$f":"SUM(Tableau_Data[[#This Row],[Féminin]:[Masculin]])","v":0}]
[null,null,"",null,"",null,null,null,null,null,null,{"$f":"VLOOKUP(K934,[1]Paramètres!$M$5:$O$101,2,0)","v":{"$error":"#N/A"}},{"$f":"VLOOKUP(K934,[1]Paramètres!$M$5:$O$101,3,0)","v":{"$error":"#N/A"}},null,null,null,null,null,null,null,null,null,null,{"$f":"SUM(Tableau_Data[[#This Row],[Féminin]:[Masculin]])","v":0}]
[null,null,{"$f":"IF(D935=\"\",\"\",YEAR(D935))","v":""},null,"",null,null,null,null,null,null,{"$f":"VLOOKUP(K935,[1]Paramètres!$M$5:$O$101,2,0)","v":{"$error":"#N/A"}},{"$f":"VLOOKUP(K935,[1]Paramètres!$M$5:$O$101,3,0)","v":{"$error":"#N/A"}},null,null,null,null,null,null,null,null,null,null,{"$f":"SUM(Tableau_Data[[#This Row],[Féminin]:[Masculin]])","v":0}]
[null,null,"",null,"",null,null,null,null,null,null,{"$f":"VLOOKUP(K936,[1]Paramètres!$M$5:$O$101,2,0)","v":{"$error":"#N/A"}},{"$f":"VLOOKUP(K936,[1]Paramètres!$M$5:$O$101,3,0)","v":{"$error":"#N/A"}},null,null,null,null,null,null,null,null,null,null,{"$f":"SUM(Tableau_Data[[#This Row],[Féminin]:[Masculin]])","v":0}]
[null,null,"",null,"",null,null,null,null,null,null,{"$f":"VLOOKUP(K937,[1]Paramètres!$M$5:$O$101,2,0)","v":{"$error":"#N/A"}},{"$f":"VLOOKUP(K937,[1]Paramètres!$M$5:$O$101,3,0)","v":{"$error":"#N/A"}},null,null,null,null,null,null,null,null,null,null,{"$f":"SUM(Tableau_Data[[#This Row],[Féminin]:[Masculin]])","v":0}]
[null,null,"",null,"",null,null,null,null,null,null,{"$f":"VLOOKUP(K938,[1]Paramètres!$M$5:$O$101,2,0)","v":{"$error":"#N/A"}},{"$f":"VLOOKUP(K938,[1]Paramètres!$M$5:$O$101,3,0)","v":{"$error":"#N/A"}},null,null,null,null,null,null,null,null,null,null,{"$f":"SUM(Tableau_Data[[#This Row],[Féminin]:[Masculin]])","v":0}]
[null,null,"",null,"",null,null,null,null,null,null,{"$f":"VLOOKUP(K939,[1]Paramètres!$M$5:$O$101,2,0)","v":{"$error":"#N/A"}},{"$f":"VLOOKUP(K939,[1]Paramètres!$M$5:$O$101,3,0)","v":{"$error":"#N/A"}},null,null,null,null,null,null,null,null,null,null,{"$f":"SUM(Tableau_Data[[#This Row],[Féminin]:[Masculin]])","v":0}]
[null,null,"",null,"",null,null,null,null,null,null,{"$f":"VLOOKUP(K940,[1]Paramètres!$M$5:$O$101,2,0)","v":{"$error":"#N/A"}},{"$f":"VLOOKUP(K940,[1]Paramètres!$M$5:$O$101,3,0)","v":{"$error":"#N/A"}},null,null,null,null,null,null,null,null,null,null,{"$f":"SUM(Tableau_Data[[#This Row],[Féminin]:[Masculin]])","v":0}]
[null,null,"",null,"",null,null,null,null,null,null,{"$f":"VLOOKUP(K941,[1]Paramètres!$M$5:$O$101,2,0)","v":{"$error":"#N/A"}},{"$f":"VLOOKUP(K941,[1]Paramètres!$M$5:$O$101,3,0)","v":{"$error":"#N/A"}},null,null,null,null,null,null,null,null,null,null,{"$f":"SUM(Tableau_Data[[#This Row],[Féminin]:[Masculin]])","v":0}]
[null,null,"",null,"",null,null,null,null,null,null,{"$f":"VLOOKUP(K942,[1]Paramètres!$M$5:$O$101,2,0)","v":{"$error":"#N/A"}},{"$f":"VLOOKUP(K942,[1]Paramètres!$M$5:$O$101,3,0)","v":{"$error":"#N/A"}},null,null,null,null,null,null,null,null,null,null,{"$f":"SUM(Tableau_Data[[#This Row],[Féminin]:[Masculin]])","v":0}]
[null,null,"",null,"",null,null,null,null,null,null,{"$f":"VLOOKUP(K943,[1]Paramètres!$M$5:$O$101,2,0)","v":{"$error":"#N/A"}},{"$f":"VLOOKUP(K943,[1]Paramètres!$M$5:$O$101,3,0)","v":{"$error":"#N/A"}},null,null,null,null,null,null,null,null,null,null,{"$f":"SUM(Tableau_Data[[#This Row],[Féminin]:[Masculin]])","v":0}]
[null,null,"",null,"",null,null,null,null,null,null,{"$f":"VLOOKUP(K944,[1]Paramètres!$M$5:$O$101,2,0)","v":{"$error":"#N/A"}},{"$f":"VLOOKUP(K944,[1]Paramètres!$M$5:$O$101,3,0)","v":{"$error":"#N/A"}},null,null,null,null,null,null,null,null,null,null,{"$f":"SUM(Tableau_Data[[#This Row],[Féminin]:[Masculin]])","v":0}]
[null,null,"",null,"",null,null,null,null,null,null,{"$f":"VLOOKUP(K945,[1]Paramètres!$M$5:$O$101,2,0)","v":{"$error":"#N/A"}},{"$f":"VLOOKUP(K945,[1]Paramètres!$M$5:$O$101,3,0)","v":{"$error":"#N/A"}},null,null,null,null,null,null,null,null,null,null,{"$f":"SUM(Tableau_Data[[#This Row],[Féminin]:[Masculin]])","v":0}]
[null,null,"",null,"",null,null,null,null,null,null,{"$f":"VLOOKUP(K946,[1]Paramètres!$M$5:$O$101,2,0)","v":{"$error":"#N/A"}},{"$f":"VLOOKUP(K946,[1]Paramètres!$M$5:$O$101,3,0)","v":{"$error":"#N/A"}},null,null,null,null,null,null,null,null,null,null,{"$f":"SUM(Tableau_Data[[#This Row],[Féminin]:[Masculin]])","v":0}]
[null,null,"",null,"",null,null,null,null,null,null,{"$f":"VLOOKUP(K947,[1]Paramètres!$M$5:$O$101,2,0)","v":{"$error":"#N/A"}},{"$f":"VLOOKUP(K947,[1]Paramètres!$M$5:$O$101,3,0)","v":{"$error":"#N/A"}},null,null,null,null,null,null,null,null,null,null,{"$f":"SUM(Tableau_Data[[#This Row],[Féminin]:[Masculin]])","v":0}]
[null,null,"",null,"",null,null,null,null,null,null,{"$f":"VLOOKUP(K948,[1]Paramètres!$M$5:$O$101,2,0)","v":{"$error":"#N/A"}},{"$f":"VLOOKUP(K948,[1]Paramètres!$M$5:$O$101,3,0)","v":{"$error":"#N/A"}},null,null,null,null,null,null,null,null,null,null,{"$f":"SUM(Tableau_Data[[#This Row],[Féminin]:[Masculin]])","v":0}]
[null,null,"",null,"",null,null,null,null,null,null,{"$f":"VLOOKUP(K949,[1]Paramètres!$M$5:$O$101,2,0)","v":{"$error":"#N/A"}},{"$f":"VLOOKUP(K949,[1]Paramètres!$M$5:$O$101,3,0)","v":{"$error":"#N/A"}},null,null,null,null,null,null,null,null,null,null,{"$f":"SUM(Tableau_Data[[#This Row],[Féminin]:[Masculin]])","v":0}]
[null,null,"",null,"",null,null,null,null,null,null,{"$f":"VLOOKUP(K950,[1]Paramètres!$M$5:$O$101,2,0)","v":{"$error":"#N/A"}},{"$f":"VLOOKUP(K950,[1]Paramètres!$M$5:$O$101,3,0)","v":{"$error":"#N/A"}},null,null,null,null,null,null,null,null,null,null,{"$f":"SUM(Tableau_Data[[#This Row],[Féminin]:[Masculin]])","v":0}]
[null,null,"",null,"",null,null,null,null,null,null,{"$f":"VLOOKUP(K951,[1]Paramètres!$M$5:$O$101,2,0)","v":{"$error":"#N/A"}},{"$f":"VLOOKUP(K951,[1]Paramètres!$M$5:$O$101,3,0)","v":{"$error":"#N/A"}},null,null,null,null,null,null,null,null,null,null,{"$f":"SUM(Tableau_Data[[#This Row],[Féminin]:[Masculin]])","v":0}]
[null,null,"",null,"",null,null,null,null,null,null,{"$f":"VLOOKUP(K952,[1]Paramètres!$M$5:$O$101,2,0)","v":{"$error":"#N/A"}},{"$f":"VLOOKUP(K952,[1]Paramètres!$M$5:$O$101,3,0)","v":{"$error":"#N/A"}},null,null,null,null,null,null,null,null,null,null,{"$f":"SUM(Tableau_Data[[#This Row],[Féminin]:[Masculin]])","v":0}]
[null,null,"",null,"",null,null,null,null,null,null,{"$f":"VLOOKUP(K953,[1]Paramètres!$M$5:$O$101,2,0)","v":{"$error":"#N/A"}},{"$f":"VLOOKUP(K953,[1]Paramètres!$M$5:$O$101,3,0)","v":{"$error":"#N/A"}},null,null,null,null,null,null,null,null,null,null,{"$f":"SUM(Tableau_Data[[#This Row],[Féminin]:[Masculin]])","v":0}]
[null,null,"",null,"",null,null,null,null,null,null,{"$f":"VLOOKUP(K954,[1]Paramètres!$M$5:$O$101,2,0)","v":{"$error":"#N/A"}},{"$f":"VLOOKUP(K954,[1]Paramètres!$M$5:$O$101,3,0)","v":{"$error":"#N/A"}},null,null,null,null,null,null,null,null,null,null,{"$f":"SUM(Tableau_Data[[#This Row],[Féminin]:[Masculin]])","v":0}]
[null,null,"",null,"",null,null,null,null,null,null,{"$f":"VLOOKUP(K955,[1]Paramètres!$M$5:$O$101,2,0)","v":{"$error":"#N/A"}},{"$f":"VLOOKUP(K955,[1]Paramètres!$M$5:$O$101,3,0)","v":{"$error":"#N/A"}},null,null,null,null,null,null,null,null,null,null,{"$f":"SUM(Tableau_Data[[#This Row],[Féminin]:[Masculin]])","v":0}]
[null,null,"",null,"",null,null,null,null,null,null,{"$f":"VLOOKUP(K956,[1]Paramètres!$M$5:$O$101,2,0)","v":{"$error":"#N/A"}},{"$f":"VLOOKUP(K956,[1]Paramètres!$M$5:$O$101,3,0)","v":{"$error":"#N/A"}},null,null,null,null,null,null,null,null,null,null,{"$f":"SUM(Tableau_Data[[#This Row],[Féminin]:[Masculin]])","v":0}]
[null,null,"",null,"",null,null,null,null,null,null,{"$f":"VLOOKUP(K957,[1]Paramètres!$M$5:$O$101,2,0)","v":{"$error":"#N/A"}},{"$f":"VLOOKUP(K957,[1]Paramètres!$M$5:$O$101,3,0)","v":{"$error":"#N/A"}},null,null,null,null,null,null,null,null,null,null,{"$f":"SUM(Tableau_Data[[#This Row],[Féminin]:[Masculin]])","v":0}]
[null,null,"",null,"",null,null,null,null,null,null,{"$f":"VLOOKUP(K958,[1]Paramètres!$M$5:$O$101,2,0)","v":{"$error":"#N/A"}},{"$f":"VLOOKUP(K958,[1]Paramètres!$M$5:$O$101,3,0)","v":{"$error":"#N/A"}},null,null,null,null,null,null,null,null,null,null,{"$f":"SUM(Tableau_Data[[#This Row],[Féminin]:[Masculin]])","v":0}]
[null,null,"",null,"",null,null,null,null,null,null,{"$f":"VLOOKUP(K959,[1]Paramètres!$M$5:$O$101,2,0)","v":{"$error":"#N/A"}},{"$f":"VLOOKUP(K959,[1]Paramètres!$M$5:$O$101,3,0)","v":{"$error":"#N/A"}},null,null,null,null,null,null,null,null,null,null,{"$f":"SUM(Tableau_Data[[#This Row],[Féminin]:[Masculin]])","v":0}]
[null,null,"",null,"",null,null,null,null,null,null,{"$f":"VLOOKUP(K960,[1]Paramètres!$M$5:$O$101,2,0)","v":{"$error":"#N/A"}},{"$f":"VLOOKUP(K960,[1]Paramètres!$M$5:$O$101,3,0)","v":{"$error":"#N/A"}},null,null,null,null,null,null,null,null,null,null,{"$f":"SUM(Tableau_Data[[#This Row],[Féminin]:[Masculin]])","v":0}]
[null,null,"",null,"",null,null,null,null,null,null,{"$f":"VLOOKUP(K961,[1]Paramètres!$M$5:$O$101,2,0)","v":{"$error":"#N/A"}},{"$f":"VLOOKUP(K961,[1]Paramètres!$M$5:$O$101,3,0)","v":{"$error":"#N/A"}},null,null,null,null,null,null,null,null,null,null,{"$f":"SUM(Tableau_Data[[#This Row],[Féminin]:[Masculin]])","v":0}]
[null,null,"",null,"",null,null,null,null,null,null,{"$f":"VLOOKUP(K962,[1]Paramètres!$M$5:$O$101,2,0)","v":{"$error":"#N/A"}},{"$f":"VLOOKUP(K962,[1]Paramètres!$M$5:$O$101,3,0)","v":{"$error":"#N/A"}},null,null,null,null,null,null,null,null,null,null,{"$f":"SUM(Tableau_Data[[#This Row],[Féminin]:[Masculin]])","v":0}]
[null,null,"",null,"",null,null,null,null,null,null,{"$f":"VLOOKUP(K963,[1]Paramètres!$M$5:$O$101,2,0)","v":{"$error":"#N/A"}},{"$f":"VLOOKUP(K963,[1]Paramètres!$M$5:$O$101,3,0)","v":{"$error":"#N/A"}},null,null,null,null,null,null,null,null,null,null,{"$f":"SUM(Tableau_Data[[#This Row],[Féminin]:[Masculin]])","v":0}]
[null,null,"",null,"",null,null,null,null,null,null,{"$f":"VLOOKUP(K964,[1]Paramètres!$M$5:$O$101,2,0)","v":{"$error":"#N/A"}},{"$f":"VLOOKUP(K964,[1]Paramètres!$M$5:$O$101,3,0)","v":{"$error":"#N/A"}},null,null,null,null,null,null,null,null,null,null,{"$f":"SUM(Tableau_Data[[#This Row],[Féminin]:[Masculin]])","v":0}]
[null,null,"",null,"",null,null,null,null,null,null,{"$f":"VLOOKUP(K965,[1]Paramètres!$M$5:$O$101,2,0)","v":{"$error":"#N/A"}},{"$f":"VLOOKUP(K965,[1]Paramètres!$M$5:$O$101,3,0)","v":{"$error":"#N/A"}},null,null,null,null,null,null,null,null,null,null,{"$f":"SUM(Tableau_Data[[#This Row],[Féminin]:[Masculin]])","v":0}]
[null,null,"",null,"",null,null,null,null,null,null,{"$f":"VLOOKUP(K966,[1]Paramètres!$M$5:$O$101,2,0)","v":{"$error":"#N/A"}},{"$f":"VLOOKUP(K966,[1]Paramètres!$M$5:$O$101,3,0)","v":{"$error":"#N/A"}},null,null,null,null,null,null,null,null,null,null,{"$f":"SUM(Tableau_Data[[#This Row],[Féminin]:[Masculin]])","v":0}]
[null,null,"",null,"",null,null,null,null,null,null,{"$f":"VLOOKUP(K967,[1]Paramètres!$M$5:$O$101,2,0)","v":{"$error":"#N/A"}},{"$f":"VLOOKUP(K967,[1]Paramètres!$M$5:$O$101,3,0)","v":{"$error":"#N/A"}},null,null,null,null,null,null,null,null,null,null,{"$f":"SUM(Tableau_Data[[#This Row],[Féminin]:[Masculin]])","v":0}]
[null,null,"",null,"",null,null,null,null,null,null,{"$f":"VLOOKUP(K968,[1]Paramètres!$M$5:$O$101,2,0)","v":{"$error":"#N/A"}},{"$f":"VLOOKUP(K968,[1]Paramètres!$M$5:$O$101,3,0)","v":{"$error":"#N/A"}},null,null,null,null,null,null,null,null,null,null,{"$f":"SUM(Tableau_Data[[#This Row],[Féminin]:[Masculin]])","v":0}]
[null,null,"",null,"",null,null,null,null,null,null,{"$f":"VLOOKUP(K969,[1]Paramètres!$M$5:$O$101,2,0)","v":{"$error":"#N/A"}},{"$f":"VLOOKUP(K969,[1]Paramètres!$M$5:$O$101,3,0)","v":{"$error":"#N/A"}},null,null,null,null,null,null,null,null,null,null,{"$f":"SUM(Tableau_Data[[#This Row],[Féminin]:[Masculin]])","v":0}]
[null,null,"",null,"",null,null,null,null,null,null,{"$f":"VLOOKUP(K970,[1]Paramètres!$M$5:$O$101,2,0)","v":{"$error":"#N/A"}},{"$f":"VLOOKUP(K970,[1]Paramètres!$M$5:$O$101,3,0)","v":{"$error":"#N/A"}},null,null,null,null,null,null,null,null,null,null,{"$f":"SUM(Tableau_Data[[#This Row],[Féminin]:[Masculin]])","v":0}]
[null,null,"",null,"",null,null,null,null,null,null,{"$f":"VLOOKUP(K971,[1]Paramètres!$M$5:$O$101,2,0)","v":{"$error":"#N/A"}},{"$f":"VLOOKUP(K971,[1]Paramètres!$M$5:$O$101,3,0)","v":{"$error":"#N/A"}},null,null,null,null,null,null,null,null,null,null,{"$f":"SUM(Tableau_Data[[#This Row],[Féminin]:[Masculin]])","v":0}]
[null,null,"",null,"",null,null,null,null,null,null,{"$f":"VLOOKUP(K972,[1]Paramètres!$M$5:$O$101,2,0)","v":{"$error":"#N/A"}},{"$f":"VLOOKUP(K972,[1]Paramètres!$M$5:$O$101,3,0)","v":{"$error":"#N/A"}},null,null,null,null,null,null,null,null,null,null,{"$f":"SUM(Tableau_Data[[#This Row],[Féminin]:[Masculin]])","v":0}]
[null,null,"",null,"",null,null,null,null,null,null,{"$f":"VLOOKUP(K973,[1]Paramètres!$M$5:$O$101,2,0)","v":{"$error":"#N/A"}},{"$f":"VLOOKUP(K973,[1]Paramètres!$M$5:$O$101,3,0)","v":{"$error":"#N/A"}},null,null,null,null,null,null,null,null,null,null,{"$f":"SUM(Tableau_Data[[#This Row],[Féminin]:[Masculin]])","v":0}]
[null,null,"",null,"",null,null,null,null,null,null,{"$f":"VLOOKUP(K974,[1]Paramètres!$M$5:$O$101,2,0)","v":{"$error":"#N/A"}},{"$f":"VLOOKUP(K974,[1]Paramètres!$M$5:$O$101,3,0)","v":{"$error":"#N/A"}},null,null,null,null,null,null,null,null,null,null,{"$f":"SUM(Tableau_Data[[#This Row],[Féminin]:[Masculin]])","v":0}]
[null,null,"",null,"",null,null,null,null,null,null,{"$f":"VLOOKUP(K975,[1]Paramètres!$M$5:$O$101,2,0)","v":{"$error":"#N/A"}},{"$f":"VLOOKUP(K975,[1]Paramètres!$M$5:$O$101,3,0)","v":{"$error":"#N/A"}},null,null,null,null,null,null,null,null,null,null,{"$f":"SUM(Tableau_Data[[#This Row],[Féminin]:[Masculin]])","v":0}]
[null,null,"",null,"",null,null,null,null,null,null,{"$f":"VLOOKUP(K976,[1]Paramètres!$M$5:$O$101,2,0)","v":{"$error":"#N/A"}},{"$f":"VLOOKUP(K976,[1]Paramètres!$M$5:$O$101,3,0)","v":{"$error":"#N/A"}},null,null,null,null,null,null,null,null,null,null,{"$f":"SUM(Tableau_Data[[#This Row],[Féminin]:[Masculin]])","v":0}]
[null,null,"",null,"",null,null,null,null,null,null,{"$f":"VLOOKUP(K977,[1]Paramètres!$M$5:$O$101,2,0)","v":{"$error":"#N/A"}},{"$f":"VLOOKUP(K977,[1]Paramètres!$M$5:$O$101,3,0)","v":{"$error":"#N/A"}},null,null,null,null,null,null,null,null,null,null,{"$f":"SUM(Tableau_Data[[#This Row],[Féminin]:[Masculin]])","v":0}]
[null,null,"",null,"",null,null,null,null,null,null,{"$f":"VLOOKUP(K978,[1]Paramètres!$M$5:$O$101,2,0)","v":{"$error":"#N/A"}},{"$f":"VLOOKUP(K978,[1]Paramètres!$M$5:$O$101,3,0)","v":{"$error":"#N/A"}},null,null,null,null,null,null,null,null,null,null,{"$f":"SUM(Tableau_Data[[#This Row],[Féminin]:[Masculin]])","v":0}]
[null,null,"",null,"",null,null,null,null,null,null,{"$f":"VLOOKUP(K979,[1]Paramètres!$M$5:$O$101,2,0)","v":{"$error":"#N/A"}},{"$f":"VLOOKUP(K979,[1]Paramètres!$M$5:$O$101,3,0)","v":{"$error":"#N/A"}},null,null,null,null,null,null,null,null,null,null,{"$f":"SUM(Tableau_Data[[#This Row],[Féminin]:[Masculin]])","v":0}]
[null,null,"",null,"",null,null,null,null,null,null,{"$f":"VLOOKUP(K980,[1]Paramètres!$M$5:$O$101,2,0)","v":{"$error":"#N/A"}},{"$f":"VLOOKUP(K980,[1]Paramètres!$M$5:$O$101,3,0)","v":{"$error":"#N/A"}},null,null,null,null,null,null,null,null,null,null,{"$f":"SUM(Tableau_Data[[#This Row],[Féminin]:[Masculin]])","v":0}]
[null,null,"",null,"",null,null,null,null,null,null,{"$f":"VLOOKUP(K981,[1]Paramètres!$M$5:$O$101,2,0)","v":{"$error":"#N/A"}},{"$f":"VLOOKUP(K981,[1]Paramètres!$M$5:$O$101,3,0)","v":{"$error":"#N/A"}},null,null,null,null,null,null,null,null,null,null,{"$f":"SUM(Tableau_Data[[#This Row],[Féminin]:[Masculin]])","v":0}]
[null,null,"",null,"",null,null,null,null,null,null,{"$f":"VLOOKUP(K982,[1]Paramètres!$M$5:$O$101,2,0)","v":{"$error":"#N/A"}},{"$f":"VLOOKUP(K982,[1]Paramètres!$M$5:$O$101,3,0)","v":{"$error":"#N/A"}},null,null,null,null,null,null,null,null,null,null,{"$f":"SUM(Tableau_Data[[#This Row],[Féminin]:[Masculin]])","v":0}]
[null,null,"",null,"",null,null,null,null,null,null,{"$f":"VLOOKUP(K983,[1]Paramètres!$M$5:$O$101,2,0)","v":{"$error":"#N/A"}},{"$f":"VLOOKUP(K983,[1]Paramètres!$M$5:$O$101,3,0)","v":{"$error":"#N/A"}},null,null,null,null,null,null,null,null,null,null,{"$f":"SUM(Tableau_Data[[#This Row],[Féminin]:[Masculin]])","v":0}]
[null,null,"",null,"",null,null,null,null,null,null,{"$f":"VLOOKUP(K984,[1]Paramètres!$M$5:$O$101,2,0)","v":{"$error":"#N/A"}},{"$f":"VLOOKUP(K984,[1]Paramètres!$M$5:$O$101,3,0)","v":{"$error":"#N/A"}},null,null,null,null,null,null,null,null,null,null,{"$f":"SUM(Tableau_Data[[#This Row],[Féminin]:[Masculin]])","v":0}]
[null,null,"",null,"",null,null,null,null,null,null,{"$f":"VLOOKUP(K985,[1]Paramètres!$M$5:$O$101,2,0)","v":{"$error":"#N/A"}},{"$f":"VLOOKUP(K985,[1]Paramètres!$M$5:$O$101,3,0)","v":{"$error":"#N/A"}},null,null,null,null,null,null,null,null,null,null,{"$f":"SUM(Tableau_Data[[#This Row],[Féminin]:[Masculin]])","v":0}]
[null,null,"",null,"",null,null,null,null,null,null,{"$f":"VLOOKUP(K986,[1]Paramètres!$M$5:$O$101,2,0)","v":{"$error":"#N/A"}},{"$f":"VLOOKUP(K986,[1]Paramètres!$M$5:$O$101,3,0)","v":{"$error":"#N/A"}},null,null,null,null,null,null,null,null,null,null,{"$f":"SUM(Tableau_Data[[#This Row],[Féminin]:[Masculin]])","v":0}]
[null,null,"",null,{"$f":"IF(D987=\"\",\"\",MONTH(D987))","v":""},null,null,null,null,null,null,{"$f":"VLOOKUP(K987,[1]Paramètres!$M$5:$O$101,2,0)","v":{"$error":"#N/A"}},{"$f":"VLOOKUP(K987,[1]Paramètres!$M$5:$O$101,3,0)","v":{"$error":"#N/A"}},null,null,null,null,null,null,null,null,null,null,{"$f":"SUM(Tableau_Data[[#This Row],[Féminin]:[Masculin]])","v":0}]
[null,null,"",null,"",null,null,null,null,null,null,{"$f":"VLOOKUP(K988,[1]Paramètres!$M$5:$O$101,2,0)","v":{"$error":"#N/A"}},{"$f":"VLOOKUP(K988,[1]Paramètres!$M$5:$O$101,3,0)","v":{"$error":"#N/A"}},null,null,null,null,null,null,null,null,null,null,{"$f":"SUM(Tableau_Data[[#This Row],[Féminin]:[Masculin]])","v":0}]
[null,null,"",null,"",null,null,null,null,null,null,{"$f":"VLOOKUP(K989,[1]Paramètres!$M$5:$O$101,2,0)","v":{"$error":"#N/A"}},{"$f":"VLOOKUP(K989,[1]Paramètres!$M$5:$O$101,3,0)","v":{"$error":"#N/A"}},null,null,null,null,null,null,null,null,null,null,{"$f":"SUM(Tableau_Data[[#This Row],[Féminin]:[Masculin]])","v":0}]
[null,null,"",null,"",null,null,null,null,null,null,{"$f":"VLOOKUP(K990,[1]Paramètres!$M$5:$O$101,2,0)","v":{"$error":"#N/A"}},{"$f":"VLOOKUP(K990,[1]Paramètres!$M$5:$O$101,3,0)","v":{"$error":"#N/A"}},null,null,null,null,null,null,null,null,null,null,{"$f":"SUM(Tableau_Data[[#This Row],[Féminin]:[Masculin]])","v":0}]
[null,null,"",null,"",null,null,null,null,null,null,{"$f":"VLOOKUP(K991,[1]Paramètres!$M$5:$O$101,2,0)","v":{"$error":"#N/A"}},{"$f":"VLOOKUP(K991,[1]Paramètres!$M$5:$O$101,3,0)","v":{"$error":"#N/A"}},null,null,null,null,null,null,null,null,null,null,{"$f":"SUM(Tableau_Data[[#This Row],[Féminin]:[Masculin]])","v":0}]
[null,null,"",null,"",null,null,null,null,null,null,{"$f":"VLOOKUP(K992,[1]Paramètres!$M$5:$O$101,2,0)","v":{"$error":"#N/A"}},{"$f":"VLOOKUP(K992,[1]Paramètres!$M$5:$O$101,3,0)","v":{"$error":"#N/A"}},null,null,null,null,null,null,null,null,null,null,{"$f":"SUM(Tableau_Data[[#This Row],[Féminin]:[Masculin]])","v":0}]
[null,null,"",null,"",null,null,null,null,null,null,{"$f":"VLOOKUP(K993,[1]Paramètres!$M$5:$O$101,2,0)","v":{"$error":"#N/A"}},{"$f":"VLOOKUP(K993,[1]Paramètres!$M$5:$O$101,3,0)","v":{"$error":"#N/A"}},null,null,null,null,null,null,null,null,null,null,{"$f":"SUM(Tableau_Data[[#This Row],[Féminin]:[Masculin]])","v":0}]
[null,null,"",null,"",null,null,null,null,null,null,{"$f":"VLOOKUP(K994,[1]Paramètres!$M$5:$O$101,2,0)","v":{"$error":"#N/A"}},{"$f":"VLOOKUP(K994,[1]Paramètres!$M$5:$O$101,3,0)","v":{"$error":"#N/A"}},null,null,null,null,null,null,null,null,null,null,{"$f":"SUM(Tableau_Data[[#This Row],[Féminin]:[Masculin]])","v":0}]
[null,null,"",null,"",null,null,null,null,null,null,{"$f":"VLOOKUP(K995,[1]Paramètres!$M$5:$O$101,2,0)","v":{"$error":"#N/A"}},{"$f":"VLOOKUP(K995,[1]Paramètres!$M$5:$O$101,3,0)","v":{"$error":"#N/A"}},null,null,null,null,null,null,null,null,null,null,{"$f":"SUM(Tableau_Data[[#This Row],[Féminin]:[Masculin]])","v":0}]
[null,null,"",null,"",null,null,null,null,null,null,{"$f":"VLOOKUP(K996,[1]Paramètres!$M$5:$O$101,2,0)","v":{"$error":"#N/A"}},{"$f":"VLOOKUP(K996,[1]Paramètres!$M$5:$O$101,3,0)","v":{"$error":"#N/A"}},null,null,null,null,null,null,null,null,null,null,{"$f":"SUM(Tableau_Data[[#This Row],[Féminin]:[Masculin]])","v":0}]
[null,null,{"$f":"IF(D997=\"\",\"\",YEAR(D997))","v":""},null,"",null,null,null,null,null,null,{"$f":"VLOOKUP(K997,[1]Paramètres!$M$5:$O$101,2,0)","v":{"$error":"#N/A"}},{"$f":"VLOOKUP(K997,[1]Paramètres!$M$5:$O$101,3,0)","v":{"$error":"#N/A"}},null,null,null,null,null,null,null,null,null,null,{"$f":"SUM(Tableau_Data[[#This Row],[Féminin]:[Masculin]])","v":0}]
[null,null,"",null,"",null,null,null,null,null,null,{"$f":"VLOOKUP(K998,[1]Paramètres!$M$5:$O$101,2,0)","v":{"$error":"#N/A"}},{"$f":"VLOOKUP(K998,[1]Paramètres!$M$5:$O$101,3,0)","v":{"$error":"#N/A"}},null,null,null,null,null,null,null,null,null,null,{"$f":"SUM(Tableau_Data[[#This Row],[Féminin]:[Masculin]])","v":0}]
[null,null,"",null,"",null,null,null,null,null,null,{"$f":"VLOOKUP(K999,[1]Paramètres!$M$5:$O$101,2,0)","v":{"$error":"#N/A"}},{"$f":"VLOOKUP(K999,[1]Paramètres!$M$5:$O$101,3,0)","v":{"$error":"#N/A"}},null,null,null,null,null,null,null,null,null,null,{"$f":"SUM(Tableau_Data[[#This Row],[Féminin]:[Masculin]])","v":0}]
[null,null,"",null,"",null,null,null,null,null,null,{"$f":"VLOOKUP(K1000,[1]Paramètres!$M$5:$O$101,2,0)","v":{"$error":"#N/A"}},{"$f":"VLOOKUP(K1000,[1]Paramètres!$M$5:$O$101,3,0)","v":{"$error":"#N/A"}},null,null,null,null,null,null,null,null,null,null,{"$f":"SUM(Tableau_Data[[#This Row],[Féminin]:[Masculin]])","v":0}]
[null,null,"",null,"",null,null,null,null,null,null,{"$f":"VLOOKUP(K1002,[1]Paramètres!$M$5:$O$101,2,0)","v":{"$error":"#N/A"}},{"$f":"VLOOKUP(K1002,[1]Paramètres!$M$5:$O$101,3,0)","v":{"$error":"#N/A"}},null,null,null,null,null,null,null,null,null,null,{"$f":"SUM(Tableau_Data[[#This Row],[Féminin]:[Masculin]])","v":0}]
[null,null,"",null,"",null,null,null,null,null,null,{"$f":"VLOOKUP(K1011,[1]Paramètres!$M$5:$O$101,2,0)","v":{"$error":"#N/A"}},{"$f":"VLOOKUP(K1011,[1]Paramètres!$M$5:$O$101,3,0)","v":{"$error":"#N/A"}},null,null,null,null,null,null,null,null,null,null,{"$f":"SUM(Tableau_Data[[#This Row],[Féminin]:[Masculin]])","v":0}]
[null,null,"",null,"",null,null,null,null,null,null,{"$f":"VLOOKUP(K1020,[1]Paramètres!$M$5:$O$101,2,0)","v":{"$error":"#N/A"}},{"$f":"VLOOKUP(K1020,[1]Paramètres!$M$5:$O$101,3,0)","v":{"$error":"#N/A"}},null,null,null,null,null,null,null,null,null,null,{"$f":"SUM(Tableau_Data[[#This Row],[Féminin]:[Masculin]])","v":0}]
[null,null,"",null,"",null,null,null,null,null,null,{"$f":"VLOOKUP(K1030,[1]Paramètres!$M$5:$O$101,2,0)","v":{"$error":"#N/A"}},{"$f":"VLOOKUP(K1030,[1]Paramètres!$M$5:$O$101,3,0)","v":{"$error":"#N/A"}},null,null,null,null,null,null,null,null,null,null,{"$f":"SUM(Tableau_Data[[#This Row],[Féminin]:[Masculin]])","v":0}]
[null,null,"",null,"",null,null,null,null,null,null,{"$f":"VLOOKUP(K1039,[1]Paramètres!$M$5:$O$101,2,0)","v":{"$error":"#N/A"}},{"$f":"VLOOKUP(K1039,[1]Paramètres!$M$5:$O$101,3,0)","v":{"$error":"#N/A"}},null,null,null,null,null,null,null,null,null,null,{"$f":"SUM(Tableau_Data[[#This Row],[Féminin]:[Masculin]])","v":0}]
[null,null,"",null,"",null,null,null,null,null,null,{"$f":"VLOOKUP(K1048,[1]Paramètres!$M$5:$O$101,2,0)","v":{"$error":"#N/A"}},{"$f":"VLOOKUP(K1048,[1]Paramètres!$M$5:$O$101,3,0)","v":{"$error":"#N/A"}},null,null,null,null,null,null,null,null,null,null,{"$f":"SUM(Tableau_Data[[#This Row],[Féminin]:[Masculin]])","v":0}]
[null,null,"",null,"",null,null,null,null,null,null,{"$f":"VLOOKUP(K1050,[1]Paramètres!$M$5:$O$101,2,0)","v":{"$error":"#N/A"}},{"$f":"VLOOKUP(K1050,[1]Paramètres!$M$5:$O$101,3,0)","v":{"$error":"#N/A"}},null,null,null,null,null,null,null,null,null,null,{"$f":"SUM(Tableau_Data[[#This Row],[Féminin]:[Masculin]])","v":0}]
[null,null,"",null,"",null,null,null,null,null,null,{"$f":"VLOOKUP(K1059,[1]Paramètres!$M$5:$O$101,2,0)","v":{"$error":"#N/A"}},{"$f":"VLOOKUP(K1059,[1]Paramètres!$M$5:$O$101,3,0)","v":{"$error":"#N/A"}},null,null,null,null,null,null,null,null,null,null,{"$f":"SUM(Tableau_Data[[#This Row],[Féminin]:[Masculin]])","v":0}]
[null,null,"",null,"",null,null,null,null,null,null,{"$f":"VLOOKUP(K1068,[1]Paramètres!$M$5:$O$101,2,0)","v":{"$error":"#N/A"}},{"$f":"VLOOKUP(K1068,[1]Paramètres!$M$5:$O$101,3,0)","v":{"$error":"#N/A"}},null,null,null,null,null,null,null,null,null,null,{"$f":"SUM(Tableau_Data[[#This Row],[Féminin]:[Masculin]])","v":0}]
[null,null,"",null,"",null,null,null,null,null,null,{"$f":"VLOOKUP(K1079,[1]Paramètres!$M$5:$O$101,2,0)","v":{"$error":"#N/A"}},{"$f":"VLOOKUP(K1079,[1]Paramètres!$M$5:$O$101,3,0)","v":{"$error":"#N/A"}},null,null,null,null,null,null,null,null,null,null,{"$f":"SUM(Tableau_Data[[#This Row],[Féminin]:[Masculin]])","v":0}]
[null,null,"",null,"",null,null,null,null,null,null,{"$f":"VLOOKUP(K1087,[1]Paramètres!$M$5:$O$101,2,0)","v":{"$error":"#N/A"}},{"$f":"VLOOKUP(K1087,[1]Paramètres!$M$5:$O$101,3,0)","v":{"$error":"#N/A"}},null,null,null,null,null,null,null,null,null,null,{"$f":"SUM(Tableau_Data[[#This Row],[Féminin]:[Masculin]])","v":0}]
[null,null,"",null,"",null,null,null,null,null,null,{"$f":"VLOOKUP(K1096,[1]Paramètres!$M$5:$O$101,2,0)","v":{"$error":"#N/A"}},{"$f":"VLOOKUP(K1096,[1]Paramètres!$M$5:$O$101,3,0)","v":{"$error":"#N/A"}},null,null,null,null,null,null,null,null,null,null,{"$f":"SUM(Tableau_Data[[#This Row],[Féminin]:[Masculin]])","v":0}]
[null,null,"",null,"",null,null,null,null,null,null,{"$f":"VLOOKUP(K1105,[1]Paramètres!$M$5:$O$101,2,0)","v":{"$error":"#N/A"}},{"$f":"VLOOKUP(K1105,[1]Paramètres!$M$5:$O$101,3,0)","v":{"$error":"#N/A"}},null,null,null,null,null,null,null,null,null,null,{"$f":"SUM(Tableau_Data[[#This Row],[Féminin]:[Masculin]])","v":0}]
[null,null,"",null,"",null,null,null,null,null,null,{"$f":"VLOOKUP(K1110,[1]Paramètres!$M$5:$O$101,2,0)","v":{"$error":"#N/A"}},{"$f":"VLOOKUP(K1110,[1]Paramètres!$M$5:$O$101,3,0)","v":{"$error":"#N/A"}},null,null,null,null,null,null,null,null,null,null,{"$f":"SUM(Tableau_Data[[#This Row],[Féminin]:[Masculin]])","v":0}]
[null,null,"",null,"",null,null,null,null,null,null,{"$f":"VLOOKUP(K1124,[1]Paramètres!$M$5:$O$101,2,0)","v":{"$error":"#N/A"}},{"$f":"VLOOKUP(K1124,[1]Paramètres!$M$5:$O$101,3,0)","v":{"$error":"#N/A"}},null,null,null,null,null,null,null,null,null,null,{"$f":"SUM(Tableau_Data[[#This Row],[Féminin]:[Masculin]])","v":0}]
[null,null,{"$f":"IF(D1125=\"\",\"\",YEAR(D1125))","v":""},null,"",null,null,null,null,null,null,{"$f":"VLOOKUP(K1125,[1]Paramètres!$M$5:$O$101,2,0)","v":{"$error":"#N/A"}},{"$f":"VLOOKUP(K1125,[1]Paramètres!$M$5:$O$101,3,0)","v":{"$error":"#N/A"}},null,null,null,null,null,null,null,null,null,null,{"$f":"SUM(Tableau_Data[[#This Row],[Féminin]:[Masculin]])","v":0}]
[null,null,"",null,"",null,null,null,null,null,null,{"$f":"VLOOKUP(K1134,[1]Paramètres!$M$5:$O$101,2,0)","v":{"$error":"#N/A"}},{"$f":"VLOOKUP(K1134,[1]Paramètres!$M$5:$O$101,3,0)","v":{"$error":"#N/A"}},null,null,null,null,null,null,null,null,null,null,{"$f":"SUM(Tableau_Data[[#This Row],[Féminin]:[Masculin]])","v":0}]
[null,null,"",null,"",null,null,null,null,null,null,{"$f":"VLOOKUP(K1144,[1]Paramètres!$M$5:$O$101,2,0)","v":{"$error":"#N/A"}},{"$f":"VLOOKUP(K1144,[1]Paramètres!$M$5:$O$101,3,0)","v":{"$error":"#N/A"}},null,null,null,null,null,null,null,null,null,null,{"$f":"SUM(Tableau_Data[[#This Row],[Féminin]:[Masculin]])","v":0}]
[null,null,"",null,"",null,null,null,null,null,null,{"$f":"VLOOKUP(K1153,[1]Paramètres!$M$5:$O$101,2,0)","v":{"$error":"#N/A"}},{"$f":"VLOOKUP(K1153,[1]Paramètres!$M$5:$O$101,3,0)","v":{"$error":"#N/A"}},null,null,null,null,null,null,null,null,null,null,{"$f":"SUM(Tableau_Data[[#This Row],[Féminin]:[Masculin]])","v":0}]
[null,null,"",null,"",null,null,null,null,null,null,{"$f":"VLOOKUP(K1163,[1]Paramètres!$M$5:$O$101,2,0)","v":{"$error":"#N/A"}},{"$f":"VLOOKUP(K1163,[1]Paramètres!$M$5:$O$101,3,0)","v":{"$error":"#N/A"}},null,null,null,null,null,null,null,null,null,null,{"$f":"SUM(Tableau_Data[[#This Row],[Féminin]:[Masculin]])","v":0}]
[null,null,"",null,"",null,null,null,null,null,null,{"$f":"VLOOKUP(K1172,[1]Paramètres!$M$5:$O$101,2,0)","v":{"$error":"#N/A"}},{"$f":"VLOOKUP(K1172,[1]Paramètres!$M$5:$O$101,3,0)","v":{"$error":"#N/A"}},null,null,null,null,null,null,null,null,null,null,{"$f":"SUM(Tableau_Data[[#This Row],[Féminin]:[Masculin]])","v":0}]
[null,null,"",null,"",null,null,null,null,null,null,{"$f":"VLOOKUP(K1181,[1]Paramètres!$M$5:$O$101,2,0)","v":{"$error":"#N/A"}},{"$f":"VLOOKUP(K1181,[1]Paramètres!$M$5:$O$101,3,0)","v":{"$error":"#N/A"}},null,null,null,null,null,null,null,null,null,null,{"$f":"SUM(Tableau_Data[[#This Row],[Féminin]:[Masculin]])","v":0}]
[null,null,"",null,"",null,null,null,null,null,null,{"$f":"VLOOKUP(K1183,[1]Paramètres!$M$5:$O$101,2,0)","v":{"$error":"#N/A"}},{"$f":"VLOOKUP(K1183,[1]Paramètres!$M$5:$O$101,3,0)","v":{"$error":"#N/A"}},null,null,null,null,null,null,null,null,null,null,{"$f":"SUM(Tableau_Data[[#This Row],[Féminin]:[Masculin]])","v":0}]
[null,null,"",null,"",null,null,null,null,null,null,{"$f":"VLOOKUP(K1192,[1]Paramètres!$M$5:$O$101,2,0)","v":{"$error":"#N/A"}},{"$f":"VLOOKUP(K1192,[1]Paramètres!$M$5:$O$101,3,0)","v":{"$error":"#N/A"}},null,null,null,null,null,null,null,null,null,null,{"$f":"SUM(Tableau_Data[[#This Row],[Féminin]:[Masculin]])","v":0}]
[null,null,"",null,"",null,null,null,null,null,null,{"$f":"VLOOKUP(K1201,[1]Paramètres!$M$5:$O$101,2,0)","v":{"$error":"#N/A"}},{"$f":"VLOOKUP(K1201,[1]Paramètres!$M$5:$O$101,3,0)","v":{"$error":"#N/A"}},null,null,null,null,null,null,null,null,null,null,{"$f":"SUM(Tableau_Data[[#This Row],[Féminin]:[Masculin]])","v":0}]
[null,null,"",null,"",null,null,null,null,null,null,{"$f":"VLOOKUP(K1210,[1]Paramètres!$M$5:$O$101,2,0)","v":{"$error":"#N/A"}},{"$f":"VLOOKUP(K1210,[1]Paramètres!$M$5:$O$101,3,0)","v":{"$error":"#N/A"}},null,null,null,null,null,null,null,null,null,null,{"$f":"SUM(Tableau_Data[[#This Row],[Féminin]:[Masculin]])","v":0}]
[null,null,"",null,"",null,null,null,null,null,null,{"$f":"VLOOKUP(K1223,[1]Paramètres!$M$5:$O$101,2,0)","v":{"$error":"#N/A"}},{"$f":"VLOOKUP(K1223,[1]Paramètres!$M$5:$O$101,3,0)","v":{"$error":"#N/A"}},null,null,null,null,null,null,null,null,null,null,{"$f":"SUM(Tableau_Data[[#This Row],[Féminin]:[Masculin]])","v":0}]
[null,null,"",null,"",null,null,null,null,null,null,{"$f":"VLOOKUP(K1229,[1]Paramètres!$M$5:$O$101,2,0)","v":{"$error":"#N/A"}},{"$f":"VLOOKUP(K1229,[1]Paramètres!$M$5:$O$101,3,0)","v":{"$error":"#N/A"}},null,null,null,null,null,null,null,null,null,null,{"$f":"SUM(Tableau_Data[[#This Row],[Féminin]:[Masculin]])","v":0}]
[null,null,"",null,"",null,null,null,null,null,null,{"$f":"VLOOKUP(K1238,[1]Paramètres!$M$5:$O$101,2,0)","v":{"$error":"#N/A"}},{"$f":"VLOOKUP(K1238,[1]Paramètres!$M$5:$O$101,3,0)","v":{"$error":"#N/A"}},null,null,null,null,null,null,null,null,null,null,{"$f":"SUM(Tableau_Data[[#This Row],[Féminin]:[Masculin]])","v":0}]
[null,null,"",null,"",null,null,null,null,null,null,{"$f":"VLOOKUP(K1247,[1]Paramètres!$M$5:$O$101,2,0)","v":{"$error":"#N/A"}},{"$f":"VLOOKUP(K1247,[1]Paramètres!$M$5:$O$101,3,0)","v":{"$error":"#N/A"}},null,null,null,null,null,null,null,null,null,null,{"$f":"SUM(Tableau_Data[[#This Row],[Féminin]:[Masculin]])","v":0}]
[null,null,"",null,"",null,null,null,null,null,null,{"$f":"VLOOKUP(K1257,[1]Paramètres!$M$5:$O$101,2,0)","v":{"$error":"#N/A"}},{"$f":"VLOOKUP(K1257,[1]Paramètres!$M$5:$O$101,3,0)","v":{"$error":"#N/A"}},null,null,null,null,null,null,null,null,null,null,{"$f":"SUM(Tableau_Data[[#This Row],[Féminin]:[Masculin]])","v":0}]
[null,null,"",null,"",null,null,null,null,null,null,{"$f":"VLOOKUP(K1258,[1]Paramètres!$M$5:$O$101,2,0)","v":{"$error":"#N/A"}},{"$f":"VLOOKUP(K1258,[1]Paramètres!$M$5:$O$101,3,0)","v":{"$error":"#N/A"}},null,null,null,null,null,null,null,null,null,null,{"$f":"SUM(Tableau_Data[[#This Row],[Féminin]:[Masculin]])","v":0}]
[null,null,"",null,"",null,null,null,null,null,null,{"$f":"VLOOKUP(K1267,[1]Paramètres!$M$5:$O$101,2,0)","v":{"$error":"#N/A"}},{"$f":"VLOOKUP(K1267,[1]Paramètres!$M$5:$O$101,3,0)","v":{"$error":"#N/A"}},null,null,null,null,null,null,null,null,null,null,{"$f":"SUM(Tableau_Data[[#This Row],[Féminin]:[Masculin]])","v":0}]
[null,null,"",null,"",null,null,null,null,null,null,{"$f":"VLOOKUP(K1277,[1]Paramètres!$M$5:$O$101,2,0)","v":{"$error":"#N/A"}},{"$f":"VLOOKUP(K1277,[1]Paramètres!$M$5:$O$101,3,0)","v":{"$error":"#N/A"}},null,null,null,null,null,null,null,null,null,null,{"$f":"SUM(Tableau_Data[[#This Row],[Féminin]:[Masculin]])","v":0}]
[null,null,"",null,"",null,null,null,null,null,null,{"$f":"VLOOKUP(K1286,[1]Paramètres!$M$5:$O$101,2,0)","v":{"$error":"#N/A"}},{"$f":"VLOOKUP(K1286,[1]Paramètres!$M$5:$O$101,3,0)","v":{"$error":"#N/A"}},null,null,null,null,null,null,null,null,null,null,{"$f":"SUM(Tableau_Data[[#This Row],[Féminin]:[Masculin]])","v":0}]
[null,null,"",null,"",null,null,null,null,null,null,{"$f":"VLOOKUP(K1296,[1]Paramètres!$M$5:$O$101,2,0)","v":{"$error":"#N/A"}},{"$f":"VLOOKUP(K1296,[1]Paramètres!$M$5:$O$101,3,0)","v":{"$error":"#N/A"}},null,null,null,null,null,null,null,null,null,null,{"$f":"SUM(Tableau_Data[[#This Row],[Féminin]:[Masculin]])","v":0}]
[null,null,"",null,"",null,null,null,null,null,null,{"$f":"VLOOKUP(K1305,[1]Paramètres!$M$5:$O$101,2,0)","v":{"$error":"#N/A"}},{"$f":"VLOOKUP(K1305,[1]Paramètres!$M$5:$O$101,3,0)","v":{"$error":"#N/A"}},null,null,null,null,null,null,null,null,null,null,{"$f":"SUM(Tableau_Data[[#This Row],[Féminin]:[Masculin]])","v":0}]
[null,null,"",null,"",null,null,null,null,null,null,{"$f":"VLOOKUP(K1314,[1]Paramètres!$M$5:$O$101,2,0)","v":{"$error":"#N/A"}},{"$f":"VLOOKUP(K1314,[1]Paramètres!$M$5:$O$101,3,0)","v":{"$error":"#N/A"}},null,null,null,null,null,null,null,null,null,null,{"$f":"SUM(Tableau_Data[[#This Row],[Féminin]:[Masculin]])","v":0}]
[null,null,"",null,"",null,null,null,null,null,null,{"$f":"VLOOKUP(K1323,[1]Paramètres!$M$5:$O$101,2,0)","v":{"$error":"#N/A"}},{"$f":"VLOOKUP(K1323,[1]Paramètres!$M$5:$O$101,3,0)","v":{"$error":"#N/A"}},null,null,null,null,null,null,null,null,null,null,{"$f":"SUM(Tableau_Data[[#This Row],[Féminin]:[Masculin]])","v":0}]
[null,null,"",null,"",null,null,null,null,null,null,{"$f":"VLOOKUP(K1327,[1]Paramètres!$M$5:$O$101,2,0)","v":{"$error":"#N/A"}},{"$f":"VLOOKUP(K1327,[1]Paramètres!$M$5:$O$101,3,0)","v":{"$error":"#N/A"}},null,null,null,null,null,null,null,null,null,null,{"$f":"SUM(Tableau_Data[[#This Row],[Féminin]:[Masculin]])","v":0}]
[null,null,"",null,"",null,null,null,null,null,null,{"$f":"VLOOKUP(K1334,[1]Paramètres!$M$5:$O$101,2,0)","v":{"$error":"#N/A"}},{"$f":"VLOOKUP(K1334,[1]Paramètres!$M$5:$O$101,3,0)","v":{"$error":"#N/A"}},null,null,null,null,null,null,null,null,null,null,{"$f":"SUM(Tableau_Data[[#This Row],[Féminin]:[Masculin]])","v":0}]
[null,null,"",null,"",null,null,null,null,null,null,{"$f":"VLOOKUP(K1343,[1]Paramètres!$M$5:$O$101,2,0)","v":{"$error":"#N/A"}},{"$f":"VLOOKUP(K1343,[1]Paramètres!$M$5:$O$101,3,0)","v":{"$error":"#N/A"}},null,null,null,null,null,null,null,null,null,null,{"$f":"SUM(Tableau_Data[[#This Row],[Féminin]:[Masculin]])","v":0}]
[null,null,"",null,"",null,null,null,null,null,null,{"$f":"VLOOKUP(K1351,[1]Paramètres!$M$5:$O$101,2,0)","v":{"$error":"#N/A"}},{"$f":"VLOOKUP(K1351,[1]Paramètres!$M$5:$O$101,3,0)","v":{"$error":"#N/A"}},null,null,null,null,null,null,null,null,null,null,{"$f":"SUM(Tableau_Data[[#This Row],[Féminin]:[Masculin]])","v":0}]
[null,null,"",null,"",null,null,null,null,null,null,{"$f":"VLOOKUP(K1362,[1]Paramètres!$M$5:$O$101,2,0)","v":{"$error":"#N/A"}},{"$f":"VLOOKUP(K1362,[1]Paramètres!$M$5:$O$101,3,0)","v":{"$error":"#N/A"}},null,null,null,null,null,null,null,null,null,null,{"$f":"SUM(Tableau_Data[[#This Row],[Féminin]:[Masculin]])","v":0}]
[null,null,"",null,{"$f":"IF(D1371=\"\",\"\",MONTH(D1371))","v":""},null,null,null,null,null,null,{"$f":"VLOOKUP(K1371,[1]Paramètres!$M$5:$O$101,2,0)","v":{"$error":"#N/A"}},{"$f":"VLOOKUP(K1371,[1]Paramètres!$M$5:$O$101,3,0)","v":{"$error":"#N/A"}},null,null,null,null,null,null,null,null,null,null,{"$f":"SUM(Tableau_Data[[#This Row],[Féminin]:[Masculin]])","v":0}]
[null,null,"",null,"",null,null,null,null,null,null,{"$f":"VLOOKUP(K1380,[1]Paramètres!$M$5:$O$101,2,0)","v":{"$error":"#N/A"}},{"$f":"VLOOKUP(K1380,[1]Paramètres!$M$5:$O$101,3,0)","v":{"$error":"#N/A"}},null,null,null,null,null,null,null,null,null,null,{"$f":"SUM(Tableau_Data[[#This Row],[Féminin]:[Masculin]])","v":0}]
[null,null,"",null,"",null,null,null,null,null,null,{"$f":"VLOOKUP(K1390,[1]Paramètres!$M$5:$O$101,2,0)","v":{"$error":"#N/A"}},{"$f":"VLOOKUP(K1390,[1]Paramètres!$M$5:$O$101,3,0)","v":{"$error":"#N/A"}},null,null,null,null,null,null,null,null,null,null,{"$f":"SUM(Tableau_Data[[#This Row],[Féminin]:[Masculin]])","v":0}]
[null,null,"",null,"",null,null,null,null,null,null,{"$f":"VLOOKUP(K1391,[1]Paramètres!$M$5:$O$101,2,0)","v":{"$error":"#N/A"}},{"$f":"VLOOKUP(K1391,[1]Paramètres!$M$5:$O$101,3,0)","v":{"$error":"#N/A"}},null,null,null,null,null,null,null,null,null,null,{"$f":"SUM(Tableau_Data[[#This Row],[Féminin]:[Masculin]])","v":0}]
[null,null,"",null,"",null,null,null,null,null,null,{"$f":"VLOOKUP(K1400,[1]Paramètres!$M$5:$O$101,2,0)","v":{"$error":"#N/A"}},{"$f":"VLOOKUP(K1400,[1]Paramètres!$M$5:$O$101,3,0)","v":{"$error":"#N/A"}},null,null,null,null,null,null,null,null,null,null,{"$f":"SUM(Tableau_Data[[#This Row],[Féminin]:[Masculin]])","v":0}]
[null,null,"",null,"",null,null,null,null,null,null,{"$f":"VLOOKUP(K1411,[1]Paramètres!$M$5:$O$101,2,0)","v":{"$error":"#N/A"}},{"$f":"VLOOKUP(K1411,[1]Paramètres!$M$5:$O$101,3,0)","v":{"$error":"#N/A"}},null,null,null,null,null,null,null,null,null,null,{"$f":"SUM(Tableau_Data[[#This Row],[Féminin]:[Masculin]])","v":0}]
[null,null,"",null,"",null,null,null,null,null,null,{"$f":"VLOOKUP(K1419,[1]Paramètres!$M$5:$O$101,2,0)","v":{"$error":"#N/A"}},{"$f":"VLOOKUP(K1419,[1]Paramètres!$M$5:$O$101,3,0)","v":{"$error":"#N/A"}},null,null,null,null,null,null,null,null,null,null,{"$f":"SUM(Tableau_Data[[#This Row],[Féminin]:[Masculin]])","v":0}]
[null,null,"",null,"",null,null,null,null,null,null,{"$f":"VLOOKUP(K1428,[1]Paramètres!$M$5:$O$101,2,0)","v":{"$error":"#N/A"}},{"$f":"VLOOKUP(K1428,[1]Paramètres!$M$5:$O$101,3,0)","v":{"$error":"#N/A"}},null,null,null,null,null,null,null,null,null,null,{"$f":"SUM(Tableau_Data[[#This Row],[Féminin]:[Masculin]])","v":0}]
[null,null,"",null,"",null,null,null,null,null,null,{"$f":"VLOOKUP(K1440,[1]Paramètres!$M$5:$O$101,2,0)","v":{"$error":"#N/A"}},{"$f":"VLOOKUP(K1440,[1]Paramètres!$M$5:$O$101,3,0)","v":{"$error":"#N/A"}},null,null,null,null,null,null,null,null,null,null,{"$f":"SUM(Tableau_Data[[#This Row],[Féminin]:[Masculin]])","v":0}]
[null,null,"",null,"",null,null,null,null,null,null,{"$f":"VLOOKUP(K1447,[1]Paramètres!$M$5:$O$101,2,0)","v":{"$error":"#N/A"}},{"$f":"VLOOKUP(K1447,[1]Paramètres!$M$5:$O$101,3,0)","v":{"$error":"#N/A"}},null,null,null,null,null,null,null,null,null,null,{"$f":"SUM(Tableau_Data[[#This Row],[Féminin]:[Masculin]])","v":0}]
[null,null,"",null,"",null,null,null,null,null,null,{"$f":"VLOOKUP(K1456,[1]Paramètres!$M$5:$O$101,2,0)","v":{"$error":"#N/A"}},{"$f":"VLOOKUP(K1456,[1]Paramètres!$M$5:$O$101,3,0)","v":{"$error":"#N/A"}},null,null,null,null,null,null,null,null,null,null,{"$f":"SUM(Tableau_Data[[#This Row],[Féminin]:[Masculin]])","v":0}]
[null,null,"",null,"",null,null,null,null,null,null,{"$f":"VLOOKUP(K1464,[1]Paramètres!$M$5:$O$101,2,0)","v":{"$error":"#N/A"}},{"$f":"VLOOKUP(K1464,[1]Paramètres!$M$5:$O$101,3,0)","v":{"$error":"#N/A"}},null,null,null,null,null,null,null,null,null,null,{"$f":"SUM(Tableau_Data[[#This Row],[Féminin]:[Masculin]])","v":0}]
[null,null,"",null,"",null,null,null,null,null,null,{"$f":"VLOOKUP(K1467,[1]Paramètres!$M$5:$O$101,2,0)","v":{"$error":"#N/A"}},{"$f":"VLOOKUP(K1467,[1]Paramètres!$M$5:$O$101,3,0)","v":{"$error":"#N/A"}},null,null,null,null,null,null,null,null,null,null,{"$f":"SUM(Tableau_Data[[#This Row],[Féminin]:[Masculin]])","v":0}]
[null,null,"",null,"",null,null,null,null,null,null,{"$f":"VLOOKUP(K1476,[1]Paramètres!$M$5:$O$101,2,0)","v":{"$error":"#N/A"}},{"$f":"VLOOKUP(K1476,[1]Paramètres!$M$5:$O$101,3,0)","v":{"$error":"#N/A"}},null,null,null,null,null,null,null,null,null,null,{"$f":"SUM(Tableau_Data[[#This Row],[Féminin]:[Masculin]])","v":0}]
[null,null,"",null,"",null,null,null,null,null,null,{"$f":"VLOOKUP(K1484,[1]Paramètres!$M$5:$O$101,2,0)","v":{"$error":"#N/A"}},{"$f":"VLOOKUP(K1484,[1]Paramètres!$M$5:$O$101,3,0)","v":{"$error":"#N/A"}},null,null,null,null,null,null,null,null,null,null,{"$f":"SUM(Tableau_Data[[#This Row],[Féminin]:[Masculin]])","v":0}]
[null,null,"",null,"",null,null,null,null,null,null,{"$f":"VLOOKUP(K1495,[1]Paramètres!$M$5:$O$101,2,0)","v":{"$error":"#N/A"}},{"$f":"VLOOKUP(K1495,[1]Paramètres!$M$5:$O$101,3,0)","v":{"$error":"#N/A"}},null,null,null,null,null,null,null,null,null,null,{"$f":"SUM(Tableau_Data[[#This Row],[Féminin]:[Masculin]])","v":0}]
[null,null,"",null,"",null,null,null,null,null,null,{"$f":"VLOOKUP(K1504,[1]Paramètres!$M$5:$O$101,2,0)","v":{"$error":"#N/A"}},{"$f":"VLOOKUP(K1504,[1]Paramètres!$M$5:$O$101,3,0)","v":{"$error":"#N/A"}},null,null,null,null,null,null,null,null,null,null,{"$f":"SUM(Tableau_Data[[#This Row],[Féminin]:[Masculin]])","v":0}]
[null,null,"",null,"",null,null,null,null,null,null,{"$f":"VLOOKUP(K1513,[1]Paramètres!$M$5:$O$101,2,0)","v":{"$error":"#N/A"}},{"$f":"VLOOKUP(K1513,[1]Paramètres!$M$5:$O$101,3,0)","v":{"$error":"#N/A"}},null,null,null,null,null,null,null,null,null,null,{"$f":"SUM(Tableau_Data[[#This Row],[Féminin]:[Masculin]])","v":0}]
[null,null,"",null,"",null,null,null,null,null,null,{"$f":"VLOOKUP(K1515,[1]Paramètres!$M$5:$O$101,2,0)","v":{"$error":"#N/A"}},{"$f":"VLOOKUP(K1515,[1]Paramètres!$M$5:$O$101,3,0)","v":{"$error":"#N/A"}},null,null,null,null,null,null,null,null,null,null,{"$f":"SUM(Tableau_Data[[#This Row],[Féminin]:[Masculin]])","v":0}]
[null,null,"",null,"",null,null,null,null,null,null,{"$f":"VLOOKUP(K1524,[1]Paramètres!$M$5:$O$101,2,0)","v":{"$error":"#N/A"}},{"$f":"VLOOKUP(K1524,[1]Paramètres!$M$5:$O$101,3,0)","v":{"$error":"#N/A"}},null,null,null,null,null,null,null,null,null,null,{"$f":"SUM(Tableau_Data[[#This Row],[Féminin]:[Masculin]])","v":0}]
[null,null,"",null,"",null,null,null,null,null,null,{"$f":"VLOOKUP(K1533,[1]Paramètres!$M$5:$O$101,2,0)","v":{"$error":"#N/A"}},{"$f":"VLOOKUP(K1533,[1]Paramètres!$M$5:$O$101,3,0)","v":{"$error":"#N/A"}},null,null,null,null,null,null,null,null,null,null,{"$f":"SUM(Tableau_Data[[#This Row],[Féminin]:[Masculin]])","v":0}]
[null,null,"",null,"",null,null,null,null,null,null,{"$f":"VLOOKUP(K1544,[1]Paramètres!$M$5:$O$101,2,0)","v":{"$error":"#N/A"}},{"$f":"VLOOKUP(K1544,[1]Paramètres!$M$5:$O$101,3,0)","v":{"$error":"#N/A"}},null,null,null,null,null,null,null,null,null,null,{"$f":"SUM(Tableau_Data[[#This Row],[Féminin]:[Masculin]])","v":0}]
[null,null,"",null,"",null,null,null,null,null,null,{"$f":"VLOOKUP(K1552,[1]Paramètres!$M$5:$O$101,2,0)","v":{"$error":"#N/A"}},{"$f":"VLOOKUP(K1552,[1]Paramètres!$M$5:$O$101,3,0)","v":{"$error":"#N/A"}},null,null,null,null,null,null,null,null,null,null,{"$f":"SUM(Tableau_Data[[#This Row],[Féminin]:[Masculin]])","v":0}]
[null,null,"",null,"",null,null,null,null,null,null,{"$f":"VLOOKUP(K1561,[1]Paramètres!$M$5:$O$101,2,0)","v":{"$error":"#N/A"}},{"$f":"VLOOKUP(K1561,[1]Paramètres!$M$5:$O$101,3,0)","v":{"$error":"#N/A"}},null,null,null,null,null,null,null,null,null,null,{"$f":"SUM(Tableau_Data[[#This Row],[Féminin]:[Masculin]])","v":0}]
[null,null,{"$f":"IF(D1573=\"\",\"\",YEAR(D1573))","v":""},null,"",null,null,null,null,null,null,{"$f":"VLOOKUP(K1573,[1]Paramètres!$M$5:$O$101,2,0)","v":{"$error":"#N/A"}},{"$f":"VLOOKUP(K1573,[1]Paramètres!$M$5:$O$101,3,0)","v":{"$error":"#N/A"}},null,null,null,null,null,null,null,null,null,null,{"$f":"SUM(Tableau_Data[[#This Row],[Féminin]:[Masculin]])","v":0}]
[null,null,"",null,"",null,null,null,null,null,null,{"$f":"VLOOKUP(K1580,[1]Paramètres!$M$5:$O$101,2,0)","v":{"$error":"#N/A"}},{"$f":"VLOOKUP(K1580,[1]Paramètres!$M$5:$O$101,3,0)","v":{"$error":"#N/A"}},null,null,null,null,null,null,null,null,null,null,{"$f":"SUM(Tableau_Data[[#This Row],[Féminin]:[Masculin]])","v":0}]
[null,null,"",null,"",null,null,null,null,null,null,{"$f":"VLOOKUP(K1589,[1]Paramètres!$M$5:$O$101,2,0)","v":{"$error":"#N/A"}},{"$f":"VLOOKUP(K1589,[1]Paramètres!$M$5:$O$101,3,0)","v":{"$error":"#N/A"}},null,null,null,null,null,null,null,null,null,null,{"$f":"SUM(Tableau_Data[[#This Row],[Féminin]:[Masculin]])","v":0}]
[null,null,"",null,"",null,null,null,null,null,null,{"$f":"VLOOKUP(K1597,[1]Paramètres!$M$5:$O$101,2,0)","v":{"$error":"#N/A"}},{"$f":"VLOOKUP(K1597,[1]Paramètres!$M$5:$O$101,3,0)","v":{"$error":"#N/A"}},null,null,null,null,null,null,null,null,null,null,{"$f":"SUM(Tableau_Data[[#This Row],[Féminin]:[Masculin]])","v":0}]
[null,null,"",null,"",null,null,null,null,null,null,{"$f":"VLOOKUP(K1600,[1]Paramètres!$M$5:$O$101,2,0)","v":{"$error":"#N/A"}},{"$f":"VLOOKUP(K1600,[1]Paramètres!$M$5:$O$101,3,0)","v":{"$error":"#N/A"}},null,null,null,null,null,null,null,null,null,null,{"$f":"SUM(Tableau_Data[[#This Row],[Féminin]:[Masculin]])","v":0}]
[null,null,"",null,"",null,null,null,null,null,null,{"$f":"VLOOKUP(K1609,[1]Paramètres!$M$5:$O$101,2,0)","v":{"$error":"#N/A"}},{"$f":"VLOOKUP(K1609,[1]Paramètres!$M$5:$O$101,3,0)","v":{"$error":"#N/A"}},null,null,null,null,null,null,null,null,null,null,{"$f":"SUM(Tableau_Data[[#This Row],[Féminin]:[Masculin]])","v":0}]
[null,null,"",null,"",null,null,null,null,null,null,{"$f":"VLOOKUP(K1618,[1]Paramètres!$M$5:$O$101,2,0)","v":{"$error":"#N/A"}},{"$f":"VLOOKUP(K1618,[1]Paramètres!$M$5:$O$101,3,0)","v":{"$error":"#N/A"}},null,null,null,null,null,null,null,null,null,null,{"$f":"SUM(Tableau_Data[[#This Row],[Féminin]:[Masculin]])","v":0}]
[null,null,"",null,"",null,null,null,null,null,null,{"$f":"VLOOKUP(K1628,[1]Paramètres!$M$5:$O$101,2,0)","v":{"$error":"#N/A"}},{"$f":"VLOOKUP(K1628,[1]Paramètres!$M$5:$O$101,3,0)","v":{"$error":"#N/A"}},null,null,null,null,null,null,null,null,null,null,{"$f":"SUM(Tableau_Data[[#This Row],[Féminin]:[Masculin]])","v":0}]
[null,null,{"$f":"IF(D1637=\"\",\"\",YEAR(D1637))","v":""},null,"",null,null,null,null,null,null,{"$f":"VLOOKUP(K1637,[1]Paramètres!$M$5:$O$101,2,0)","v":{"$error":"#N/A"}},{"$f":"VLOOKUP(K1637,[1]Paramètres!$M$5:$O$101,3,0)","v":{"$error":"#N/A"}},null,null,null,null,null,null,null,null,null,null,{"$f":"SUM(Tableau_Data[[#This Row],[Féminin]:[Masculin]])","v":0}]
[null,null,"",null,"",null,null,null,null,null,null,{"$f":"VLOOKUP(K1646,[1]Paramètres!$M$5:$O$101,2,0)","v":{"$error":"#N/A"}},{"$f":"VLOOKUP(K1646,[1]Paramètres!$M$5:$O$101,3,0)","v":{"$error":"#N/A"}},null,null,null,null,null,null,null,null,null,null,{"$f":"SUM(Tableau_Data[[#This Row],[Féminin]:[Masculin]])","v":0}]
[null,null,"",null,"",null,null,null,null,null,null,{"$f":"VLOOKUP(K1648,[1]Paramètres!$M$5:$O$101,2,0)","v":{"$error":"#N/A"}},{"$f":"VLOOKUP(K1648,[1]Paramètres!$M$5:$O$101,3,0)","v":{"$error":"#N/A"}},null,null,null,null,null,null,null,null,null,null,{"$f":"SUM(Tableau_Data[[#This Row],[Féminin]:[Masculin]])","v":0}]
[null,null,"",null,"",null,null,null,null,null,null,{"$f":"VLOOKUP(K1657,[1]Paramètres!$M$5:$O$101,2,0)","v":{"$error":"#N/A"}},{"$f":"VLOOKUP(K1657,[1]Paramètres!$M$5:$O$101,3,0)","v":{"$error":"#N/A"}},null,null,null,null,null,null,null,null,null,null,{"$f":"SUM(Tableau_Data[[#This Row],[Féminin]:[Masculin]])","v":0}]
[null,null,"",null,"",null,null,null,null,null,null,{"$f":"VLOOKUP(K1666,[1]Paramètres!$M$5:$O$101,2,0)","v":{"$error":"#N/A"}},{"$f":"VLOOKUP(K1666,[1]Paramètres!$M$5:$O$101,3,0)","v":{"$error":"#N/A"}},null,null,null,null,null,null,null,null,null,null,{"$f":"SUM(Tableau_Data[[#This Row],[Féminin]:[Masculin]])","v":0}]
[null,null,"",null,"",null,null,null,null,null,null,{"$f":"VLOOKUP(K1677,[1]Paramètres!$M$5:$O$101,2,0)","v":{"$error":"#N/A"}},{"$f":"VLOOKUP(K1677,[1]Paramètres!$M$5:$O$101,3,0)","v":{"$error":"#N/A"}},null,null,null,null,null,null,null,null,null,null,{"$f":"SUM(Tableau_Data[[#This Row],[Féminin]:[Masculin]])","v":0}]
[null,null,"",null,"",null,null,null,null,null,null,{"$f":"VLOOKUP(K1685,[1]Paramètres!$M$5:$O$101,2,0)","v":{"$error":"#N/A"}},{"$f":"VLOOKUP(K1685,[1]Paramètres!$M$5:$O$101,3,0)","v":{"$error":"#N/A"}},null,null,null,null,null,null,null,null,null,null,{"$f":"SUM(Tableau_Data[[#This Row],[Féminin]:[Masculin]])","v":0}]
[null,null,"",null,"",null,null,null,null,null,null,{"$f":"VLOOKUP(K1694,[1]Paramètres!$M$5:$O$101,2,0)","v":{"$error":"#N/A"}},{"$f":"VLOOKUP(K1694,[1]Paramètres!$M$5:$O$101,3,0)","v":{"$error":"#N/A"}},null,null,null,null,null,null,null,null,null,null,{"$f":"SUM(Tableau_Data[[#This Row],[Féminin]:[Masculin]])","v":0}]
[null,null,"",null,"",null,null,null,null,null,null,{"$f":"VLOOKUP(K1701,[1]Paramètres!$M$5:$O$101,2,0)","v":{"$error":"#N/A"}},{"$f":"VLOOKUP(K1701,[1]Paramètres!$M$5:$O$101,3,0)","v":{"$error":"#N/A"}},null,null,null,null,null,null,null,null,null,null,{"$f":"SUM(Tableau_Data[[#This Row],[Féminin]:[Masculin]])","v":0}]
[null,null,"",null,"",null,null,null,null,null,null,{"$f":"VLOOKUP(K1713,[1]Paramètres!$M$5:$O$101,2,0)","v":{"$error":"#N/A"}},{"$f":"VLOOKUP(K1713,[1]Paramètres!$M$5:$O$101,3,0)","v":{"$error":"#N/A"}},null,null,null,null,null,null,null,null,null,null,{"$f":"SUM(Tableau_Data[[#This Row],[Féminin]:[Masculin]])","v":0}]
[null,null,"",null,"",null,null,null,null,null,null,{"$f":"VLOOKUP(K1722,[1]Paramètres!$M$5:$O$101,2,0)","v":{"$error":"#N/A"}},{"$f":"VLOOKUP(K1722,[1]Paramètres!$M$5:$O$101,3,0)","v":{"$error":"#N/A"}},null,null,null,null,null,null,null,null,null,null,{"$f":"SUM(Tableau_Data[[#This Row],[Féminin]:[Masculin]])","v":0}]
[null,null,"",null,"",null,null,null,null,null,null,{"$f":"VLOOKUP(K1723,[1]Paramètres!$M$5:$O$101,2,0)","v":{"$error":"#N/A"}},{"$f":"VLOOKUP(K1723,[1]Paramètres!$M$5:$O$101,3,0)","v":{"$error":"#N/A"}},null,null,null,null,null,null,null,null,null,null,{"$f":"SUM(Tableau_Data[[#This Row],[Féminin]:[Masculin]])","v":0}]
[null,null,"",null,"",null,null,null,null,null,null,{"$f":"VLOOKUP(K1732,[1]Paramètres!$M$5:$O$101,2,0)","v":{"$error":"#N/A"}},{"$f":"VLOOKUP(K1732,[1]Paramètres!$M$5:$O$101,3,0)","v":{"$error":"#N/A"}},null,null,null,null,null,null,null,null,null,null,{"$f":"SUM(Tableau_Data[[#This Row],[Féminin]:[Masculin]])","v":0}]
[null,null,"",null,"",null,null,null,null,null,null,{"$f":"VLOOKUP(K1742,[1]Paramètres!$M$5:$O$101,2,0)","v":{"$error":"#N/A"}},{"$f":"VLOOKUP(K1742,[1]Paramètres!$M$5:$O$101,3,0)","v":{"$error":"#N/A"}},null,null,null,null,null,null,null,null,null,null,{"$f":"SUM(Tableau_Data[[#This Row],[Féminin]:[Masculin]])","v":0}]
[null,null,"",null,"",null,null,null,null,null,null,{"$f":"VLOOKUP(K1751,[1]Paramètres!$M$5:$O$101,2,0)","v":{"$error":"#N/A"}},{"$f":"VLOOKUP(K1751,[1]Paramètres!$M$5:$O$101,3,0)","v":{"$error":"#N/A"}},null,null,null,null,null,null,null,null,null,null,{"$f":"SUM(Tableau_Data[[#This Row],[Féminin]:[Masculin]])","v":0}]
[null,null,"",null,"",null,null,null,null,null,null,{"$f":"VLOOKUP(K1761,[1]Paramètres!$M$5:$O$101,2,0)","v":{"$error":"#N/A"}},{"$f":"VLOOKUP(K1761,[1]Paramètres!$M$5:$O$101,3,0)","v":{"$error":"#N/A"}},null,null,null,null,null,null,null,null,null,null,{"$f":"SUM(Tableau_Data[[#This Row],[Féminin]:[Masculin]])","v":0}]
[null,null,"",null,"",null,null,null,null,null,null,{"$f":"VLOOKUP(K1770,[1]Paramètres!$M$5:$O$101,2,0)","v":{"$error":"#N/A"}},{"$f":"VLOOKUP(K1770,[1]Paramètres!$M$5:$O$101,3,0)","v":{"$error":"#N/A"}},null,null,null,null,null,null,null,null,null,null,{"$f":"SUM(Tableau_Data[[#This Row],[Féminin]:[Masculin]])","v":0}]
[null,null,"",null,"",null,null,null,null,null,null,{"$f":"VLOOKUP(K1779,[1]Paramètres!$M$5:$O$101,2,0)","v":{"$error":"#N/A"}},{"$f":"VLOOKUP(K1779,[1]Paramètres!$M$5:$O$101,3,0)","v":{"$error":"#N/A"}},null,null,null,null,null,null,null,null,null,null,{"$f":"SUM(Tableau_Data[[#This Row],[Féminin]:[Masculin]])","v":0}]
[null,null,"",null,{"$f":"IF(D1781=\"\",\"\",MONTH(D1781))","v":""},null,null,null,null,null,null,{"$f":"VLOOKUP(K1781,[1]Paramètres!$M$5:$O$101,2,0)","v":{"$error":"#N/A"}},{"$f":"VLOOKUP(K1781,[1]Paramètres!$M$5:$O$101,3,0)","v":{"$error":"#N/A"}},null,null,null,null,null,null,null,null,null,null,{"$f":"SUM(Tableau_Data[[#This Row],[Féminin]:[Masculin]])","v":0}]
[null,null,"",null,"",null,null,null,null,null,null,{"$f":"VLOOKUP(K1790,[1]Paramètres!$M$5:$O$101,2,0)","v":{"$error":"#N/A"}},{"$f":"VLOOKUP(K1790,[1]Paramètres!$M$5:$O$101,3,0)","v":{"$error":"#N/A"}},null,null,null,null,null,null,null,null,null,null,{"$f":"SUM(Tableau_Data[[#This Row],[Féminin]:[Masculin]])","v":0}]
[null,null,"",null,"",null,null,null,null,null,null,{"$f":"VLOOKUP(K1799,[1]Paramètres!$M$5:$O$101,2,0)","v":{"$error":"#N/A"}},{"$f":"VLOOKUP(K1799,[1]Paramètres!$M$5:$O$101,3,0)","v":{"$error":"#N/A"}},null,null,null,null,null,null,null,null,null,null,{"$f":"SUM(Tableau_Data[[#This Row],[Féminin]:[Masculin]])","v":0}]
[null,null,"",null,"",null,null,null,null,null,null,{"$f":"VLOOKUP(K1808,[1]Paramètres!$M$5:$O$101,2,0)","v":{"$error":"#N/A"}},{"$f":"VLOOKUP(K1808,[1]Paramètres!$M$5:$O$101,3,0)","v":{"$error":"#N/A"}},null,null,null,null,null,null,null,null,null,null,{"$f":"SUM(Tableau_Data[[#This Row],[Féminin]:[Masculin]])","v":0}]
[null,null,"",null,"",null,null,null,null,null,null,{"$f":"VLOOKUP(K1816,[1]Paramètres!$M$5:$O$101,2,0)","v":{"$error":"#N/A"}},{"$f":"VLOOKUP(K1816,[1]Paramètres!$M$5:$O$101,3,0)","v":{"$error":"#N/A"}},null,null,null,null,null,null,null,null,null,null,{"$f":"SUM(Tableau_Data[[#This Row],[Féminin]:[Masculin]])","v":0}]
[null,null,"",null,"",null,null,null,null,null,null,{"$f":"VLOOKUP(K1827,[1]Paramètres!$M$5:$O$101,2,0)","v":{"$error":"#N/A"}},{"$f":"VLOOKUP(K1827,[1]Paramètres!$M$5:$O$101,3,0)","v":{"$error":"#N/A"}},null,null,null,null,null,null,null,null,null,null,{"$f":"SUM(Tableau_Data[[#This Row],[Féminin]:[Masculin]])","v":0}]
[null,null,"",null,"",null,null,null,null,null,null,{"$f":"VLOOKUP(K1836,[1]Paramètres!$M$5:$O$101,2,0)","v":{"$error":"#N/A"}},{"$f":"VLOOKUP(K1836,[1]Paramètres!$M$5:$O$101,3,0)","v":{"$error":"#N/A"}},null,null,null,null,null,null,null,null,null,null,{"$f":"SUM(Tableau_Data[[#This Row],[Féminin]:[Masculin]])","v":0}]
[null,null,"",null,"",null,null,null,null,null,null,{"$f":"VLOOKUP(K1845,[1]Paramètres!$M$5:$O$101,2,0)","v":{"$error":"#N/A"}},{"$f":"VLOOKUP(K1845,[1]Paramètres!$M$5:$O$101,3,0)","v":{"$error":"#N/A"}},null,null,null,null,null,null,null,null,null,null,{"$f":"SUM(Tableau_Data[[#This Row],[Féminin]:[Masculin]])","v":0}]
[null,null,"",null,"",null,null,null,null,null,null,{"$f":"VLOOKUP(K1855,[1]Paramètres!$M$5:$O$101,2,0)","v":{"$error":"#N/A"}},{"$f":"VLOOKUP(K1855,[1]Paramètres!$M$5:$O$101,3,0)","v":{"$error":"#N/A"}},null,null,null,null,null,null,null,null,null,null,{"$f":"SUM(Tableau_Data[[#This Row],[Féminin]:[Masculin]])","v":0}]
[null,null,"",null,"",null,null,null,null,null,null,{"$f":"VLOOKUP(K1856,[1]Paramètres!$M$5:$O$101,2,0)","v":{"$error":"#N/A"}},{"$f":"VLOOKUP(K1856,[1]Paramètres!$M$5:$O$101,3,0)","v":{"$error":"#N/A"}},null,null,null,null,null,null,null,null,null,null,{"$f":"SUM(Tableau_Data[[#This Row],[Féminin]:[Masculin]])","v":0}]
[null,null,"",null,"",null,null,null,null,null,null,{"$f":"VLOOKUP(K1865,[1]Paramètres!$M$5:$O$101,2,0)","v":{"$error":"#N/A"}},{"$f":"VLOOKUP(K1865,[1]Paramètres!$M$5:$O$101,3,0)","v":{"$error":"#N/A"}},null,null,null,null,null,null,null,null,null,null,{"$f":"SUM(Tableau_Data[[#This Row],[Féminin]:[Masculin]])","v":0}]
[null,null,"",null,"",null,null,null,null,null,null,{"$f":"VLOOKUP(K1875,[1]Paramètres!$M$5:$O$101,2,0)","v":{"$error":"#N/A"}},{"$f":"VLOOKUP(K1875,[1]Paramètres!$M$5:$O$101,3,0)","v":{"$error":"#N/A"}},null,null,null,null,null,null,null,null,null,null,{"$f":"SUM(Tableau_Data[[#This Row],[Féminin]:[Masculin]])","v":0}]
[null,null,"",null,"",null,null,null,null,null,null,{"$f":"VLOOKUP(K1884,[1]Paramètres!$M$5:$O$101,2,0)","v":{"$error":"#N/A"}},{"$f":"VLOOKUP(K1884,[1]Paramètres!$M$5:$O$101,3,0)","v":{"$error":"#N/A"}},null,null,null,null,null,null,null,null,null,null,{"$f":"SUM(Tableau_Data[[#This Row],[Féminin]:[Masculin]])","v":0}]
[null,null,"",null,"",null,null,null,null,null,null,{"$f":"VLOOKUP(K1894,[1]Paramètres!$M$5:$O$101,2,0)","v":{"$error":"#N/A"}},{"$f":"VLOOKUP(K1894,[1]Paramètres!$M$5:$O$101,3,0)","v":{"$error":"#N/A"}},null,null,null,null,null,null,null,null,null,null,{"$f":"SUM(Tableau_Data[[#This Row],[Féminin]:[Masculin]])","v":0}]
[null,null,"",null,"",null,null,null,null,null,null,{"$f":"VLOOKUP(K1903,[1]Paramètres!$M$5:$O$101,2,0)","v":{"$error":"#N/A"}},{"$f":"VLOOKUP(K1903,[1]Paramètres!$M$5:$O$101,3,0)","v":{"$error":"#N/A"}},null,null,null,null,null,null,null,null,null,null,{"$f":"SUM(Tableau_Data[[#This Row],[Féminin]:[Masculin]])","v":0}]
[null,null,{"$f":"IF(D1912=\"\",\"\",YEAR(D1912))","v":""},null,{"$f":"IF(D1912=\"\",\"\",MONTH(D1912))","v":""},null,null,null,null,null,null,{"$f":"VLOOKUP(K1912,[1]Paramètres!$M$5:$O$101,2,0)","v":{"$error":"#N/A"}},{"$f":"VLOOKUP(K1912,[1]Paramètres!$M$5:$O$101,3,0)","v":{"$error":"#N/A"}},null,null,null,null,null,null,null,null,null,null,{"$f":"SUM(Tableau_Data[[#This Row],[Féminin]:[Masculin]])","v":0}]
[null,null,"",null,"",null,null,null,null,null,null,{"$f":"VLOOKUP(K1921,[1]Paramètres!$M$5:$O$101,2,0)","v":{"$error":"#N/A"}},{"$f":"VLOOKUP(K1921,[1]Paramètres!$M$5:$O$101,3,0)","v":{"$error":"#N/A"}},null,null,null,null,null,null,null,null,null,null,{"$f":"SUM(Tableau_Data[[#This Row],[Féminin]:[Masculin]])","v":0}]
[null,null,"",null,"",null,null,null,null,null,null,{"$f":"VLOOKUP(K1929,[1]Paramètres!$M$5:$O$101,2,0)","v":{"$error":"#N/A"}},{"$f":"VLOOKUP(K1929,[1]Paramètres!$M$5:$O$101,3,0)","v":{"$error":"#N/A"}},null,null,null,null,null,null,null,null,null,null,{"$f":"SUM(Tableau_Data[[#This Row],[Féminin]:[Masculin]])","v":0}]
[null,null,"",null,"",null,null,null,null,null,null,{"$f":"VLOOKUP(K1932,[1]Paramètres!$M$5:$O$101,2,0)","v":{"$error":"#N/A"}},{"$f":"VLOOKUP(K1932,[1]Paramètres!$M$5:$O$101,3,0)","v":{"$error":"#N/A"}},null,null,null,null,null,null,null,null,null,null,{"$f":"SUM(Tableau_Data[[#This Row],[Féminin]:[Masculin]])","v":0}]
[null,null,"",null,"",null,null,null,null,null,null,{"$f":"VLOOKUP(K1941,[1]Paramètres!$M$5:$O$101,2,0)","v":{"$error":"#N/A"}},{"$f":"VLOOKUP(K1941,[1]Paramètres!$M$5:$O$101,3,0)","v":{"$error":"#N/A"}},null,null,null,null,null,null,null,null,null,null,{"$f":"SUM(Tableau_Data[[#This Row],[Féminin]:[Masculin]])","v":0}]
[null,null,"",null,"",null,null,null,null,null,null,{"$f":"VLOOKUP(K1949,[1]Paramètres!$M$5:$O$101,2,0)","v":{"$error":"#N/A"}},{"$f":"VLOOKUP(K1949,[1]Paramètres!$M$5:$O$101,3,0)","v":{"$error":"#N/A"}},null,null,null,null,null,null,null,null,null,null,{"$f":"SUM(Tableau_Data[[#This Row],[Féminin]:[Masculin]])","v":0}]
[null,null,"",null,"",null,null,null,null,null,null,{"$f":"VLOOKUP(K1960,[1]Paramètres!$M$5:$O$101,2,0)","v":{"$error":"#N/A"}},{"$f":"VLOOKUP(K1960,[1]Paramètres!$M$5:$O$101,3,0)","v":{"$error":"#N/A"}},null,null,null,null,null,null,null,null,null,null,{"$f":"SUM(Tableau_Data[[#This Row],[Féminin]:[Masculin]])","v":0}]
[null,null,"",null,"",null,null,null,null,null,null,{"$f":"VLOOKUP(K1969,[1]Paramètres!$M$5:$O$101,2,0)","v":{"$error":"#N/A"}},{"$f":"VLOOKUP(K1969,[1]Paramètres!$M$5:$O$101,3,0)","v":{"$error":"#N/A"}},null,null,null,null,null,null,null,null,null,null,{"$f":"SUM(Tableau_Data[[#This Row],[Féminin]:[Masculin]])","v":0}]
[null,null,"",null,"",null,null,null,null,null,null,{"$f":"VLOOKUP(K1978,[1]Paramètres!$M$5:$O$101,2,0)","v":{"$error":"#N/A"}},{"$f":"VLOOKUP(K1978,[1]Paramètres!$M$5:$O$101,3,0)","v":{"$error":"#N/A"}},null,null,null,null,null,null,null,null,null,null,{"$f":"SUM(Tableau_Data[[#This Row],[Féminin]:[Masculin]])","v":0}]
[null,null,"",null,"",null,null,null,null,null,null,{"$f":"VLOOKUP(K1988,[1]Paramètres!$M$5:$O$101,2,0)","v":{"$error":"#N/A"}},{"$f":"VLOOKUP(K1988,[1]Paramètres!$M$5:$O$101,3,0)","v":{"$error":"#N/A"}},null,null,null,null,null,null,null,null,null,null,{"$f":"SUM(Tableau_Data[[#This Row],[Féminin]:[Masculin]])","v":0}]
[null,null,"",null,"",null,null,null,null,null,null,{"$f":"VLOOKUP(K1989,[1]Paramètres!$M$5:$O$101,2,0)","v":{"$error":"#N/A"}},{"$f":"VLOOKUP(K1989,[1]Paramètres!$M$5:$O$101,3,0)","v":{"$error":"#N/A"}},null,null,null,null,null,null,null,null,null,null,{"$f":"SUM(Tableau_Data[[#This Row],[Féminin]:[Masculin]])","v":0}]
[null,null,"",null,"",null,null,null,null,null,null,{"$f":"VLOOKUP(K1998,[1]Paramètres!$M$5:$O$101,2,0)","v":{"$error":"#N/A"}},{"$f":"VLOOKUP(K1998,[1]Paramètres!$M$5:$O$101,3,0)","v":{"$error":"#N/A"}},null,null,null,null,null,null,null,null,null,null,{"$f":"SUM(Tableau_Data[[#This Row],[Féminin]:[Masculin]])","v":0}]
[null,null,"",null,"",null,null,null,null,null,null,{"$f":"VLOOKUP(K2008,[1]Paramètres!$M$5:$O$101,2,0)","v":{"$error":"#N/A"}},{"$f":"VLOOKUP(K2008,[1]Paramètres!$M$5:$O$101,3,0)","v":{"$error":"#N/A"}},null,null,null,null,null,null,null,null,null,null,{"$f":"SUM(Tableau_Data[[#This Row],[Féminin]:[Masculin]])","v":0}]
[null,null,"",null,"",null,null,null,null,null,null,{"$f":"VLOOKUP(K2017,[1]Paramètres!$M$5:$O$101,2,0)","v":{"$error":"#N/A"}},{"$f":"VLOOKUP(K2017,[1]Paramètres!$M$5:$O$101,3,0)","v":{"$error":"#N/A"}},null,null,null,null,null,null,null,null,null,null,{"$f":"SUM(Tableau_Data[[#This Row],[Féminin]:[Masculin]])","v":0}]
[null,null,"",null,"",null,null,null,null,null,null,{"$f":"VLOOKUP(K2026,[1]Paramètres!$M$5:$O$101,2,0)","v":{"$error":"#N/A"}},{"$f":"VLOOKUP(K2026,[1]Paramètres!$M$5:$O$101,3,0)","v":{"$error":"#N/A"}},null,null,null,null,null,null,null,null,null,null,{"$f":"SUM(Tableau_Data[[#This Row],[Féminin]:[Masculin]])","v":0}]
[null,null,"",null,"",null,null,null,null,null,null,{"$f":"VLOOKUP(K2033,[1]Paramètres!$M$5:$O$101,2,0)","v":{"$error":"#N/A"}},{"$f":"VLOOKUP(K2033,[1]Paramètres!$M$5:$O$101,3,0)","v":{"$error":"#N/A"}},null,null,null,null,null,null,null,null,null,null,{"$f":"SUM(Tableau_Data[[#This Row],[Féminin]:[Masculin]])","v":0}]
[null,null,"",null,"",null,null,null,null,null,null,{"$f":"VLOOKUP(K2045,[1]Paramètres!$M$5:$O$101,2,0)","v":{"$error":"#N/A"}},{"$f":"VLOOKUP(K2045,[1]Paramètres!$M$5:$O$101,3,0)","v":{"$error":"#N/A"}},null,null,null,null,null,null,null,null,null,null,{"$f":"SUM(Tableau_Data[[#This Row],[Féminin]:[Masculin]])","v":0}]
[null,null,"",null,"",null,null,null,null,null,null,{"$f":"VLOOKUP(K2054,[1]Paramètres!$M$5:$O$101,2,0)","v":{"$error":"#N/A"}},{"$f":"VLOOKUP(K2054,[1]Paramètres!$M$5:$O$101,3,0)","v":{"$error":"#N/A"}},null,null,null,null,null,null,null,null,null,null,{"$f":"SUM(Tableau_Data[[#This Row],[Féminin]:[Masculin]])","v":0}]
[null,null,"",null,"",null,null,null,null,null,null,{"$f":"VLOOKUP(K2062,[1]Paramètres!$M$5:$O$101,2,0)","v":{"$error":"#N/A"}},{"$f":"VLOOKUP(K2062,[1]Paramètres!$M$5:$O$101,3,0)","v":{"$error":"#N/A"}},null,null,null,null,null,null,null,null,null,null,{"$f":"SUM(Tableau_Data[[#This Row],[Féminin]:[Masculin]])","v":0}]
[null,null,"",null,"",null,null,null,null,null,null,{"$f":"VLOOKUP(K2065,[1]Paramètres!$M$5:$O$101,2,0)","v":{"$error":"#N/A"}},{"$f":"VLOOKUP(K2065,[1]Paramètres!$M$5:$O$101,3,0)","v":{"$error":"#N/A"}},null,null,null,null,null,null,null,null,null,null,{"$f":"SUM(Tableau_Data[[#This Row],[Féminin]:[Masculin]])","v":0}]
[null,null,"",null,"",null,null,null,null,null,null,{"$f":"VLOOKUP(K2074,[1]Paramètres!$M$5:$O$101,2,0)","v":{"$error":"#N/A"}},{"$f":"VLOOKUP(K2074,[1]Paramètres!$M$5:$O$101,3,0)","v":{"$error":"#N/A"}},null,null,null,null,null,null,null,null,null,null,{"$f":"SUM(Tableau_Data[[#This Row],[Féminin]:[Masculin]])","v":0}]
[null,null,"",null,"",null,null,null,null,null,null,{"$f":"VLOOKUP(K2082,[1]Paramètres!$M$5:$O$101,2,0)","v":{"$error":"#N/A"}},{"$f":"VLOOKUP(K2082,[1]Paramètres!$M$5:$O$101,3,0)","v":{"$error":"#N/A"}},null,null,null,null,null,null,null,null,null,null,{"$f":"SUM(Tableau_Data[[#This Row],[Féminin]:[Masculin]])","v":0}]
[null,null,"",null,"",null,null,null,null,null,null,{"$f":"VLOOKUP(K2093,[1]Paramètres!$M$5:$O$101,2,0)","v":{"$error":"#N/A"}},{"$f":"VLOOKUP(K2093,[1]Paramètres!$M$5:$O$101,3,0)","v":{"$error":"#N/A"}},null,null,null,null,null,null,null,null,null,null,{"$f":"SUM(Tableau_Data[[#This Row],[Féminin]:[Masculin]])","v":0}]
[null,null,"",null,"",null,null,null,null,null,null,{"$f":"VLOOKUP(K2102,[1]Paramètres!$M$5:$O$101,2,0)","v":{"$error":"#N/A"}},{"$f":"VLOOKUP(K2102,[1]Paramètres!$M$5:$O$101,3,0)","v":{"$error":"#N/A"}},null,null,null,null,null,null,null,null,null,null,{"$f":"SUM(Tableau_Data[[#This Row],[Féminin]:[Masculin]])","v":0}]
[null,null,"",null,"",null,null,null,null,null,null,{"$f":"VLOOKUP(K2111,[1]Paramètres!$M$5:$O$101,2,0)","v":{"$error":"#N/A"}},{"$f":"VLOOKUP(K2111,[1]Paramètres!$M$5:$O$101,3,0)","v":{"$error":"#N/A"}},null,null,null,null,null,null,null,null,null,null,{"$f":"SUM(Tableau_Data[[#This Row],[Féminin]:[Masculin]])","v":0}]
[null,null,"",null,"",null,null,null,null,null,null,{"$f":"VLOOKUP(K2121,[1]Paramètres!$M$5:$O$101,2,0)","v":{"$error":"#N/A"}},{"$f":"VLOOKUP(K2121,[1]Paramètres!$M$5:$O$101,3,0)","v":{"$error":"#N/A"}},null,null,null,null,null,null,null,null,null,null,{"$f":"SUM(Tableau_Data[[#This Row],[Féminin]:[Masculin]])","v":0}]
[null,null,"",null,"",null,null,null,null,null,null,{"$f":"VLOOKUP(K2122,[1]Paramètres!$M$5:$O$101,2,0)","v":{"$error":"#N/A"}},{"$f":"VLOOKUP(K2122,[1]Paramètres!$M$5:$O$101,3,0)","v":{"$error":"#N/A"}},null,null,null,null,null,null,null,null,null,null,{"$f":"SUM(Tableau_Data[[#This Row],[Féminin]:[Masculin]])","v":0}]
[null,null,"",null,"",null,null,null,null,null,null,{"$f":"VLOOKUP(K2131,[1]Paramètres!$M$5:$O$101,2,0)","v":{"$error":"#N/A"}},{"$f":"VLOOKUP(K2131,[1]Paramètres!$M$5:$O$101,3,0)","v":{"$error":"#N/A"}},null,null,null,null,null,null,null,null,null,null,{"$f":"SUM(Tableau_Data[[#This Row],[Féminin]:[Masculin]])","v":0}]
[null,null,"",null,"",null,null,null,null,null,null,{"$f":"VLOOKUP(K2146,[1]Paramètres!$M$5:$O$101,2,0)","v":{"$error":"#N/A"}},{"$f":"VLOOKUP(K2146,[1]Paramètres!$M$5:$O$101,3,0)","v":{"$error":"#N/A"}},null,null,null,null,null,null,null,null,null,null,{"$f":"SUM(Tableau_Data[[#This Row],[Féminin]:[Masculin]])","v":0}]
[null,null,"",null,"",null,null,null,null,null,null,{"$f":"VLOOKUP(K2150,[1]Paramètres!$M$5:$O$101,2,0)","v":{"$error":"#N/A"}},{"$f":"VLOOKUP(K2150,[1]Paramètres!$M$5:$O$101,3,0)","v":{"$error":"#N/A"}},null,null,null,null,null,null,null,null,null,null,{"$f":"SUM(Tableau_Data[[#This Row],[Féminin]:[Masculin]])","v":0}]
[null,null,"",null,"",null,null,null,null,null,null,{"$f":"VLOOKUP(K2159,[1]Paramètres!$M$5:$O$101,2,0)","v":{"$error":"#N/A"}},{"$f":"VLOOKUP(K2159,[1]Paramètres!$M$5:$O$101,3,0)","v":{"$error":"#N/A"}},null,null,null,null,null,null,null,null,null,null,{"$f":"SUM(Tableau_Data[[#This Row],[Féminin]:[Masculin]])","v":0}]
[null,null,"",null,"",null,null,null,null,null,null,{"$f":"VLOOKUP(K2166,[1]Paramètres!$M$5:$O$101,2,0)","v":{"$error":"#N/A"}},{"$f":"VLOOKUP(K2166,[1]Paramètres!$M$5:$O$101,3,0)","v":{"$error":"#N/A"}},null,null,null,null,null,null,null,null,null,null,{"$f":"SUM(Tableau_Data[[#This Row],[Féminin]:[Masculin]])","v":0}]
[null,null,"",null,"",null,null,null,null,null,null,{"$f":"VLOOKUP(K2178,[1]Paramètres!$M$5:$O$101,2,0)","v":{"$error":"#N/A"}},{"$f":"VLOOKUP(K2178,[1]Paramètres!$M$5:$O$101,3,0)","v":{"$error":"#N/A"}},null,null,null,null,null,null,null,null,null,null,{"$f":"SUM(Tableau_Data[[#This Row],[Féminin]:[Masculin]])","v":0}]
[null,null,"",null,"",null,null,null,null,null,null,{"$f":"VLOOKUP(K2187,[1]Paramètres!$M$5:$O$101,2,0)","v":{"$error":"#N/A"}},{"$f":"VLOOKUP(K2187,[1]Paramètres!$M$5:$O$101,3,0)","v":{"$error":"#N/A"}},null,null,null,null,null,null,null,null,null,null,{"$f":"SUM(Tableau_Data[[#This Row],[Féminin]:[Masculin]])","v":0}]
[null,null,"",null,"",null,null,null,null,null,null,{"$f":"VLOOKUP(K2195,[1]Paramètres!$M$5:$O$101,2,0)","v":{"$error":"#N/A"}},{"$f":"VLOOKUP(K2195,[1]Paramètres!$M$5:$O$101,3,0)","v":{"$error":"#N/A"}},null,null,null,null,null,null,null,null,null,null,{"$f":"SUM(Tableau_Data[[#This Row],[Féminin]:[Masculin]])","v":0}]
[null,null,"",null,"",null,null,null,null,null,null,{"$f":"VLOOKUP(K2198,[1]Paramètres!$M$5:$O$101,2,0)","v":{"$error":"#N/A"}},{"$f":"VLOOKUP(K2198,[1]Paramètres!$M$5:$O$101,3,0)","v":{"$error":"#N/A"}},null,null,null,null,null,null,null,null,null,null,{"$f":"SUM(Tableau_Data[[#This Row],[Féminin]:[Masculin]])","v":0}]
[null,null,"",null,"",null,null,null,null,null,null,{"$f":"VLOOKUP(K2207,[1]Paramètres!$M$5:$O$101,2,0)","v":{"$error":"#N/A"}},{"$f":"VLOOKUP(K2207,[1]Paramètres!$M$5:$O$101,3,0)","v":{"$error":"#N/A"}},null,null,null,null,null,null,null,null,null,null,{"$f":"SUM(Tableau_Data[[#This Row],[Féminin]:[Masculin]])","v":0}]
[null,null,"",null,"",null,null,null,null,null,null,{"$f":"VLOOKUP(K2216,[1]Paramètres!$M$5:$O$101,2,0)","v":{"$error":"#N/A"}},{"$f":"VLOOKUP(K2216,[1]Paramètres!$M$5:$O$101,3,0)","v":{"$error":"#N/A"}},null,null,null,null,null,null,null,null,null,null,{"$f":"SUM(Tableau_Data[[#This Row],[Féminin]:[Masculin]])","v":0}]
[null,null,"",null,"",null,null,null,null,null,null,{"$f":"VLOOKUP(K2221,[1]Paramètres!$M$5:$O$101,2,0)","v":{"$error":"#N/A"}},{"$f":"VLOOKUP(K2221,[1]Paramètres!$M$5:$O$101,3,0)","v":{"$error":"#N/A"}},null,null,null,null,null,null,null,null,null,null,{"$f":"SUM(Tableau_Data[[#This Row],[Féminin]:[Masculin]])","v":0}]
[null,null,"",null,"",null,null,null,null,null,null,{"$f":"VLOOKUP(K2235,[1]Paramètres!$M$5:$O$101,2,0)","v":{"$error":"#N/A"}},{"$f":"VLOOKUP(K2235,[1]Paramètres!$M$5:$O$101,3,0)","v":{"$error":"#N/A"}},null,null,null,null,null,null,null,null,null,null,{"$f":"SUM(Tableau_Data[[#This Row],[Féminin]:[Masculin]])","v":0}]
[null,null,"",null,"",null,null,null,null,null,null,{"$f":"VLOOKUP(K2244,[1]Paramètres!$M$5:$O$101,2,0)","v":{"$error":"#N/A"}},{"$f":"VLOOKUP(K2244,[1]Paramètres!$M$5:$O$101,3,0)","v":{"$error":"#N/A"}},null,null,null,null,null,null,null,null,null,null,{"$f":"SUM(Tableau_Data[[#This Row],[Féminin]:[Masculin]])","v":0}]
[null,null,"",null,"",null,null,null,null,null,null,{"$f":"VLOOKUP(K2250,[1]Paramètres!$M$5:$O$101,2,0)","v":{"$error":"#N/A"}},{"$f":"VLOOKUP(K2250,[1]Paramètres!$M$5:$O$101,3,0)","v":{"$error":"#N/A"}},null,null,null,null,null,null,null,null,null,null,{"$f":"SUM(Tableau_Data[[#This Row],[Féminin]:[Masculin]])","v":0}]
[null,null,"",null,"",null,null,null,null,null,null,{"$f":"VLOOKUP(K2255,[1]Paramètres!$M$5:$O$101,2,0)","v":{"$error":"#N/A"}},{"$f":"VLOOKUP(K2255,[1]Paramètres!$M$5:$O$101,3,0)","v":{"$error":"#N/A"}},null,null,null,null,null,null,null,null,null,null,{"$f":"SUM(Tableau_Data[[#This Row],[Féminin]:[Masculin]])","v":0}]
[null,null,"",null,"",null,null,null,null,null,null,{"$f":"VLOOKUP(K2264,[1]Paramètres!$M$5:$O$101,2,0)","v":{"$error":"#N/A"}},{"$f":"VLOOKUP(K2264,[1]Paramètres!$M$5:$O$101,3,0)","v":{"$error":"#N/A"}},null,null,null,null,null,null,null,null,null,null,{"$f":"SUM(Tableau_Data[[#This Row],[Féminin]:[Masculin]])","v":0}]
[null,null,"",null,"",null,null,null,null,null,null,{"$f":"VLOOKUP(K2279,[1]Paramètres!$M$5:$O$101,2,0)","v":{"$error":"#N/A"}},{"$f":"VLOOKUP(K2279,[1]Paramètres!$M$5:$O$101,3,0)","v":{"$error":"#N/A"}},null,null,null,null,null,null,null,null,null,null,{"$f":"SUM(Tableau_Data[[#This Row],[Féminin]:[Masculin]])","v":0}]
[null,null,"",null,"",null,null,null,null,null,null,{"$f":"VLOOKUP(K2283,[1]Paramètres!$M$5:$O$101,2,0)","v":{"$error":"#N/A"}},{"$f":"VLOOKUP(K2283,[1]Paramètres!$M$5:$O$101,3,0)","v":{"$error":"#N/A"}},null,null,null,null,null,null,null,null,null,null,{"$f":"SUM(Tableau_Data[[#This Row],[Féminin]:[Masculin]])","v":0}]
[null,null,"",null,"",null,null,null,null,null,null,{"$f":"VLOOKUP(K2292,[1]Paramètres!$M$5:$O$101,2,0)","v":{"$error":"#N/A"}},{"$f":"VLOOKUP(K2292,[1]Paramètres!$M$5:$O$101,3,0)","v":{"$error":"#N/A"}},null,null,null,null,null,null,null,null,null,null,{"$f":"SUM(Tableau_Data[[#This Row],[Féminin]:[Masculin]])","v":0}]
[null,null,"",null,"",null,null,null,null,null,null,{"$f":"VLOOKUP(K2299,[1]Paramètres!$M$5:$O$101,2,0)","v":{"$error":"#N/A"}},{"$f":"VLOOKUP(K2299,[1]Paramètres!$M$5:$O$101,3,0)","v":{"$error":"#N/A"}},null,null,null,null,null,null,null,null,null,null,{"$f":"SUM(Tableau_Data[[#This Row],[Féminin]:[Masculin]])","v":0}]
[null,null,"",null,"",null,null,null,null,null,null,{"$f":"VLOOKUP(K2311,[1]Paramètres!$M$5:$O$101,2,0)","v":{"$error":"#N/A"}},{"$f":"VLOOKUP(K2311,[1]Paramètres!$M$5:$O$101,3,0)","v":{"$error":"#N/A"}},null,null,null,null,null,null,null,null,null,null,{"$f":"SUM(Tableau_Data[[#This Row],[Féminin]:[Masculin]])","v":0}]
[null,null,"",null,"",null,null,null,null,null,null,{"$f":"VLOOKUP(K2320,[1]Paramètres!$M$5:$O$101,2,0)","v":{"$error":"#N/A"}},{"$f":"VLOOKUP(K2320,[1]Paramètres!$M$5:$O$101,3,0)","v":{"$error":"#N/A"}},null,null,null,null,null,null,null,null,null,null,{"$f":"SUM(Tableau_Data[[#This Row],[Féminin]:[Masculin]])","v":0}]
[null,null,"",null,"",null,null,null,null,null,null,{"$f":"VLOOKUP(K2321,[1]Paramètres!$M$5:$O$101,2,0)","v":{"$error":"#N/A"}},{"$f":"VLOOKUP(K2321,[1]Paramètres!$M$5:$O$101,3,0)","v":{"$error":"#N/A"}},null,null,null,null,null,null,null,null,null,null,{"$f":"SUM(Tableau_Data[[#This Row],[Féminin]:[Masculin]])","v":0}]
[null,null,"",null,"",null,null,null,null,null,null,{"$f":"VLOOKUP(K2334,[1]Paramètres!$M$5:$O$101,2,0)","v":{"$error":"#N/A"}},{"$f":"VLOOKUP(K2334,[1]Paramètres!$M$5:$O$101,3,0)","v":{"$error":"#N/A"}},null,null,null,null,null,null,null,null,null,null,{"$f":"SUM(Tableau_Data[[#This Row],[Féminin]:[Masculin]])","v":0}]
[null,null,"",null,"",null,null,null,null,null,null,{"$f":"VLOOKUP(K2340,[1]Paramètres!$M$5:$O$101,2,0)","v":{"$error":"#N/A"}},{"$f":"VLOOKUP(K2340,[1]Paramètres!$M$5:$O$101,3,0)","v":{"$error":"#N/A"}},null,null,null,null,null,null,null,null,null,null,{"$f":"SUM(Tableau_Data[[#This Row],[Féminin]:[Masculin]])","v":0}]
[null,null,"",null,"",null,null,null,null,null,null,{"$f":"VLOOKUP(K2349,[1]Paramètres!$M$5:$O$101,2,0)","v":{"$error":"#N/A"}},{"$f":"VLOOKUP(K2349,[1]Paramètres!$M$5:$O$101,3,0)","v":{"$error":"#N/A"}},null,null,null,null,null,null,null,null,null,null,{"$f":"SUM(Tableau_Data[[#This Row],[Féminin]:[Masculin]])","v":0}]
[null,null,"",null,"",null,null,null,null,null,null,{"$f":"VLOOKUP(K2354,[1]Paramètres!$M$5:$O$101,2,0)","v":{"$error":"#N/A"}},{"$f":"VLOOKUP(K2354,[1]Paramètres!$M$5:$O$101,3,0)","v":{"$error":"#N/A"}},null,null,null,null,null,null,null,null,null,null,{"$f":"SUM(Tableau_Data[[#This Row],[Féminin]:[Masculin]])","v":0}]
[null,null,"",null,"",null,null,null,null,null,null,{"$f":"VLOOKUP(K2368,[1]Paramètres!$M$5:$O$101,2,0)","v":{"$error":"#N/A"}},{"$f":"VLOOKUP(K2368,[1]Paramètres!$M$5:$O$101,3,0)","v":{"$error":"#N/A"}},null,null,null,null,null,null,null,null,null,null,{"$f":"SUM(Tableau_Data[[#This Row],[Féminin]:[Masculin]])","v":0}]
[null,null,"",null,"",null,null,null,null,null,null,{"$f":"VLOOKUP(K2377,[1]Paramètres!$M$5:$O$101,2,0)","v":{"$error":"#N/A"}},{"$f":"VLOOKUP(K2377,[1]Paramètres!$M$5:$O$101,3,0)","v":{"$error":"#N/A"}},null,null,null,null,null,null,null,null,null,null,{"$f":"SUM(Tableau_Data[[#This Row],[Féminin]:[Masculin]])","v":0}]
[null,null,"",null,"",null,null,null,null,null,null,{"$f":"VLOOKUP(K2383,[1]Paramètres!$M$5:$O$101,2,0)","v":{"$error":"#N/A"}},{"$f":"VLOOKUP(K2383,[1]Paramètres!$M$5:$O$101,3,0)","v":{"$error":"#N/A"}},null,null,null,null,null,null,null,null,null,null,{"$f":"SUM(Tableau_Data[[#This Row],[Féminin]:[Masculin]])","v":0}]
[null,null,"",null,"",null,null,null,null,null,null,{"$f":"VLOOKUP(K2388,[1]Paramètres!$M$5:$O$101,2,0)","v":{"$error":"#N/A"}},{"$f":"VLOOKUP(K2388,[1]Paramètres!$M$5:$O$101,3,0)","v":{"$error":"#N/A"}},null,null,null,null,null,null,null,null,null,null,{"$f":"SUM(Tableau_Data[[#This Row],[Féminin]:[Masculin]])","v":0}]
[null,null,"",null,"",null,null,null,null,null,null,{"$f":"VLOOKUP(K2397,[1]Paramètres!$M$5:$O$101,2,0)","v":{"$error":"#N/A"}},{"$f":"VLOOKUP(K2397,[1]Paramètres!$M$5:$O$101,3,0)","v":{"$error":"#N/A"}},null,null,null,null,null,null,null,null,null,null,{"$f":"SUM(Tableau_Data[[#This Row],[Féminin]:[Masculin]])","v":0}]
[null,null,"",null,"",null,null,null,null,null,null,{"$f":"VLOOKUP(K2412,[1]Paramètres!$M$5:$O$101,2,0)","v":{"$error":"#N/A"}},{"$f":"VLOOKUP(K2412,[1]Paramètres!$M$5:$O$101,3,0)","v":{"$error":"#N/A"}},null,null,null,null,null,null,null,null,null,null,{"$f":"SUM(Tableau_Data[[#This Row],[Féminin]:[Masculin]])","v":0}]
[null,null,"",null,"",null,null,null,null,null,null,{"$f":"VLOOKUP(K2416,[1]Paramètres!$M$5:$O$101,2,0)","v":{"$error":"#N/A"}},{"$f":"VLOOKUP(K2416,[1]Paramètres!$M$5:$O$101,3,0)","v":{"$error":"#N/A"}},null,null,null,null,null,null,null,null,null,null,{"$f":"SUM(Tableau_Data[[#This Row],[Féminin]:[Masculin]])","v":0}]
[null,null,"",null,"",null,null,null,null,null,null,{"$f":"VLOOKUP(K2425,[1]Paramètres!$M$5:$O$101,2,0)","v":{"$error":"#N/A"}},{"$f":"VLOOKUP(K2425,[1]Paramètres!$M$5:$O$101,3,0)","v":{"$error":"#N/A"}},null,null,null,null,null,null,null,null,null,null,{"$f":"SUM(Tableau_Data[[#This Row],[Féminin]:[Masculin]])","v":0}]
[null,null,"",null,"",null,null,null,null,null,null,{"$f":"VLOOKUP(K2434,[1]Paramètres!$M$5:$O$101,2,0)","v":{"$error":"#N/A"}},{"$f":"VLOOKUP(K2434,[1]Paramètres!$M$5:$O$101,3,0)","v":{"$error":"#N/A"}},null,null,null,null,null,null,null,null,null,null,{"$f":"SUM(Tableau_Data[[#This Row],[Féminin]:[Masculin]])","v":0}]
[null,null,"",null,"",null,null,null,null,null,null,{"$f":"VLOOKUP(K2438,[1]Paramètres!$M$5:$O$101,2,0)","v":{"$error":"#N/A"}},{"$f":"VLOOKUP(K2438,[1]Paramètres!$M$5:$O$101,3,0)","v":{"$error":"#N/A"}},null,null,null,null,null,null,null,null,null,null,{"$f":"SUM(Tableau_Data[[#This Row],[Féminin]:[Masculin]])","v":0}]
[null,null,"",null,"",null,null,null,null,null,null,{"$f":"VLOOKUP(K2453,[1]Paramètres!$M$5:$O$101,2,0)","v":{"$error":"#N/A"}},{"$f":"VLOOKUP(K2453,[1]Paramètres!$M$5:$O$101,3,0)","v":{"$error":"#N/A"}},null,null,null,null,null,null,null,null,null,null,{"$f":"SUM(Tableau_Data[[#This Row],[Féminin]:[Masculin]])","v":0}]
[null,null,"",null,"",null,null,null,null,null,null,{"$f":"VLOOKUP(K2454,[1]Paramètres!$M$5:$O$101,2,0)","v":{"$error":"#N/A"}},{"$f":"VLOOKUP(K2454,[1]Paramètres!$M$5:$O$101,3,0)","v":{"$error":"#N/A"}},null,null,null,null,null,null,null,null,null,null,{"$f":"SUM(Tableau_Data[[#This Row],[Féminin]:[Masculin]])","v":0}]
[null,null,"",null,"",null,null,null,null,null,null,{"$f":"VLOOKUP(K2467,[1]Paramètres!$M$5:$O$101,2,0)","v":{"$error":"#N/A"}},{"$f":"VLOOKUP(K2467,[1]Paramètres!$M$5:$O$101,3,0)","v":{"$error":"#N/A"}},null,null,null,null,null,null,null,null,null,null,{"$f":"SUM(Tableau_Data[[#This Row],[Féminin]:[Masculin]])","v":0}]
[null,null,"",null,"",null,null,null,null,null,null,{"$f":"VLOOKUP(K2473,[1]Paramètres!$M$5:$O$101,2,0)","v":{"$error":"#N/A"}},{"$f":"VLOOKUP(K2473,[1]Paramètres!$M$5:$O$101,3,0)","v":{"$error":"#N/A"}},null,null,null,null,null,null,null,null,null,null,{"$f":"SUM(Tableau_Data[[#This Row],[Féminin]:[Masculin]])","v":0}]
[null,null,"",null,"",null,null,null,null,null,null,{"$f":"VLOOKUP(K2482,[1]Paramètres!$M$5:$O$101,2,0)","v":{"$error":"#N/A"}},{"$f":"VLOOKUP(K2482,[1]Paramètres!$M$5:$O$101,3,0)","v":{"$error":"#N/A"}},null,null,null,null,null,null,null,null,null,null,{"$f":"SUM(Tableau_Data[[#This Row],[Féminin]:[Masculin]])","v":0}]
[null,null,"",null,"",null,null,null,null,null,null,{"$f":"VLOOKUP(K2487,[1]Paramètres!$M$5:$O$101,2,0)","v":{"$error":"#N/A"}},{"$f":"VLOOKUP(K2487,[1]Paramètres!$M$5:$O$101,3,0)","v":{"$error":"#N/A"}},null,null,null,null,null,null,null,null,null,null,{"$f":"SUM(Tableau_Data[[#This Row],[Féminin]:[Masculin]])","v":0}]
[null,null,"",null,"",null,null,null,null,null,null,{"$f":"VLOOKUP(K2501,[1]Paramètres!$M$5:$O$101,2,0)","v":{"$error":"#N/A"}},{"$f":"VLOOKUP(K2501,[1]Paramètres!$M$5:$O$101,3,0)","v":{"$error":"#N/A"}},null,null,null,null,null,null,null,null,null,null,{"$f":"SUM(Tableau_Data[[#This Row],[Féminin]:[Masculin]])","v":0}]
[null,null,"",null,"",null,null,null,null,null,null,{"$f":"VLOOKUP(K2510,[1]Paramètres!$M$5:$O$101,2,0)","v":{"$error":"#N/A"}},{"$f":"VLOOKUP(K2510,[1]Paramètres!$M$5:$O$101,3,0)","v":{"$error":"#N/A"}},null,null,null,null,null,null,null,null,null,null,{"$f":"SUM(Tableau_Data[[#This Row],[Féminin]:[Masculin]])","v":0}]
[null,null,"",null,"",null,null,null,null,null,null,{"$f":"VLOOKUP(K2519,[1]Paramètres!$M$5:$O$101,2,0)","v":{"$error":"#N/A"}},{"$f":"VLOOKUP(K2519,[1]Paramètres!$M$5:$O$101,3,0)","v":{"$error":"#N/A"}},null,null,null,null,null,null,null,null,null,null,{"$f":"SUM(Tableau_Data[[#This Row],[Féminin]:[Masculin]])","v":0}]
[null,null,"",null,"",null,null,null,null,null,null,{"$f":"VLOOKUP(K2527,[1]Paramètres!$M$5:$O$101,2,0)","v":{"$error":"#N/A"}},{"$f":"VLOOKUP(K2527,[1]Paramètres!$M$5:$O$101,3,0)","v":{"$error":"#N/A"}},null,null,null,null,null,null,null,null,null,null,{"$f":"SUM(Tableau_Data[[#This Row],[Féminin]:[Masculin]])","v":0}]
[null,null,"",null,"",null,null,null,null,null,null,{"$f":"VLOOKUP(K2530,[1]Paramètres!$M$5:$O$101,2,0)","v":{"$error":"#N/A"}},{"$f":"VLOOKUP(K2530,[1]Paramètres!$M$5:$O$101,3,0)","v":{"$error":"#N/A"}},null,null,null,null,null,null,null,null,null,null,{"$f":"SUM(Tableau_Data[[#This Row],[Féminin]:[Masculin]])","v":0}]
[null,null,"",null,"",null,null,null,null,null,null,{"$f":"VLOOKUP(K2539,[1]Paramètres!$M$5:$O$101,2,0)","v":{"$error":"#N/A"}},{"$f":"VLOOKUP(K2539,[1]Paramètres!$M$5:$O$101,3,0)","v":{"$error":"#N/A"}},null,null,null,null,null,null,null,null,null,null,{"$f":"SUM(Tableau_Data[[#This Row],[Féminin]:[Masculin]])","v":0}]
[null,null,"",null,"",null,null,null,null,null,null,{"$f":"VLOOKUP(K2551,[1]Paramètres!$M$5:$O$101,2,0)","v":{"$error":"#N/A"}},{"$f":"VLOOKUP(K2551,[1]Paramètres!$M$5:$O$101,3,0)","v":{"$error":"#N/A"}},null,null,null,null,null,null,null,null,null,null,{"$f":"SUM(Tableau_Data[[#This Row],[Féminin]:[Masculin]])","v":0}]
[null,null,"",null,"",null,null,null,null,null,null,{"$f":"VLOOKUP(K2558,[1]Paramètres!$M$5:$O$101,2,0)","v":{"$error":"#N/A"}},{"$f":"VLOOKUP(K2558,[1]Paramètres!$M$5:$O$101,3,0)","v":{"$error":"#N/A"}},null,null,null,null,null,null,null,null,null,null,{"$f":"SUM(Tableau_Data[[#This Row],[Féminin]:[Masculin]])","v":0}]
[null,null,"",null,"",null,null,null,null,null,null,{"$f":"VLOOKUP(K2567,[1]Paramètres!$M$5:$O$101,2,0)","v":{"$error":"#N/A"}},{"$f":"VLOOKUP(K2567,[1]Paramètres!$M$5:$O$101,3,0)","v":{"$error":"#N/A"}},null,null,null,null,null,null,null,null,null,null,{"$f":"SUM(Tableau_Data[[#This Row],[Féminin]:[Masculin]])","v":0}]
[null,null,"",null,"",null,null,null,null,null,null,{"$f":"VLOOKUP(K2571,[1]Paramètres!$M$5:$O$101,2,0)","v":{"$error":"#N/A"}},{"$f":"VLOOKUP(K2571,[1]Paramètres!$M$5:$O$101,3,0)","v":{"$error":"#N/A"}},null,null,null,null,null,null,null,null,null,null,{"$f":"SUM(Tableau_Data[[#This Row],[Féminin]:[Masculin]])","v":0}]
[null,null,"",null,"",null,null,null,null,null,null,{"$f":"VLOOKUP(K2586,[1]Paramètres!$M$5:$O$101,2,0)","v":{"$error":"#N/A"}},{"$f":"VLOOKUP(K2586,[1]Paramètres!$M$5:$O$101,3,0)","v":{"$error":"#N/A"}},null,null,null,null,null,null,null,null,null,null,{"$f":"SUM(Tableau_Data[[#This Row],[Féminin]:[Masculin]])","v":0}]
[null,null,"",null,"",null,null,null,null,null,null,{"$f":"VLOOKUP(K2587,[1]Paramètres!$M$5:$O$101,2,0)","v":{"$error":"#N/A"}},{"$f":"VLOOKUP(K2587,[1]Paramètres!$M$5:$O$101,3,0)","v":{"$error":"#N/A"}},null,null,null,null,null,null,null,null,null,null,{"$f":"SUM(Tableau_Data[[#This Row],[Féminin]:[Masculin]])","v":0}]
[null,null,"",null,"",null,null,null,null,null,null,{"$f":"VLOOKUP(K2600,[1]Paramètres!$M$5:$O$101,2,0)","v":{"$error":"#N/A"}},{"$f":"VLOOKUP(K2600,[1]Paramètres!$M$5:$O$101,3,0)","v":{"$error":"#N/A"}},null,null,null,null,null,null,null,null,null,null,{"$f":"SUM(Tableau_Data[[#This Row],[Féminin]:[Masculin]])","v":0}]
[null,null,"",null,"",null,null,null,null,null,null,{"$f":"VLOOKUP(K2606,[1]Paramètres!$M$5:$O$101,2,0)","v":{"$error":"#N/A"}},{"$f":"VLOOKUP(K2606,[1]Paramètres!$M$5:$O$101,3,0)","v":{"$error":"#N/A"}},null,null,null,null,null,null,null,null,null,null,{"$f":"SUM(Tableau_Data[[#This Row],[Féminin]:[Masculin]])","v":0}]
[null,null,"",null,"",null,null,null,null,null,null,{"$f":"VLOOKUP(K2615,[1]Paramètres!$M$5:$O$101,2,0)","v":{"$error":"#N/A"}},{"$f":"VLOOKUP(K2615,[1]Paramètres!$M$5:$O$101,3,0)","v":{"$error":"#N/A"}},null,null,null,null,null,null,null,null,null,null,{"$f":"SUM(Tableau_Data[[#This Row],[Féminin]:[Masculin]])","v":0}]
[null,null,"",null,"",null,null,null,null,null,null,{"$f":"VLOOKUP(K2624,[1]Paramètres!$M$5:$O$101,2,0)","v":{"$error":"#N/A"}},{"$f":"VLOOKUP(K2624,[1]Paramètres!$M$5:$O$101,3,0)","v":{"$error":"#N/A"}},null,null,null,null,null,null,null,null,null,null,{"$f":"SUM(Tableau_Data[[#This Row],[Féminin]:[Masculin]])","v":0}]
[null,null,"",null,"",null,null,null,null,null,null,{"$f":"VLOOKUP(K2631,[1]Paramètres!$M$5:$O$101,2,0)","v":{"$error":"#N/A"}},{"$f":"VLOOKUP(K2631,[1]Paramètres!$M$5:$O$101,3,0)","v":{"$error":"#N/A"}},null,null,null,null,null,null,null,null,null,null,{"$f":"SUM(Tableau_Data[[#This Row],[Féminin]:[Masculin]])","v":0}]
[null,null,"",null,"",null,null,null,null,null,null,{"$f":"VLOOKUP(K2643,[1]Paramètres!$M$5:$O$101,2,0)","v":{"$error":"#N/A"}},{"$f":"VLOOKUP(K2643,[1]Paramètres!$M$5:$O$101,3,0)","v":{"$error":"#N/A"}},null,null,null,null,null,null,null,null,null,null,{"$f":"SUM(Tableau_Data[[#This Row],[Féminin]:[Masculin]])","v":0}]
[null,null,"",null,"",null,null,null,null,null,null,{"$f":"VLOOKUP(K2652,[1]Paramètres!$M$5:$O$101,2,0)","v":{"$error":"#N/A"}},{"$f":"VLOOKUP(K2652,[1]Paramètres!$M$5:$O$101,3,0)","v":{"$error":"#N/A"}},null,null,null,null,null,null,null,null,null,null,{"$f":"SUM(Tableau_Data[[#This Row],[Féminin]:[Masculin]])","v":0}]
[null,null,"",null,"",null,null,null,null,null,null,{"$f":"VLOOKUP(K2655,[1]Paramètres!$M$5:$O$101,2,0)","v":{"$error":"#N/A"}},{"$f":"VLOOKUP(K2655,[1]Paramètres!$M$5:$O$101,3,0)","v":{"$error":"#N/A"}},null,null,null,null,null,null,null,null,null,null,{"$f":"SUM(Tableau_Data[[#This Row],[Féminin]:[Masculin]])","v":0}]
[null,null,"",null,"",null,null,null,null,null,null,{"$f":"VLOOKUP(K2663,[1]Paramètres!$M$5:$O$101,2,0)","v":{"$error":"#N/A"}},{"$f":"VLOOKUP(K2663,[1]Paramètres!$M$5:$O$101,3,0)","v":{"$error":"#N/A"}},null,null,null,null,null,null,null,null,null,null,{"$f":"SUM(Tableau_Data[[#This Row],[Féminin]:[Masculin]])","v":0}]
[null,null,"",null,"",null,null,null,null,null,null,{"$f":"VLOOKUP(K2672,[1]Paramètres!$M$5:$O$101,2,0)","v":{"$error":"#N/A"}},{"$f":"VLOOKUP(K2672,[1]Paramètres!$M$5:$O$101,3,0)","v":{"$error":"#N/A"}},null,null,null,null,null,null,null,null,null,null,{"$f":"SUM(Tableau_Data[[#This Row],[Féminin]:[Masculin]])","v":0}]
[null,null,"",null,"",null,null,null,null,null,null,{"$f":"VLOOKUP(K2684,[1]Paramètres!$M$5:$O$101,2,0)","v":{"$error":"#N/A"}},{"$f":"VLOOKUP(K2684,[1]Paramètres!$M$5:$O$101,3,0)","v":{"$error":"#N/A"}},null,null,null,null,null,null,null,null,null,null,{"$f":"SUM(Tableau_Data[[#This Row],[Féminin]:[Masculin]])","v":0}]
[null,null,"",null,"",null,null,null,null,null,null,{"$f":"VLOOKUP(K2691,[1]Paramètres!$M$5:$O$101,2,0)","v":{"$error":"#N/A"}},{"$f":"VLOOKUP(K2691,[1]Paramètres!$M$5:$O$101,3,0)","v":{"$error":"#N/A"}},null,null,null,null,null,null,null,null,null,null,{"$f":"SUM(Tableau_Data[[#This Row],[Féminin]:[Masculin]])","v":0}]
[null,null,"",null,"",null,null,null,null,null,null,{"$f":"VLOOKUP(K2700,[1]Paramètres!$M$5:$O$101,2,0)","v":{"$error":"#N/A"}},{"$f":"VLOOKUP(K2700,[1]Paramètres!$M$5:$O$101,3,0)","v":{"$error":"#N/A"}},null,null,null,null,null,null,null,null,null,null,{"$f":"SUM(Tableau_Data[[#This Row],[Féminin]:[Masculin]])","v":0}]
[null,null,"",null,"",null,null,null,null,null,null,{"$f":"VLOOKUP(K2704,[1]Paramètres!$M$5:$O$101,2,0)","v":{"$error":"#N/A"}},{"$f":"VLOOKUP(K2704,[1]Paramètres!$M$5:$O$101,3,0)","v":{"$error":"#N/A"}},null,null,null,null,null,null,null,null,null,null,{"$f":"SUM(Tableau_Data[[#This Row],[Féminin]:[Masculin]])","v":0}]
[null,null,"",null,"",null,null,null,null,null,null,{"$f":"VLOOKUP(K2719,[1]Paramètres!$M$5:$O$101,2,0)","v":{"$error":"#N/A"}},{"$f":"VLOOKUP(K2719,[1]Paramètres!$M$5:$O$101,3,0)","v":{"$error":"#N/A"}},null,null,null,null,null,null,null,null,null,null,{"$f":"SUM(Tableau_Data[[#This Row],[Féminin]:[Masculin]])","v":0}]
[null,null,"",null,"",null,null,null,null,null,null,{"$f":"VLOOKUP(K2720,[1]Paramètres!$M$5:$O$101,2,0)","v":{"$error":"#N/A"}},{"$f":"VLOOKUP(K2720,[1]Paramètres!$M$5:$O$101,3,0)","v":{"$error":"#N/A"}},null,null,null,null,null,null,null,null,null,null,{"$f":"SUM(Tableau_Data[[#This Row],[Féminin]:[Masculin]])","v":0}]
[null,null,"",null,"",null,null,null,null,null,null,{"$f":"VLOOKUP(K2729,[1]Paramètres!$M$5:$O$101,2,0)","v":{"$error":"#N/A"}},{"$f":"VLOOKUP(K2729,[1]Paramètres!$M$5:$O$101,3,0)","v":{"$error":"#N/A"}},null,null,null,null,null,null,null,null,null,null,{"$f":"SUM(Tableau_Data[[#This Row],[Féminin]:[Masculin]])","v":0}]
[null,null,"",null,"",null,null,null,null,null,null,{"$f":"VLOOKUP(K2744,[1]Paramètres!$M$5:$O$101,2,0)","v":{"$error":"#N/A"}},{"$f":"VLOOKUP(K2744,[1]Paramètres!$M$5:$O$101,3,0)","v":{"$error":"#N/A"}},null,null,null,null,null,null,null,null,null,null,{"$f":"SUM(Tableau_Data[[#This Row],[Féminin]:[Masculin]])","v":0}]
[null,null,"",null,"",null,null,null,null,null,null,{"$f":"VLOOKUP(K2748,[1]Paramètres!$M$5:$O$101,2,0)","v":{"$error":"#N/A"}},{"$f":"VLOOKUP(K2748,[1]Paramètres!$M$5:$O$101,3,0)","v":{"$error":"#N/A"}},null,null,null,null,null,null,null,null,null,null,{"$f":"SUM(Tableau_Data[[#This Row],[Féminin]:[Masculin]])","v":0}]
[null,null,"",null,"",null,null,null,null,null,null,{"$f":"VLOOKUP(K2757,[1]Paramètres!$M$5:$O$101,2,0)","v":{"$error":"#N/A"}},{"$f":"VLOOKUP(K2757,[1]Paramètres!$M$5:$O$101,3,0)","v":{"$error":"#N/A"}},null,null,null,null,null,null,null,null,null,null,{"$f":"SUM(Tableau_Data[[#This Row],[Féminin]:[Masculin]])","v":0}]
[null,null,"",null,"",null,null,null,null,null,null,{"$f":"VLOOKUP(K2764,[1]Paramètres!$M$5:$O$101,2,0)","v":{"$error":"#N/A"}},{"$f":"VLOOKUP(K2764,[1]Paramètres!$M$5:$O$101,3,0)","v":{"$error":"#N/A"}},null,null,null,null,null,null,null,null,null,null,{"$f":"SUM(Tableau_Data[[#This Row],[Féminin]:[Masculin]])","v":0}]
[null,null,"",null,"",null,null,null,null,null,null,{"$f":"VLOOKUP(K2776,[1]Paramètres!$M$5:$O$101,2,0)","v":{"$error":"#N/A"}},{"$f":"VLOOKUP(K2776,[1]Paramètres!$M$5:$O$101,3,0)","v":{"$error":"#N/A"}},null,null,null,null,null,null,null,null,null,null,{"$f":"SUM(Tableau_Data[[#This Row],[Féminin]:[Masculin]])","v":0}]
[null,null,"",null,"",null,null,null,null,null,null,{"$f":"VLOOKUP(K2785,[1]Paramètres!$M$5:$O$101,2,0)","v":{"$error":"#N/A"}},{"$f":"VLOOKUP(K2785,[1]Paramètres!$M$5:$O$101,3,0)","v":{"$error":"#N/A"}},null,null,null,null,null,null,null,null,null,null,{"$f":"SUM(Tableau_Data[[#This Row],[Féminin]:[Masculin]])","v":0}]
[null,null,"",null,"",null,null,null,null,null,null,{"$f":"VLOOKUP(K2788,[1]Paramètres!$M$5:$O$101,2,0)","v":{"$error":"#N/A"}},{"$f":"VLOOKUP(K2788,[1]Paramètres!$M$5:$O$101,3,0)","v":{"$error":"#N/A"}},null,null,null,null,null,null,null,null,null,null,{"$f":"SUM(Tableau_Data[[#This Row],[Féminin]:[Masculin]])","v":0}]
[null,null,"",null,"",null,null,null,null,null,null,{"$f":"VLOOKUP(K2796,[1]Paramètres!$M$5:$O$101,2,0)","v":{"$error":"#N/A"}},{"$f":"VLOOKUP(K2796,[1]Paramètres!$M$5:$O$101,3,0)","v":{"$error":"#N/A"}},null,null,null,null,null,null,null,null,null,null,{"$f":"SUM(Tableau_Data[[#This Row],[Féminin]:[Masculin]])","v":0}]
[null,null,"",null,"",null,null,null,null,null,null,{"$f":"VLOOKUP(K2805,[1]Paramètres!$M$5:$O$101,2,0)","v":{"$error":"#N/A"}},{"$f":"VLOOKUP(K2805,[1]Paramètres!$M$5:$O$101,3,0)","v":{"$error":"#N/A"}},null,null,null,null,null,null,null,null,null,null,{"$f":"SUM(Tableau_Data[[#This Row],[Féminin]:[Masculin]])","v":0}]
[null,null,"",null,"",null,null,null,null,null,null,{"$f":"VLOOKUP(K2817,[1]Paramètres!$M$5:$O$101,2,0)","v":{"$error":"#N/A"}},{"$f":"VLOOKUP(K2817,[1]Paramètres!$M$5:$O$101,3,0)","v":{"$error":"#N/A"}},null,null,null,null,null,null,null,null,null,null,{"$f":"SUM(Tableau_Data[[#This Row],[Féminin]:[Masculin]])","v":0}]
[null,null,"",null,"",null,null,null,null,null,null,{"$f":"VLOOKUP(K2824,[1]Paramètres!$M$5:$O$101,2,0)","v":{"$error":"#N/A"}},{"$f":"VLOOKUP(K2824,[1]Paramètres!$M$5:$O$101,3,0)","v":{"$error":"#N/A"}},null,null,null,null,null,null,null,null,null,null,{"$f":"SUM(Tableau_Data[[#This Row],[Féminin]:[Masculin]])","v":0}]
[null,null,"",null,"",null,null,null,null,null,null,{"$f":"VLOOKUP(K2833,[1]Paramètres!$M$5:$O$101,2,0)","v":{"$error":"#N/A"}},{"$f":"VLOOKUP(K2833,[1]Paramètres!$M$5:$O$101,3,0)","v":{"$error":"#N/A"}},null,null,null,null,null,null,null,null,null,null,{"$f":"SUM(Tableau_Data[[#This Row],[Féminin]:[Masculin]])","v":0}]
[null,null,"",null,"",null,null,null,null,null,null,{"$f":"VLOOKUP(K2842,[1]Paramètres!$M$5:$O$101,2,0)","v":{"$error":"#N/A"}},{"$f":"VLOOKUP(K2842,[1]Paramètres!$M$5:$O$101,3,0)","v":{"$error":"#N/A"}},null,null,null,null,null,null,null,null,null,null,{"$f":"SUM(Tableau_Data[[#This Row],[Féminin]:[Masculin]])","v":0}]
[null,null,"",null,"",null,null,null,null,null,null,{"$f":"VLOOKUP(K2848,[1]Paramètres!$M$5:$O$101,2,0)","v":{"$error":"#N/A"}},{"$f":"VLOOKUP(K2848,[1]Paramètres!$M$5:$O$101,3,0)","v":{"$error":"#N/A"}},null,null,null,null,null,null,null,null,null,null,{"$f":"SUM(Tableau_Data[[#This Row],[Féminin]:[Masculin]])","v":0}]
[null,null,"",null,"",null,null,null,null,null,null,{"$f":"VLOOKUP(K2853,[1]Paramètres!$M$5:$O$101,2,0)","v":{"$error":"#N/A"}},{"$f":"VLOOKUP(K2853,[1]Paramètres!$M$5:$O$101,3,0)","v":{"$error":"#N/A"}},null,null,null,null,null,null,null,null,null,null,{"$f":"SUM(Tableau_Data[[#This Row],[Féminin]:[Masculin]])","v":0}]
[null,null,"",null,"",null,null,null,null,null,null,{"$f":"VLOOKUP(K2862,[1]Paramètres!$M$5:$O$101,2,0)","v":{"$error":"#N/A"}},{"$f":"VLOOKUP(K2862,[1]Paramètres!$M$5:$O$101,3,0)","v":{"$error":"#N/A"}},null,null,null,null,null,null,null,null,null,null,{"$f":"SUM(Tableau_Data[[#This Row],[Féminin]:[Masculin]])","v":0}]
[null,null,"",null,"",null,null,null,null,null,null,{"$f":"VLOOKUP(K2877,[1]Paramètres!$M$5:$O$101,2,0)","v":{"$error":"#N/A"}},{"$f":"VLOOKUP(K2877,[1]Paramètres!$M$5:$O$101,3,0)","v":{"$error":"#N/A"}},null,null,null,null,null,null,null,null,null,null,{"$f":"SUM(Tableau_Data[[#This Row],[Féminin]:[Masculin]])","v":0}]
[null,null,"",null,"",null,null,null,null,null,null,{"$f":"VLOOKUP(K2881,[1]Paramètres!$M$5:$O$101,2,0)","v":{"$error":"#N/A"}},{"$f":"VLOOKUP(K2881,[1]Paramètres!$M$5:$O$101,3,0)","v":{"$error":"#N/A"}},null,null,null,null,null,null,null,null,null,null,{"$f":"SUM(Tableau_Data[[#This Row],[Féminin]:[Masculin]])","v":0}]
[null,null,"",null,"",null,null,null,null,null,null,{"$f":"VLOOKUP(K2890,[1]Paramètres!$M$5:$O$101,2,0)","v":{"$error":"#N/A"}},{"$f":"VLOOKUP(K2890,[1]Paramètres!$M$5:$O$101,3,0)","v":{"$error":"#N/A"}},null,null,null,null,null,null,null,null,null,null,{"$f":"SUM(Tableau_Data[[#This Row],[Féminin]:[Masculin]])","v":0}]
[null,null,"",null,"",null,null,null,null,null,null,{"$f":"VLOOKUP(K2901,[1]Paramètres!$M$5:$O$101,2,0)","v":{"$error":"#N/A"}},{"$f":"VLOOKUP(K2901,[1]Paramètres!$M$5:$O$101,3,0)","v":{"$error":"#N/A"}},null,null,null,null,null,null,null,null,null,null,{"$f":"SUM(Tableau_Data[[#This Row],[Féminin]:[Masculin]])","v":0}]
[null,null,"",null,"",null,null,null,null,null,null,{"$f":"VLOOKUP(K2909,[1]Paramètres!$M$5:$O$101,2,0)","v":{"$error":"#N/A"}},{"$f":"VLOOKUP(K2909,[1]Paramètres!$M$5:$O$101,3,0)","v":{"$error":"#N/A"}},null,null,null,null,null,null,null,null,null,null,{"$f":"SUM(Tableau_Data[[#This Row],[Féminin]:[Masculin]])","v":0}]
[null,null,"",null,"",null,null,null,null,null,null,{"$f":"VLOOKUP(K2918,[1]Paramètres!$M$5:$O$101,2,0)","v":{"$error":"#N/A"}},{"$f":"VLOOKUP(K2918,[1]Paramètres!$M$5:$O$101,3,0)","v":{"$error":"#N/A"}},null,null,null,null,null,null,null,null,null,null,{"$f":"SUM(Tableau_Data[[#This Row],[Féminin]:[Masculin]])","v":0}]
[null,null,"",null,"",null,null,null,null,null,null,{"$f":"VLOOKUP(K2919,[1]Paramètres!$M$5:$O$101,2,0)","v":{"$error":"#N/A"}},{"$f":"VLOOKUP(K2919,[1]Paramètres!$M$5:$O$101,3,0)","v":{"$error":"#N/A"}},null,null,null,null,null,null,null,null,null,null,{"$f":"SUM(Tableau_Data[[#This Row],[Féminin]:[Masculin]])","v":0}]
[null,null,"",null,"",null,null,null,null,null,null,{"$f":"VLOOKUP(K2932,[1]Paramètres!$M$5:$O$101,2,0)","v":{"$error":"#N/A"}},{"$f":"VLOOKUP(K2932,[1]Paramètres!$M$5:$O$101,3,0)","v":{"$error":"#N/A"}},null,null,null,null,null,null,null,null,null,null,{"$f":"SUM(Tableau_Data[[#This Row],[Féminin]:[Masculin]])","v":0}]
[null,null,"",null,"",null,null,null,null,null,null,{"$f":"VLOOKUP(K2938,[1]Paramètres!$M$5:$O$101,2,0)","v":{"$error":"#N/A"}},{"$f":"VLOOKUP(K2938,[1]Paramètres!$M$5:$O$101,3,0)","v":{"$error":"#N/A"}},null,null,null,null,null,null,null,null,null,null,{"$f":"SUM(Tableau_Data[[#This Row],[Féminin]:[Masculin]])","v":0}]
[null,null,"",null,"",null,null,null,null,null,null,{"$f":"VLOOKUP(K2947,[1]Paramètres!$M$5:$O$101,2,0)","v":{"$error":"#N/A"}},{"$f":"VLOOKUP(K2947,[1]Paramètres!$M$5:$O$101,3,0)","v":{"$error":"#N/A"}},null,null,null,null,null,null,null,null,null,null,{"$f":"SUM(Tableau_Data[[#This Row],[Féminin]:[Masculin]])","v":0}]
[null,null,"",null,"",null,null,null,null,null,null,{"$f":"VLOOKUP(K2952,[1]Paramètres!$M$5:$O$101,2,0)","v":{"$error":"#N/A"}},{"$f":"VLOOKUP(K2952,[1]Paramètres!$M$5:$O$101,3,0)","v":{"$error":"#N/A"}},null,null,null,null,null,null,null,null,null,null,{"$f":"SUM(Tableau_Data[[#This Row],[Féminin]:[Masculin]])","v":0}]
[null,null,"",null,"",null,null,null,null,null,null,{"$f":"VLOOKUP(K2966,[1]Paramètres!$M$5:$O$101,2,0)","v":{"$error":"#N/A"}},{"$f":"VLOOKUP(K2966,[1]Paramètres!$M$5:$O$101,3,0)","v":{"$error":"#N/A"}},null,null,null,null,null,null,null,null,null,null,{"$f":"SUM(Tableau_Data[[#This Row],[Féminin]:[Masculin]])","v":0}]
[null,null,"",null,"",null,null,null,null,null,null,{"$f":"VLOOKUP(K2975,[1]Paramètres!$M$5:$O$101,2,0)","v":{"$error":"#N/A"}},{"$f":"VLOOKUP(K2975,[1]Paramètres!$M$5:$O$101,3,0)","v":{"$error":"#N/A"}},null,null,null,null,null,null,null,null,null,null,{"$f":"SUM(Tableau_Data[[#This Row],[Féminin]:[Masculin]])","v":0}]
[null,null,"",null,"",null,null,null,null,null,null,{"$f":"VLOOKUP(K2981,[1]Paramètres!$M$5:$O$101,2,0)","v":{"$error":"#N/A"}},{"$f":"VLOOKUP(K2981,[1]Paramètres!$M$5:$O$101,3,0)","v":{"$error":"#N/A"}},null,null,null,null,null,null,null,null,null,null,{"$f":"SUM(Tableau_Data[[#This Row],[Féminin]:[Masculin]])","v":0}]
[null,null,"",null,"",null,null,null,null,null,null,{"$f":"VLOOKUP(K2986,[1]Paramètres!$M$5:$O$101,2,0)","v":{"$error":"#N/A"}},{"$f":"VLOOKUP(K2986,[1]Paramètres!$M$5:$O$101,3,0)","v":{"$error":"#N/A"}},null,null,null,null,null,null,null,null,null,null,{"$f":"SUM(Tableau_Data[[#This Row],[Féminin]:[Masculin]])","v":0}]
[null,null,"",null,"",null,null,null,null,null,null,{"$f":"VLOOKUP(K2995,[1]Paramètres!$M$5:$O$101,2,0)","v":{"$error":"#N/A"}},{"$f":"VLOOKUP(K2995,[1]Paramètres!$M$5:$O$101,3,0)","v":{"$error":"#N/A"}},null,null,null,null,null,null,null,null,null,null,{"$f":"SUM(Tableau_Data[[#This Row],[Féminin]:[Masculin]])","v":0}]
[null,null,"",null,"",null,null,null,null,null,null,{"$f":"VLOOKUP(K3005,[1]Paramètres!$M$5:$O$101,2,0)","v":{"$error":"#N/A"}},{"$f":"VLOOKUP(K3005,[1]Paramètres!$M$5:$O$101,3,0)","v":{"$error":"#N/A"}},null,null,null,null,null,null,null,null,null,null,{"$f":"SUM(Tableau_Data[[#This Row],[Féminin]:[Masculin]])","v":0}]
[null,null,"",null,"",null,null,null,null,null,null,{"$f":"VLOOKUP(K3014,[1]Paramètres!$M$5:$O$101,2,0)","v":{"$error":"#N/A"}},{"$f":"VLOOKUP(K3014,[1]Paramètres!$M$5:$O$101,3,0)","v":{"$error":"#N/A"}},null,null,null,null,null,null,null,null,null,null,{"$f":"SUM(Tableau_Data[[#This Row],[Féminin]:[Masculin]])","v":0}]
[null,null,"",null,"",null,null,null,null,null,null,{"$f":"VLOOKUP(K3023,[1]Paramètres!$M$5:$O$101,2,0)","v":{"$error":"#N/A"}},{"$f":"VLOOKUP(K3023,[1]Paramètres!$M$5:$O$101,3,0)","v":{"$error":"#N/A"}},null,null,null,null,null,null,null,null,null,null,{"$f":"SUM(Tableau_Data[[#This Row],[Féminin]:[Masculin]])","v":0}]
[null,null,"",null,"",null,null,null,null,null,null,{"$f":"VLOOKUP(K3032,[1]Paramètres!$M$5:$O$101,2,0)","v":{"$error":"#N/A"}},{"$f":"VLOOKUP(K3032,[1]Paramètres!$M$5:$O$101,3,0)","v":{"$error":"#N/A"}},null,null,null,null,null,null,null,null,null,null,{"$f":"SUM(Tableau_Data[[#This Row],[Féminin]:[Masculin]])","v":0}]
[null,null,"",null,"",null,null,null,null,null,null,{"$f":"VLOOKUP(K3036,[1]Paramètres!$M$5:$O$101,2,0)","v":{"$error":"#N/A"}},{"$f":"VLOOKUP(K3036,[1]Paramètres!$M$5:$O$101,3,0)","v":{"$error":"#N/A"}},null,null,null,null,null,null,null,null,null,null,{"$f":"SUM(Tableau_Data[[#This Row],[Féminin]:[Masculin]])","v":0}]
[null,null,"",null,"",null,null,null,null,null,null,{"$f":"VLOOKUP(K3051,[1]Paramètres!$M$5:$O$101,2,0)","v":{"$error":"#N/A"}},{"$f":"VLOOKUP(K3051,[1]Paramètres!$M$5:$O$101,3,0)","v":{"$error":"#N/A"}},null,null,null,null,null,null,null,null,null,null,{"$f":"SUM(Tableau_Data[[#This Row],[Féminin]:[Masculin]])","v":0}]
[null,null,"",null,"",null,null,null,null,null,null,{"$f":"VLOOKUP(K3052,[1]Paramètres!$M$5:$O$101,2,0)","v":{"$error":"#N/A"}},{"$f":"VLOOKUP(K3052,[1]Paramètres!$M$5:$O$101,3,0)","v":{"$error":"#N/A"}},null,null,null,null,null,null,null,null,null,null,{"$f":"SUM(Tableau_Data[[#This Row],[Féminin]:[Masculin]])","v":0}]
[null,null,"",null,"",null,null,null,null,null,null,{"$f":"VLOOKUP(K3065,[1]Paramètres!$M$5:$O$101,2,0)","v":{"$error":"#N/A"}},{"$f":"VLOOKUP(K3065,[1]Paramètres!$M$5:$O$101,3,0)","v":{"$error":"#N/A"}},null,null,null,null,null,null,null,null,null,null,{"$f":"SUM(Tableau_Data[[#This Row],[Féminin]:[Masculin]])","v":0}]
[null,null,"",null,"",null,null,null,null,null,null,{"$f":"VLOOKUP(K3071,[1]Paramètres!$M$5:$O$101,2,0)","v":{"$error":"#N/A"}},{"$f":"VLOOKUP(K3071,[1]Paramètres!$M$5:$O$101,3,0)","v":{"$error":"#N/A"}},null,null,null,null,null,null,null,null,null,null,{"$f":"SUM(Tableau_Data[[#This Row],[Féminin]:[Masculin]])","v":0}]
[null,null,"",null,"",null,null,null,null,null,null,{"$f":"VLOOKUP(K3080,[1]Paramètres!$M$5:$O$101,2,0)","v":{"$error":"#N/A"}},{"$f":"VLOOKUP(K3080,[1]Paramètres!$M$5:$O$101,3,0)","v":{"$error":"#N/A"}},null,null,null,null,null,null,null,null,null,null,{"$f":"SUM(Tableau_Data[[#This Row],[Féminin]:[Masculin]])","v":0}]
[null,null,"",null,"",null,null,null,null,null,null,{"$f":"VLOOKUP(K3085,[1]Paramètres!$M$5:$O$101,2,0)","v":{"$error":"#N/A"}},{"$f":"VLOOKUP(K3085,[1]Paramètres!$M$5:$O$101,3,0)","v":{"$error":"#N/A"}},null,null,null,null,null,null,null,null,null,null,{"$f":"SUM(Tableau_Data[[#This Row],[Féminin]:[Masculin]])","v":0}]
[null,null,"",null,"",null,null,null,null,null,null,{"$f":"VLOOKUP(K3099,[1]Paramètres!$M$5:$O$101,2,0)","v":{"$error":"#N/A"}},{"$f":"VLOOKUP(K3099,[1]Paramètres!$M$5:$O$101,3,0)","v":{"$error":"#N/A"}},null,null,null,null,null,null,null,null,null,null,{"$f":"SUM(Tableau_Data[[#This Row],[Féminin]:[Masculin]])","v":0}]
[null,null,"",null,"",null,null,null,null,null,null,{"$f":"VLOOKUP(K3108,[1]Paramètres!$M$5:$O$101,2,0)","v":{"$error":"#N/A"}},{"$f":"VLOOKUP(K3108,[1]Paramètres!$M$5:$O$101,3,0)","v":{"$error":"#N/A"}},null,null,null,null,null,null,null,null,null,null,{"$f":"SUM(Tableau_Data[[#This Row],[Féminin]:[Masculin]])","v":0}]
[null,null,"",null,"",null,null,null,null,null,null,{"$f":"VLOOKUP(K3118,[1]Paramètres!$M$5:$O$101,2,0)","v":{"$error":"#N/A"}},{"$f":"VLOOKUP(K3118,[1]Paramètres!$M$5:$O$101,3,0)","v":{"$error":"#N/A"}},null,null,null,null,null,null,null,null,null,null,{"$f":"SUM(Tableau_Data[[#This Row],[Féminin]:[Masculin]])","v":0}]
[null,null,"",null,"",null,null,null,null,null,null,{"$f":"VLOOKUP(K3119,[1]Paramètres!$M$5:$O$101,2,0)","v":{"$error":"#N/A"}},{"$f":"VLOOKUP(K3119,[1]Paramètres!$M$5:$O$101,3,0)","v":{"$error":"#N/A"}},null,null,null,null,null,null,null,null,null,null,{"$f":"SUM(Tableau_Data[[#This Row],[Féminin]:[Masculin]])","v":0}]
[null,null,"",null,"",null,null,null,null,null,null,{"$f":"VLOOKUP(K3128,[1]Paramètres!$M$5:$O$101,2,0)","v":{"$error":"#N/A"}},{"$f":"VLOOKUP(K3128,[1]Paramètres!$M$5:$O$101,3,0)","v":{"$error":"#N/A"}},null,null,null,null,null,null,null,null,null,null,{"$f":"SUM(Tableau_Data[[#This Row],[Féminin]:[Masculin]])","v":0}]
[null,null,"",null,"",null,null,null,null,null,null,{"$f":"VLOOKUP(K3137,[1]Paramètres!$M$5:$O$101,2,0)","v":{"$error":"#N/A"}},{"$f":"VLOOKUP(K3137,[1]Paramètres!$M$5:$O$101,3,0)","v":{"$error":"#N/A"}},null,null,null,null,null,null,null,null,null,null,{"$f":"SUM(Tableau_Data[[#This Row],[Féminin]:[Masculin]])","v":0}]
[null,null,"",null,"",null,null,null,null,null,null,{"$f":"VLOOKUP(K3149,[1]Paramètres!$M$5:$O$101,2,0)","v":{"$error":"#N/A"}},{"$f":"VLOOKUP(K3149,[1]Paramètres!$M$5:$O$101,3,0)","v":{"$error":"#N/A"}},null,null,null,null,null,null,null,null,null,null,{"$f":"SUM(Tableau_Data[[#This Row],[Féminin]:[Masculin]])","v":0}]
[null,null,"",null,"",null,null,null,null,null,null,{"$f":"VLOOKUP(K3156,[1]Paramètres!$M$5:$O$101,2,0)","v":{"$error":"#N/A"}},{"$f":"VLOOKUP(K3156,[1]Paramètres!$M$5:$O$101,3,0)","v":{"$error":"#N/A"}},null,null,null,null,null,null,null,null,null,null,{"$f":"SUM(Tableau_Data[[#This Row],[Féminin]:[Masculin]])","v":0}]
[null,null,"",null,"",null,null,null,null,null,null,{"$f":"VLOOKUP(K3165,[1]Paramètres!$M$5:$O$101,2,0)","v":{"$error":"#N/A"}},{"$f":"VLOOKUP(K3165,[1]Paramètres!$M$5:$O$101,3,0)","v":{"$error":"#N/A"}},null,null,null,null,null,null,null,null,null,null,{"$f":"SUM(Tableau_Data[[#This Row],[Féminin]:[Masculin]])","v":0}]
[null,null,"",null,"",null,null,null,null,null,null,{"$f":"VLOOKUP(K3169,[1]Paramètres!$M$5:$O$101,2,0)","v":{"$error":"#N/A"}},{"$f":"VLOOKUP(K3169,[1]Paramètres!$M$5:$O$101,3,0)","v":{"$error":"#N/A"}},null,null,null,null,null,null,null,null,null,null,{"$f":"SUM(Tableau_Data[[#This Row],[Féminin]:[Masculin]])","v":0}]
[null,null,"",null,"",null,null,null,null,null,null,{"$f":"VLOOKUP(K3184,[1]Paramètres!$M$5:$O$101,2,0)","v":{"$error":"#N/A"}},{"$f":"VLOOKUP(K3184,[1]Paramètres!$M$5:$O$101,3,0)","v":{"$error":"#N/A"}},null,null,null,null,null,null,null,null,null,null,{"$f":"SUM(Tableau_Data[[#This Row],[Féminin]:[Masculin]])","v":0}]
[null,null,"",null,"",null,null,null,null,null,null,{"$f":"VLOOKUP(K3185,[1]Paramètres!$M$5:$O$101,2,0)","v":{"$error":"#N/A"}},{"$f":"VLOOKUP(K3185,[1]Paramètres!$M$5:$O$101,3,0)","v":{"$error":"#N/A"}},null,null,null,null,null,null,null,null,null,null,{"$f":"SUM(Tableau_Data[[#This Row],[Féminin]:[Masculin]])","v":0}]
[null,null,"",null,{"$f":"IF(D3198=\"\",\"\",MONTH(D3198))","v":""},null,null,null,null,null,null,{"$f":"VLOOKUP(K3198,[1]Paramètres!$M$5:$O$101,2,0)","v":{"$error":"#N/A"}},{"$f":"VLOOKUP(K3198,[1]Paramètres!$M$5:$O$101,3,0)","v":{"$error":"#N/A"}},null,null,null,null,null,null,null,null,null,null,{"$f":"SUM(Tableau_Data[[#This Row],[Féminin]:[Masculin]])","v":0}]
[null,null,"",null,"",null,null,null,null,null,null,{"$f":"VLOOKUP(K3204,[1]Paramètres!$M$5:$O$101,2,0)","v":{"$error":"#N/A"}},{"$f":"VLOOKUP(K3204,[1]Paramètres!$M$5:$O$101,3,0)","v":{"$error":"#N/A"}},null,null,null,null,null,null,null,null,null,null,{"$f":"SUM(Tableau_Data[[#This Row],[Féminin]:[Masculin]])","v":0}]
[null,null,"",null,"",null,null,null,null,null,null,{"$f":"VLOOKUP(K3213,[1]Paramètres!$M$5:$O$101,2,0)","v":{"$error":"#N/A"}},{"$f":"VLOOKUP(K3213,[1]Paramètres!$M$5:$O$101,3,0)","v":{"$error":"#N/A"}},null,null,null,null,null,null,null,null,null,null,{"$f":"SUM(Tableau_Data[[#This Row],[Féminin]:[Masculin]])","v":0}]
[null,null,"",null,"",null,null,null,null,null,null,{"$f":"VLOOKUP(K3218,[1]Paramètres!$M$5:$O$101,2,0)","v":{"$error":"#N/A"}},{"$f":"VLOOKUP(K3218,[1]Paramètres!$M$5:$O$101,3,0)","v":{"$error":"#N/A"}},null,null,null,null,null,null,null,null,null,null,{"$f":"SUM(Tableau_Data[[#This Row],[Féminin]:[Masculin]])","v":0}]
[null,null,"",null,"",null,null,null,null,null,null,{"$f":"VLOOKUP(K3232,[1]Paramètres!$M$5:$O$101,2,0)","v":{"$error":"#N/A"}},{"$f":"VLOOKUP(K3232,[1]Paramètres!$M$5:$O$101,3,0)","v":{"$error":"#N/A"}},null,null,null,null,null,null,null,null,null,null,{"$f":"SUM(Tableau_Data[[#This Row],[Féminin]:[Masculin]])","v":0}]
[null,null,"",null,"",null,null,null,null,null,null,{"$f":"VLOOKUP(K3241,[1]Paramètres!$M$5:$O$101,2,0)","v":{"$error":"#N/A"}},{"$f":"VLOOKUP(K3241,[1]Paramètres!$M$5:$O$101,3,0)","v":{"$error":"#N/A"}},null,null,null,null,null,null,null,null,null,null,{"$f":"SUM(Tableau_Data[[#This Row],[Féminin]:[Masculin]])","v":0}]
[null,null,"",null,"",null,null,null,null,null,null,{"$f":"VLOOKUP(K3250,[1]Paramètres!$M$5:$O$101,2,0)","v":{"$error":"#N/A"}},{"$f":"VLOOKUP(K3250,[1]Paramètres!$M$5:$O$101,3,0)","v":{"$error":"#N/A"}},null,null,null,null,null,null,null,null,null,null,{"$f":"SUM(Tableau_Data[[#This Row],[Féminin]:[Masculin]])","v":0}]
[null,null,"",null,"",null,null,null,null,null,null,{"$f":"VLOOKUP(K3253,[1]Paramètres!$M$5:$O$101,2,0)","v":{"$error":"#N/A"}},{"$f":"VLOOKUP(K3253,[1]Paramètres!$M$5:$O$101,3,0)","v":{"$error":"#N/A"}},null,null,null,null,null,null,null,null,null,null,{"$f":"SUM(Tableau_Data[[#This Row],[Féminin]:[Masculin]])","v":0}]
[null,null,"",null,"",null,null,null,null,null,null,{"$f":"VLOOKUP(K3261,[1]Paramètres!$M$5:$O$101,2,0)","v":{"$error":"#N/A"}},{"$f":"VLOOKUP(K3261,[1]Paramètres!$M$5:$O$101,3,0)","v":{"$error":"#N/A"}},null,null,null,null,null,null,null,null,null,null,{"$f":"SUM(Tableau_Data[[#This Row],[Féminin]:[Masculin]])","v":0}]
[null,null,"",null,"",null,null,null,null,null,null,{"$f":"VLOOKUP(K3270,[1]Paramètres!$M$5:$O$101,2,0)","v":{"$error":"#N/A"}},{"$f":"VLOOKUP(K3270,[1]Paramètres!$M$5:$O$101,3,0)","v":{"$error":"#N/A"}},null,null,null,null,null,null,null,null,null,null,{"$f":"SUM(Tableau_Data[[#This Row],[Féminin]:[Masculin]])","v":0}]
[null,null,"",null,"",null,null,null,null,null,null,{"$f":"VLOOKUP(K3282,[1]Paramètres!$M$5:$O$101,2,0)","v":{"$error":"#N/A"}},{"$f":"VLOOKUP(K3282,[1]Paramètres!$M$5:$O$101,3,0)","v":{"$error":"#N/A"}},null,null,null,null,null,null,null,null,null,null,{"$f":"SUM(Tableau_Data[[#This Row],[Féminin]:[Masculin]])","v":0}]
[null,null,"",null,"",null,null,null,null,null,null,{"$f":"VLOOKUP(K3289,[1]Paramètres!$M$5:$O$101,2,0)","v":{"$error":"#N/A"}},{"$f":"VLOOKUP(K3289,[1]Paramètres!$M$5:$O$101,3,0)","v":{"$error":"#N/A"}},null,null,null,null,null,null,null,null,null,null,{"$f":"SUM(Tableau_Data[[#This Row],[Féminin]:[Masculin]])","v":0}]
[null,null,"",null,"",null,null,null,null,null,null,{"$f":"VLOOKUP(K3298,[1]Paramètres!$M$5:$O$101,2,0)","v":{"$error":"#N/A"}},{"$f":"VLOOKUP(K3298,[1]Paramètres!$M$5:$O$101,3,0)","v":{"$error":"#N/A"}},null,null,null,null,null,null,null,null,null,null,{"$f":"SUM(Tableau_Data[[#This Row],[Féminin]:[Masculin]])","v":0}]
[null,null,"",null,"",null,null,null,null,null,null,{"$f":"VLOOKUP(K3302,[1]Paramètres!$M$5:$O$101,2,0)","v":{"$error":"#N/A"}},{"$f":"VLOOKUP(K3302,[1]Paramètres!$M$5:$O$101,3,0)","v":{"$error":"#N/A"}},null,null,null,null,null,null,null,null,null,null,{"$f":"SUM(Tableau_Data[[#This Row],[Féminin]:[Masculin]])","v":0}]
[null,null,"",null,"",null,null,null,null,null,null,{"$f":"VLOOKUP(K3317,[1]Paramètres!$M$5:$O$101,2,0)","v":{"$error":"#N/A"}},{"$f":"VLOOKUP(K3317,[1]Paramètres!$M$5:$O$101,3,0)","v":{"$error":"#N/A"}},null,null,null,null,null,null,null,null,null,null,{"$f":"SUM(Tableau_Data[[#This Row],[Féminin]:[Masculin]])","v":0}]
[null,null,"",null,"",null,null,null,null,null,null,{"$f":"VLOOKUP(K3318,[1]Paramètres!$M$5:$O$101,2,0)","v":{"$error":"#N/A"}},{"$f":"VLOOKUP(K3318,[1]Paramètres!$M$5:$O$101,3,0)","v":{"$error":"#N/A"}},null,null,null,null,null,null,null,null,null,null,{"$f":"SUM(Tableau_Data[[#This Row],[Féminin]:[Masculin]])","v":0}]
[null,null,"",null,"",null,null,null,null,null,null,{"$f":"VLOOKUP(K3327,[1]Paramètres!$M$5:$O$101,2,0)","v":{"$error":"#N/A"}},{"$f":"VLOOKUP(K3327,[1]Paramètres!$M$5:$O$101,3,0)","v":{"$error":"#N/A"}},null,null,null,null,null,null,null,null,null,null,{"$f":"SUM(Tableau_Data[[#This Row],[Féminin]:[Masculin]])","v":0}]
[null,null,"",null,"",null,null,null,null,null,null,{"$f":"VLOOKUP(K3337,[1]Paramètres!$M$5:$O$101,2,0)","v":{"$error":"#N/A"}},{"$f":"VLOOKUP(K3337,[1]Paramètres!$M$5:$O$101,3,0)","v":{"$error":"#N/A"}},null,null,null,null,null,null,null,null,null,null,{"$f":"SUM(Tableau_Data[[#This Row],[Féminin]:[Masculin]])","v":0}]
[null,null,"",null,"",null,null,null,null,null,null,{"$f":"VLOOKUP(K3346,[1]Paramètres!$M$5:$O$101,2,0)","v":{"$error":"#N/A"}},{"$f":"VLOOKUP(K3346,[1]Paramètres!$M$5:$O$101,3,0)","v":{"$error":"#N/A"}},null,null,null,null,null,null,null,null,null,null,{"$f":"SUM(Tableau_Data[[#This Row],[Féminin]:[Masculin]])","v":0}]
[null,null,"",null,"",null,null,null,null,null,null,{"$f":"VLOOKUP(K3355,[1]Paramètres!$M$5:$O$101,2,0)","v":{"$error":"#N/A"}},{"$f":"VLOOKUP(K3355,[1]Paramètres!$M$5:$O$101,3,0)","v":{"$error":"#N/A"}},null,null,null,null,null,null,null,null,null,null,{"$f":"SUM(Tableau_Data[[#This Row],[Féminin]:[Masculin]])","v":0}]
[null,null,"",null,"",null,null,null,null,null,null,{"$f":"VLOOKUP(K3366,[1]Paramètres!$M$5:$O$101,2,0)","v":{"$error":"#N/A"}},{"$f":"VLOOKUP(K3366,[1]Paramètres!$M$5:$O$101,3,0)","v":{"$error":"#N/A"}},null,null,null,null,null,null,null,null,null,null,{"$f":"SUM(Tableau_Data[[#This Row],[Féminin]:[Masculin]])","v":0}]
[null,null,"",null,"",null,null,null,null,null,null,{"$f":"VLOOKUP(K3374,[1]Paramètres!$M$5:$O$101,2,0)","v":{"$error":"#N/A"}},{"$f":"VLOOKUP(K3374,[1]Paramètres!$M$5:$O$101,3,0)","v":{"$error":"#N/A"}},null,null,null,null,null,null,null,null,null,null,{"$f":"SUM(Tableau_Data[[#This Row],[Féminin]:[Masculin]])","v":0}]
[null,null,"",null,"",null,null,null,null,null,null,{"$f":"VLOOKUP(K3383,[1]Paramètres!$M$5:$O$101,2,0)","v":{"$error":"#N/A"}},{"$f":"VLOOKUP(K3383,[1]Paramètres!$M$5:$O$101,3,0)","v":{"$error":"#N/A"}},null,null,null,null,null,null,null,null,null,null,{"$f":"SUM(Tableau_Data[[#This Row],[Féminin]:[Masculin]])","v":0}]
[null,null,"",null,"",null,null,null,null,null,null,{"$f":"VLOOKUP(K3386,[1]Paramètres!$M$5:$O$101,2,0)","v":{"$error":"#N/A"}},{"$f":"VLOOKUP(K3386,[1]Paramètres!$M$5:$O$101,3,0)","v":{"$error":"#N/A"}},null,null,null,null,null,null,null,null,null,null,{"$f":"SUM(Tableau_Data[[#This Row],[Féminin]:[Masculin]])","v":0}]
[null,null,"",null,"",null,null,null,null,null,null,{"$f":"VLOOKUP(K3394,[1]Paramètres!$M$5:$O$101,2,0)","v":{"$error":"#N/A"}},{"$f":"VLOOKUP(K3394,[1]Paramètres!$M$5:$O$101,3,0)","v":{"$error":"#N/A"}},null,null,null,null,null,null,null,null,null,null,{"$f":"SUM(Tableau_Data[[#This Row],[Féminin]:[Masculin]])","v":0}]
[null,null,"",null,"",null,null,null,null,null,null,{"$f":"VLOOKUP(K3403,[1]Paramètres!$M$5:$O$101,2,0)","v":{"$error":"#N/A"}},{"$f":"VLOOKUP(K3403,[1]Paramètres!$M$5:$O$101,3,0)","v":{"$error":"#N/A"}},null,null,null,null,null,null,null,null,null,null,{"$f":"SUM(Tableau_Data[[#This Row],[Féminin]:[Masculin]])","v":0}]
[null,null,"",null,"",null,null,null,null,null,null,{"$f":"VLOOKUP(K3415,[1]Paramètres!$M$5:$O$101,2,0)","v":{"$error":"#N/A"}},{"$f":"VLOOKUP(K3415,[1]Paramètres!$M$5:$O$101,3,0)","v":{"$error":"#N/A"}},null,null,null,null,null,null,null,null,null,null,{"$f":"SUM(Tableau_Data[[#This Row],[Féminin]:[Masculin]])","v":0}]
[null,null,{"$f":"IF(D3422=\"\",\"\",YEAR(D3422))","v":""},null,"",null,null,null,null,null,null,{"$f":"VLOOKUP(K3422,[1]Paramètres!$M$5:$O$101,2,0)","v":{"$error":"#N/A"}},{"$f":"VLOOKUP(K3422,[1]Paramètres!$M$5:$O$101,3,0)","v":{"$error":"#N/A"}},null,null,null,null,null,null,null,null,null,null,{"$f":"SUM(Tableau_Data[[#This Row],[Féminin]:[Masculin]])","v":0}]
[null,null,"",null,"",null,null,null,null,null,null,{"$f":"VLOOKUP(K3431,[1]Paramètres!$M$5:$O$101,2,0)","v":{"$error":"#N/A"}},{"$f":"VLOOKUP(K3431,[1]Paramètres!$M$5:$O$101,3,0)","v":{"$error":"#N/A"}},null,null,null,null,null,null,null,null,null,null,{"$f":"SUM(Tableau_Data[[#This Row],[Féminin]:[Masculin]])","v":0}]
[null,null,"",null,"",null,null,null,null,null,null,{"$f":"VLOOKUP(K3440,[1]Paramètres!$M$5:$O$101,2,0)","v":{"$error":"#N/A"}},{"$f":"VLOOKUP(K3440,[1]Paramètres!$M$5:$O$101,3,0)","v":{"$error":"#N/A"}},null,null,null,null,null,null,null,null,null,null,{"$f":"SUM(Tableau_Data[[#This Row],[Féminin]:[Masculin]])","v":0}]
[null,null,"",null,"",null,null,null,null,null,null,{"$f":"VLOOKUP(K3450,[1]Paramètres!$M$5:$O$101,2,0)","v":{"$error":"#N/A"}},{"$f":"VLOOKUP(K3450,[1]Paramètres!$M$5:$O$101,3,0)","v":{"$error":"#N/A"}},null,null,null,null,null,null,null,null,null,null,{"$f":"SUM(Tableau_Data[[#This Row],[Féminin]:[Masculin]])","v":0}]
[null,null,"",null,"",null,null,null,null,null,null,{"$f":"VLOOKUP(K3451,[1]Paramètres!$M$5:$O$101,2,0)","v":{"$error":"#N/A"}},{"$f":"VLOOKUP(K3451,[1]Paramètres!$M$5:$O$101,3,0)","v":{"$error":"#N/A"}},null,null,null,null,null,null,null,null,null,null,{"$f":"SUM(Tableau_Data[[#This Row],[Féminin]:[Masculin]])","v":0}]
[null,null,"",null,"",null,null,null,null,null,null,{"$f":"VLOOKUP(K3460,[1]Paramètres!$M$5:$O$101,2,0)","v":{"$error":"#N/A"}},{"$f":"VLOOKUP(K3460,[1]Paramètres!$M$5:$O$101,3,0)","v":{"$error":"#N/A"}},null,null,null,null,null,null,null,null,null,null,{"$f":"SUM(Tableau_Data[[#This Row],[Féminin]:[Masculin]])","v":0}]
[null,null,"",null,"",null,null,null,null,null,null,{"$f":"VLOOKUP(K3470,[1]Paramètres!$M$5:$O$101,2,0)","v":{"$error":"#N/A"}},{"$f":"VLOOKUP(K3470,[1]Paramètres!$M$5:$O$101,3,0)","v":{"$error":"#N/A"}},null,null,null,null,null,null,null,null,null,null,{"$f":"SUM(Tableau_Data[[#This Row],[Féminin]:[Masculin]])","v":0}]
[null,null,"",null,"",null,null,null,null,null,null,{"$f":"VLOOKUP(K3479,[1]Paramètres!$M$5:$O$101,2,0)","v":{"$error":"#N/A"}},{"$f":"VLOOKUP(K3479,[1]Paramètres!$M$5:$O$101,3,0)","v":{"$error":"#N/A"}},null,null,null,null,null,null,null,null,null,null,{"$f":"SUM(Tableau_Data[[#This Row],[Féminin]:[Masculin]])","v":0}]
[null,null,"",null,"",null,null,null,null,null,null,{"$f":"VLOOKUP(K3488,[1]Paramètres!$M$5:$O$101,2,0)","v":{"$error":"#N/A"}},{"$f":"VLOOKUP(K3488,[1]Paramètres!$M$5:$O$101,3,0)","v":{"$error":"#N/A"}},null,null,null,null,null,null,null,null,null,null,{"$f":"SUM(Tableau_Data[[#This Row],[Féminin]:[Masculin]])","v":0}]
[null,null,"",null,"",null,null,null,null,null,null,{"$f":"VLOOKUP(K3499,[1]Paramètres!$M$5:$O$101,2,0)","v":{"$error":"#N/A"}},{"$f":"VLOOKUP(K3499,[1]Paramètres!$M$5:$O$101,3,0)","v":{"$error":"#N/A"}},null,null,null,null,null,null,null,null,null,null,{"$f":"SUM(Tableau_Data[[#This Row],[Féminin]:[Masculin]])","v":0}]
[null,null,"",null,"",null,null,null,null,null,null,{"$f":"VLOOKUP(K3507,[1]Paramètres!$M$5:$O$101,2,0)","v":{"$error":"#N/A"}},{"$f":"VLOOKUP(K3507,[1]Paramètres!$M$5:$O$101,3,0)","v":{"$error":"#N/A"}},null,null,null,null,null,null,null,null,null,null,{"$f":"SUM(Tableau_Data[[#This Row],[Féminin]:[Masculin]])","v":0}]
[null,null,"",null,"",null,null,null,null,null,null,{"$f":"VLOOKUP(K3516,[1]Paramètres!$M$5:$O$101,2,0)","v":{"$error":"#N/A"}},{"$f":"VLOOKUP(K3516,[1]Paramètres!$M$5:$O$101,3,0)","v":{"$error":"#N/A"}},null,null,null,null,null,null,null,null,null,null,{"$f":"SUM(Tableau_Data[[#This Row],[Féminin]:[Masculin]])","v":0}]
[null,null,"",null,"",null,null,null,null,null,null,{"$f":"VLOOKUP(K3519,[1]Paramètres!$M$5:$O$101,2,0)","v":{"$error":"#N/A"}},{"$f":"VLOOKUP(K3519,[1]Paramètres!$M$5:$O$101,3,0)","v":{"$error":"#N/A"}},null,null,null,null,null,null,null,null,null,null,{"$f":"SUM(Tableau_Data[[#This Row],[Féminin]:[Masculin]])","v":0}]
[null,null,"",null,"",null,null,null,null,null,null,{"$f":"VLOOKUP(K3527,[1]Paramètres!$M$5:$O$101,2,0)","v":{"$error":"#N/A"}},{"$f":"VLOOKUP(K3527,[1]Paramètres!$M$5:$O$101,3,0)","v":{"$error":"#N/A"}},null,null,null,null,null,null,null,null,null,null,{"$f":"SUM(Tableau_Data[[#This Row],[Féminin]:[Masculin]])","v":0}]
[null,null,"",null,"",null,null,null,null,null,null,{"$f":"VLOOKUP(K3536,[1]Paramètres!$M$5:$O$101,2,0)","v":{"$error":"#N/A"}},{"$f":"VLOOKUP(K3536,[1]Paramètres!$M$5:$O$101,3,0)","v":{"$error":"#N/A"}},null,null,null,null,null,null,null,null,null,null,{"$f":"SUM(Tableau_Data[[#This Row],[Féminin]:[Masculin]])","v":0}]
[null,null,"",null,"",null,null,null,null,null,null,{"$f":"VLOOKUP(K3545,[1]Paramètres!$M$5:$O$101,2,0)","v":{"$error":"#N/A"}},{"$f":"VLOOKUP(K3545,[1]Paramètres!$M$5:$O$101,3,0)","v":{"$error":"#N/A"}},null,null,null,null,null,null,null,null,null,null,{"$f":"SUM(Tableau_Data[[#This Row],[Féminin]:[Masculin]])","v":0}]
[null,null,"",null,"",null,null,null,null,null,null,{"$f":"VLOOKUP(K3554,[1]Paramètres!$M$5:$O$101,2,0)","v":{"$error":"#N/A"}},{"$f":"VLOOKUP(K3554,[1]Paramètres!$M$5:$O$101,3,0)","v":{"$error":"#N/A"}},null,null,null,null,null,null,null,null,null,null,{"$f":"SUM(Tableau_Data[[#This Row],[Féminin]:[Masculin]])","v":0}]
[null,null,"",null,"",null,null,null,null,null,null,{"$f":"VLOOKUP(K3564,[1]Paramètres!$M$5:$O$101,2,0)","v":{"$error":"#N/A"}},{"$f":"VLOOKUP(K3564,[1]Paramètres!$M$5:$O$101,3,0)","v":{"$error":"#N/A"}},null,null,null,null,null,null,null,null,null,null,{"$f":"SUM(Tableau_Data[[#This Row],[Féminin]:[Masculin]])","v":0}]
[null,null,"",null,"",null,null,null,null,null,null,{"$f":"VLOOKUP(K3573,[1]Paramètres!$M$5:$O$101,2,0)","v":{"$error":"#N/A"}},{"$f":"VLOOKUP(K3573,[1]Paramètres!$M$5:$O$101,3,0)","v":{"$error":"#N/A"}},null,null,null,null,null,null,null,null,null,null,{"$f":"SUM(Tableau_Data[[#This Row],[Féminin]:[Masculin]])","v":0}]
[null,null,"",null,"",null,null,null,null,null,null,{"$f":"VLOOKUP(K3583,[1]Paramètres!$M$5:$O$101,2,0)","v":{"$error":"#N/A"}},{"$f":"VLOOKUP(K3583,[1]Paramètres!$M$5:$O$101,3,0)","v":{"$error":"#N/A"}},null,null,null,null,null,null,null,null,null,null,{"$f":"SUM(Tableau_Data[[#This Row],[Féminin]:[Masculin]])","v":0}]
[null,null,"",null,"",null,null,null,null,null,null,{"$f":"VLOOKUP(K3584,[1]Paramètres!$M$5:$O$101,2,0)","v":{"$error":"#N/A"}},{"$f":"VLOOKUP(K3584,[1]Paramètres!$M$5:$O$101,3,0)","v":{"$error":"#N/A"}},null,null,null,null,null,null,null,null,null,null,{"$f":"SUM(Tableau_Data[[#This Row],[Féminin]:[Masculin]])","v":0}]
[null,null,"",null,"",null,null,null,null,null,null,{"$f":"VLOOKUP(K3593,[1]Paramètres!$M$5:$O$101,2,0)","v":{"$error":"#N/A"}},{"$f":"VLOOKUP(K3593,[1]Paramètres!$M$5:$O$101,3,0)","v":{"$error":"#N/A"}},null,null,null,null,null,null,null,null,null,null,{"$f":"SUM(Tableau_Data[[#This Row],[Féminin]:[Masculin]])","v":0}]
[null,null,"",null,"",null,null,null,null,null,null,{"$f":"VLOOKUP(K3603,[1]Paramètres!$M$5:$O$101,2,0)","v":{"$error":"#N/A"}},{"$f":"VLOOKUP(K3603,[1]Paramètres!$M$5:$O$101,3,0)","v":{"$error":"#N/A"}},null,null,null,null,null,null,null,null,null,null,{"$f":"SUM(Tableau_Data[[#This Row],[Féminin]:[Masculin]])","v":0}]
[null,null,"",null,"",null,null,null,null,null,null,{"$f":"VLOOKUP(K3612,[1]Paramètres!$M$5:$O$101,2,0)","v":{"$error":"#N/A"}},{"$f":"VLOOKUP(K3612,[1]Paramètres!$M$5:$O$101,3,0)","v":{"$error":"#N/A"}},null,null,null,null,null,null,null,null,null,null,{"$f":"SUM(Tableau_Data[[#This Row],[Féminin]:[Masculin]])","v":0}]
[null,null,"",null,"",null,null,null,null,null,null,{"$f":"VLOOKUP(K3621,[1]Paramètres!$M$5:$O$101,2,0)","v":{"$error":"#N/A"}},{"$f":"VLOOKUP(K3621,[1]Paramètres!$M$5:$O$101,3,0)","v":{"$error":"#N/A"}},null,null,null,null,null,null,null,null,null,null,{"$f":"SUM(Tableau_Data[[#This Row],[Féminin]:[Masculin]])","v":0}]
[null,null,"",null,"",null,null,null,null,null,null,{"$f":"VLOOKUP(K3632,[1]Paramètres!$M$5:$O$101,2,0)","v":{"$error":"#N/A"}},{"$f":"VLOOKUP(K3632,[1]Paramètres!$M$5:$O$101,3,0)","v":{"$error":"#N/A"}},null,null,null,null,null,null,null,null,null,null,{"$f":"SUM(Tableau_Data[[#This Row],[Féminin]:[Masculin]])","v":0}]
[null,null,"",null,"",null,null,null,null,null,null,{"$f":"VLOOKUP(K3640,[1]Paramètres!$M$5:$O$101,2,0)","v":{"$error":"#N/A"}},{"$f":"VLOOKUP(K3640,[1]Paramètres!$M$5:$O$101,3,0)","v":{"$error":"#N/A"}},null,null,null,null,null,null,null,null,null,null,{"$f":"SUM(Tableau_Data[[#This Row],[Féminin]:[Masculin]])","v":0}]
[null,null,"",null,"",null,null,null,null,null,null,{"$f":"VLOOKUP(K3649,[1]Paramètres!$M$5:$O$101,2,0)","v":{"$error":"#N/A"}},{"$f":"VLOOKUP(K3649,[1]Paramètres!$M$5:$O$101,3,0)","v":{"$error":"#N/A"}},null,null,null,null,null,null,null,null,null,null,{"$f":"SUM(Tableau_Data[[#This Row],[Féminin]:[Masculin]])","v":0}]
[null,null,"",null,"",null,null,null,null,null,null,{"$f":"VLOOKUP(K3650,[1]Paramètres!$M$5:$O$101,2,0)","v":{"$error":"#N/A"}},{"$f":"VLOOKUP(K3650,[1]Paramètres!$M$5:$O$101,3,0)","v":{"$error":"#N/A"}},null,null,null,null,null,null,null,null,null,null,{"$f":"SUM(Tableau_Data[[#This Row],[Féminin]:[Masculin]])","v":0}]
[null,null,"",null,"",null,null,null,null,null,null,{"$f":"VLOOKUP(K3658,[1]Paramètres!$M$5:$O$101,2,0)","v":{"$error":"#N/A"}},{"$f":"VLOOKUP(K3658,[1]Paramètres!$M$5:$O$101,3,0)","v":{"$error":"#N/A"}},null,null,null,null,null,null,null,null,null,null,{"$f":"SUM(Tableau_Data[[#This Row],[Féminin]:[Masculin]])","v":0}]
[null,null,"",null,"",null,null,null,null,null,null,{"$f":"VLOOKUP(K3669,[1]Paramètres!$M$5:$O$101,2,0)","v":{"$error":"#N/A"}},{"$f":"VLOOKUP(K3669,[1]Paramètres!$M$5:$O$101,3,0)","v":{"$error":"#N/A"}},null,null,null,null,null,null,null,null,null,null,{"$f":"SUM(Tableau_Data[[#This Row],[Féminin]:[Masculin]])","v":0}]
[null,null,{"$f":"IF(D3678=\"\",\"\",YEAR(D3678))","v":""},null,"",null,null,null,null,null,null,{"$f":"VLOOKUP(K3678,[1]Paramètres!$M$5:$O$101,2,0)","v":{"$error":"#N/A"}},{"$f":"VLOOKUP(K3678,[1]Paramètres!$M$5:$O$101,3,0)","v":{"$error":"#N/A"}},null,null,null,null,null,null,null,null,null,null,{"$f":"SUM(Tableau_Data[[#This Row],[Féminin]:[Masculin]])","v":0}]
[null,null,"",null,"",null,null,null,null,null,null,{"$f":"VLOOKUP(K3687,[1]Paramètres!$M$5:$O$101,2,0)","v":{"$error":"#N/A"}},{"$f":"VLOOKUP(K3687,[1]Paramètres!$M$5:$O$101,3,0)","v":{"$error":"#N/A"}},null,null,null,null,null,null,null,null,null,null,{"$f":"SUM(Tableau_Data[[#This Row],[Féminin]:[Masculin]])","v":0}]
[null,null,"",null,"",null,null,null,null,null,null,{"$f":"VLOOKUP(K3697,[1]Paramètres!$M$5:$O$101,2,0)","v":{"$error":"#N/A"}},{"$f":"VLOOKUP(K3697,[1]Paramètres!$M$5:$O$101,3,0)","v":{"$error":"#N/A"}},null,null,null,null,null,null,null,null,null,null,{"$f":"SUM(Tableau_Data[[#This Row],[Féminin]:[Masculin]])","v":0}]
[null,null,"",null,"",null,null,null,null,null,null,{"$f":"VLOOKUP(K3706,[1]Paramètres!$M$5:$O$101,2,0)","v":{"$error":"#N/A"}},{"$f":"VLOOKUP(K3706,[1]Paramètres!$M$5:$O$101,3,0)","v":{"$error":"#N/A"}},null,null,null,null,null,null,null,null,null,null,{"$f":"SUM(Tableau_Data[[#This Row],[Féminin]:[Masculin]])","v":0}]
[null,null,"",null,"",null,null,null,null,null,null,{"$f":"VLOOKUP(K3716,[1]Paramètres!$M$5:$O$101,2,0)","v":{"$error":"#N/A"}},{"$f":"VLOOKUP(K3716,[1]Paramètres!$M$5:$O$101,3,0)","v":{"$error":"#N/A"}},null,null,null,null,null,null,null,null,null,null,{"$f":"SUM(Tableau_Data[[#This Row],[Féminin]:[Masculin]])","v":0}]
[null,null,"",null,"",null,null,null,null,null,null,{"$f":"VLOOKUP(K3717,[1]Paramètres!$M$5:$O$101,2,0)","v":{"$error":"#N/A"}},{"$f":"VLOOKUP(K3717,[1]Paramètres!$M$5:$O$101,3,0)","v":{"$error":"#N/A"}},null,null,null,null,null,null,null,null,null,null,{"$f":"SUM(Tableau_Data[[#This Row],[Féminin]:[Masculin]])","v":0}]
[null,null,"",null,"",null,null,null,null,null,null,{"$f":"VLOOKUP(K3726,[1]Paramètres!$M$5:$O$101,2,0)","v":{"$error":"#N/A"}},{"$f":"VLOOKUP(K3726,[1]Paramètres!$M$5:$O$101,3,0)","v":{"$error":"#N/A"}},null,null,null,null,null,null,null,null,null,null,{"$f":"SUM(Tableau_Data[[#This Row],[Féminin]:[Masculin]])","v":0}]
[null,null,"",null,"",null,null,null,null,null,null,{"$f":"VLOOKUP(K3735,[1]Paramètres!$M$5:$O$101,2,0)","v":{"$error":"#N/A"}},{"$f":"VLOOKUP(K3735,[1]Paramètres!$M$5:$O$101,3,0)","v":{"$error":"#N/A"}},null,null,null,null,null,null,null,null,null,null,{"$f":"SUM(Tableau_Data[[#This Row],[Féminin]:[Masculin]])","v":0}]
[null,null,{"$f":"IF(D3742=\"\",\"\",YEAR(D3742))","v":""},null,"",null,null,null,null,null,null,{"$f":"VLOOKUP(K3742,[1]Paramètres!$M$5:$O$101,2,0)","v":{"$error":"#N/A"}},{"$f":"VLOOKUP(K3742,[1]Paramètres!$M$5:$O$101,3,0)","v":{"$error":"#N/A"}},null,null,null,null,null,null,null,null,null,null,{"$f":"SUM(Tableau_Data[[#This Row],[Féminin]:[Masculin]])","v":0}]
[null,null,"",null,"",null,null,null,null,null,null,{"$f":"VLOOKUP(K3754,[1]Paramètres!$M$5:$O$101,2,0)","v":{"$error":"#N/A"}},{"$f":"VLOOKUP(K3754,[1]Paramètres!$M$5:$O$101,3,0)","v":{"$error":"#N/A"}},null,null,null,null,null,null,null,null,null,null,{"$f":"SUM(Tableau_Data[[#This Row],[Féminin]:[Masculin]])","v":0}]
[null,null,"",null,"",null,null,null,null,null,null,{"$f":"VLOOKUP(K3763,[1]Paramètres!$M$5:$O$101,2,0)","v":{"$error":"#N/A"}},{"$f":"VLOOKUP(K3763,[1]Paramètres!$M$5:$O$101,3,0)","v":{"$error":"#N/A"}},null,null,null,null,null,null,null,null,null,null,{"$f":"SUM(Tableau_Data[[#This Row],[Féminin]:[Masculin]])","v":0}]
[null,null,"",null,"",null,null,null,null,null,null,{"$f":"VLOOKUP(K3771,[1]Paramètres!$M$5:$O$101,2,0)","v":{"$error":"#N/A"}},{"$f":"VLOOKUP(K3771,[1]Paramètres!$M$5:$O$101,3,0)","v":{"$error":"#N/A"}},null,null,null,null,null,null,null,null,null,null,{"$f":"SUM(Tableau_Data[[#This Row],[Féminin]:[Masculin]])","v":0}]
[null,null,"",null,"",null,null,null,null,null,null,{"$f":"VLOOKUP(K3782,[1]Paramètres!$M$5:$O$101,2,0)","v":{"$error":"#N/A"}},{"$f":"VLOOKUP(K3782,[1]Paramètres!$M$5:$O$101,3,0)","v":{"$error":"#N/A"}},null,null,null,null,null,null,null,null,null,null,{"$f":"SUM(Tableau_Data[[#This Row],[Féminin]:[Masculin]])","v":0}]
[null,null,"",null,"",null,null,null,null,null,null,{"$f":"VLOOKUP(K3783,[1]Paramètres!$M$5:$O$101,2,0)","v":{"$error":"#N/A"}},{"$f":"VLOOKUP(K3783,[1]Paramètres!$M$5:$O$101,3,0)","v":{"$error":"#N/A"}},null,null,null,null,null,null,null,null,null,null,{"$f":"SUM(Tableau_Data[[#This Row],[Féminin]:[Masculin]])","v":0}]
[null,null,"",null,"",null,null,null,null,null,null,{"$f":"VLOOKUP(K3791,[1]Paramètres!$M$5:$O$101,2,0)","v":{"$error":"#N/A"}},{"$f":"VLOOKUP(K3791,[1]Paramètres!$M$5:$O$101,3,0)","v":{"$error":"#N/A"}},null,null,null,null,null,null,null,null,null,null,{"$f":"SUM(Tableau_Data[[#This Row],[Féminin]:[Masculin]])","v":0}]
[null,null,"",null,"",null,null,null,null,null,null,{"$f":"VLOOKUP(K3802,[1]Paramètres!$M$5:$O$101,2,0)","v":{"$error":"#N/A"}},{"$f":"VLOOKUP(K3802,[1]Paramètres!$M$5:$O$101,3,0)","v":{"$error":"#N/A"}},null,null,null,null,null,null,null,null,null,null,{"$f":"SUM(Tableau_Data[[#This Row],[Féminin]:[Masculin]])","v":0}]
[null,null,"",null,"",null,null,null,null,null,null,{"$f":"VLOOKUP(K3811,[1]Paramètres!$M$5:$O$101,2,0)","v":{"$error":"#N/A"}},{"$f":"VLOOKUP(K3811,[1]Paramètres!$M$5:$O$101,3,0)","v":{"$error":"#N/A"}},null,null,null,null,null,null,null,null,null,null,{"$f":"SUM(Tableau_Data[[#This Row],[Féminin]:[Masculin]])","v":0}]
[null,null,"",null,"",null,null,null,null,null,null,{"$f":"VLOOKUP(K3820,[1]Paramètres!$M$5:$O$101,2,0)","v":{"$error":"#N/A"}},{"$f":"VLOOKUP(K3820,[1]Paramètres!$M$5:$O$101,3,0)","v":{"$error":"#N/A"}},null,null,null,null,null,null,null,null,null,null,{"$f":"SUM(Tableau_Data[[#This Row],[Féminin]:[Masculin]])","v":0}]
[null,null,"",null,"",null,null,null,null,null,null,{"$f":"VLOOKUP(K3830,[1]Paramètres!$M$5:$O$101,2,0)","v":{"$error":"#N/A"}},{"$f":"VLOOKUP(K3830,[1]Paramètres!$M$5:$O$101,3,0)","v":{"$error":"#N/A"}},null,null,null,null,null,null,null,null,null,null,{"$f":"SUM(Tableau_Data[[#This Row],[Féminin]:[Masculin]])","v":0}]
[null,null,"",null,"",null,null,null,null,null,null,{"$f":"VLOOKUP(K3839,[1]Paramètres!$M$5:$O$101,2,0)","v":{"$error":"#N/A"}},{"$f":"VLOOKUP(K3839,[1]Paramètres!$M$5:$O$101,3,0)","v":{"$error":"#N/A"}},null,null,null,null,null,null,null,null,null,null,{"$f":"SUM(Tableau_Data[[#This Row],[Féminin]:[Masculin]])","v":0}]
[null,null,"",null,"",null,null,null,null,null,null,{"$f":"VLOOKUP(K3848,[1]Paramètres!$M$5:$O$101,2,0)","v":{"$error":"#N/A"}},{"$f":"VLOOKUP(K3848,[1]Paramètres!$M$5:$O$101,3,0)","v":{"$error":"#N/A"}},null,null,null,null,null,null,null,null,null,null,{"$f":"SUM(Tableau_Data[[#This Row],[Féminin]:[Masculin]])","v":0}]
[null,null,"",null,"",null,null,null,null,null,null,{"$f":"VLOOKUP(K3855,[1]Paramètres!$M$5:$O$101,2,0)","v":{"$error":"#N/A"}},{"$f":"VLOOKUP(K3855,[1]Paramètres!$M$5:$O$101,3,0)","v":{"$error":"#N/A"}},null,null,null,null,null,null,null,null,null,null,{"$f":"SUM(Tableau_Data[[#This Row],[Féminin]:[Masculin]])","v":0}]
[null,null,"",null,"",null,null,null,null,null,null,{"$f":"VLOOKUP(K3859,[1]Paramètres!$M$5:$O$101,2,0)","v":{"$error":"#N/A"}},{"$f":"VLOOKUP(K3859,[1]Paramètres!$M$5:$O$101,3,0)","v":{"$error":"#N/A"}},null,null,null,null,null,null,null,null,null,null,{"$f":"SUM(Tableau_Data[[#This Row],[Féminin]:[Masculin]])","v":0}]
[null,null,"",null,"",null,null,null,null,null,null,{"$f":"VLOOKUP(K3868,[1]Paramètres!$M$5:$O$101,2,0)","v":{"$error":"#N/A"}},{"$f":"VLOOKUP(K3868,[1]Paramètres!$M$5:$O$101,3,0)","v":{"$error":"#N/A"}},null,null,null,null,null,null,null,null,null,null,{"$f":"SUM(Tableau_Data[[#This Row],[Féminin]:[Masculin]])","v":0}]
[null,null,"",null,"",null,null,null,null,null,null,{"$f":"VLOOKUP(K3875,[1]Paramètres!$M$5:$O$101,2,0)","v":{"$error":"#N/A"}},{"$f":"VLOOKUP(K3875,[1]Paramètres!$M$5:$O$101,3,0)","v":{"$error":"#N/A"}},null,null,null,null,null,null,null,null,null,null,{"$f":"SUM(Tableau_Data[[#This Row],[Féminin]:[Masculin]])","v":0}]
[null,null,"",null,"",null,null,null,null,null,null,{"$f":"VLOOKUP(K3887,[1]Paramètres!$M$5:$O$101,2,0)","v":{"$error":"#N/A"}},{"$f":"VLOOKUP(K3887,[1]Paramètres!$M$5:$O$101,3,0)","v":{"$error":"#N/A"}},null,null,null,null,null,null,null,null,null,null,{"$f":"SUM(Tableau_Data[[#This Row],[Féminin]:[Masculin]])","v":0}]
[null,null,"",null,"",null,null,null,null,null,null,{"$f":"VLOOKUP(K3896,[1]Paramètres!$M$5:$O$101,2,0)","v":{"$error":"#N/A"}},{"$f":"VLOOKUP(K3896,[1]Paramètres!$M$5:$O$101,3,0)","v":{"$error":"#N/A"}},null,null,null,null,null,null,null,null,null,null,{"$f":"SUM(Tableau_Data[[#This Row],[Féminin]:[Masculin]])","v":0}]
[null,null,"",null,"",null,null,null,null,null,null,{"$f":"VLOOKUP(K3904,[1]Paramètres!$M$5:$O$101,2,0)","v":{"$error":"#N/A"}},{"$f":"VLOOKUP(K3904,[1]Paramètres!$M$5:$O$101,3,0)","v":{"$error":"#N/A"}},null,null,null,null,null,null,null,null,null,null,{"$f":"SUM(Tableau_Data[[#This Row],[Féminin]:[Masculin]])","v":0}]
[null,null,"",null,"",null,null,null,null,null,null,{"$f":"VLOOKUP(K3915,[1]Paramètres!$M$5:$O$101,2,0)","v":{"$error":"#N/A"}},{"$f":"VLOOKUP(K3915,[1]Paramètres!$M$5:$O$101,3,0)","v":{"$error":"#N/A"}},null,null,null,null,null,null,null,null,null,null,{"$f":"SUM(Tableau_Data[[#This Row],[Féminin]:[Masculin]])","v":0}]
[null,null,"",null,"",null,null,null,null,null,null,{"$f":"VLOOKUP(K3916,[1]Paramètres!$M$5:$O$101,2,0)","v":{"$error":"#N/A"}},{"$f":"VLOOKUP(K3916,[1]Paramètres!$M$5:$O$101,3,0)","v":{"$error":"#N/A"}},null,null,null,null,null,null,null,null,null,null,{"$f":"SUM(Tableau_Data[[#This Row],[Féminin]:[Masculin]])","v":0}]
[null,null,"",null,"",null,null,null,null,null,null,{"$f":"VLOOKUP(K3924,[1]Paramètres!$M$5:$O$101,2,0)","v":{"$error":"#N/A"}},{"$f":"VLOOKUP(K3924,[1]Paramètres!$M$5:$O$101,3,0)","v":{"$error":"#N/A"}},null,null,null,null,null,null,null,null,null,null,{"$f":"SUM(Tableau_Data[[#This Row],[Féminin]:[Masculin]])","v":0}]
[null,null,"",null,"",null,null,null,null,null,null,{"$f":"VLOOKUP(K3935,[1]Paramètres!$M$5:$O$101,2,0)","v":{"$error":"#N/A"}},{"$f":"VLOOKUP(K3935,[1]Paramètres!$M$5:$O$101,3,0)","v":{"$error":"#N/A"}},null,null,null,null,null,null,null,null,null,null,{"$f":"SUM(Tableau_Data[[#This Row],[Féminin]:[Masculin]])","v":0}]
[null,null,"",null,"",null,null,null,null,null,null,{"$f":"VLOOKUP(K3944,[1]Paramètres!$M$5:$O$101,2,0)","v":{"$error":"#N/A"}},{"$f":"VLOOKUP(K3944,[1]Paramètres!$M$5:$O$101,3,0)","v":{"$error":"#N/A"}},null,null,null,null,null,null,null,null,null,null,{"$f":"SUM(Tableau_Data[[#This Row],[Féminin]:[Masculin]])","v":0}]
[null,null,"",null,"",null,null,null,null,null,null,{"$f":"VLOOKUP(K3953,[1]Paramètres!$M$5:$O$101,2,0)","v":{"$error":"#N/A"}},{"$f":"VLOOKUP(K3953,[1]Paramètres!$M$5:$O$101,3,0)","v":{"$error":"#N/A"}},null,null,null,null,null,null,null,null,null,null,{"$f":"SUM(Tableau_Data[[#This Row],[Féminin]:[Masculin]])","v":0}]
[null,null,"",null,"",null,null,null,null,null,null,{"$f":"VLOOKUP(K3964,[1]Paramètres!$M$5:$O$101,2,0)","v":{"$error":"#N/A"}},{"$f":"VLOOKUP(K3964,[1]Paramètres!$M$5:$O$101,3,0)","v":{"$error":"#N/A"}},null,null,null,null,null,null,null,null,null,null,{"$f":"SUM(Tableau_Data[[#This Row],[Féminin]:[Masculin]])","v":0}]
[null,null,"",null,"",null,null,null,null,null,null,{"$f":"VLOOKUP(K3972,[1]Paramètres!$M$5:$O$101,2,0)","v":{"$error":"#N/A"}},{"$f":"VLOOKUP(K3972,[1]Paramètres!$M$5:$O$101,3,0)","v":{"$error":"#N/A"}},null,null,null,null,null,null,null,null,null,null,{"$f":"SUM(Tableau_Data[[#This Row],[Féminin]:[Masculin]])","v":0}]
[null,null,"",null,"",null,null,null,null,null,null,{"$f":"VLOOKUP(K3981,[1]Paramètres!$M$5:$O$101,2,0)","v":{"$error":"#N/A"}},{"$f":"VLOOKUP(K3981,[1]Paramètres!$M$5:$O$101,3,0)","v":{"$error":"#N/A"}},null,null,null,null,null,null,null,null,null,null,{"$f":"SUM(Tableau_Data[[#This Row],[Féminin]:[Masculin]])","v":0}]
[null,null,"",null,"",null,null,null,null,null,null,{"$f":"VLOOKUP(K3988,[1]Paramètres!$M$5:$O$101,2,0)","v":{"$error":"#N/A"}},{"$f":"VLOOKUP(K3988,[1]Paramètres!$M$5:$O$101,3,0)","v":{"$error":"#N/A"}},null,null,null,null,null,null,null,null,null,null,{"$f":"SUM(Tableau_Data[[#This Row],[Féminin]:[Masculin]])","v":0}]
[null,null,"",null,"",null,null,null,null,null,null,{"$f":"VLOOKUP(K3992,[1]Paramètres!$M$5:$O$101,2,0)","v":{"$error":"#N/A"}},{"$f":"VLOOKUP(K3992,[1]Paramètres!$M$5:$O$101,3,0)","v":{"$error":"#N/A"}},null,null,null,null,null,null,null,null,null,null,{"$f":"SUM(Tableau_Data[[#This Row],[Féminin]:[Masculin]])","v":0}]
[null,null,"",null,"",null,null,null,null,null,null,{"$f":"VLOOKUP(K4001,[1]Paramètres!$M$5:$O$101,2,0)","v":{"$error":"#N/A"}},{"$f":"VLOOKUP(K4001,[1]Paramètres!$M$5:$O$101,3,0)","v":{"$error":"#N/A"}},null,null,null,null,null,null,null,null,null,null,{"$f":"SUM(Tableau_Data[[#This Row],[Féminin]:[Masculin]])","v":0}]
[null,null,"",null,"",null,null,null,null,null,null,{"$f":"VLOOKUP(K4008,[1]Paramètres!$M$5:$O$101,2,0)","v":{"$error":"#N/A"}},{"$f":"VLOOKUP(K4008,[1]Paramètres!$M$5:$O$101,3,0)","v":{"$error":"#N/A"}},null,null,null,null,null,null,null,null,null,null,{"$f":"SUM(Tableau_Data[[#This Row],[Féminin]:[Masculin]])","v":0}]
[null,null,"",null,"",null,null,null,null,null,null,{"$f":"VLOOKUP(K4020,[1]Paramètres!$M$5:$O$101,2,0)","v":{"$error":"#N/A"}},{"$f":"VLOOKUP(K4020,[1]Paramètres!$M$5:$O$101,3,0)","v":{"$error":"#N/A"}},null,null,null,null,null,null,null,null,null,null,{"$f":"SUM(Tableau_Data[[#This Row],[Féminin]:[Masculin]])","v":0}]
[null,null,"",null,"",null,null,null,null,null,null,{"$f":"VLOOKUP(K4029,[1]Paramètres!$M$5:$O$101,2,0)","v":{"$error":"#N/A"}},{"$f":"VLOOKUP(K4029,[1]Paramètres!$M$5:$O$101,3,0)","v":{"$error":"#N/A"}},null,null,null,null,null,null,null,null,null,null,{"$f":"SUM(Tableau_Data[[#This Row],[Féminin]:[Masculin]])","v":0}]
[null,null,"",null,"",null,null,null,null,null,null,{"$f":"VLOOKUP(K4038,[1]Paramètres!$M$5:$O$101,2,0)","v":{"$error":"#N/A"}},{"$f":"VLOOKUP(K4038,[1]Paramètres!$M$5:$O$101,3,0)","v":{"$error":"#N/A"}},null,null,null,null,null,null,null,null,null,null,{"$f":"SUM(Tableau_Data[[#This Row],[Féminin]:[Masculin]])","v":0}]
[null,null,"",null,"",null,null,null,null,null,null,{"$f":"VLOOKUP(K4048,[1]Paramètres!$M$5:$O$101,2,0)","v":{"$error":"#N/A"}},{"$f":"VLOOKUP(K4048,[1]Paramètres!$M$5:$O$101,3,0)","v":{"$error":"#N/A"}},null,null,null,null,null,null,null,null,null,null,{"$f":"SUM(Tableau_Data[[#This Row],[Féminin]:[Masculin]])","v":0}]
[null,null,"",null,"",null,null,null,null,null,null,{"$f":"VLOOKUP(K4049,[1]Paramètres!$M$5:$O$101,2,0)","v":{"$error":"#N/A"}},{"$f":"VLOOKUP(K4049,[1]Paramètres!$M$5:$O$101,3,0)","v":{"$error":"#N/A"}},null,null,null,null,null,null,null,null,null,null,{"$f":"SUM(Tableau_Data[[#This Row],[Féminin]:[Masculin]])","v":0}]
[null,null,"",null,"",null,null,null,null,null,null,{"$f":"VLOOKUP(K4058,[1]Paramètres!$M$5:$O$101,2,0)","v":{"$error":"#N/A"}},{"$f":"VLOOKUP(K4058,[1]Paramètres!$M$5:$O$101,3,0)","v":{"$error":"#N/A"}},null,null,null,null,null,null,null,null,null,null,{"$f":"SUM(Tableau_Data[[#This Row],[Féminin]:[Masculin]])","v":0}]
[null,null,"",null,"",null,null,null,null,null,null,{"$f":"VLOOKUP(K4068,[1]Paramètres!$M$5:$O$101,2,0)","v":{"$error":"#N/A"}},{"$f":"VLOOKUP(K4068,[1]Paramètres!$M$5:$O$101,3,0)","v":{"$error":"#N/A"}},null,null,null,null,null,null,null,null,null,null,{"$f":"SUM(Tableau_Data[[#This Row],[Féminin]:[Masculin]])","v":0}]
[null,null,"",null,"",null,null,null,null,null,null,{"$f":"VLOOKUP(K4077,[1]Paramètres!$M$5:$O$101,2,0)","v":{"$error":"#N/A"}},{"$f":"VLOOKUP(K4077,[1]Paramètres!$M$5:$O$101,3,0)","v":{"$error":"#N/A"}},null,null,null,null,null,null,null,null,null,null,{"$f":"SUM(Tableau_Data[[#This Row],[Féminin]:[Masculin]])","v":0}]
[null,null,"",null,"",null,null,null,null,null,null,{"$f":"VLOOKUP(K4086,[1]Paramètres!$M$5:$O$101,2,0)","v":{"$error":"#N/A"}},{"$f":"VLOOKUP(K4086,[1]Paramètres!$M$5:$O$101,3,0)","v":{"$error":"#N/A"}},null,null,null,null,null,null,null,null,null,null,{"$f":"SUM(Tableau_Data[[#This Row],[Féminin]:[Masculin]])","v":0}]
[null,null,"",null,"",null,null,null,null,null,null,{"$f":"VLOOKUP(K4092,[1]Paramètres!$M$5:$O$101,2,0)","v":{"$error":"#N/A"}},{"$f":"VLOOKUP(K4092,[1]Paramètres!$M$5:$O$101,3,0)","v":{"$error":"#N/A"}},null,null,null,null,null,null,null,null,null,null,{"$f":"SUM(Tableau_Data[[#This Row],[Féminin]:[Masculin]])","v":0}]
[null,null,"",null,"",null,null,null,null,null,null,{"$f":"VLOOKUP(K4105,[1]Paramètres!$M$5:$O$101,2,0)","v":{"$error":"#N/A"}},{"$f":"VLOOKUP(K4105,[1]Paramètres!$M$5:$O$101,3,0)","v":{"$error":"#N/A"}},null,null,null,null,null,null,null,null,null,null,{"$f":"SUM(Tableau_Data[[#This Row],[Féminin]:[Masculin]])","v":0}]
[null,null,"",null,"",null,null,null,null,null,null,{"$f":"VLOOKUP(K4114,[1]Paramètres!$M$5:$O$101,2,0)","v":{"$error":"#N/A"}},{"$f":"VLOOKUP(K4114,[1]Paramètres!$M$5:$O$101,3,0)","v":{"$error":"#N/A"}},null,null,null,null,null,null,null,null,null,null,{"$f":"SUM(Tableau_Data[[#This Row],[Féminin]:[Masculin]])","v":0}]
[null,null,"",null,"",null,null,null,null,null,null,{"$f":"VLOOKUP(K4121,[1]Paramètres!$M$5:$O$101,2,0)","v":{"$error":"#N/A"}},{"$f":"VLOOKUP(K4121,[1]Paramètres!$M$5:$O$101,3,0)","v":{"$error":"#N/A"}},null,null,null,null,null,null,null,null,null,null,{"$f":"SUM(Tableau_Data[[#This Row],[Féminin]:[Masculin]])","v":0}]
[null,null,"",null,"",null,null,null,null,null,null,{"$f":"VLOOKUP(K4125,[1]Paramètres!$M$5:$O$101,2,0)","v":{"$error":"#N/A"}},{"$f":"VLOOKUP(K4125,[1]Paramètres!$M$5:$O$101,3,0)","v":{"$error":"#N/A"}},null,null,null,null,null,null,null,null,null,null,{"$f":"SUM(Tableau_Data[[#This Row],[Féminin]:[Masculin]])","v":0}]
[null,null,"",null,"",null,null,null,null,null,null,{"$f":"VLOOKUP(K4134,[1]Paramètres!$M$5:$O$101,2,0)","v":{"$error":"#N/A"}},{"$f":"VLOOKUP(K4134,[1]Paramètres!$M$5:$O$101,3,0)","v":{"$error":"#N/A"}},null,null,null,null,null,null,null,null,null,null,{"$f":"SUM(Tableau_Data[[#This Row],[Féminin]:[Masculin]])","v":0}]
[null,null,"",null,"",null,null,null,null,null,null,{"$f":"VLOOKUP(K4143,[1]Paramètres!$M$5:$O$101,2,0)","v":{"$error":"#N/A"}},{"$f":"VLOOKUP(K4143,[1]Paramètres!$M$5:$O$101,3,0)","v":{"$error":"#N/A"}},null,null,null,null,null,null,null,null,null,null,{"$f":"SUM(Tableau_Data[[#This Row],[Féminin]:[Masculin]])","v":0}]
[null,null,"",null,"",null,null,null,null,null,null,{"$f":"VLOOKUP(K4152,[1]Paramètres!$M$5:$O$101,2,0)","v":{"$error":"#N/A"}},{"$f":"VLOOKUP(K4152,[1]Paramètres!$M$5:$O$101,3,0)","v":{"$error":"#N/A"}},null,null,null,null,null,null,null,null,null,null,{"$f":"SUM(Tableau_Data[[#This Row],[Féminin]:[Masculin]])","v":0}]
[null,null,"",null,"",null,null,null,null,null,null,{"$f":"VLOOKUP(K4162,[1]Paramètres!$M$5:$O$101,2,0)","v":{"$error":"#N/A"}},{"$f":"VLOOKUP(K4162,[1]Paramètres!$M$5:$O$101,3,0)","v":{"$error":"#N/A"}},null,null,null,null,null,null,null,null,null,null,{"$f":"SUM(Tableau_Data[[#This Row],[Féminin]:[Masculin]])","v":0}]
[null,null,"",null,"",null,null,null,null,null,null,{"$f":"VLOOKUP(K4171,[1]Paramètres!$M$5:$O$101,2,0)","v":{"$error":"#N/A"}},{"$f":"VLOOKUP(K4171,[1]Paramètres!$M$5:$O$101,3,0)","v":{"$error":"#N/A"}},null,null,null,null,null,null,null,null,null,null,{"$f":"SUM(Tableau_Data[[#This Row],[Féminin]:[Masculin]])","v":0}]
[null,null,"",null,"",null,null,null,null,null,null,{"$f":"VLOOKUP(K4181,[1]Paramètres!$M$5:$O$101,2,0)","v":{"$error":"#N/A"}},{"$f":"VLOOKUP(K4181,[1]Paramètres!$M$5:$O$101,3,0)","v":{"$error":"#N/A"}},null,null,null,null,null,null,null,null,null,null,{"$f":"SUM(Tableau_Data[[#This Row],[Féminin]:[Masculin]])","v":0}]
[null,null,"",null,"",null,null,null,null,null,null,{"$f":"VLOOKUP(K4182,[1]Paramètres!$M$5:$O$101,2,0)","v":{"$error":"#N/A"}},{"$f":"VLOOKUP(K4182,[1]Paramètres!$M$5:$O$101,3,0)","v":{"$error":"#N/A"}},null,null,null,null,null,null,null,null,null,null,{"$f":"SUM(Tableau_Data[[#This Row],[Féminin]:[Masculin]])","v":0}]
[null,null,"",null,"",null,null,null,null,null,null,{"$f":"VLOOKUP(K4191,[1]Paramètres!$M$5:$O$101,2,0)","v":{"$error":"#N/A"}},{"$f":"VLOOKUP(K4191,[1]Paramètres!$M$5:$O$101,3,0)","v":{"$error":"#N/A"}},null,null,null,null,null,null,null,null,null,null,{"$f":"SUM(Tableau_Data[[#This Row],[Féminin]:[Masculin]])","v":0}]
[null,null,"",null,"",null,null,null,null,null,null,{"$f":"VLOOKUP(K4205,[1]Paramètres!$M$5:$O$101,2,0)","v":{"$error":"#N/A"}},{"$f":"VLOOKUP(K4205,[1]Paramètres!$M$5:$O$101,3,0)","v":{"$error":"#N/A"}},null,null,null,null,null,null,null,null,null,null,{"$f":"SUM(Tableau_Data[[#This Row],[Féminin]:[Masculin]])","v":0}]
[null,null,"",null,"",null,null,null,null,null,null,{"$f":"VLOOKUP(K4210,[1]Paramètres!$M$5:$O$101,2,0)","v":{"$error":"#N/A"}},{"$f":"VLOOKUP(K4210,[1]Paramètres!$M$5:$O$101,3,0)","v":{"$error":"#N/A"}},null,null,null,null,null,null,null,null,null,null,{"$f":"SUM(Tableau_Data[[#This Row],[Féminin]:[Masculin]])","v":0}]
[null,null,"",null,"",null,null,null,null,null,null,{"$f":"VLOOKUP(K4219,[1]Paramètres!$M$5:$O$101,2,0)","v":{"$error":"#N/A"}},{"$f":"VLOOKUP(K4219,[1]Paramètres!$M$5:$O$101,3,0)","v":{"$error":"#N/A"}},null,null,null,null,null,null,null,null,null,null,{"$f":"SUM(Tableau_Data[[#This Row],[Féminin]:[Masculin]])","v":0}]
[null,null,"",null,"",null,null,null,null,null,null,{"$f":"VLOOKUP(K4225,[1]Paramètres!$M$5:$O$101,2,0)","v":{"$error":"#N/A"}},{"$f":"VLOOKUP(K4225,[1]Paramètres!$M$5:$O$101,3,0)","v":{"$error":"#N/A"}},null,null,null,null,null,null,null,null,null,null,{"$f":"SUM(Tableau_Data[[#This Row],[Féminin]:[Masculin]])","v":0}]
[null,null,2020,null,9,null,null,null,null,null,null,{"$f":"VLOOKUP(K4238,[1]Paramètres!$M$5:$O$101,2,0)","v":{"$error":"#N/A"}},{"$f":"VLOOKUP(K4238,[1]Paramètres!$M$5:$O$101,3,0)","v":{"$error":"#N/A"}},null,null,null,null,null,null,null,null,null,null,{"$f":"SUM(Tableau_Data[[#This Row],[Féminin]:[Masculin]])","v":0}]
[null,null,2020,null,9,null,null,null,null,null,null,{"$f":"VLOOKUP(K4247,[1]Paramètres!$M$5:$O$101,2,0)","v":{"$error":"#N/A"}},{"$f":"VLOOKUP(K4247,[1]Paramètres!$M$5:$O$101,3,0)","v":{"$error":"#N/A"}},null,null,null,null,null,null,null,null,null,null,{"$f":"SUM(Tableau_Data[[#This Row],[Féminin]:[Masculin]])","v":0}]
[null,null,2020,null,9,null,null,null,null,null,null,{"$f":"VLOOKUP(K4248,[1]Paramètres!$M$5:$O$101,2,0)","v":{"$error":"#N/A"}},{"$f":"VLOOKUP(K4248,[1]Paramètres!$M$5:$O$101,3,0)","v":{"$error":"#N/A"}},null,null,null,null,null,null,null,null,null,null,{"$f":"SUM(Tableau_Data[[#This Row],[Féminin]:[Masculin]])","v":0}]
[null,null,2020,null,9,null,null,null,null,null,null,{"$f":"VLOOKUP(K4256,[1]Paramètres!$M$5:$O$101,2,0)","v":{"$error":"#N/A"}},{"$f":"VLOOKUP(K4256,[1]Paramètres!$M$5:$O$101,3,0)","v":{"$error":"#N/A"}},null,null,null,null,null,null,null,null,null,null,{"$f":"SUM(Tableau_Data[[#This Row],[Féminin]:[Masculin]])","v":0}]
[null,null,2020,null,9,null,null,null,null,null,null,{"$f":"VLOOKUP(K4267,[1]Paramètres!$M$5:$O$101,2,0)","v":{"$error":"#N/A"}},{"$f":"VLOOKUP(K4267,[1]Paramètres!$M$5:$O$101,3,0)","v":{"$error":"#N/A"}},null,null,null,null,null,null,null,null,null,null,{"$f":"SUM(Tableau_Data[[#This Row],[Féminin]:[Masculin]])","v":0}]
[null,null,2020,null,9,null,null,null,null,null,null,{"$f":"VLOOKUP(K4276,[1]Paramètres!$M$5:$O$101,2,0)","v":{"$error":"#N/A"}},{"$f":"VLOOKUP(K4276,[1]Paramètres!$M$5:$O$101,3,0)","v":{"$error":"#N/A"}},null,null,null,null,null,null,null,null,null,null,{"$f":"SUM(Tableau_Data[[#This Row],[Féminin]:[Masculin]])","v":0}]
[null,null,2020,null,9,null,null,null,null,null,null,{"$f":"VLOOKUP(K4285,[1]Paramètres!$M$5:$O$101,2,0)","v":{"$error":"#N/A"}},{"$f":"VLOOKUP(K4285,[1]Paramètres!$M$5:$O$101,3,0)","v":{"$error":"#N/A"}},null,null,null,null,null,null,null,null,null,null,{"$f":"SUM(Tableau_Data[[#This Row],[Féminin]:[Masculin]])","v":0}]
[null,null,2020,null,9,null,null,null,null,null,null,{"$f":"VLOOKUP(K4295,[1]Paramètres!$M$5:$O$101,2,0)","v":{"$error":"#N/A"}},{"$f":"VLOOKUP(K4295,[1]Paramètres!$M$5:$O$101,3,0)","v":{"$error":"#N/A"}},null,null,null,null,null,null,null,null,null,null,{"$f":"SUM(Tableau_Data[[#This Row],[Féminin]:[Masculin]])","v":0}]
[null,null,2020,null,9,null,null,null,null,null,null,{"$f":"VLOOKUP(K4304,[1]Paramètres!$M$5:$O$101,2,0)","v":{"$error":"#N/A"}},{"$f":"VLOOKUP(K4304,[1]Paramètres!$M$5:$O$101,3,0)","v":{"$error":"#N/A"}},null,null,null,null,null,null,null,null,null,null,{"$f":"SUM(Tableau_Data[[#This Row],[Féminin]:[Masculin]])","v":0}]
[null,null,2020,null,9,null,null,null,null,null,null,{"$f":"VLOOKUP(K4309,[1]Paramètres!$M$5:$O$101,2,0)","v":{"$error":"#N/A"}},{"$f":"VLOOKUP(K4309,[1]Paramètres!$M$5:$O$101,3,0)","v":{"$error":"#N/A"}},null,null,null,null,null,null,null,null,null,null,{"$f":"SUM(Tableau_Data[[#This Row],[Féminin]:[Masculin]])","v":0}]
[null,null,2020,null,9,null,null,null,null,null,null,{"$f":"VLOOKUP(K4315,[1]Paramètres!$M$5:$O$101,2,0)","v":{"$error":"#N/A"}},{"$f":"VLOOKUP(K4315,[1]Paramètres!$M$5:$O$101,3,0)","v":{"$error":"#N/A"}},null,null,null,null,null,null,null,null,null,null,{"$f":"SUM(Tableau_Data[[#This Row],[Féminin]:[Masculin]])","v":0}]
[null,null,2020,null,5,null,null,null,null,null,null,{"$f":"VLOOKUP(K4324,[1]Paramètres!$M$5:$O$101,2,0)","v":{"$error":"#N/A"}},{"$f":"VLOOKUP(K4324,[1]Paramètres!$M$5:$O$101,3,0)","v":{"$error":"#N/A"}},null,null,null,null,null,null,null,null,null,null,{"$f":"SUM(Tableau_Data[[#This Row],[Féminin]:[Masculin]])","v":0}]
[null,null,2020,null,5,null,null,null,null,null,null,{"$f":"VLOOKUP(K4338,[1]Paramètres!$M$5:$O$101,2,0)","v":{"$error":"#N/A"}},{"$f":"VLOOKUP(K4338,[1]Paramètres!$M$5:$O$101,3,0)","v":{"$error":"#N/A"}},null,null,null,null,null,null,null,null,null,null,{"$f":"SUM(Tableau_Data[[#This Row],[Féminin]:[Masculin]])","v":0}]
[null,null,2020,null,5,null,null,null,null,null,null,{"$f":"VLOOKUP(K4343,[1]Paramètres!$M$5:$O$101,2,0)","v":{"$error":"#N/A"}},{"$f":"VLOOKUP(K4343,[1]Paramètres!$M$5:$O$101,3,0)","v":{"$error":"#N/A"}},null,null,null,null,null,null,null,null,null,null,{"$f":"SUM(Tableau_Data[[#This Row],[Féminin]:[Masculin]])","v":0}]
[null,null,2020,null,9,null,null,null,null,null,null,{"$f":"VLOOKUP(K4352,[1]Paramètres!$M$5:$O$101,2,0)","v":{"$error":"#N/A"}},{"$f":"VLOOKUP(K4352,[1]Paramètres!$M$5:$O$101,3,0)","v":{"$error":"#N/A"}},null,null,null,null,null,null,null,null,null,null,{"$f":"SUM(Tableau_Data[[#This Row],[Féminin]:[Masculin]])","v":0}]
[null,null,2020,null,9,null,null,null,null,null,null,{"$f":"VLOOKUP(K4361,[1]Paramètres!$M$5:$O$101,2,0)","v":{"$error":"#N/A"}},{"$f":"VLOOKUP(K4361,[1]Paramètres!$M$5:$O$101,3,0)","v":{"$error":"#N/A"}},null,null,null,null,null,null,null,null,null,null,{"$f":"SUM(Tableau_Data[[#This Row],[Féminin]:[Masculin]])","v":0}]
[null,null,2020,null,9,null,null,null,null,null,null,{"$f":"VLOOKUP(K4369,[1]Paramètres!$M$5:$O$101,2,0)","v":{"$error":"#N/A"}},{"$f":"VLOOKUP(K4369,[1]Paramètres!$M$5:$O$101,3,0)","v":{"$error":"#N/A"}},null,null,null,null,null,null,null,null,null,null,{"$f":"SUM(Tableau_Data[[#This Row],[Féminin]:[Masculin]])","v":0}]
[null,null,2020,null,9,null,null,null,null,null,null,{"$f":"VLOOKUP(K4380,[1]Paramètres!$M$5:$O$101,2,0)","v":{"$error":"#N/A"}},{"$f":"VLOOKUP(K4380,[1]Paramètres!$M$5:$O$101,3,0)","v":{"$error":"#N/A"}},null,null,null,null,null,null,null,null,null,null,{"$f":"SUM(Tableau_Data[[#This Row],[Féminin]:[Masculin]])","v":0}]
[null,null,2020,null,9,null,null,null,null,null,null,{"$f":"VLOOKUP(K4381,[1]Paramètres!$M$5:$O$101,2,0)","v":{"$error":"#N/A"}},{"$f":"VLOOKUP(K4381,[1]Paramètres!$M$5:$O$101,3,0)","v":{"$error":"#N/A"}},null,null,null,null,null,null,null,null,null,null,{"$f":"SUM(Tableau_Data[[#This Row],[Féminin]:[Masculin]])","v":0}]
[null,null,2020,null,9,null,null,null,null,null,null,{"$f":"VLOOKUP(K4389,[1]Paramètres!$M$5:$O$101,2,0)","v":{"$error":"#N/A"}},{"$f":"VLOOKUP(K4389,[1]Paramètres!$M$5:$O$101,3,0)","v":{"$error":"#N/A"}},null,null,null,null,null,null,null,null,null,null,{"$f":"SUM(Tableau_Data[[#This Row],[Féminin]:[Masculin]])","v":0}]
[null,null,2020,null,9,null,null,null,null,null,null,{"$f":"VLOOKUP(K4400,[1]Paramètres!$M$5:$O$101,2,0)","v":{"$error":"#N/A"}},{"$f":"VLOOKUP(K4400,[1]Paramètres!$M$5:$O$101,3,0)","v":{"$error":"#N/A"}},null,null,null,null,null,null,null,null,null,null,{"$f":"SUM(Tableau_Data[[#This Row],[Féminin]:[Masculin]])","v":0}]
[null,null,2020,null,9,null,null,null,null,null,null,{"$f":"VLOOKUP(K4409,[1]Paramètres!$M$5:$O$101,2,0)","v":{"$error":"#N/A"}},{"$f":"VLOOKUP(K4409,[1]Paramètres!$M$5:$O$101,3,0)","v":{"$error":"#N/A"}},null,null,null,null,null,null,null,null,null,null,{"$f":"SUM(Tableau_Data[[#This Row],[Féminin]:[Masculin]])","v":0}]
[null,null,2020,null,9,null,null,null,null,null,null,{"$f":"VLOOKUP(K4418,[1]Paramètres!$M$5:$O$101,2,0)","v":{"$error":"#N/A"}},{"$f":"VLOOKUP(K4418,[1]Paramètres!$M$5:$O$101,3,0)","v":{"$error":"#N/A"}},null,null,null,null,null,null,null,null,null,null,{"$f":"SUM(Tableau_Data[[#This Row],[Féminin]:[Masculin]])","v":0}]
[null,null,2020,null,9,null,null,null,null,null,null,{"$f":"VLOOKUP(K4428,[1]Paramètres!$M$5:$O$101,2,0)","v":{"$error":"#N/A"}},{"$f":"VLOOKUP(K4428,[1]Paramètres!$M$5:$O$101,3,0)","v":{"$error":"#N/A"}},null,null,null,null,null,null,null,null,null,null,{"$f":"SUM(Tableau_Data[[#This Row],[Féminin]:[Masculin]])","v":0}]
[null,null,2020,null,8,null,null,null,null,null,null,{"$f":"VLOOKUP(K4437,[1]Paramètres!$M$5:$O$101,2,0)","v":{"$error":"#N/A"}},{"$f":"VLOOKUP(K4437,[1]Paramètres!$M$5:$O$101,3,0)","v":{"$error":"#N/A"}},null,null,null,null,null,null,null,null,null,null,{"$f":"SUM(Tableau_Data[[#This Row],[Féminin]:[Masculin]])","v":0}]
[null,null,2020,null,9,null,null,null,null,null,null,{"$f":"VLOOKUP(K4446,[1]Paramètres!$M$5:$O$101,2,0)","v":{"$error":"#N/A"}},{"$f":"VLOOKUP(K4446,[1]Paramètres!$M$5:$O$101,3,0)","v":{"$error":"#N/A"}},null,null,null,null,null,null,null,null,null,null,{"$f":"SUM(Tableau_Data[[#This Row],[Féminin]:[Masculin]])","v":0}]
[null,null,2020,null,9,null,null,null,null,null,null,{"$f":"VLOOKUP(K4453,[1]Paramètres!$M$5:$O$101,2,0)","v":{"$error":"#N/A"}},{"$f":"VLOOKUP(K4453,[1]Paramètres!$M$5:$O$101,3,0)","v":{"$error":"#N/A"}},null,null,null,null,null,null,null,null,null,null,{"$f":"SUM(Tableau_Data[[#This Row],[Féminin]:[Masculin]])","v":0}]
[null,null,2020,null,9,null,null,null,null,null,null,{"$f":"VLOOKUP(K4457,[1]Paramètres!$M$5:$O$101,2,0)","v":{"$error":"#N/A"}},{"$f":"VLOOKUP(K4457,[1]Paramètres!$M$5:$O$101,3,0)","v":{"$error":"#N/A"}},null,null,null,null,null,null,null,null,null,null,{"$f":"SUM(Tableau_Data[[#This Row],[Féminin]:[Masculin]])","v":0}]
[null,null,2020,null,9,null,null,null,null,null,null,{"$f":"VLOOKUP(K4466,[1]Paramètres!$M$5:$O$101,2,0)","v":{"$error":"#N/A"}},{"$f":"VLOOKUP(K4466,[1]Paramètres!$M$5:$O$101,3,0)","v":{"$error":"#N/A"}},null,null,null,null,null,null,null,null,null,null,{"$f":"SUM(Tableau_Data[[#This Row],[Féminin]:[Masculin]])","v":0}]
[null,null,2020,null,9,null,null,null,null,null,null,{"$f":"VLOOKUP(K4473,[1]Paramètres!$M$5:$O$101,2,0)","v":{"$error":"#N/A"}},{"$f":"VLOOKUP(K4473,[1]Paramètres!$M$5:$O$101,3,0)","v":{"$error":"#N/A"}},null,null,null,null,null,null,null,null,null,null,{"$f":"SUM(Tableau_Data[[#This Row],[Féminin]:[Masculin]])","v":0}]
[null,null,2020,null,9,null,null,null,null,null,null,{"$f":"VLOOKUP(K4485,[1]Paramètres!$M$5:$O$101,2,0)","v":{"$error":"#N/A"}},{"$f":"VLOOKUP(K4485,[1]Paramètres!$M$5:$O$101,3,0)","v":{"$error":"#N/A"}},null,null,null,null,null,null,null,null,null,null,{"$f":"SUM(Tableau_Data[[#This Row],[Féminin]:[Masculin]])","v":0}]
[null,null,2020,null,9,null,null,null,null,null,null,{"$f":"VLOOKUP(K4494,[1]Paramètres!$M$5:$O$101,2,0)","v":{"$error":"#N/A"}},{"$f":"VLOOKUP(K4494,[1]Paramètres!$M$5:$O$101,3,0)","v":{"$error":"#N/A"}},null,null,null,null,null,null,null,null,null,null,{"$f":"SUM(Tableau_Data[[#This Row],[Féminin]:[Masculin]])","v":0}]
[null,null,2020,null,9,null,null,null,null,null,null,{"$f":"VLOOKUP(K4502,[1]Paramètres!$M$5:$O$101,2,0)","v":{"$error":"#N/A"}},{"$f":"VLOOKUP(K4502,[1]Paramètres!$M$5:$O$101,3,0)","v":{"$error":"#N/A"}},null,null,null,null,null,null,null,null,null,null,{"$f":"SUM(Tableau_Data[[#This Row],[Féminin]:[Masculin]])","v":0}]
[null,null,2020,null,9,null,null,null,null,null,null,{"$f":"VLOOKUP(K4513,[1]Paramètres!$M$5:$O$101,2,0)","v":{"$error":"#N/A"}},{"$f":"VLOOKUP(K4513,[1]Paramètres!$M$5:$O$101,3,0)","v":{"$error":"#N/A"}},null,null,null,null,null,null,null,null,null,null,{"$f":"SUM(Tableau_Data[[#This Row],[Féminin]:[Masculin]])","v":0}]
[null,null,2020,null,9,null,null,null,null,null,null,{"$f":"VLOOKUP(K4514,[1]Paramètres!$M$5:$O$101,2,0)","v":{"$error":"#N/A"}},{"$f":"VLOOKUP(K4514,[1]Paramètres!$M$5:$O$101,3,0)","v":{"$error":"#N/A"}},null,null,null,null,null,null,null,null,null,null,{"$f":"SUM(Tableau_Data[[#This Row],[Féminin]:[Masculin]])","v":0}]
[null,null,2020,null,9,null,null,null,null,null,null,{"$f":"VLOOKUP(K4522,[1]Paramètres!$M$5:$O$101,2,0)","v":{"$error":"#N/A"}},{"$f":"VLOOKUP(K4522,[1]Paramètres!$M$5:$O$101,3,0)","v":{"$error":"#N/A"}},null,null,null,null,null,null,null,null,null,null,{"$f":"SUM(Tableau_Data[[#This Row],[Féminin]:[Masculin]])","v":0}]
[null,null,2020,null,9,null,null,null,null,null,null,{"$f":"VLOOKUP(K4533,[1]Paramètres!$M$5:$O$101,2,0)","v":{"$error":"#N/A"}},{"$f":"VLOOKUP(K4533,[1]Paramètres!$M$5:$O$101,3,0)","v":{"$error":"#N/A"}},null,null,null,null,null,null,null,null,null,null,{"$f":"SUM(Tableau_Data[[#This Row],[Féminin]:[Masculin]])","v":0}]
[null,null,2020,null,9,null,null,null,null,null,null,{"$f":"VLOOKUP(K4542,[1]Paramètres!$M$5:$O$101,2,0)","v":{"$error":"#N/A"}},{"$f":"VLOOKUP(K4542,[1]Paramètres!$M$5:$O$101,3,0)","v":{"$error":"#N/A"}},null,null,null,null,null,null,null,null,null,null,{"$f":"SUM(Tableau_Data[[#This Row],[Féminin]:[Masculin]])","v":0}]
[null,null,2020,null,5,null,null,null,null,null,null,{"$f":"VLOOKUP(K4551,[1]Paramètres!$M$5:$O$101,2,0)","v":{"$error":"#N/A"}},{"$f":"VLOOKUP(K4551,[1]Paramètres!$M$5:$O$101,3,0)","v":{"$error":"#N/A"}},null,null,null,null,null,null,null,null,null,null,{"$f":"SUM(Tableau_Data[[#This Row],[Féminin]:[Masculin]])","v":0}]
[null,null,2020,null,6,null,null,null,null,null,null,{"$f":"VLOOKUP(K4557,[1]Paramètres!$M$5:$O$101,2,0)","v":{"$error":"#N/A"}},{"$f":"VLOOKUP(K4557,[1]Paramètres!$M$5:$O$101,3,0)","v":{"$error":"#N/A"}},null,null,null,null,null,null,null,null,null,null,{"$f":"SUM(Tableau_Data[[#This Row],[Féminin]:[Masculin]])","v":0}]
[null,null,2020,null,7,null,null,null,null,null,null,{"$f":"VLOOKUP(K4570,[1]Paramètres!$M$5:$O$101,2,0)","v":{"$error":"#N/A"}},{"$f":"VLOOKUP(K4570,[1]Paramètres!$M$5:$O$101,3,0)","v":{"$error":"#N/A"}},null,null,null,null,null,null,null,null,null,null,{"$f":"SUM(Tableau_Data[[#This Row],[Féminin]:[Masculin]])","v":0}]
[null,null,2020,null,7,null,null,null,null,null,null,{"$f":"VLOOKUP(K4579,[1]Paramètres!$M$5:$O$101,2,0)","v":{"$error":"#N/A"}},{"$f":"VLOOKUP(K4579,[1]Paramètres!$M$5:$O$101,3,0)","v":{"$error":"#N/A"}},null,null,null,null,null,null,null,null,null,null,{"$f":"SUM(Tableau_Data[[#This Row],[Féminin]:[Masculin]])","v":0}]
[null,null,2020,null,9,null,null,null,null,null,null,{"$f":"VLOOKUP(K4586,[1]Paramètres!$M$5:$O$101,2,0)","v":{"$error":"#N/A"}},{"$f":"VLOOKUP(K4586,[1]Paramètres!$M$5:$O$101,3,0)","v":{"$error":"#N/A"}},null,null,null,null,null,null,null,null,null,null,{"$f":"SUM(Tableau_Data[[#This Row],[Féminin]:[Masculin]])","v":0}]
[null,null,2020,null,9,null,null,null,null,null,null,{"$f":"VLOOKUP(K4590,[1]Paramètres!$M$5:$O$101,2,0)","v":{"$error":"#N/A"}},{"$f":"VLOOKUP(K4590,[1]Paramètres!$M$5:$O$101,3,0)","v":{"$error":"#N/A"}},null,null,null,null,null,null,null,null,null,null,{"$f":"SUM(Tableau_Data[[#This Row],[Féminin]:[Masculin]])","v":0}]
[null,null,2020,null,9,null,null,null,null,null,null,{"$f":"VLOOKUP(K4599,[1]Paramètres!$M$5:$O$101,2,0)","v":{"$error":"#N/A"}},{"$f":"VLOOKUP(K4599,[1]Paramètres!$M$5:$O$101,3,0)","v":{"$error":"#N/A"}},null,null,null,null,null,null,null,null,null,null,{"$f":"SUM(Tableau_Data[[#This Row],[Féminin]:[Masculin]])","v":0}]
[null,null,2020,null,9,null,null,null,null,null,null,{"$f":"VLOOKUP(K4606,[1]Paramètres!$M$5:$O$101,2,0)","v":{"$error":"#N/A"}},{"$f":"VLOOKUP(K4606,[1]Paramètres!$M$5:$O$101,3,0)","v":{"$error":"#N/A"}},null,null,null,null,null,null,null,null,null,null,{"$f":"SUM(Tableau_Data[[#This Row],[Féminin]:[Masculin]])","v":0}]
[null,null,2020,null,9,null,null,null,null,null,null,{"$f":"VLOOKUP(K4618,[1]Paramètres!$M$5:$O$101,2,0)","v":{"$error":"#N/A"}},{"$f":"VLOOKUP(K4618,[1]Paramètres!$M$5:$O$101,3,0)","v":{"$error":"#N/A"}},null,null,null,null,null,null,null,null,null,null,{"$f":"SUM(Tableau_Data[[#This Row],[Féminin]:[Masculin]])","v":0}]
[null,null,2020,null,9,null,null,null,null,null,null,{"$f":"VLOOKUP(K4627,[1]Paramètres!$M$5:$O$101,2,0)","v":{"$error":"#N/A"}},{"$f":"VLOOKUP(K4627,[1]Paramètres!$M$5:$O$101,3,0)","v":{"$error":"#N/A"}},null,null,null,null,null,null,null,null,null,null,{"$f":"SUM(Tableau_Data[[#This Row],[Féminin]:[Masculin]])","v":0}]
[null,null,2020,null,5,null,null,null,null,null,null,{"$f":"VLOOKUP(K4635,[1]Paramètres!$M$5:$O$101,2,0)","v":{"$error":"#N/A"}},{"$f":"VLOOKUP(K4635,[1]Paramètres!$M$5:$O$101,3,0)","v":{"$error":"#N/A"}},null,null,null,null,null,null,null,null,null,null,{"$f":"SUM(Tableau_Data[[#This Row],[Féminin]:[Masculin]])","v":0}]
[null,null,2020,null,9,null,null,null,null,null,null,{"$f":"VLOOKUP(K4646,[1]Paramètres!$M$5:$O$101,2,0)","v":{"$error":"#N/A"}},{"$f":"VLOOKUP(K4646,[1]Paramètres!$M$5:$O$101,3,0)","v":{"$error":"#N/A"}},null,null,null,null,null,null,null,null,null,null,{"$f":"SUM(Tableau_Data[[#This Row],[Féminin]:[Masculin]])","v":0}]
[null,null,2020,null,9,null,null,null,null,null,null,{"$f":"VLOOKUP(K4647,[1]Paramètres!$M$5:$O$101,2,0)","v":{"$error":"#N/A"}},{"$f":"VLOOKUP(K4647,[1]Paramètres!$M$5:$O$101,3,0)","v":{"$error":"#N/A"}},null,null,null,null,null,null,null,null,null,null,{"$f":"SUM(Tableau_Data[[#This Row],[Féminin]:[Masculin]])","v":0}]
[null,null,2020,null,9,null,null,null,null,null,null,{"$f":"VLOOKUP(K4656,[1]Paramètres!$M$5:$O$101,2,0)","v":{"$error":"#N/A"}},{"$f":"VLOOKUP(K4656,[1]Paramètres!$M$5:$O$101,3,0)","v":{"$error":"#N/A"}},null,null,null,null,null,null,null,null,null,null,{"$f":"SUM(Tableau_Data[[#This Row],[Féminin]:[Masculin]])","v":0}]
[null,null,2020,null,5,null,null,null,null,null,null,{"$f":"VLOOKUP(K4670,[1]Paramètres!$M$5:$O$101,2,0)","v":{"$error":"#N/A"}},{"$f":"VLOOKUP(K4670,[1]Paramètres!$M$5:$O$101,3,0)","v":{"$error":"#N/A"}},null,null,null,null,null,null,null,null,null,null,{"$f":"SUM(Tableau_Data[[#This Row],[Féminin]:[Masculin]])","v":0}]
[null,null,2020,null,5,null,null,null,null,null,null,{"$f":"VLOOKUP(K4675,[1]Paramètres!$M$5:$O$101,2,0)","v":{"$error":"#N/A"}},{"$f":"VLOOKUP(K4675,[1]Paramètres!$M$5:$O$101,3,0)","v":{"$error":"#N/A"}},null,null,null,null,null,null,null,null,null,null,{"$f":"SUM(Tableau_Data[[#This Row],[Féminin]:[Masculin]])","v":0}]
[null,null,2020,null,5,null,null,null,null,null,null,{"$f":"VLOOKUP(K4684,[1]Paramètres!$M$5:$O$101,2,0)","v":{"$error":"#N/A"}},{"$f":"VLOOKUP(K4684,[1]Paramètres!$M$5:$O$101,3,0)","v":{"$error":"#N/A"}},null,null,null,null,null,null,null,null,null,null,{"$f":"SUM(Tableau_Data[[#This Row],[Féminin]:[Masculin]])","v":0}]
[null,null,2020,null,5,null,null,null,null,null,null,{"$f":"VLOOKUP(K4690,[1]Paramètres!$M$5:$O$101,2,0)","v":{"$error":"#N/A"}},{"$f":"VLOOKUP(K4690,[1]Paramètres!$M$5:$O$101,3,0)","v":{"$error":"#N/A"}},null,null,null,null,null,null,null,null,null,null,{"$f":"SUM(Tableau_Data[[#This Row],[Féminin]:[Masculin]])","v":0}]
[null,null,2020,null,5,null,null,null,null,null,null,{"$f":"VLOOKUP(K4703,[1]Paramètres!$M$5:$O$101,2,0)","v":{"$error":"#N/A"}},{"$f":"VLOOKUP(K4703,[1]Paramètres!$M$5:$O$101,3,0)","v":{"$error":"#N/A"}},null,null,null,null,null,null,null,null,null,null,{"$f":"SUM(Tableau_Data[[#This Row],[Féminin]:[Masculin]])","v":0}]
[null,null,2020,null,8,null,null,null,null,null,null,{"$f":"VLOOKUP(K4712,[1]Paramètres!$M$5:$O$101,2,0)","v":{"$error":"#N/A"}},{"$f":"VLOOKUP(K4712,[1]Paramètres!$M$5:$O$101,3,0)","v":{"$error":"#N/A"}},null,null,null,null,null,null,null,null,null,null,{"$f":"SUM(Tableau_Data[[#This Row],[Féminin]:[Masculin]])","v":0}]
[null,null,2020,null,5,null,null,null,null,null,null,{"$f":"VLOOKUP(K4719,[1]Paramètres!$M$5:$O$101,2,0)","v":{"$error":"#N/A"}},{"$f":"VLOOKUP(K4719,[1]Paramètres!$M$5:$O$101,3,0)","v":{"$error":"#N/A"}},null,null,null,null,null,null,null,null,null,null,{"$f":"SUM(Tableau_Data[[#This Row],[Féminin]:[Masculin]])","v":0}]
[null,null,2020,null,5,null,null,null,null,null,null,{"$f":"VLOOKUP(K4723,[1]Paramètres!$M$5:$O$101,2,0)","v":{"$error":"#N/A"}},{"$f":"VLOOKUP(K4723,[1]Paramètres!$M$5:$O$101,3,0)","v":{"$error":"#N/A"}},null,null,null,null,null,null,null,null,null,null,{"$f":"SUM(Tableau_Data[[#This Row],[Féminin]:[Masculin]])","v":0}]
[null,null,2020,null,5,null,null,null,null,null,null,{"$f":"VLOOKUP(K4732,[1]Paramètres!$M$5:$O$101,2,0)","v":{"$error":"#N/A"}},{"$f":"VLOOKUP(K4732,[1]Paramètres!$M$5:$O$101,3,0)","v":{"$error":"#N/A"}},null,null,null,null,null,null,null,null,null,null,{"$f":"SUM(Tableau_Data[[#This Row],[Féminin]:[Masculin]])","v":0}]
[null,null,2020,null,9,null,null,null,null,null,null,{"$f":"VLOOKUP(K4739,[1]Paramètres!$M$5:$O$101,2,0)","v":{"$error":"#N/A"}},{"$f":"VLOOKUP(K4739,[1]Paramètres!$M$5:$O$101,3,0)","v":{"$error":"#N/A"}},null,null,null,null,null,null,null,null,null,null,{"$f":"SUM(Tableau_Data[[#This Row],[Féminin]:[Masculin]])","v":0}]
[null,null,2020,null,9,null,null,null,null,null,null,{"$f":"VLOOKUP(K4751,[1]Paramètres!$M$5:$O$101,2,0)","v":{"$error":"#N/A"}},{"$f":"VLOOKUP(K4751,[1]Paramètres!$M$5:$O$101,3,0)","v":{"$error":"#N/A"}},null,null,null,null,null,null,null,null,null,null,{"$f":"SUM(Tableau_Data[[#This Row],[Féminin]:[Masculin]])","v":0}]
[null,null,2020,null,9,null,null,null,null,null,null,{"$f":"VLOOKUP(K4760,[1]Paramètres!$M$5:$O$101,2,0)","v":{"$error":"#N/A"}},{"$f":"VLOOKUP(K4760,[1]Paramètres!$M$5:$O$101,3,0)","v":{"$error":"#N/A"}},null,null,null,null,null,null,null,null,null,null,{"$f":"SUM(Tableau_Data[[#This Row],[Féminin]:[Masculin]])","v":0}]
[null,null,2020,null,9,null,null,null,null,null,null,{"$f":"VLOOKUP(K4769,[1]Paramètres!$M$5:$O$101,2,0)","v":{"$error":"#N/A"}},{"$f":"VLOOKUP(K4769,[1]Paramètres!$M$5:$O$101,3,0)","v":{"$error":"#N/A"}},null,null,null,null,null,null,null,null,null,null,{"$f":"SUM(Tableau_Data[[#This Row],[Féminin]:[Masculin]])","v":0}]
[null,null,2020,null,9,null,null,null,null,null,null,{"$f":"VLOOKUP(K4774,[1]Paramètres!$M$5:$O$101,2,0)","v":{"$error":"#N/A"}},{"$f":"VLOOKUP(K4774,[1]Paramètres!$M$5:$O$101,3,0)","v":{"$error":"#N/A"}},null,null,null,null,null,null,null,null,null,null,{"$f":"SUM(Tableau_Data[[#This Row],[Féminin]:[Masculin]])","v":0}]
[null,null,2020,null,9,null,null,null,null,null,null,{"$f":"VLOOKUP(K4780,[1]Paramètres!$M$5:$O$101,2,0)","v":{"$error":"#N/A"}},{"$f":"VLOOKUP(K4780,[1]Paramètres!$M$5:$O$101,3,0)","v":{"$error":"#N/A"}},null,null,null,null,null,null,null,null,null,null,{"$f":"SUM(Tableau_Data[[#This Row],[Féminin]:[Masculin]])","v":0}]
[null,null,2020,null,9,null,null,null,null,null,null,{"$f":"VLOOKUP(K4789,[1]Paramètres!$M$5:$O$101,2,0)","v":{"$error":"#N/A"}},{"$f":"VLOOKUP(K4789,[1]Paramètres!$M$5:$O$101,3,0)","v":{"$error":"#N/A"}},null,null,null,null,null,null,null,null,null,null,{"$f":"SUM(Tableau_Data[[#This Row],[Féminin]:[Masculin]])","v":0}]
[null,null,2020,null,9,null,null,null,null,null,null,{"$f":"VLOOKUP(K4803,[1]Paramètres!$M$5:$O$101,2,0)","v":{"$error":"#N/A"}},{"$f":"VLOOKUP(K4803,[1]Paramètres!$M$5:$O$101,3,0)","v":{"$error":"#N/A"}},null,null,null,null,null,null,null,null,null,null,{"$f":"SUM(Tableau_Data[[#This Row],[Féminin]:[Masculin]])","v":0}]
[null,null,2020,null,9,null,null,null,null,null,null,{"$f":"VLOOKUP(K4808,[1]Paramètres!$M$5:$O$101,2,0)","v":{"$error":"#N/A"}},{"$f":"VLOOKUP(K4808,[1]Paramètres!$M$5:$O$101,3,0)","v":{"$error":"#N/A"}},null,null,null,null,null,null,null,null,null,null,{"$f":"SUM(Tableau_Data[[#This Row],[Féminin]:[Masculin]])","v":0}]
[null,null,2020,null,9,null,null,null,null,null,null,{"$f":"VLOOKUP(K4817,[1]Paramètres!$M$5:$O$101,2,0)","v":{"$error":"#N/A"}},{"$f":"VLOOKUP(K4817,[1]Paramètres!$M$5:$O$101,3,0)","v":{"$error":"#N/A"}},null,null,null,null,null,null,null,null,null,null,{"$f":"SUM(Tableau_Data[[#This Row],[Féminin]:[Masculin]])","v":0}]
[null,null,2020,null,9,null,null,null,null,null,null,{"$f":"VLOOKUP(K4823,[1]Paramètres!$M$5:$O$101,2,0)","v":{"$error":"#N/A"}},{"$f":"VLOOKUP(K4823,[1]Paramètres!$M$5:$O$101,3,0)","v":{"$error":"#N/A"}},null,null,null,null,null,null,null,null,null,null,{"$f":"SUM(Tableau_Data[[#This Row],[Féminin]:[Masculin]])","v":0}]
[null,null,2020,null,9,null,null,null,null,null,null,{"$f":"VLOOKUP(K4836,[1]Paramètres!$M$5:$O$101,2,0)","v":{"$error":"#N/A"}},{"$f":"VLOOKUP(K4836,[1]Paramètres!$M$5:$O$101,3,0)","v":{"$error":"#N/A"}},null,null,null,null,null,null,null,null,null,null,{"$f":"SUM(Tableau_Data[[#This Row],[Féminin]:[Masculin]])","v":0}]
[null,null,2020,null,8,null,null,null,null,null,null,{"$f":"VLOOKUP(K4845,[1]Paramètres!$M$5:$O$101,2,0)","v":{"$error":"#N/A"}},{"$f":"VLOOKUP(K4845,[1]Paramètres!$M$5:$O$101,3,0)","v":{"$error":"#N/A"}},null,null,null,null,null,null,null,null,null,null,{"$f":"SUM(Tableau_Data[[#This Row],[Féminin]:[Masculin]])","v":0}]
[null,null,2020,null,9,null,null,null,null,null,null,{"$f":"VLOOKUP(K4846,[1]Paramètres!$M$5:$O$101,2,0)","v":{"$error":"#N/A"}},{"$f":"VLOOKUP(K4846,[1]Paramètres!$M$5:$O$101,3,0)","v":{"$error":"#N/A"}},null,null,null,null,null,null,null,null,null,null,{"$f":"SUM(Tableau_Data[[#This Row],[Féminin]:[Masculin]])","v":0}]
[null,null,2020,null,8,null,null,null,null,null,null,{"$f":"VLOOKUP(K4858,[1]Paramètres!$M$5:$O$101,2,0)","v":{"$error":"#N/A"}},{"$f":"VLOOKUP(K4858,[1]Paramètres!$M$5:$O$101,3,0)","v":{"$error":"#N/A"}},null,null,null,null,null,null,null,null,null,null,{"$f":"SUM(Tableau_Data[[#This Row],[Féminin]:[Masculin]])","v":0}]
[null,null,2020,null,9,null,null,null,null,null,null,{"$f":"VLOOKUP(K4865,[1]Paramètres!$M$5:$O$101,2,0)","v":{"$error":"#N/A"}},{"$f":"VLOOKUP(K4865,[1]Paramètres!$M$5:$O$101,3,0)","v":{"$error":"#N/A"}},null,null,null,null,null,null,null,null,null,null,{"$f":"SUM(Tableau_Data[[#This Row],[Féminin]:[Masculin]])","v":0}]
[null,null,2020,null,7,null,null,null,null,null,null,{"$f":"VLOOKUP(K4874,[1]Paramètres!$M$5:$O$101,2,0)","v":{"$error":"#N/A"}},{"$f":"VLOOKUP(K4874,[1]Paramètres!$M$5:$O$101,3,0)","v":{"$error":"#N/A"}},null,null,null,null,null,null,null,null,null,null,{"$f":"SUM(Tableau_Data[[#This Row],[Féminin]:[Masculin]])","v":0}]
[null,null,2020,null,9,null,null,null,null,null,null,{"$f":"VLOOKUP(K4887,[1]Paramètres!$M$5:$O$101,2,0)","v":{"$error":"#N/A"}},{"$f":"VLOOKUP(K4887,[1]Paramètres!$M$5:$O$101,3,0)","v":{"$error":"#N/A"}},null,null,null,null,null,null,null,null,null,null,{"$f":"SUM(Tableau_Data[[#This Row],[Féminin]:[Masculin]])","v":0}]
[null,null,{"$f":"IF(D4893=\"\",\"\",YEAR(D4893))","v":""},null,{"$f":"IF(D4893=\"\",\"\",MONTH(D4893))","v":""},null,null,null,null,null,null,{"$f":"VLOOKUP(K4893,[1]Paramètres!$M$5:$O$101,2,0)","v":{"$error":"#N/A"}},{"$f":"VLOOKUP(K4893,[1]Paramètres!$M$5:$O$101,3,0)","v":{"$error":"#N/A"}},null,null,null,null,null,null,null,null,null,null,{"$f":"SUM(Tableau_Data[[#This Row],[Féminin]:[Masculin]])","v":0}]
[null,null,"",null,"",null,null,null,null,null,null,{"$f":"VLOOKUP(K4902,[1]Paramètres!$M$5:$O$101,2,0)","v":{"$error":"#N/A"}},{"$f":"VLOOKUP(K4902,[1]Paramètres!$M$5:$O$101,3,0)","v":{"$error":"#N/A"}},null,null,null,null,null,null,null,null,null,null,{"$f":"SUM(Tableau_Data[[#This Row],[Féminin]:[Masculin]])","v":0}]
[null,null,"",null,"",null,null,null,null,null,null,{"$f":"VLOOKUP(K4907,[1]Paramètres!$M$5:$O$101,2,0)","v":{"$error":"#N/A"}},{"$f":"VLOOKUP(K4907,[1]Paramètres!$M$5:$O$101,3,0)","v":{"$error":"#N/A"}},null,null,null,null,null,null,null,null,null,null,{"$f":"SUM(Tableau_Data[[#This Row],[Féminin]:[Masculin]])","v":0}]
[null,null,"",null,"",null,null,null,null,null,null,{"$f":"VLOOKUP(K4913,[1]Paramètres!$M$5:$O$101,2,0)","v":{"$error":"#N/A"}},{"$f":"VLOOKUP(K4913,[1]Paramètres!$M$5:$O$101,3,0)","v":{"$error":"#N/A"}},null,null,null,null,null,null,null,null,null,null,{"$f":"SUM(Tableau_Data[[#This Row],[Féminin]:[Masculin]])","v":0}]
[null,null,"",null,"",null,null,null,null,null,null,{"$f":"VLOOKUP(K4922,[1]Paramètres!$M$5:$O$101,2,0)","v":{"$error":"#N/A"}},{"$f":"VLOOKUP(K4922,[1]Paramètres!$M$5:$O$101,3,0)","v":{"$error":"#N/A"}},null,null,null,null,null,null,null,null,null,null,{"$f":"SUM(Tableau_Data[[#This Row],[Féminin]:[Masculin]])","v":0}]
[null,null,"",null,"",null,null,null,null,null,null,{"$f":"VLOOKUP(K4936,[1]Paramètres!$M$5:$O$101,2,0)","v":{"$error":"#N/A"}},{"$f":"VLOOKUP(K4936,[1]Paramètres!$M$5:$O$101,3,0)","v":{"$error":"#N/A"}},null,null,null,null,null,null,null,null,null,null,{"$f":"SUM(Tableau_Data[[#This Row],[Féminin]:[Masculin]])","v":0}]
[null,null,"",null,"",null,null,null,null,null,null,{"$f":"VLOOKUP(K4941,[1]Paramètres!$M$5:$O$101,2,0)","v":{"$error":"#N/A"}},{"$f":"VLOOKUP(K4941,[1]Paramètres!$M$5:$O$101,3,0)","v":{"$error":"#N/A"}},null,null,null,null,null,null,null,null,null,null,{"$f":"SUM(Tableau_Data[[#This Row],[Féminin]:[Masculin]])","v":0}]
[null,null,"",null,"",null,null,null,null,null,null,{"$f":"VLOOKUP(K4950,[1]Paramètres!$M$5:$O$101,2,0)","v":{"$error":"#N/A"}},{"$f":"VLOOKUP(K4950,[1]Paramètres!$M$5:$O$101,3,0)","v":{"$error":"#N/A"}},null,null,null,null,null,null,null,null,null,null,{"$f":"SUM(Tableau_Data[[#This Row],[Féminin]:[Masculin]])","v":0}]
[null,null,{"$f":"IF(D4959=\"\",\"\",YEAR(D4959))","v":""},null,{"$f":"IF(D4959=\"\",\"\",MONTH(D4959))","v":""},null,null,null,null,null,null,{"$f":"VLOOKUP(K4959,[1]Paramètres!$M$5:$O$101,2,0)","v":{"$error":"#N/A"}},{"$f":"VLOOKUP(K4959,[1]Paramètres!$M$5:$O$101,3,0)","v":{"$error":"#N/A"}},null,null,null,null,null,null,null,null,null,null,{"$f":"SUM(Tableau_Data[[#This Row],[Féminin]:[Masculin]])","v":0}]
[null,null,"",null,"",null,null,null,null,null,null,{"$f":"VLOOKUP(K4962,[1]Paramètres!$M$5:$O$101,2,0)","v":{"$error":"#N/A"}},{"$f":"VLOOKUP(K4962,[1]Paramètres!$M$5:$O$101,3,0)","v":{"$error":"#N/A"}},null,null,null,null,null,null,null,null,null,null,{"$f":"SUM(Tableau_Data[[#This Row],[Féminin]:[Masculin]])","v":0}]
[null,null,"",null,"",null,null,null,null,null,null,{"$f":"VLOOKUP(K4978,[1]Paramètres!$M$5:$O$101,2,0)","v":{"$error":"#N/A"}},{"$f":"VLOOKUP(K4978,[1]Paramètres!$M$5:$O$101,3,0)","v":{"$error":"#N/A"}},null,null,null,null,null,null,null,null,null,null,{"$f":"SUM(Tableau_Data[[#This Row],[Féminin]:[Masculin]])","v":0}]
[null,null,"",null,"",null,null,null,null,null,null,{"$f":"VLOOKUP(K4979,[1]Paramètres!$M$5:$O$101,2,0)","v":{"$error":"#N/A"}},{"$f":"VLOOKUP(K4979,[1]Paramètres!$M$5:$O$101,3,0)","v":{"$error":"#N/A"}},null,null,null,null,null,null,null,null,null,null,{"$f":"SUM(Tableau_Data[[#This Row],[Féminin]:[Masculin]])","v":0}]
[null,null,"",null,"",null,null,null,null,null,null,{"$f":"VLOOKUP(K4991,[1]Paramètres!$M$5:$O$101,2,0)","v":{"$error":"#N/A"}},{"$f":"VLOOKUP(K4991,[1]Paramètres!$M$5:$O$101,3,0)","v":{"$error":"#N/A"}},null,null,null,null,null,null,null,null,null,null,{"$f":"SUM(Tableau_Data[[#This Row],[Féminin]:[Masculin]])","v":0}]
[null,null,"",null,"",null,null,null,null,null,null,{"$f":"VLOOKUP(K4998,[1]Paramètres!$M$5:$O$101,2,0)","v":{"$error":"#N/A"}},{"$f":"VLOOKUP(K4998,[1]Paramètres!$M$5:$O$101,3,0)","v":{"$error":"#N/A"}},null,null,null,null,null,null,null,null,null,null,{"$f":"SUM(Tableau_Data[[#This Row],[Féminin]:[Masculin]])","v":0}]
[null,null,"",null,"",null,null,null,null,null,null,{"$f":"VLOOKUP(K5007,[1]Paramètres!$M$5:$O$101,2,0)","v":{"$error":"#N/A"}},{"$f":"VLOOKUP(K5007,[1]Paramètres!$M$5:$O$101,3,0)","v":{"$error":"#N/A"}},null,null,null,null,null,null,null,null,null,null,{"$f":"SUM(Tableau_Data[[#This Row],[Féminin]:[Masculin]])","v":0}]
[null,null,"",null,"",null,null,null,null,null,null,{"$f":"VLOOKUP(K5020,[1]Paramètres!$M$5:$O$101,2,0)","v":{"$error":"#N/A"}},{"$f":"VLOOKUP(K5020,[1]Paramètres!$M$5:$O$101,3,0)","v":{"$error":"#N/A"}},null,null,null,null,null,null,null,null,null,null,{"$f":"SUM(Tableau_Data[[#This Row],[Féminin]:[Masculin]])","v":0}]
[null,null,"",null,"",null,null,null,null,null,null,{"$f":"VLOOKUP(K5026,[1]Paramètres!$M$5:$O$101,2,0)","v":{"$error":"#N/A"}},{"$f":"VLOOKUP(K5026,[1]Paramètres!$M$5:$O$101,3,0)","v":{"$error":"#N/A"}},null,null,null,null,null,null,null,null,null,null,{"$f":"SUM(Tableau_Data[[#This Row],[Féminin]:[Masculin]])","v":0}]
[null,null,"",null,"",null,null,null,null,null,null,{"$f":"VLOOKUP(K5035,[1]Paramètres!$M$5:$O$101,2,0)","v":{"$error":"#N/A"}},{"$f":"VLOOKUP(K5035,[1]Paramètres!$M$5:$O$101,3,0)","v":{"$error":"#N/A"}},null,null,null,null,null,null,null,null,null,null,{"$f":"SUM(Tableau_Data[[#This Row],[Féminin]:[Masculin]])","v":0}]
[null,null,"",null,"",null,null,null,null,null,null,{"$f":"VLOOKUP(K5040,[1]Paramètres!$M$5:$O$101,2,0)","v":{"$error":"#N/A"}},{"$f":"VLOOKUP(K5040,[1]Paramètres!$M$5:$O$101,3,0)","v":{"$error":"#N/A"}},null,null,null,null,null,null,null,null,null,null,{"$f":"SUM(Tableau_Data[[#This Row],[Féminin]:[Masculin]])","v":0}]
[null,null,"",null,"",null,null,null,null,null,null,{"$f":"VLOOKUP(K5046,[1]Paramètres!$M$5:$O$101,2,0)","v":{"$error":"#N/A"}},{"$f":"VLOOKUP(K5046,[1]Paramètres!$M$5:$O$101,3,0)","v":{"$error":"#N/A"}},null,null,null,null,null,null,null,null,null,null,{"$f":"SUM(Tableau_Data[[#This Row],[Féminin]:[Masculin]])","v":0}]
[null,null,"",null,"",null,null,null,null,null,null,{"$f":"VLOOKUP(K5055,[1]Paramètres!$M$5:$O$101,2,0)","v":{"$error":"#N/A"}},{"$f":"VLOOKUP(K5055,[1]Paramètres!$M$5:$O$101,3,0)","v":{"$error":"#N/A"}},null,null,null,null,null,null,null,null,null,null,{"$f":"SUM(Tableau_Data[[#This Row],[Féminin]:[Masculin]])","v":0}]
[null,null,"",null,"",null,null,null,null,null,null,{"$f":"VLOOKUP(K5064,[1]Paramètres!$M$5:$O$101,2,0)","v":{"$error":"#N/A"}},{"$f":"VLOOKUP(K5064,[1]Paramètres!$M$5:$O$101,3,0)","v":{"$error":"#N/A"}},null,null,null,null,null,null,null,null,null,null,{"$f":"SUM(Tableau_Data[[#This Row],[Féminin]:[Masculin]])","v":0}]
[null,null,"",null,"",null,null,null,null,null,null,{"$f":"VLOOKUP(K5075,[1]Paramètres!$M$5:$O$101,2,0)","v":{"$error":"#N/A"}},{"$f":"VLOOKUP(K5075,[1]Paramètres!$M$5:$O$101,3,0)","v":{"$error":"#N/A"}},null,null,null,null,null,null,null,null,null,null,{"$f":"SUM(Tableau_Data[[#This Row],[Féminin]:[Masculin]])","v":0}]
[null,null,"",null,"",null,null,null,null,null,null,{"$f":"VLOOKUP(K5083,[1]Paramètres!$M$5:$O$101,2,0)","v":{"$error":"#N/A"}},{"$f":"VLOOKUP(K5083,[1]Paramètres!$M$5:$O$101,3,0)","v":{"$error":"#N/A"}},null,null,null,null,null,null,null,null,null,null,{"$f":"SUM(Tableau_Data[[#This Row],[Féminin]:[Masculin]])","v":0}]
[null,null,"",null,"",null,null,null,null,null,null,{"$f":"VLOOKUP(K5092,[1]Paramètres!$M$5:$O$101,2,0)","v":{"$error":"#N/A"}},{"$f":"VLOOKUP(K5092,[1]Paramètres!$M$5:$O$101,3,0)","v":{"$error":"#N/A"}},null,null,null,null,null,null,null,null,null,null,{"$f":"SUM(Tableau_Data[[#This Row],[Féminin]:[Masculin]])","v":0}]
[null,null,"",null,"",null,null,null,null,null,null,{"$f":"VLOOKUP(K5095,[1]Paramètres!$M$5:$O$101,2,0)","v":{"$error":"#N/A"}},{"$f":"VLOOKUP(K5095,[1]Paramètres!$M$5:$O$101,3,0)","v":{"$error":"#N/A"}},null,null,null,null,null,null,null,null,null,null,{"$f":"SUM(Tableau_Data[[#This Row],[Féminin]:[Masculin]])","v":0}]
[null,null,"",null,"",null,null,null,null,null,null,{"$f":"VLOOKUP(K5111,[1]Paramètres!$M$5:$O$101,2,0)","v":{"$error":"#N/A"}},{"$f":"VLOOKUP(K5111,[1]Paramètres!$M$5:$O$101,3,0)","v":{"$error":"#N/A"}},null,null,null,null,null,null,null,null,null,null,{"$f":"SUM(Tableau_Data[[#This Row],[Féminin]:[Masculin]])","v":0}]
[null,null,"",null,"",null,null,null,null,null,null,{"$f":"VLOOKUP(K5112,[1]Paramètres!$M$5:$O$101,2,0)","v":{"$error":"#N/A"}},{"$f":"VLOOKUP(K5112,[1]Paramètres!$M$5:$O$101,3,0)","v":{"$error":"#N/A"}},null,null,null,null,null,null,null,null,null,null,{"$f":"SUM(Tableau_Data[[#This Row],[Féminin]:[Masculin]])","v":0}]
[null,null,"",null,"",null,null,null,null,null,null,{"$f":"VLOOKUP(K5124,[1]Paramètres!$M$5:$O$101,2,0)","v":{"$error":"#N/A"}},{"$f":"VLOOKUP(K5124,[1]Paramètres!$M$5:$O$101,3,0)","v":{"$error":"#N/A"}},null,null,null,null,null,null,null,null,null,null,{"$f":"SUM(Tableau_Data[[#This Row],[Féminin]:[Masculin]])","v":0}]
[null,null,"",null,"",null,null,null,null,null,null,{"$f":"VLOOKUP(K5131,[1]Paramètres!$M$5:$O$101,2,0)","v":{"$error":"#N/A"}},{"$f":"VLOOKUP(K5131,[1]Paramètres!$M$5:$O$101,3,0)","v":{"$error":"#N/A"}},null,null,null,null,null,null,null,null,null,null,{"$f":"SUM(Tableau_Data[[#This Row],[Féminin]:[Masculin]])","v":0}]
[null,null,"",null,"",null,null,null,null,null,null,{"$f":"VLOOKUP(K5140,[1]Paramètres!$M$5:$O$101,2,0)","v":{"$error":"#N/A"}},{"$f":"VLOOKUP(K5140,[1]Paramètres!$M$5:$O$101,3,0)","v":{"$error":"#N/A"}},null,null,null,null,null,null,null,null,null,null,{"$f":"SUM(Tableau_Data[[#This Row],[Féminin]:[Masculin]])","v":0}]
[null,null,"",null,"",null,null,null,null,null,null,{"$f":"VLOOKUP(K5153,[1]Paramètres!$M$5:$O$101,2,0)","v":{"$error":"#N/A"}},{"$f":"VLOOKUP(K5153,[1]Paramètres!$M$5:$O$101,3,0)","v":{"$error":"#N/A"}},null,null,null,null,null,null,null,null,null,null,{"$f":"SUM(Tableau_Data[[#This Row],[Féminin]:[Masculin]])","v":0}]
[null,null,"",null,"",null,null,null,null,null,null,{"$f":"VLOOKUP(K5159,[1]Paramètres!$M$5:$O$101,2,0)","v":{"$error":"#N/A"}},{"$f":"VLOOKUP(K5159,[1]Paramètres!$M$5:$O$101,3,0)","v":{"$error":"#N/A"}},null,null,null,null,null,null,null,null,null,null,{"$f":"SUM(Tableau_Data[[#This Row],[Féminin]:[Masculin]])","v":0}]
[null,null,"",null,"",null,null,null,null,null,null,{"$f":"VLOOKUP(K5168,[1]Paramètres!$M$5:$O$101,2,0)","v":{"$error":"#N/A"}},{"$f":"VLOOKUP(K5168,[1]Paramètres!$M$5:$O$101,3,0)","v":{"$error":"#N/A"}},null,null,null,null,null,null,null,null,null,null,{"$f":"SUM(Tableau_Data[[#This Row],[Féminin]:[Masculin]])","v":0}]
[null,null,"",null,"",null,null,null,null,null,null,{"$f":"VLOOKUP(K5177,[1]Paramètres!$M$5:$O$101,2,0)","v":{"$error":"#N/A"}},{"$f":"VLOOKUP(K5177,[1]Paramètres!$M$5:$O$101,3,0)","v":{"$error":"#N/A"}},null,null,null,null,null,null,null,null,null,null,{"$f":"SUM(Tableau_Data[[#This Row],[Féminin]:[Masculin]])","v":0}]
[null,null,"",null,"",null,null,null,null,null,null,{"$f":"VLOOKUP(K5179,[1]Paramètres!$M$5:$O$101,2,0)","v":{"$error":"#N/A"}},{"$f":"VLOOKUP(K5179,[1]Paramètres!$M$5:$O$101,3,0)","v":{"$error":"#N/A"}},null,null,null,null,null,null,null,null,null,null,{"$f":"SUM(Tableau_Data[[#This Row],[Féminin]:[Masculin]])","v":0}]
[null,null,"",null,"",null,null,null,null,null,null,{"$f":"VLOOKUP(K5188,[1]Paramètres!$M$5:$O$101,2,0)","v":{"$error":"#N/A"}},{"$f":"VLOOKUP(K5188,[1]Paramètres!$M$5:$O$101,3,0)","v":{"$error":"#N/A"}},null,null,null,null,null,null,null,null,null,null,{"$f":"SUM(Tableau_Data[[#This Row],[Féminin]:[Masculin]])","v":0}]
[null,null,"",null,"",null,null,null,null,null,null,{"$f":"VLOOKUP(K5197,[1]Paramètres!$M$5:$O$101,2,0)","v":{"$error":"#N/A"}},{"$f":"VLOOKUP(K5197,[1]Paramètres!$M$5:$O$101,3,0)","v":{"$error":"#N/A"}},null,null,null,null,null,null,null,null,null,null,{"$f":"SUM(Tableau_Data[[#This Row],[Féminin]:[Masculin]])","v":0}]
[null,null,"",null,"",null,null,null,null,null,null,{"$f":"VLOOKUP(K5208,[1]Paramètres!$M$5:$O$101,2,0)","v":{"$error":"#N/A"}},{"$f":"VLOOKUP(K5208,[1]Paramètres!$M$5:$O$101,3,0)","v":{"$error":"#N/A"}},null,null,null,null,null,null,null,null,null,null,{"$f":"SUM(Tableau_Data[[#This Row],[Féminin]:[Masculin]])","v":0}]
[null,null,"",null,"",null,null,null,null,null,null,{"$f":"VLOOKUP(K5216,[1]Paramètres!$M$5:$O$101,2,0)","v":{"$error":"#N/A"}},{"$f":"VLOOKUP(K5216,[1]Paramètres!$M$5:$O$101,3,0)","v":{"$error":"#N/A"}},null,null,null,null,null,null,null,null,null,null,{"$f":"SUM(Tableau_Data[[#This Row],[Féminin]:[Masculin]])","v":0}]
[null,null,"",null,"",null,null,null,null,null,null,{"$f":"VLOOKUP(K5225,[1]Paramètres!$M$5:$O$101,2,0)","v":{"$error":"#N/A"}},{"$f":"VLOOKUP(K5225,[1]Paramètres!$M$5:$O$101,3,0)","v":{"$error":"#N/A"}},null,null,null,null,null,null,null,null,null,null,{"$f":"SUM(Tableau_Data[[#This Row],[Féminin]:[Masculin]])","v":0}]
[null,null,"",null,"",null,null,null,null,null,null,{"$f":"VLOOKUP(K5228,[1]Paramètres!$M$5:$O$101,2,0)","v":{"$error":"#N/A"}},{"$f":"VLOOKUP(K5228,[1]Paramètres!$M$5:$O$101,3,0)","v":{"$error":"#N/A"}},null,null,null,null,null,null,null,null,null,null,{"$f":"SUM(Tableau_Data[[#This Row],[Féminin]:[Masculin]])","v":0}]
[null,null,"",null,"",null,null,null,null,null,null,{"$f":"VLOOKUP(K5244,[1]Paramètres!$M$5:$O$101,2,0)","v":{"$error":"#N/A"}},{"$f":"VLOOKUP(K5244,[1]Paramètres!$M$5:$O$101,3,0)","v":{"$error":"#N/A"}},null,null,null,null,null,null,null,null,null,null,{"$f":"SUM(Tableau_Data[[#This Row],[Féminin]:[Masculin]])","v":0}]
[null,null,"",null,"",null,null,null,null,null,null,{"$f":"VLOOKUP(K5245,[1]Paramètres!$M$5:$O$101,2,0)","v":{"$error":"#N/A"}},{"$f":"VLOOKUP(K5245,[1]Paramètres!$M$5:$O$101,3,0)","v":{"$error":"#N/A"}},null,null,null,null,null,null,null,null,null,null,{"$f":"SUM(Tableau_Data[[#This Row],[Féminin]:[Masculin]])","v":0}]
[null,null,"",null,"",null,null,null,null,null,null,{"$f":"VLOOKUP(K5254,[1]Paramètres!$M$5:$O$101,2,0)","v":{"$error":"#N/A"}},{"$f":"VLOOKUP(K5254,[1]Paramètres!$M$5:$O$101,3,0)","v":{"$error":"#N/A"}},null,null,null,null,null,null,null,null,null,null,{"$f":"SUM(Tableau_Data[[#This Row],[Féminin]:[Masculin]])","v":0}]
[null,null,"",null,"",null,null,null,null,null,null,{"$f":"VLOOKUP(K5268,[1]Paramètres!$M$5:$O$101,2,0)","v":{"$error":"#N/A"}},{"$f":"VLOOKUP(K5268,[1]Paramètres!$M$5:$O$101,3,0)","v":{"$error":"#N/A"}},null,null,null,null,null,null,null,null,null,null,{"$f":"SUM(Tableau_Data[[#This Row],[Féminin]:[Masculin]])","v":0}]
[null,null,"",null,"",null,null,null,null,null,null,{"$f":"VLOOKUP(K5273,[1]Paramètres!$M$5:$O$101,2,0)","v":{"$error":"#N/A"}},{"$f":"VLOOKUP(K5273,[1]Paramètres!$M$5:$O$101,3,0)","v":{"$error":"#N/A"}},null,null,null,null,null,null,null,null,null,null,{"$f":"SUM(Tableau_Data[[#This Row],[Féminin]:[Masculin]])","v":0}]
[null,null,"",null,"",null,null,null,null,null,null,{"$f":"VLOOKUP(K5282,[1]Paramètres!$M$5:$O$101,2,0)","v":{"$error":"#N/A"}},{"$f":"VLOOKUP(K5282,[1]Paramètres!$M$5:$O$101,3,0)","v":{"$error":"#N/A"}},null,null,null,null,null,null,null,null,null,null,{"$f":"SUM(Tableau_Data[[#This Row],[Féminin]:[Masculin]])","v":0}]
[null,null,"",null,"",null,null,null,null,null,null,{"$f":"VLOOKUP(K5292,[1]Paramètres!$M$5:$O$101,2,0)","v":{"$error":"#N/A"}},{"$f":"VLOOKUP(K5292,[1]Paramètres!$M$5:$O$101,3,0)","v":{"$error":"#N/A"}},null,null,null,null,null,null,null,null,null,null,{"$f":"SUM(Tableau_Data[[#This Row],[Féminin]:[Masculin]])","v":0}]
[null,null,"",null,"",null,null,null,null,null,null,{"$f":"VLOOKUP(K5301,[1]Paramètres!$M$5:$O$101,2,0)","v":{"$error":"#N/A"}},{"$f":"VLOOKUP(K5301,[1]Paramètres!$M$5:$O$101,3,0)","v":{"$error":"#N/A"}},null,null,null,null,null,null,null,null,null,null,{"$f":"SUM(Tableau_Data[[#This Row],[Féminin]:[Masculin]])","v":0}]
[null,null,"",null,"",null,null,null,null,null,null,{"$f":"VLOOKUP(K5310,[1]Paramètres!$M$5:$O$101,2,0)","v":{"$error":"#N/A"}},{"$f":"VLOOKUP(K5310,[1]Paramètres!$M$5:$O$101,3,0)","v":{"$error":"#N/A"}},null,null,null,null,null,null,null,null,null,null,{"$f":"SUM(Tableau_Data[[#This Row],[Féminin]:[Masculin]])","v":0}]
[null,null,"",null,"",null,null,null,null,null,null,{"$f":"VLOOKUP(K5312,[1]Paramètres!$M$5:$O$101,2,0)","v":{"$error":"#N/A"}},{"$f":"VLOOKUP(K5312,[1]Paramètres!$M$5:$O$101,3,0)","v":{"$error":"#N/A"}},null,null,null,null,null,null,null,null,null,null,{"$f":"SUM(Tableau_Data[[#This Row],[Féminin]:[Masculin]])","v":0}]
[null,null,"",null,"",null,null,null,null,null,null,{"$f":"VLOOKUP(K5321,[1]Paramètres!$M$5:$O$101,2,0)","v":{"$error":"#N/A"}},{"$f":"VLOOKUP(K5321,[1]Paramètres!$M$5:$O$101,3,0)","v":{"$error":"#N/A"}},null,null,null,null,null,null,null,null,null,null,{"$f":"SUM(Tableau_Data[[#This Row],[Féminin]:[Masculin]])","v":0}]
[null,null,"",null,"",null,null,null,null,null,null,{"$f":"VLOOKUP(K5330,[1]Paramètres!$M$5:$O$101,2,0)","v":{"$error":"#N/A"}},{"$f":"VLOOKUP(K5330,[1]Paramètres!$M$5:$O$101,3,0)","v":{"$error":"#N/A"}},null,null,null,null,null,null,null,null,null,null,{"$f":"SUM(Tableau_Data[[#This Row],[Féminin]:[Masculin]])","v":0}]
[null,null,"",null,"",null,null,null,null,null,null,{"$f":"VLOOKUP(K5341,[1]Paramètres!$M$5:$O$101,2,0)","v":{"$error":"#N/A"}},{"$f":"VLOOKUP(K5341,[1]Paramètres!$M$5:$O$101,3,0)","v":{"$error":"#N/A"}},null,null,null,null,null,null,null,null,null,null,{"$f":"SUM(Tableau_Data[[#This Row],[Féminin]:[Masculin]])","v":0}]
[null,null,"",null,"",null,null,null,null,null,null,{"$f":"VLOOKUP(K5349,[1]Paramètres!$M$5:$O$101,2,0)","v":{"$error":"#N/A"}},{"$f":"VLOOKUP(K5349,[1]Paramètres!$M$5:$O$101,3,0)","v":{"$error":"#N/A"}},null,null,null,null,null,null,null,null,null,null,{"$f":"SUM(Tableau_Data[[#This Row],[Féminin]:[Masculin]])","v":0}]
[null,null,"",null,"",null,null,null,null,null,null,{"$f":"VLOOKUP(K5358,[1]Paramètres!$M$5:$O$101,2,0)","v":{"$error":"#N/A"}},{"$f":"VLOOKUP(K5358,[1]Paramètres!$M$5:$O$101,3,0)","v":{"$error":"#N/A"}},null,null,null,null,null,null,null,null,null,null,{"$f":"SUM(Tableau_Data[[#This Row],[Féminin]:[Masculin]])","v":0}]
[null,null,"",null,"",null,null,null,null,null,null,{"$f":"VLOOKUP(K5367,[1]Paramètres!$M$5:$O$101,2,0)","v":{"$error":"#N/A"}},{"$f":"VLOOKUP(K5367,[1]Paramètres!$M$5:$O$101,3,0)","v":{"$error":"#N/A"}},null,null,null,null,null,null,null,null,null,null,{"$f":"SUM(Tableau_Data[[#This Row],[Féminin]:[Masculin]])","v":0}]
[null,null,"",null,"",null,null,null,null,null,null,{"$f":"VLOOKUP(K5372,[1]Paramètres!$M$5:$O$101,2,0)","v":{"$error":"#N/A"}},{"$f":"VLOOKUP(K5372,[1]Paramètres!$M$5:$O$101,3,0)","v":{"$error":"#N/A"}},null,null,null,null,null,null,null,null,null,null,{"$f":"SUM(Tableau_Data[[#This Row],[Féminin]:[Masculin]])","v":0}]
[null,null,"",null,"",null,null,null,null,null,null,{"$f":"VLOOKUP(K5378,[1]Paramètres!$M$5:$O$101,2,0)","v":{"$error":"#N/A"}},{"$f":"VLOOKUP(K5378,[1]Paramètres!$M$5:$O$101,3,0)","v":{"$error":"#N/A"}},null,null,null,null,null,null,null,null,null,null,{"$f":"SUM(Tableau_Data[[#This Row],[Féminin]:[Masculin]])","v":0}]
[null,null,"",null,"",null,null,null,null,null,null,{"$f":"VLOOKUP(K5387,[1]Paramètres!$M$5:$O$101,2,0)","v":{"$error":"#N/A"}},{"$f":"VLOOKUP(K5387,[1]Paramètres!$M$5:$O$101,3,0)","v":{"$error":"#N/A"}},null,null,null,null,null,null,null,null,null,null,{"$f":"SUM(Tableau_Data[[#This Row],[Féminin]:[Masculin]])","v":0}]
[null,null,"",null,"",null,null,null,null,null,null,{"$f":"VLOOKUP(K5396,[1]Paramètres!$M$5:$O$101,2,0)","v":{"$error":"#N/A"}},{"$f":"VLOOKUP(K5396,[1]Paramètres!$M$5:$O$101,3,0)","v":{"$error":"#N/A"}},null,null,null,null,null,null,null,null,null,null,{"$f":"SUM(Tableau_Data[[#This Row],[Féminin]:[Masculin]])","v":0}]
[null,null,"",null,"",null,null,null,null,null,null,{"$f":"VLOOKUP(K5406,[1]Paramètres!$M$5:$O$101,2,0)","v":{"$error":"#N/A"}},{"$f":"VLOOKUP(K5406,[1]Paramètres!$M$5:$O$101,3,0)","v":{"$error":"#N/A"}},null,null,null,null,null,null,null,null,null,null,{"$f":"SUM(Tableau_Data[[#This Row],[Féminin]:[Masculin]])","v":0}]
[null,null,"",null,"",null,null,null,null,null,null,{"$f":"VLOOKUP(K5415,[1]Paramètres!$M$5:$O$101,2,0)","v":{"$error":"#N/A"}},{"$f":"VLOOKUP(K5415,[1]Paramètres!$M$5:$O$101,3,0)","v":{"$error":"#N/A"}},null,null,null,null,null,null,null,null,null,null,{"$f":"SUM(Tableau_Data[[#This Row],[Féminin]:[Masculin]])","v":0}]
[null,null,{"$f":"IF(D5425=\"\",\"\",YEAR(D5425))","v":""},null,{"$f":"IF(D5425=\"\",\"\",MONTH(D5425))","v":""},null,null,null,null,null,null,{"$f":"VLOOKUP(K5425,[1]Paramètres!$M$5:$O$101,2,0)","v":{"$error":"#N/A"}},{"$f":"VLOOKUP(K5425,[1]Paramètres!$M$5:$O$101,3,0)","v":{"$error":"#N/A"}},null,null,null,null,null,null,null,null,null,null,{"$f":"SUM(Tableau_Data[[#This Row],[Féminin]:[Masculin]])","v":0}]
[null,null,"",null,"",null,null,null,null,null,null,{"$f":"VLOOKUP(K5434,[1]Paramètres!$M$5:$O$101,2,0)","v":{"$error":"#N/A"}},{"$f":"VLOOKUP(K5434,[1]Paramètres!$M$5:$O$101,3,0)","v":{"$error":"#N/A"}},null,null,null,null,null,null,null,null,null,null,{"$f":"SUM(Tableau_Data[[#This Row],[Féminin]:[Masculin]])","v":0}]
[null,null,"",null,"",null,null,null,null,null,null,{"$f":"VLOOKUP(K5443,[1]Paramètres!$M$5:$O$101,2,0)","v":{"$error":"#N/A"}},{"$f":"VLOOKUP(K5443,[1]Paramètres!$M$5:$O$101,3,0)","v":{"$error":"#N/A"}},null,null,null,null,null,null,null,null,null,null,{"$f":"SUM(Tableau_Data[[#This Row],[Féminin]:[Masculin]])","v":0}]
[null,null,"",null,"",null,null,null,null,null,null,{"$f":"VLOOKUP(K5445,[1]Paramètres!$M$5:$O$101,2,0)","v":{"$error":"#N/A"}},{"$f":"VLOOKUP(K5445,[1]Paramètres!$M$5:$O$101,3,0)","v":{"$error":"#N/A"}},null,null,null,null,null,null,null,null,null,null,{"$f":"SUM(Tableau_Data[[#This Row],[Féminin]:[Masculin]])","v":0}]
[null,null,"",null,"",null,null,null,null,null,null,{"$f":"VLOOKUP(K5454,[1]Paramètres!$M$5:$O$101,2,0)","v":{"$error":"#N/A"}},{"$f":"VLOOKUP(K5454,[1]Paramètres!$M$5:$O$101,3,0)","v":{"$error":"#N/A"}},null,null,null,null,null,null,null,null,null,null,{"$f":"SUM(Tableau_Data[[#This Row],[Féminin]:[Masculin]])","v":0}]
[null,null,"",null,"",null,null,null,null,null,null,{"$f":"VLOOKUP(K5463,[1]Paramètres!$M$5:$O$101,2,0)","v":{"$error":"#N/A"}},{"$f":"VLOOKUP(K5463,[1]Paramètres!$M$5:$O$101,3,0)","v":{"$error":"#N/A"}},null,null,null,null,null,null,null,null,null,null,{"$f":"SUM(Tableau_Data[[#This Row],[Féminin]:[Masculin]])","v":0}]
[null,null,"",null,"",null,null,null,null,null,null,{"$f":"VLOOKUP(K5472,[1]Paramètres!$M$5:$O$101,2,0)","v":{"$error":"#N/A"}},{"$f":"VLOOKUP(K5472,[1]Paramètres!$M$5:$O$101,3,0)","v":{"$error":"#N/A"}},null,null,null,null,null,null,null,null,null,null,{"$f":"SUM(Tableau_Data[[#This Row],[Féminin]:[Masculin]])","v":0}]
[null,null,"",null,"",null,null,null,null,null,null,{"$f":"VLOOKUP(K5485,[1]Paramètres!$M$5:$O$101,2,0)","v":{"$error":"#N/A"}},{"$f":"VLOOKUP(K5485,[1]Paramètres!$M$5:$O$101,3,0)","v":{"$error":"#N/A"}},null,null,null,null,null,null,null,null,null,null,{"$f":"SUM(Tableau_Data[[#This Row],[Féminin]:[Masculin]])","v":0}]
[null,null,"",null,"",null,null,null,null,null,null,{"$f":"VLOOKUP(K5491,[1]Paramètres!$M$5:$O$101,2,0)","v":{"$error":"#N/A"}},{"$f":"VLOOKUP(K5491,[1]Paramètres!$M$5:$O$101,3,0)","v":{"$error":"#N/A"}},null,null,null,null,null,null,null,null,null,null,{"$f":"SUM(Tableau_Data[[#This Row],[Féminin]:[Masculin]])","v":0}]
[null,null,"",null,"",null,null,null,null,null,null,{"$f":"VLOOKUP(K5500,[1]Paramètres!$M$5:$O$101,2,0)","v":{"$error":"#N/A"}},{"$f":"VLOOKUP(K5500,[1]Paramètres!$M$5:$O$101,3,0)","v":{"$error":"#N/A"}},null,null,null,null,null,null,null,null,null,null,{"$f":"SUM(Tableau_Data[[#This Row],[Féminin]:[Masculin]])","v":0}]
[null,null,"",null,"",null,null,null,null,null,null,{"$f":"VLOOKUP(K5509,[1]Paramètres!$M$5:$O$101,2,0)","v":{"$error":"#N/A"}},{"$f":"VLOOKUP(K5509,[1]Paramètres!$M$5:$O$101,3,0)","v":{"$error":"#N/A"}},null,null,null,null,null,null,null,null,null,null,{"$f":"SUM(Tableau_Data[[#This Row],[Féminin]:[Masculin]])","v":0}]
[null,null,"",null,"",null,null,null,null,null,null,{"$f":"VLOOKUP(K5511,[1]Paramètres!$M$5:$O$101,2,0)","v":{"$error":"#N/A"}},{"$f":"VLOOKUP(K5511,[1]Paramètres!$M$5:$O$101,3,0)","v":{"$error":"#N/A"}},null,null,null,null,null,null,null,null,null,null,{"$f":"SUM(Tableau_Data[[#This Row],[Féminin]:[Masculin]])","v":0}]
[null,null,"",null,"",null,null,null,null,null,null,{"$f":"VLOOKUP(K5520,[1]Paramètres!$M$5:$O$101,2,0)","v":{"$error":"#N/A"}},{"$f":"VLOOKUP(K5520,[1]Paramètres!$M$5:$O$101,3,0)","v":{"$error":"#N/A"}},null,null,null,null,null,null,null,null,null,null,{"$f":"SUM(Tableau_Data[[#This Row],[Féminin]:[Masculin]])","v":0}]
[null,null,"",null,"",null,null,null,null,null,null,{"$f":"VLOOKUP(K5529,[1]Paramètres!$M$5:$O$101,2,0)","v":{"$error":"#N/A"}},{"$f":"VLOOKUP(K5529,[1]Paramètres!$M$5:$O$101,3,0)","v":{"$error":"#N/A"}},null,null,null,null,null,null,null,null,null,null,{"$f":"SUM(Tableau_Data[[#This Row],[Féminin]:[Masculin]])","v":0}]
[null,null,"",null,"",null,null,null,null,null,null,{"$f":"VLOOKUP(K5539,[1]Paramètres!$M$5:$O$101,2,0)","v":{"$error":"#N/A"}},{"$f":"VLOOKUP(K5539,[1]Paramètres!$M$5:$O$101,3,0)","v":{"$error":"#N/A"}},null,null,null,null,null,null,null,null,null,null,{"$f":"SUM(Tableau_Data[[#This Row],[Féminin]:[Masculin]])","v":0}]
[null,null,"",null,"",null,null,null,null,null,null,{"$f":"VLOOKUP(K5548,[2]Paramètres!$M$5:$O$101,2,0)","v":{"$error":"#N/A"}},{"$f":"VLOOKUP(K5548,[2]Paramètres!$M$5:$O$101,3,0)","v":{"$error":"#N/A"}},null,null,null,null,null,null,null,null,null,null,{"$f":"SUM(Tableau_Data[[#This Row],[Féminin]:[Masculin]])","v":0}]
[null,null,"",null,"",null,null,null,null,null,null,{"$f":"VLOOKUP(K5557,[2]Paramètres!$M$5:$O$101,2,0)","v":{"$error":"#N/A"}},{"$f":"VLOOKUP(K5557,[2]Paramètres!$M$5:$O$101,3,0)","v":{"$error":"#N/A"}},null,null,null,null,null,null,null,null,null,null,{"$f":"SUM(Tableau_Data[[#This Row],[Féminin]:[Masculin]])","v":0}]
[null,null,"",null,"",null,null,null,null,null,null,{"$f":"VLOOKUP(K5560,[2]Paramètres!$M$5:$O$101,2,0)","v":{"$error":"#N/A"}},{"$f":"VLOOKUP(K5560,[2]Paramètres!$M$5:$O$101,3,0)","v":{"$error":"#N/A"}},null,null,null,null,null,null,null,null,null,null,{"$f":"SUM(Tableau_Data[[#This Row],[Féminin]:[Masculin]])","v":0}]
[null,null,"",null,"",null,null,null,null,null,null,{"$f":"VLOOKUP(K5576,[2]Paramètres!$M$5:$O$101,2,0)","v":{"$error":"#N/A"}},{"$f":"VLOOKUP(K5576,[2]Paramètres!$M$5:$O$101,3,0)","v":{"$error":"#N/A"}},null,null,null,null,null,null,null,null,null,null,{"$f":"SUM(Tableau_Data[[#This Row],[Féminin]:[Masculin]])","v":0}]
[null,null,"",null,"",null,null,null,null,null,null,{"$f":"VLOOKUP(K5577,[2]Paramètres!$M$5:$O$101,2,0)","v":{"$error":"#N/A"}},{"$f":"VLOOKUP(K5577,[2]Paramètres!$M$5:$O$101,3,0)","v":{"$error":"#N/A"}},null,null,null,null,null,null,null,null,null,null,{"$f":"SUM(Tableau_Data[[#This Row],[Féminin]:[Masculin]])","v":0}]
[null,null,"",null,"",null,null,null,null,null,null,{"$f":"VLOOKUP(K5589,[2]Paramètres!$M$5:$O$101,2,0)","v":{"$error":"#N/A"}},{"$f":"VLOOKUP(K5589,[2]Paramètres!$M$5:$O$101,3,0)","v":{"$error":"#N/A"}},null,null,null,null,null,null,null,null,null,null,{"$f":"SUM(Tableau_Data[[#This Row],[Féminin]:[Masculin]])","v":0}]
[null,null,"",null,"",null,null,null,null,null,null,{"$f":"VLOOKUP(K5596,[2]Paramètres!$M$5:$O$101,2,0)","v":{"$error":"#N/A"}},{"$f":"VLOOKUP(K5596,[2]Paramètres!$M$5:$O$101,3,0)","v":{"$error":"#N/A"}},null,null,null,null,null,null,null,null,null,null,{"$f":"SUM(Tableau_Data[[#This Row],[Féminin]:[Masculin]])","v":0}]
[null,null,"",null,"",null,null,null,null,null,null,{"$f":"VLOOKUP(K5605,[2]Paramètres!$M$5:$O$101,2,0)","v":{"$error":"#N/A"}},{"$f":"VLOOKUP(K5605,[2]Paramètres!$M$5:$O$101,3,0)","v":{"$error":"#N/A"}},null,null,null,null,null,null,null,null,null,null,{"$f":"SUM(Tableau_Data[[#This Row],[Féminin]:[Masculin]])","v":0}]
[null,null,"",null,"",null,null,null,null,null,null,{"$f":"VLOOKUP(K5618,[2]Paramètres!$M$5:$O$101,2,0)","v":{"$error":"#N/A"}},{"$f":"VLOOKUP(K5618,[2]Paramètres!$M$5:$O$101,3,0)","v":{"$error":"#N/A"}},null,null,null,null,null,null,null,null,null,null,{"$f":"SUM(Tableau_Data[[#This Row],[Féminin]:[Masculin]])","v":0}]
[null,null,"",null,"",null,null,null,null,null,null,{"$f":"VLOOKUP(K5624,[2]Paramètres!$M$5:$O$101,2,0)","v":{"$error":"#N/A"}},{"$f":"VLOOKUP(K5624,[2]Paramètres!$M$5:$O$101,3,0)","v":{"$error":"#N/A"}},null,null,null,null,null,null,null,null,null,null,{"$f":"SUM(Tableau_Data[[#This Row],[Féminin]:[Masculin]])","v":0}]
[null,null,{"$f":"IF(D5633=\"\",\"\",YEAR(D5633))","v":""},null,"",null,null,null,null,null,null,{"$f":"VLOOKUP(K5633,[2]Paramètres!$M$5:$O$101,2,0)","v":{"$error":"#N/A"}},{"$f":"VLOOKUP(K5633,[2]Paramètres!$M$5:$O$101,3,0)","v":{"$error":"#N/A"}},null,null,null,null,null,null,null,null,null,null,{"$f":"SUM(Tableau_Data[[#This Row],[Féminin]:[Masculin]])","v":0}]
[null,null,"",null,"",null,null,null,null,null,null,{"$f":"VLOOKUP(K5642,[2]Paramètres!$M$5:$O$101,2,0)","v":{"$error":"#N/A"}},{"$f":"VLOOKUP(K5642,[2]Paramètres!$M$5:$O$101,3,0)","v":{"$error":"#N/A"}},null,null,null,null,null,null,null,null,null,null,{"$f":"SUM(Tableau_Data[[#This Row],[Féminin]:[Masculin]])","v":0}]
[null,null,"",null,"",null,null,null,null,null,null,{"$f":"VLOOKUP(K5644,[2]Paramètres!$M$5:$O$101,2,0)","v":{"$error":"#N/A"}},{"$f":"VLOOKUP(K5644,[2]Paramètres!$M$5:$O$101,3,0)","v":{"$error":"#N/A"}},null,null,null,null,null,null,null,null,null,null,{"$f":"SUM(Tableau_Data[[#This Row],[Féminin]:[Masculin]])","v":0}]
[null,null,"",null,"",null,null,null,null,null,null,{"$f":"VLOOKUP(K5653,[2]Paramètres!$M$5:$O$101,2,0)","v":{"$error":"#N/A"}},{"$f":"VLOOKUP(K5653,[2]Paramètres!$M$5:$O$101,3,0)","v":{"$error":"#N/A"}},null,null,null,null,null,null,null,null,null,null,{"$f":"SUM(Tableau_Data[[#This Row],[Féminin]:[Masculin]])","v":0}]
[null,null,"",null,"",null,null,null,null,null,null,{"$f":"VLOOKUP(K5662,[2]Paramètres!$M$5:$O$101,2,0)","v":{"$error":"#N/A"}},{"$f":"VLOOKUP(K5662,[2]Paramètres!$M$5:$O$101,3,0)","v":{"$error":"#N/A"}},null,null,null,null,null,null,null,null,null,null,{"$f":"SUM(Tableau_Data[[#This Row],[Féminin]:[Masculin]])","v":0}]
[null,null,"",null,"",null,null,null,null,null,null,{"$f":"VLOOKUP(K5673,[2]Paramètres!$M$5:$O$101,2,0)","v":{"$error":"#N/A"}},{"$f":"VLOOKUP(K5673,[2]Paramètres!$M$5:$O$101,3,0)","v":{"$error":"#N/A"}},null,null,null,null,null,null,null,null,null,null,{"$f":"SUM(Tableau_Data[[#This Row],[Féminin]:[Masculin]])","v":0}]
[null,null,"",null,"",null,null,null,null,null,null,{"$f":"VLOOKUP(K5681,[2]Paramètres!$M$5:$O$101,2,0)","v":{"$error":"#N/A"}},{"$f":"VLOOKUP(K5681,[2]Paramètres!$M$5:$O$101,3,0)","v":{"$error":"#N/A"}},null,null,null,null,null,null,null,null,null,null,{"$f":"SUM(Tableau_Data[[#This Row],[Féminin]:[Masculin]])","v":0}]
[null,null,"",null,"",null,null,null,null,null,null,{"$f":"VLOOKUP(K5690,[2]Paramètres!$M$5:$O$101,2,0)","v":{"$error":"#N/A"}},{"$f":"VLOOKUP(K5690,[2]Paramètres!$M$5:$O$101,3,0)","v":{"$error":"#N/A"}},null,null,null,null,null,null,null,null,null,null,{"$f":"SUM(Tableau_Data[[#This Row],[Féminin]:[Masculin]])","v":0}]
[null,null,"",null,"",null,null,null,null,null,null,{"$f":"VLOOKUP(K5693,[2]Paramètres!$M$5:$O$101,2,0)","v":{"$error":"#N/A"}},{"$f":"VLOOKUP(K5693,[2]Paramètres!$M$5:$O$101,3,0)","v":{"$error":"#N/A"}},null,null,null,null,null,null,null,null,null,null,{"$f":"SUM(Tableau_Data[[#This Row],[Féminin]:[Masculin]])","v":0}]
[null,null,"",null,"",null,null,null,null,null,null,{"$f":"VLOOKUP(K5709,[2]Paramètres!$M$5:$O$101,2,0)","v":{"$error":"#N/A"}},{"$f":"VLOOKUP(K5709,[2]Paramètres!$M$5:$O$101,3,0)","v":{"$error":"#N/A"}},null,null,null,null,null,null,null,null,null,null,{"$f":"SUM(Tableau_Data[[#This Row],[Féminin]:[Masculin]])","v":0}]
[null,null,"",null,"",null,null,null,null,null,null,{"$f":"VLOOKUP(K5710,[2]Paramètres!$M$5:$O$101,2,0)","v":{"$error":"#N/A"}},{"$f":"VLOOKUP(K5710,[2]Paramètres!$M$5:$O$101,3,0)","v":{"$error":"#N/A"}},null,null,null,null,null,null,null,null,null,null,{"$f":"SUM(Tableau_Data[[#This Row],[Féminin]:[Masculin]])","v":0}]
[null,null,"",null,"",null,null,null,null,null,null,{"$f":"VLOOKUP(K5722,[2]Paramètres!$M$5:$O$101,2,0)","v":{"$error":"#N/A"}},{"$f":"VLOOKUP(K5722,[2]Paramètres!$M$5:$O$101,3,0)","v":{"$error":"#N/A"}},null,null,null,null,null,null,null,null,null,null,{"$f":"SUM(Tableau_Data[[#This Row],[Féminin]:[Masculin]])","v":0}]
[null,null,"",null,"",null,null,null,null,null,null,{"$f":"VLOOKUP(K5729,[2]Paramètres!$M$5:$O$101,2,0)","v":{"$error":"#N/A"}},{"$f":"VLOOKUP(K5729,[2]Paramètres!$M$5:$O$101,3,0)","v":{"$error":"#N/A"}},null,null,null,null,null,null,null,null,null,null,{"$f":"SUM(Tableau_Data[[#This Row],[Féminin]:[Masculin]])","v":0}]
[null,null,"",null,{"$f":"IF(D5738=\"\",\"\",MONTH(D5738))","v":""},null,null,null,null,null,null,{"$f":"VLOOKUP(K5738,[2]Paramètres!$M$5:$O$101,2,0)","v":{"$error":"#N/A"}},{"$f":"VLOOKUP(K5738,[2]Paramètres!$M$5:$O$101,3,0)","v":{"$error":"#N/A"}},null,null,null,null,null,null,null,null,null,null,{"$f":"SUM(Tableau_Data[[#This Row],[Féminin]:[Masculin]])","v":0}]
[null,null,"",null,"",null,null,null,null,null,null,{"$f":"VLOOKUP(K5746,[2]Paramètres!$M$5:$O$101,2,0)","v":{"$error":"#N/A"}},{"$f":"VLOOKUP(K5746,[2]Paramètres!$M$5:$O$101,3,0)","v":{"$error":"#N/A"}},null,null,null,null,null,null,null,null,null,null,{"$f":"SUM(Tableau_Data[[#This Row],[Féminin]:[Masculin]])","v":0}]
[null,null,"",null,"",null,null,null,null,null,null,{"$f":"VLOOKUP(K5757,[2]Paramètres!$M$5:$O$101,2,0)","v":{"$error":"#N/A"}},{"$f":"VLOOKUP(K5757,[2]Paramètres!$M$5:$O$101,3,0)","v":{"$error":"#N/A"}},null,null,null,null,null,null,null,null,null,null,{"$f":"SUM(Tableau_Data[[#This Row],[Féminin]:[Masculin]])","v":0}]
[null,null,"",null,"",null,null,null,null,null,null,{"$f":"VLOOKUP(K5766,[2]Paramètres!$M$5:$O$101,2,0)","v":{"$error":"#N/A"}},{"$f":"VLOOKUP(K5766,[2]Paramètres!$M$5:$O$101,3,0)","v":{"$error":"#N/A"}},null,null,null,null,null,null,null,null,null,null,{"$f":"SUM(Tableau_Data[[#This Row],[Féminin]:[Masculin]])","v":0}]
[null,null,"",null,"",null,null,null,null,null,null,{"$f":"VLOOKUP(K5775,[2]Paramètres!$M$5:$O$101,2,0)","v":{"$error":"#N/A"}},{"$f":"VLOOKUP(K5775,[2]Paramètres!$M$5:$O$101,3,0)","v":{"$error":"#N/A"}},null,null,null,null,null,null,null,null,null,null,{"$f":"SUM(Tableau_Data[[#This Row],[Féminin]:[Masculin]])","v":0}]
[null,null,"",null,"",null,null,null,null,null,null,{"$f":"VLOOKUP(K5777,[2]Paramètres!$M$5:$O$101,2,0)","v":{"$error":"#N/A"}},{"$f":"VLOOKUP(K5777,[2]Paramètres!$M$5:$O$101,3,0)","v":{"$error":"#N/A"}},null,null,null,null,null,null,null,null,null,null,{"$f":"SUM(Tableau_Data[[#This Row],[Féminin]:[Masculin]])","v":0}]
[null,null,"",null,"",null,null,null,null,null,null,{"$f":"VLOOKUP(K5786,[2]Paramètres!$M$5:$O$101,2,0)","v":{"$error":"#N/A"}},{"$f":"VLOOKUP(K5786,[2]Paramètres!$M$5:$O$101,3,0)","v":{"$error":"#N/A"}},null,null,null,null,null,null,null,null,null,null,{"$f":"SUM(Tableau_Data[[#This Row],[Féminin]:[Masculin]])","v":0}]
[null,null,"",null,"",null,null,null,null,null,null,{"$f":"VLOOKUP(K5795,[2]Paramètres!$M$5:$O$101,2,0)","v":{"$error":"#N/A"}},{"$f":"VLOOKUP(K5795,[2]Paramètres!$M$5:$O$101,3,0)","v":{"$error":"#N/A"}},null,null,null,null,null,null,null,null,null,null,{"$f":"SUM(Tableau_Data[[#This Row],[Féminin]:[Masculin]])","v":0}]
[null,null,"",null,"",null,null,null,null,null,null,{"$f":"VLOOKUP(K5806,[2]Paramètres!$M$5:$O$101,2,0)","v":{"$error":"#N/A"}},{"$f":"VLOOKUP(K5806,[2]Paramètres!$M$5:$O$101,3,0)","v":{"$error":"#N/A"}},null,null,null,null,null,null,null,null,null,null,{"$f":"SUM(Tableau_Data[[#This Row],[Féminin]:[Masculin]])","v":0}]
[null,null,"",null,"",null,null,null,null,null,null,{"$f":"VLOOKUP(K5814,[2]Paramètres!$M$5:$O$101,2,0)","v":{"$error":"#N/A"}},{"$f":"VLOOKUP(K5814,[2]Paramètres!$M$5:$O$101,3,0)","v":{"$error":"#N/A"}},null,null,null,null,null,null,null,null,null,null,{"$f":"SUM(Tableau_Data[[#This Row],[Féminin]:[Masculin]])","v":0}]
[null,null,"",null,"",null,null,null,null,null,null,{"$f":"VLOOKUP(K5823,[2]Paramètres!$M$5:$O$101,2,0)","v":{"$error":"#N/A"}},{"$f":"VLOOKUP(K5823,[2]Paramètres!$M$5:$O$101,3,0)","v":{"$error":"#N/A"}},null,null,null,null,null,null,null,null,null,null,{"$f":"SUM(Tableau_Data[[#This Row],[Féminin]:[Masculin]])","v":0}]
[null,null,"",null,"",null,null,null,null,null,null,{"$f":"VLOOKUP(K5826,[2]Paramètres!$M$5:$O$101,2,0)","v":{"$error":"#N/A"}},{"$f":"VLOOKUP(K5826,[2]Paramètres!$M$5:$O$101,3,0)","v":{"$error":"#N/A"}},null,null,null,null,null,null,null,null,null,null,{"$f":"SUM(Tableau_Data[[#This Row],[Féminin]:[Masculin]])","v":0}]
[null,null,"",null,"",null,null,null,null,null,null,{"$f":"VLOOKUP(K5842,[2]Paramètres!$M$5:$O$101,2,0)","v":{"$error":"#N/A"}},{"$f":"VLOOKUP(K5842,[2]Paramètres!$M$5:$O$101,3,0)","v":{"$error":"#N/A"}},null,null,null,null,null,null,null,null,null,null,{"$f":"SUM(Tableau_Data[[#This Row],[Féminin]:[Masculin]])","v":0}]
[null,null,"",null,"",null,null,null,null,null,null,{"$f":"VLOOKUP(K5843,[2]Paramètres!$M$5:$O$101,2,0)","v":{"$error":"#N/A"}},{"$f":"VLOOKUP(K5843,[2]Paramètres!$M$5:$O$101,3,0)","v":{"$error":"#N/A"}},null,null,null,null,null,null,null,null,null,null,{"$f":"SUM(Tableau_Data[[#This Row],[Féminin]:[Masculin]])","v":0}]
[null,null,"",null,"",null,null,null,null,null,null,{"$f":"VLOOKUP(K5859,[2]Paramètres!$M$5:$O$101,2,0)","v":{"$error":"#N/A"}},{"$f":"VLOOKUP(K5859,[2]Paramètres!$M$5:$O$101,3,0)","v":{"$error":"#N/A"}},null,null,null,null,null,null,null,null,null,null,{"$f":"SUM(Tableau_Data[[#This Row],[Féminin]:[Masculin]])","v":0}]
[null,null,"",null,"",null,null,null,null,null,null,{"$f":"VLOOKUP(K5862,[2]Paramètres!$M$5:$O$101,2,0)","v":{"$error":"#N/A"}},{"$f":"VLOOKUP(K5862,[2]Paramètres!$M$5:$O$101,3,0)","v":{"$error":"#N/A"}},null,null,null,null,null,null,null,null,null,null,{"$f":"SUM(Tableau_Data[[#This Row],[Féminin]:[Masculin]])","v":0}]
[null,null,"",null,"",null,null,null,null,null,null,{"$f":"VLOOKUP(K5871,[2]Paramètres!$M$5:$O$101,2,0)","v":{"$error":"#N/A"}},{"$f":"VLOOKUP(K5871,[2]Paramètres!$M$5:$O$101,3,0)","v":{"$error":"#N/A"}},null,null,null,null,null,null,null,null,null,null,{"$f":"SUM(Tableau_Data[[#This Row],[Féminin]:[Masculin]])","v":0}]
[null,null,"",null,"",null,null,null,null,null,null,{"$f":"VLOOKUP(K5880,[2]Paramètres!$M$5:$O$101,2,0)","v":{"$error":"#N/A"}},{"$f":"VLOOKUP(K5880,[2]Paramètres!$M$5:$O$101,3,0)","v":{"$error":"#N/A"}},null,null,null,null,null,null,null,null,null,null,{"$f":"SUM(Tableau_Data[[#This Row],[Féminin]:[Masculin]])","v":0}]
[null,null,"",null,"",null,null,null,null,null,null,{"$f":"VLOOKUP(K5890,[2]Paramètres!$M$5:$O$101,2,0)","v":{"$error":"#N/A"}},{"$f":"VLOOKUP(K5890,[2]Paramètres!$M$5:$O$101,3,0)","v":{"$error":"#N/A"}},null,null,null,null,null,null,null,null,null,null,{"$f":"SUM(Tableau_Data[[#This Row],[Féminin]:[Masculin]])","v":0}]
[null,null,"",null,"",null,null,null,null,null,null,{"$f":"VLOOKUP(K5899,[2]Paramètres!$M$5:$O$101,2,0)","v":{"$error":"#N/A"}},{"$f":"VLOOKUP(K5899,[2]Paramètres!$M$5:$O$101,3,0)","v":{"$error":"#N/A"}},null,null,null,null,null,null,null,null,null,null,{"$f":"SUM(Tableau_Data[[#This Row],[Féminin]:[Masculin]])","v":0}]
[null,null,"",null,"",null,null,null,null,null,null,{"$f":"VLOOKUP(K5910,[2]Paramètres!$M$5:$O$101,2,0)","v":{"$error":"#N/A"}},{"$f":"VLOOKUP(K5910,[2]Paramètres!$M$5:$O$101,3,0)","v":{"$error":"#N/A"}},null,null,null,null,null,null,null,null,null,null,{"$f":"SUM(Tableau_Data[[#This Row],[Féminin]:[Masculin]])","v":0}]
[null,null,"",null,"",null,null,null,null,null,null,{"$f":"VLOOKUP(K5910,[2]Paramètres!$M$5:$O$101,2,0)","v":{"$error":"#N/A"}},{"$f":"VLOOKUP(K5910,[2]Paramètres!$M$5:$O$101,3,0)","v":{"$error":"#N/A"}},null,null,null,null,null,null,null,null,null,null,{"$f":"SUM(Tableau_Data[[#This Row],[Féminin]:[Masculin]])","v":0}]
[null,null,"",null,"",null,null,null,null,null,null,{"$f":"VLOOKUP(K5919,[2]Paramètres!$M$5:$O$101,2,0)","v":{"$error":"#N/A"}},{"$f":"VLOOKUP(K5919,[2]Paramètres!$M$5:$O$101,3,0)","v":{"$error":"#N/A"}},null,null,null,null,null,null,null,null,null,null,{"$f":"SUM(Tableau_Data[[#This Row],[Féminin]:[Masculin]])","v":0}]
[null,null,"",null,"",null,null,null,null,null,null,{"$f":"VLOOKUP(K5928,[2]Paramètres!$M$5:$O$101,2,0)","v":{"$error":"#N/A"}},{"$f":"VLOOKUP(K5928,[2]Paramètres!$M$5:$O$101,3,0)","v":{"$error":"#N/A"}},null,null,null,null,null,null,null,null,null,null,{"$f":"SUM(Tableau_Data[[#This Row],[Féminin]:[Masculin]])","v":0}]
[null,null,"",null,"",null,null,null,null,null,null,{"$f":"VLOOKUP(K5939,[2]Paramètres!$M$5:$O$101,2,0)","v":{"$error":"#N/A"}},{"$f":"VLOOKUP(K5939,[2]Paramètres!$M$5:$O$101,3,0)","v":{"$error":"#N/A"}},null,null,null,null,null,null,null,null,null,null,{"$f":"SUM(Tableau_Data[[#This Row],[Féminin]:[Masculin]])","v":0}]
[null,null,"",null,"",null,null,null,null,null,null,{"$f":"VLOOKUP(K5947,[2]Paramètres!$M$5:$O$101,2,0)","v":{"$error":"#N/A"}},{"$f":"VLOOKUP(K5947,[2]Paramètres!$M$5:$O$101,3,0)","v":{"$error":"#N/A"}},null,null,null,null,null,null,null,null,null,null,{"$f":"SUM(Tableau_Data[[#This Row],[Féminin]:[Masculin]])","v":0}]
[null,null,"",null,"",null,null,null,null,null,null,{"$f":"VLOOKUP(K5956,[2]Paramètres!$M$5:$O$101,2,0)","v":{"$error":"#N/A"}},{"$f":"VLOOKUP(K5956,[2]Paramètres!$M$5:$O$101,3,0)","v":{"$error":"#N/A"}},null,null,null,null,null,null,null,null,null,null,{"$f":"SUM(Tableau_Data[[#This Row],[Féminin]:[Masculin]])","v":0}]
[null,null,"",null,"",null,null,null,null,null,null,{"$f":"VLOOKUP(K5965,[2]Paramètres!$M$5:$O$101,2,0)","v":{"$error":"#N/A"}},{"$f":"VLOOKUP(K5965,[2]Paramètres!$M$5:$O$101,3,0)","v":{"$error":"#N/A"}},null,null,null,null,null,null,null,null,null,null,{"$f":"SUM(Tableau_Data[[#This Row],[Féminin]:[Masculin]])","v":0}]
[null,null,"",null,"",null,null,null,null,null,null,{"$f":"VLOOKUP(K5974,[2]Paramètres!$M$5:$O$101,2,0)","v":{"$error":"#N/A"}},{"$f":"VLOOKUP(K5974,[2]Paramètres!$M$5:$O$101,3,0)","v":{"$error":"#N/A"}},null,null,null,null,null,null,null,null,null,null,{"$f":"SUM(Tableau_Data[[#This Row],[Féminin]:[Masculin]])","v":0}]
[null,null,"",null,"",null,null,null,null,null,null,{"$f":"VLOOKUP(K5976,[2]Paramètres!$M$5:$O$101,2,0)","v":{"$error":"#N/A"}},{"$f":"VLOOKUP(K5976,[2]Paramètres!$M$5:$O$101,3,0)","v":{"$error":"#N/A"}},null,null,null,null,null,null,null,null,null,null,{"$f":"SUM(Tableau_Data[[#This Row],[Féminin]:[Masculin]])","v":0}]
[null,null,"",null,"",null,null,null,null,null,null,{"$f":"VLOOKUP(K5985,[2]Paramètres!$M$5:$O$101,2,0)","v":{"$error":"#N/A"}},{"$f":"VLOOKUP(K5985,[2]Paramètres!$M$5:$O$101,3,0)","v":{"$error":"#N/A"}},null,null,null,null,null,null,null,null,null,null,{"$f":"SUM(Tableau_Data[[#This Row],[Féminin]:[Masculin]])","v":0}]
[null,null,"",null,{"$f":"IF(D5994=\"\",\"\",MONTH(D5994))","v":""},null,null,null,null,null,null,{"$f":"VLOOKUP(K5994,[2]Paramètres!$M$5:$O$101,2,0)","v":{"$error":"#N/A"}},{"$f":"VLOOKUP(K5994,[2]Paramètres!$M$5:$O$101,3,0)","v":{"$error":"#N/A"}},null,null,null,null,null,null,null,null,null,null,{"$f":"SUM(Tableau_Data[[#This Row],[Féminin]:[Masculin]])","v":0}]
[null,null,"",null,"",null,null,null,null,null,null,{"$f":"VLOOKUP(K6004,[2]Paramètres!$M$5:$O$101,2,0)","v":{"$error":"#N/A"}},{"$f":"VLOOKUP(K6004,[2]Paramètres!$M$5:$O$101,3,0)","v":{"$error":"#N/A"}},null,null,null,null,null,null,null,null,null,null,{"$f":"SUM(Tableau_Data[[#This Row],[Féminin]:[Masculin]])","v":0}]
[null,null,"",null,"",null,null,null,null,null,null,{"$f":"VLOOKUP(K6013,[2]Paramètres!$M$5:$O$101,2,0)","v":{"$error":"#N/A"}},{"$f":"VLOOKUP(K6013,[2]Paramètres!$M$5:$O$101,3,0)","v":{"$error":"#N/A"}},null,null,null,null,null,null,null,null,null,null,{"$f":"SUM(Tableau_Data[[#This Row],[Féminin]:[Masculin]])","v":0}]
[null,null,"",null,"",null,null,null,null,null,null,{"$f":"VLOOKUP(K6023,[2]Paramètres!$M$5:$O$101,2,0)","v":{"$error":"#N/A"}},{"$f":"VLOOKUP(K6023,[2]Paramètres!$M$5:$O$101,3,0)","v":{"$error":"#N/A"}},null,null,null,null,null,null,null,null,null,null,{"$f":"SUM(Tableau_Data[[#This Row],[Féminin]:[Masculin]])","v":0}]
[null,null,"",null,"",null,null,null,null,null,null,{"$f":"VLOOKUP(K6032,[2]Paramètres!$M$5:$O$101,2,0)","v":{"$error":"#N/A"}},{"$f":"VLOOKUP(K6032,[2]Paramètres!$M$5:$O$101,3,0)","v":{"$error":"#N/A"}},null,null,null,null,null,null,null,null,null,null,{"$f":"SUM(Tableau_Data[[#This Row],[Féminin]:[Masculin]])","v":0}]
[null,null,"",null,"",null,null,null,null,null,null,{"$f":"VLOOKUP(K6041,[2]Paramètres!$M$5:$O$101,2,0)","v":{"$error":"#N/A"}},{"$f":"VLOOKUP(K6041,[2]Paramètres!$M$5:$O$101,3,0)","v":{"$error":"#N/A"}},null,null,null,null,null,null,null,null,null,null,{"$f":"SUM(Tableau_Data[[#This Row],[Féminin]:[Masculin]])","v":0}]
[null,null,"",null,"",null,null,null,null,null,null,{"$f":"VLOOKUP(K6043,[2]Paramètres!$M$5:$O$101,2,0)","v":{"$error":"#N/A"}},{"$f":"VLOOKUP(K6043,[2]Paramètres!$M$5:$O$101,3,0)","v":{"$error":"#N/A"}},null,null,null,null,null,null,null,null,null,null,{"$f":"SUM(Tableau_Data[[#This Row],[Féminin]:[Masculin]])","v":0}]
[null,null,"",null,"",null,null,null,null,null,null,{"$f":"VLOOKUP(K6052,[2]Paramètres!$M$5:$O$101,2,0)","v":{"$error":"#N/A"}},{"$f":"VLOOKUP(K6052,[2]Paramètres!$M$5:$O$101,3,0)","v":{"$error":"#N/A"}},null,null,null,null,null,null,null,null,null,null,{"$f":"SUM(Tableau_Data[[#This Row],[Féminin]:[Masculin]])","v":0}]
[null,null,"",null,"",null,null,null,null,null,null,{"$f":"VLOOKUP(K6061,[2]Paramètres!$M$5:$O$101,2,0)","v":{"$error":"#N/A"}},{"$f":"VLOOKUP(K6061,[2]Paramètres!$M$5:$O$101,3,0)","v":{"$error":"#N/A"}},null,null,null,null,null,null,null,null,null,null,{"$f":"SUM(Tableau_Data[[#This Row],[Féminin]:[Masculin]])","v":0}]
[null,null,"",null,"",null,null,null,null,null,null,{"$f":"VLOOKUP(K6070,[2]Paramètres!$M$5:$O$101,2,0)","v":{"$error":"#N/A"}},{"$f":"VLOOKUP(K6070,[2]Paramètres!$M$5:$O$101,3,0)","v":{"$error":"#N/A"}},null,null,null,null,null,null,null,null,null,null,{"$f":"SUM(Tableau_Data[[#This Row],[Féminin]:[Masculin]])","v":0}]
[null,null,"",null,"",null,null,null,null,null,null,{"$f":"VLOOKUP(K6078,[2]Paramètres!$M$5:$O$101,2,0)","v":{"$error":"#N/A"}},{"$f":"VLOOKUP(K6078,[2]Paramètres!$M$5:$O$101,3,0)","v":{"$error":"#N/A"}},null,null,null,null,null,null,null,null,null,null,{"$f":"SUM(Tableau_Data[[#This Row],[Féminin]:[Masculin]])","v":0}]
[null,null,"",null,"",null,null,null,null,null,null,{"$f":"VLOOKUP(K6089,[2]Paramètres!$M$5:$O$101,2,0)","v":{"$error":"#N/A"}},{"$f":"VLOOKUP(K6089,[2]Paramètres!$M$5:$O$101,3,0)","v":{"$error":"#N/A"}},null,null,null,null,null,null,null,null,null,null,{"$f":"SUM(Tableau_Data[[#This Row],[Féminin]:[Masculin]])","v":0}]
[null,null,"",null,"",null,null,null,null,null,null,{"$f":"VLOOKUP(K6098,[2]Paramètres!$M$5:$O$101,2,0)","v":{"$error":"#N/A"}},{"$f":"VLOOKUP(K6098,[2]Paramètres!$M$5:$O$101,3,0)","v":{"$error":"#N/A"}},null,null,null,null,null,null,null,null,null,null,{"$f":"SUM(Tableau_Data[[#This Row],[Féminin]:[Masculin]])","v":0}]
[null,null,"",null,"",null,null,null,null,null,null,{"$f":"VLOOKUP(K6107,[2]Paramètres!$M$5:$O$101,2,0)","v":{"$error":"#N/A"}},{"$f":"VLOOKUP(K6107,[2]Paramètres!$M$5:$O$101,3,0)","v":{"$error":"#N/A"}},null,null,null,null,null,null,null,null,null,null,{"$f":"SUM(Tableau_Data[[#This Row],[Féminin]:[Masculin]])","v":0}]
[null,null,"",null,"",null,null,null,null,null,null,{"$f":"VLOOKUP(K6109,[2]Paramètres!$M$5:$O$101,2,0)","v":{"$error":"#N/A"}},{"$f":"VLOOKUP(K6109,[2]Paramètres!$M$5:$O$101,3,0)","v":{"$error":"#N/A"}},null,null,null,null,null,null,null,null,null,null,{"$f":"SUM(Tableau_Data[[#This Row],[Féminin]:[Masculin]])","v":0}]
[null,null,"",null,"",null,null,null,null,null,null,{"$f":"VLOOKUP(K6118,[2]Paramètres!$M$5:$O$101,2,0)","v":{"$error":"#N/A"}},{"$f":"VLOOKUP(K6118,[2]Paramètres!$M$5:$O$101,3,0)","v":{"$error":"#N/A"}},null,null,null,null,null,null,null,null,null,null,{"$f":"SUM(Tableau_Data[[#This Row],[Féminin]:[Masculin]])","v":0}]
[null,null,"",null,"",null,null,null,null,null,null,{"$f":"VLOOKUP(K6127,[2]Paramètres!$M$5:$O$101,2,0)","v":{"$error":"#N/A"}},{"$f":"VLOOKUP(K6127,[2]Paramètres!$M$5:$O$101,3,0)","v":{"$error":"#N/A"}},null,null,null,null,null,null,null,null,null,null,{"$f":"SUM(Tableau_Data[[#This Row],[Féminin]:[Masculin]])","v":0}]
[null,null,"",null,"",null,null,null,null,null,null,{"$f":"VLOOKUP(K6137,[2]Paramètres!$M$5:$O$101,2,0)","v":{"$error":"#N/A"}},{"$f":"VLOOKUP(K6137,[2]Paramètres!$M$5:$O$101,3,0)","v":{"$error":"#N/A"}},null,null,null,null,null,null,null,null,null,null,{"$f":"SUM(Tableau_Data[[#This Row],[Féminin]:[Masculin]])","v":0}]
[null,null,"",null,"",null,null,null,null,null,null,{"$f":"VLOOKUP(K6146,[2]Paramètres!$M$5:$O$101,2,0)","v":{"$error":"#N/A"}},{"$f":"VLOOKUP(K6146,[2]Paramètres!$M$5:$O$101,3,0)","v":{"$error":"#N/A"}},null,null,null,null,null,null,null,null,null,null,{"$f":"SUM(Tableau_Data[[#This Row],[Féminin]:[Masculin]])","v":0}]
[null,null,"",null,"",null,null,null,null,null,null,{"$f":"VLOOKUP(K6156,[2]Paramètres!$M$5:$O$101,2,0)","v":{"$error":"#N/A"}},{"$f":"VLOOKUP(K6156,[2]Paramètres!$M$5:$O$101,3,0)","v":{"$error":"#N/A"}},null,null,null,null,null,null,null,null,null,null,{"$f":"SUM(Tableau_Data[[#This Row],[Féminin]:[Masculin]])","v":0}]
[null,null,"",null,"",null,null,null,null,null,null,{"$f":"VLOOKUP(K6165,[2]Paramètres!$M$5:$O$101,2,0)","v":{"$error":"#N/A"}},{"$f":"VLOOKUP(K6165,[2]Paramètres!$M$5:$O$101,3,0)","v":{"$error":"#N/A"}},null,null,null,null,null,null,null,null,null,null,{"$f":"SUM(Tableau_Data[[#This Row],[Féminin]:[Masculin]])","v":0}]
[null,null,"",null,"",null,null,null,null,null,null,{"$f":"VLOOKUP(K6174,[2]Paramètres!$M$5:$O$101,2,0)","v":{"$error":"#N/A"}},{"$f":"VLOOKUP(K6174,[2]Paramètres!$M$5:$O$101,3,0)","v":{"$error":"#N/A"}},null,null,null,null,null,null,null,null,null,null,{"$f":"SUM(Tableau_Data[[#This Row],[Féminin]:[Masculin]])","v":0}]
[null,null,"",null,"",null,null,null,null,null,null,{"$f":"VLOOKUP(K6175,[2]Paramètres!$M$5:$O$101,2,0)","v":{"$error":"#N/A"}},{"$f":"VLOOKUP(K6175,[2]Paramètres!$M$5:$O$101,3,0)","v":{"$error":"#N/A"}},null,null,null,null,null,null,null,null,null,null,{"$f":"SUM(Tableau_Data[[#This Row],[Féminin]:[Masculin]])","v":0}]
[null,null,"",null,"",null,null,null,null,null,null,{"$f":"VLOOKUP(K6191,[2]Paramètres!$M$5:$O$101,2,0)","v":{"$error":"#N/A"}},{"$f":"VLOOKUP(K6191,[2]Paramètres!$M$5:$O$101,3,0)","v":{"$error":"#N/A"}},null,null,null,null,null,null,null,null,null,null,{"$f":"SUM(Tableau_Data[[#This Row],[Féminin]:[Masculin]])","v":0}]
[null,null,"",null,"",null,null,null,null,null,null,{"$f":"VLOOKUP(K6194,[2]Paramètres!$M$5:$O$101,2,0)","v":{"$error":"#N/A"}},{"$f":"VLOOKUP(K6194,[2]Paramètres!$M$5:$O$101,3,0)","v":{"$error":"#N/A"}},null,null,null,null,null,null,null,null,null,null,{"$f":"SUM(Tableau_Data[[#This Row],[Féminin]:[Masculin]])","v":0}]
[null,null,"",null,"",null,null,null,null,null,null,{"$f":"VLOOKUP(K6203,[2]Paramètres!$M$5:$O$101,2,0)","v":{"$error":"#N/A"}},{"$f":"VLOOKUP(K6203,[2]Paramètres!$M$5:$O$101,3,0)","v":{"$error":"#N/A"}},null,null,null,null,null,null,null,null,null,null,{"$f":"SUM(Tableau_Data[[#This Row],[Féminin]:[Masculin]])","v":0}]
[null,null,"",null,"",null,null,null,null,null,null,{"$f":"VLOOKUP(K6211,[2]Paramètres!$M$5:$O$101,2,0)","v":{"$error":"#N/A"}},{"$f":"VLOOKUP(K6211,[2]Paramètres!$M$5:$O$101,3,0)","v":{"$error":"#N/A"}},null,null,null,null,null,null,null,null,null,null,{"$f":"SUM(Tableau_Data[[#This Row],[Féminin]:[Masculin]])","v":0}]
[null,null,"",null,"",null,null,null,null,null,null,{"$f":"VLOOKUP(K6222,[2]Paramètres!$M$5:$O$101,2,0)","v":{"$error":"#N/A"}},{"$f":"VLOOKUP(K6222,[2]Paramètres!$M$5:$O$101,3,0)","v":{"$error":"#N/A"}},null,null,null,null,null,null,null,null,null,null,{"$f":"SUM(Tableau_Data[[#This Row],[Féminin]:[Masculin]])","v":0}]
[null,null,"",null,"",null,null,null,null,null,null,{"$f":"VLOOKUP(K6231,[2]Paramètres!$M$5:$O$101,2,0)","v":{"$error":"#N/A"}},{"$f":"VLOOKUP(K6231,[2]Paramètres!$M$5:$O$101,3,0)","v":{"$error":"#N/A"}},null,null,null,null,null,null,null,null,null,null,{"$f":"SUM(Tableau_Data[[#This Row],[Féminin]:[Masculin]])","v":0}]
[null,null,"",null,"",null,null,null,null,null,null,{"$f":"VLOOKUP(K6240,[2]Paramètres!$M$5:$O$101,2,0)","v":{"$error":"#N/A"}},{"$f":"VLOOKUP(K6240,[2]Paramètres!$M$5:$O$101,3,0)","v":{"$error":"#N/A"}},null,null,null,null,null,null,null,null,null,null,{"$f":"SUM(Tableau_Data[[#This Row],[Féminin]:[Masculin]])","v":0}]
[null,null,"",null,"",null,null,null,null,null,null,{"$f":"VLOOKUP(K6242,[2]Paramètres!$M$5:$O$101,2,0)","v":{"$error":"#N/A"}},{"$f":"VLOOKUP(K6242,[2]Paramètres!$M$5:$O$101,3,0)","v":{"$error":"#N/A"}},null,null,null,null,null,null,null,null,null,null,{"$f":"SUM(Tableau_Data[[#This Row],[Féminin]:[Masculin]])","v":0}]
[null,null,"",null,"",null,null,null,null,null,null,{"$f":"VLOOKUP(K6251,[2]Paramètres!$M$5:$O$101,2,0)","v":{"$error":"#N/A"}},{"$f":"VLOOKUP(K6251,[2]Paramètres!$M$5:$O$101,3,0)","v":{"$error":"#N/A"}},null,null,null,null,null,null,null,null,null,null,{"$f":"SUM(Tableau_Data[[#This Row],[Féminin]:[Masculin]])","v":0}]
[null,null,"",null,"",null,null,null,null,null,null,{"$f":"VLOOKUP(K6260,[2]Paramètres!$M$5:$O$101,2,0)","v":{"$error":"#N/A"}},{"$f":"VLOOKUP(K6260,[2]Paramètres!$M$5:$O$101,3,0)","v":{"$error":"#N/A"}},null,null,null,null,null,null,null,null,null,null,{"$f":"SUM(Tableau_Data[[#This Row],[Féminin]:[Masculin]])","v":0}]
[null,null,"",null,"",null,null,null,null,null,null,{"$f":"VLOOKUP(K6270,[2]Paramètres!$M$5:$O$101,2,0)","v":{"$error":"#N/A"}},{"$f":"VLOOKUP(K6270,[2]Paramètres!$M$5:$O$101,3,0)","v":{"$error":"#N/A"}},null,null,null,null,null,null,null,null,null,null,{"$f":"SUM(Tableau_Data[[#This Row],[Féminin]:[Masculin]])","v":0}]
[null,null,"",null,"",null,null,null,null,null,null,{"$f":"VLOOKUP(K6279,[2]Paramètres!$M$5:$O$101,2,0)","v":{"$error":"#N/A"}},{"$f":"VLOOKUP(K6279,[2]Paramètres!$M$5:$O$101,3,0)","v":{"$error":"#N/A"}},null,null,null,null,null,null,null,null,null,null,{"$f":"SUM(Tableau_Data[[#This Row],[Féminin]:[Masculin]])","v":0}]
[null,null,"",null,"",null,null,null,null,null,null,{"$f":"VLOOKUP(K6288,[2]Paramètres!$M$5:$O$101,2,0)","v":{"$error":"#N/A"}},{"$f":"VLOOKUP(K6288,[2]Paramètres!$M$5:$O$101,3,0)","v":{"$error":"#N/A"}},null,null,null,null,null,null,null,null,null,null,{"$f":"SUM(Tableau_Data[[#This Row],[Féminin]:[Masculin]])","v":0}]
[null,null,"",null,"",null,null,null,null,null,null,{"$f":"VLOOKUP(K6295,[2]Paramètres!$M$5:$O$101,2,0)","v":{"$error":"#N/A"}},{"$f":"VLOOKUP(K6295,[2]Paramètres!$M$5:$O$101,3,0)","v":{"$error":"#N/A"}},null,null,null,null,null,null,null,null,null,null,{"$f":"SUM(Tableau_Data[[#This Row],[Féminin]:[Masculin]])","v":0}]
[null,null,"",null,"",null,null,null,null,null,null,{"$f":"VLOOKUP(K6307,[2]Paramètres!$M$5:$O$101,2,0)","v":{"$error":"#N/A"}},{"$f":"VLOOKUP(K6307,[2]Paramètres!$M$5:$O$101,3,0)","v":{"$error":"#N/A"}},null,null,null,null,null,null,null,null,null,null,{"$f":"SUM(Tableau_Data[[#This Row],[Féminin]:[Masculin]])","v":0}]
[null,null,"",null,"",null,null,null,null,null,null,{"$f":"VLOOKUP(K6308,[2]Paramètres!$M$5:$O$101,2,0)","v":{"$error":"#N/A"}},{"$f":"VLOOKUP(K6308,[2]Paramètres!$M$5:$O$101,3,0)","v":{"$error":"#N/A"}},null,null,null,null,null,null,null,null,null,null,{"$f":"SUM(Tableau_Data[[#This Row],[Féminin]:[Masculin]])","v":0}]
[null,null,"",null,"",null,null,null,null,null,null,{"$f":"VLOOKUP(K6324,[2]Paramètres!$M$5:$O$101,2,0)","v":{"$error":"#N/A"}},{"$f":"VLOOKUP(K6324,[2]Paramètres!$M$5:$O$101,3,0)","v":{"$error":"#N/A"}},null,null,null,null,null,null,null,null,null,null,{"$f":"SUM(Tableau_Data[[#This Row],[Féminin]:[Masculin]])","v":0}]
[null,null,"",null,"",null,null,null,null,null,null,{"$f":"VLOOKUP(K6327,[2]Paramètres!$M$5:$O$101,2,0)","v":{"$error":"#N/A"}},{"$f":"VLOOKUP(K6327,[2]Paramètres!$M$5:$O$101,3,0)","v":{"$error":"#N/A"}},null,null,null,null,null,null,null,null,null,null,{"$f":"SUM(Tableau_Data[[#This Row],[Féminin]:[Masculin]])","v":0}]
[null,null,"",null,"",null,null,null,null,null,null,{"$f":"VLOOKUP(K6336,[2]Paramètres!$M$5:$O$101,2,0)","v":{"$error":"#N/A"}},{"$f":"VLOOKUP(K6336,[2]Paramètres!$M$5:$O$101,3,0)","v":{"$error":"#N/A"}},null,null,null,null,null,null,null,null,null,null,{"$f":"SUM(Tableau_Data[[#This Row],[Féminin]:[Masculin]])","v":0}]
[null,null,"",null,"",null,null,null,null,null,null,{"$f":"VLOOKUP(K6344,[2]Paramètres!$M$5:$O$101,2,0)","v":{"$error":"#N/A"}},{"$f":"VLOOKUP(K6344,[2]Paramètres!$M$5:$O$101,3,0)","v":{"$error":"#N/A"}},null,null,null,null,null,null,null,null,null,null,{"$f":"SUM(Tableau_Data[[#This Row],[Féminin]:[Masculin]])","v":0}]
[null,null,"",null,"",null,null,null,null,null,null,{"$f":"VLOOKUP(K6355,[2]Paramètres!$M$5:$O$101,2,0)","v":{"$error":"#N/A"}},{"$f":"VLOOKUP(K6355,[2]Paramètres!$M$5:$O$101,3,0)","v":{"$error":"#N/A"}},null,null,null,null,null,null,null,null,null,null,{"$f":"SUM(Tableau_Data[[#This Row],[Féminin]:[Masculin]])","v":0}]
[null,null,"",null,"",null,null,null,null,null,null,{"$f":"VLOOKUP(K6364,[2]Paramètres!$M$5:$O$101,2,0)","v":{"$error":"#N/A"}},{"$f":"VLOOKUP(K6364,[2]Paramètres!$M$5:$O$101,3,0)","v":{"$error":"#N/A"}},null,null,null,null,null,null,null,null,null,null,{"$f":"SUM(Tableau_Data[[#This Row],[Féminin]:[Masculin]])","v":0}]
[null,null,"",null,"",null,null,null,null,null,null,{"$f":"VLOOKUP(K6373,[2]Paramètres!$M$5:$O$101,2,0)","v":{"$error":"#N/A"}},{"$f":"VLOOKUP(K6373,[2]Paramètres!$M$5:$O$101,3,0)","v":{"$error":"#N/A"}},null,null,null,null,null,null,null,null,null,null,{"$f":"SUM(Tableau_Data[[#This Row],[Féminin]:[Masculin]])","v":0}]
[null,null,"",null,"",null,null,null,null,null,null,{"$f":"VLOOKUP(K6379,[2]Paramètres!$M$5:$O$101,2,0)","v":{"$error":"#N/A"}},{"$f":"VLOOKUP(K6379,[2]Paramètres!$M$5:$O$101,3,0)","v":{"$error":"#N/A"}},null,null,null,null,null,null,null,null,null,null,{"$f":"SUM(Tableau_Data[[#This Row],[Féminin]:[Masculin]])","v":0}]
[null,null,"",null,"",null,null,null,null,null,null,{"$f":"VLOOKUP(K6384,[2]Paramètres!$M$5:$O$101,2,0)","v":{"$error":"#N/A"}},{"$f":"VLOOKUP(K6384,[2]Paramètres!$M$5:$O$101,3,0)","v":{"$error":"#N/A"}},null,null,null,null,null,null,null,null,null,null,{"$f":"SUM(Tableau_Data[[#This Row],[Féminin]:[Masculin]])","v":0}]
[null,null,"",null,"",null,null,null,null,null,null,{"$f":"VLOOKUP(K6393,[2]Paramètres!$M$5:$O$101,2,0)","v":{"$error":"#N/A"}},{"$f":"VLOOKUP(K6393,[2]Paramètres!$M$5:$O$101,3,0)","v":{"$error":"#N/A"}},null,null,null,null,null,null,null,null,null,null,{"$f":"SUM(Tableau_Data[[#This Row],[Féminin]:[Masculin]])","v":0}]
[null,null,"",null,"",null,null,null,null,null,null,{"$f":"VLOOKUP(K6399,[2]Paramètres!$M$5:$O$101,2,0)","v":{"$error":"#N/A"}},{"$f":"VLOOKUP(K6399,[2]Paramètres!$M$5:$O$101,3,0)","v":{"$error":"#N/A"}},null,null,null,null,null,null,null,null,null,null,{"$f":"SUM(Tableau_Data[[#This Row],[Féminin]:[Masculin]])","v":0}]
[null,null,"",null,"",null,null,null,null,null,null,{"$f":"VLOOKUP(K6412,[2]Paramètres!$M$5:$O$101,2,0)","v":{"$error":"#N/A"}},{"$f":"VLOOKUP(K6412,[2]Paramètres!$M$5:$O$101,3,0)","v":{"$error":"#N/A"}},null,null,null,null,null,null,null,null,null,null,{"$f":"SUM(Tableau_Data[[#This Row],[Féminin]:[Masculin]])","v":0}]
[null,null,"",null,"",null,null,null,null,null,null,{"$f":"VLOOKUP(K6421,[2]Paramètres!$M$5:$O$101,2,0)","v":{"$error":"#N/A"}},{"$f":"VLOOKUP(K6421,[2]Paramètres!$M$5:$O$101,3,0)","v":{"$error":"#N/A"}},null,null,null,null,null,null,null,null,null,null,{"$f":"SUM(Tableau_Data[[#This Row],[Féminin]:[Masculin]])","v":0}]
[null,null,"",null,"",null,null,null,null,null,null,{"$f":"VLOOKUP(K6428,[2]Paramètres!$M$5:$O$101,2,0)","v":{"$error":"#N/A"}},{"$f":"VLOOKUP(K6428,[2]Paramètres!$M$5:$O$101,3,0)","v":{"$error":"#N/A"}},null,null,null,null,null,null,null,null,null,null,{"$f":"SUM(Tableau_Data[[#This Row],[Féminin]:[Masculin]])","v":0}]
[null,null,"",null,"",null,null,null,null,null,null,{"$f":"VLOOKUP(K6440,[2]Paramètres!$M$5:$O$101,2,0)","v":{"$error":"#N/A"}},{"$f":"VLOOKUP(K6440,[2]Paramètres!$M$5:$O$101,3,0)","v":{"$error":"#N/A"}},null,null,null,null,null,null,null,null,null,null,{"$f":"SUM(Tableau_Data[[#This Row],[Féminin]:[Masculin]])","v":0}]
[null,null,"",null,"",null,null,null,null,null,null,{"$f":"VLOOKUP(K6441,[2]Paramètres!$M$5:$O$101,2,0)","v":{"$error":"#N/A"}},{"$f":"VLOOKUP(K6441,[2]Paramètres!$M$5:$O$101,3,0)","v":{"$error":"#N/A"}},null,null,null,null,null,null,null,null,null,null,{"$f":"SUM(Tableau_Data[[#This Row],[Féminin]:[Masculin]])","v":0}]
[null,null,"",null,"",null,null,null,null,null,null,{"$f":"VLOOKUP(K6457,[2]Paramètres!$M$5:$O$101,2,0)","v":{"$error":"#N/A"}},{"$f":"VLOOKUP(K6457,[2]Paramètres!$M$5:$O$101,3,0)","v":{"$error":"#N/A"}},null,null,null,null,null,null,null,null,null,null,{"$f":"SUM(Tableau_Data[[#This Row],[Féminin]:[Masculin]])","v":0}]
[null,null,"",null,"",null,null,null,null,null,null,{"$f":"VLOOKUP(K6460,[2]Paramètres!$M$5:$O$101,2,0)","v":{"$error":"#N/A"}},{"$f":"VLOOKUP(K6460,[2]Paramètres!$M$5:$O$101,3,0)","v":{"$error":"#N/A"}},null,null,null,null,null,null,null,null,null,null,{"$f":"SUM(Tableau_Data[[#This Row],[Féminin]:[Masculin]])","v":0}]
[null,null,"",null,"",null,null,null,null,null,null,{"$f":"VLOOKUP(K6469,[2]Paramètres!$M$5:$O$101,2,0)","v":{"$error":"#N/A"}},{"$f":"VLOOKUP(K6469,[2]Paramètres!$M$5:$O$101,3,0)","v":{"$error":"#N/A"}},null,null,null,null,null,null,null,null,null,null,{"$f":"SUM(Tableau_Data[[#This Row],[Féminin]:[Masculin]])","v":0}]
[null,null,"",null,"",null,null,null,null,null,null,{"$f":"VLOOKUP(K6478,[2]Paramètres!$M$5:$O$101,2,0)","v":{"$error":"#N/A"}},{"$f":"VLOOKUP(K6478,[2]Paramètres!$M$5:$O$101,3,0)","v":{"$error":"#N/A"}},null,null,null,null,null,null,null,null,null,null,{"$f":"SUM(Tableau_Data[[#This Row],[Féminin]:[Masculin]])","v":0}]
[null,null,"",null,"",null,null,null,null,null,null,{"$f":"VLOOKUP(K6483,[2]Paramètres!$M$5:$O$101,2,0)","v":{"$error":"#N/A"}},{"$f":"VLOOKUP(K6483,[2]Paramètres!$M$5:$O$101,3,0)","v":{"$error":"#N/A"}},null,null,null,null,null,null,null,null,null,null,{"$f":"SUM(Tableau_Data[[#This Row],[Féminin]:[Masculin]])","v":0}]
[null,null,"",null,"",null,null,null,null,null,null,{"$f":"VLOOKUP(K6497,[2]Paramètres!$M$5:$O$101,2,0)","v":{"$error":"#N/A"}},{"$f":"VLOOKUP(K6497,[2]Paramètres!$M$5:$O$101,3,0)","v":{"$error":"#N/A"}},null,null,null,null,null,null,null,null,null,null,{"$f":"SUM(Tableau_Data[[#This Row],[Féminin]:[Masculin]])","v":0}]
[null,null,"",null,{"$f":"IF(D6506=\"\",\"\",MONTH(D6506))","v":""},null,null,null,null,null,null,{"$f":"VLOOKUP(K6506,[2]Paramètres!$M$5:$O$101,2,0)","v":{"$error":"#N/A"}},{"$f":"VLOOKUP(K6506,[2]Paramètres!$M$5:$O$101,3,0)","v":{"$error":"#N/A"}},null,null,null,null,null,null,null,null,null,null,{"$f":"SUM(Tableau_Data[[#This Row],[Féminin]:[Masculin]])","v":0}]
[null,null,"",null,"",null,null,null,null,null,null,{"$f":"VLOOKUP(K6512,[2]Paramètres!$M$5:$O$101,2,0)","v":{"$error":"#N/A"}},{"$f":"VLOOKUP(K6512,[2]Paramètres!$M$5:$O$101,3,0)","v":{"$error":"#N/A"}},null,null,null,null,null,null,null,null,null,null,{"$f":"SUM(Tableau_Data[[#This Row],[Féminin]:[Masculin]])","v":0}]
[null,null,"",null,"",null,null,null,null,null,null,{"$f":"VLOOKUP(K6517,[2]Paramètres!$M$5:$O$101,2,0)","v":{"$error":"#N/A"}},{"$f":"VLOOKUP(K6517,[2]Paramètres!$M$5:$O$101,3,0)","v":{"$error":"#N/A"}},null,null,null,null,null,null,null,null,null,null,{"$f":"SUM(Tableau_Data[[#This Row],[Féminin]:[Masculin]])","v":0}]
[null,null,"",null,"",null,null,null,null,null,null,{"$f":"VLOOKUP(K6526,[2]Paramètres!$M$5:$O$101,2,0)","v":{"$error":"#N/A"}},{"$f":"VLOOKUP(K6526,[2]Paramètres!$M$5:$O$101,3,0)","v":{"$error":"#N/A"}},null,null,null,null,null,null,null,null,null,null,{"$f":"SUM(Tableau_Data[[#This Row],[Féminin]:[Masculin]])","v":0}]
[null,null,"",null,"",null,null,null,null,null,null,{"$f":"VLOOKUP(K6532,[2]Paramètres!$M$5:$O$101,2,0)","v":{"$error":"#N/A"}},{"$f":"VLOOKUP(K6532,[2]Paramètres!$M$5:$O$101,3,0)","v":{"$error":"#N/A"}},null,null,null,null,null,null,null,null,null,null,{"$f":"SUM(Tableau_Data[[#This Row],[Féminin]:[Masculin]])","v":0}]
[null,null,"",null,"",null,null,null,null,null,null,{"$f":"VLOOKUP(K6545,[2]Paramètres!$M$5:$O$101,2,0)","v":{"$error":"#N/A"}},{"$f":"VLOOKUP(K6545,[2]Paramètres!$M$5:$O$101,3,0)","v":{"$error":"#N/A"}},null,null,null,null,null,null,null,null,null,null,{"$f":"SUM(Tableau_Data[[#This Row],[Féminin]:[Masculin]])","v":0}]
[null,null,"",null,"",null,null,null,null,null,null,{"$f":"VLOOKUP(K6554,[2]Paramètres!$M$5:$O$101,2,0)","v":{"$error":"#N/A"}},{"$f":"VLOOKUP(K6554,[2]Paramètres!$M$5:$O$101,3,0)","v":{"$error":"#N/A"}},null,null,null,null,null,null,null,null,null,null,{"$f":"SUM(Tableau_Data[[#This Row],[Féminin]:[Masculin]])","v":0}]
[null,null,"",null,"",null,null,null,null,null,null,{"$f":"VLOOKUP(K6561,[2]Paramètres!$M$5:$O$101,2,0)","v":{"$error":"#N/A"}},{"$f":"VLOOKUP(K6561,[2]Paramètres!$M$5:$O$101,3,0)","v":{"$error":"#N/A"}},null,null,null,null,null,null,null,null,null,null,{"$f":"SUM(Tableau_Data[[#This Row],[Féminin]:[Masculin]])","v":0}]
[null,null,"",null,"",null,null,null,null,null,null,{"$f":"VLOOKUP(K6573,[3]Paramètres!$M$5:$O$101,2,0)","v":{"$error":"#N/A"}},{"$f":"VLOOKUP(K6573,[3]Paramètres!$M$5:$O$101,3,0)","v":{"$error":"#N/A"}},null,null,null,null,null,null,null,null,null,null,{"$f":"SUM(Tableau_Data[[#This Row],[Féminin]:[Masculin]])","v":0}]
[null,null,"",null,"",null,null,null,null,null,null,{"$f":"VLOOKUP(K6574,[3]Paramètres!$M$5:$O$101,2,0)","v":{"$error":"#N/A"}},{"$f":"VLOOKUP(K6574,[3]Paramètres!$M$5:$O$101,3,0)","v":{"$error":"#N/A"}},null,null,null,null,null,null,null,null,null,null,{"$f":"SUM(Tableau_Data[[#This Row],[Féminin]:[Masculin]])","v":0}]
[null,null,"",null,"",null,null,null,null,null,null,{"$f":"VLOOKUP(K6583,[3]Paramètres!$M$5:$O$101,2,0)","v":{"$error":"#N/A"}},{"$f":"VLOOKUP(K6583,[3]Paramètres!$M$5:$O$101,3,0)","v":{"$error":"#N/A"}},null,null,null,null,null,null,null,null,null,null,{"$f":"SUM(Tableau_Data[[#This Row],[Féminin]:[Masculin]])","v":0}]
[null,null,"",null,"",null,null,null,null,null,null,{"$f":"VLOOKUP(K6596,[3]Paramètres!$M$5:$O$101,2,0)","v":{"$error":"#N/A"}},{"$f":"VLOOKUP(K6596,[3]Paramètres!$M$5:$O$101,3,0)","v":{"$error":"#N/A"}},null,null,null,null,null,null,null,null,null,null,{"$f":"SUM(Tableau_Data[[#This Row],[Féminin]:[Masculin]])","v":0}]
[null,null,"",null,"",null,null,null,null,null,null,{"$f":"VLOOKUP(K6602,[3]Paramètres!$M$5:$O$101,2,0)","v":{"$error":"#N/A"}},{"$f":"VLOOKUP(K6602,[3]Paramètres!$M$5:$O$101,3,0)","v":{"$error":"#N/A"}},null,null,null,null,null,null,null,null,null,null,{"$f":"SUM(Tableau_Data[[#This Row],[Féminin]:[Masculin]])","v":0}]
[null,null,"",null,"",null,null,null,null,null,null,{"$f":"VLOOKUP(K6611,[3]Paramètres!$M$5:$O$101,2,0)","v":{"$error":"#N/A"}},{"$f":"VLOOKUP(K6611,[3]Paramètres!$M$5:$O$101,3,0)","v":{"$error":"#N/A"}},null,null,null,null,null,null,null,null,null,null,{"$f":"SUM(Tableau_Data[[#This Row],[Féminin]:[Masculin]])","v":0}]
[null,null,"",null,"",null,null,null,null,null,null,{"$f":"VLOOKUP(K6616,[3]Paramètres!$M$5:$O$101,2,0)","v":{"$error":"#N/A"}},{"$f":"VLOOKUP(K6616,[3]Paramètres!$M$5:$O$101,3,0)","v":{"$error":"#N/A"}},null,null,null,null,null,null,null,null,null,null,{"$f":"SUM(Tableau_Data[[#This Row],[Féminin]:[Masculin]])","v":0}]
[null,null,"",null,"",null,null,null,null,null,null,{"$f":"VLOOKUP(K6630,[3]Paramètres!$M$5:$O$101,2,0)","v":{"$error":"#N/A"}},{"$f":"VLOOKUP(K6630,[3]Paramètres!$M$5:$O$101,3,0)","v":{"$error":"#N/A"}},null,null,null,null,null,null,null,null,null,null,{"$f":"SUM(Tableau_Data[[#This Row],[Féminin]:[Masculin]])","v":0}]
[null,null,"",null,"",null,null,null,null,null,null,{"$f":"VLOOKUP(K6639,[3]Paramètres!$M$5:$O$101,2,0)","v":{"$error":"#N/A"}},{"$f":"VLOOKUP(K6639,[3]Paramètres!$M$5:$O$101,3,0)","v":{"$error":"#N/A"}},null,null,null,null,null,null,null,null,null,null,{"$f":"SUM(Tableau_Data[[#This Row],[Féminin]:[Masculin]])","v":0}]
[null,null,"",null,"",null,null,null,null,null,null,{"$f":"VLOOKUP(K6645,[3]Paramètres!$M$5:$O$101,2,0)","v":{"$error":"#N/A"}},{"$f":"VLOOKUP(K6645,[3]Paramètres!$M$5:$O$101,3,0)","v":{"$error":"#N/A"}},null,null,null,null,null,null,null,null,null,null,{"$f":"SUM(Tableau_Data[[#This Row],[Féminin]:[Masculin]])","v":0}]
[null,null,"",null,"",null,null,null,null,null,null,{"$f":"VLOOKUP(K6650,[3]Paramètres!$M$5:$O$101,2,0)","v":{"$error":"#N/A"}},{"$f":"VLOOKUP(K6650,[3]Paramètres!$M$5:$O$101,3,0)","v":{"$error":"#N/A"}},null,null,null,null,null,null,null,null,null,null,{"$f":"SUM(Tableau_Data[[#This Row],[Féminin]:[Masculin]])","v":0}]
[null,null,"",null,"",null,null,null,null,null,null,{"$f":"VLOOKUP(K6659,[3]Paramètres!$M$5:$O$101,2,0)","v":{"$error":"#N/A"}},{"$f":"VLOOKUP(K6659,[3]Paramètres!$M$5:$O$101,3,0)","v":{"$error":"#N/A"}},null,null,null,null,null,null,null,null,null,null,{"$f":"SUM(Tableau_Data[[#This Row],[Féminin]:[Masculin]])","v":0}]
[null,null,"",null,"",null,null,null,null,null,null,{"$f":"VLOOKUP(K6668,[3]Paramètres!$M$5:$O$101,2,0)","v":{"$error":"#N/A"}},{"$f":"VLOOKUP(K6668,[3]Paramètres!$M$5:$O$101,3,0)","v":{"$error":"#N/A"}},null,null,null,null,null,null,null,null,null,null,{"$f":"SUM(Tableau_Data[[#This Row],[Féminin]:[Masculin]])","v":0}]
[null,null,"",null,"",null,null,null,null,null,null,{"$f":"VLOOKUP(K6676,[3]Paramètres!$M$5:$O$101,2,0)","v":{"$error":"#N/A"}},{"$f":"VLOOKUP(K6676,[3]Paramètres!$M$5:$O$101,3,0)","v":{"$error":"#N/A"}},null,null,null,null,null,null,null,null,null,null,{"$f":"SUM(Tableau_Data[[#This Row],[Féminin]:[Masculin]])","v":0}]
[null,null,"",null,"",null,null,null,null,null,null,{"$f":"VLOOKUP(K6687,[3]Paramètres!$M$5:$O$101,2,0)","v":{"$error":"#N/A"}},{"$f":"VLOOKUP(K6687,[3]Paramètres!$M$5:$O$101,3,0)","v":{"$error":"#N/A"}},null,null,null,null,null,null,null,null,null,null,{"$f":"SUM(Tableau_Data[[#This Row],[Féminin]:[Masculin]])","v":0}]
[null,null,"",null,"",null,null,null,null,null,null,{"$f":"VLOOKUP(K6696,[3]Paramètres!$M$5:$O$101,2,0)","v":{"$error":"#N/A"}},{"$f":"VLOOKUP(K6696,[3]Paramètres!$M$5:$O$101,3,0)","v":{"$error":"#N/A"}},null,null,null,null,null,null,null,null,null,null,{"$f":"SUM(Tableau_Data[[#This Row],[Féminin]:[Masculin]])","v":0}]
[null,null,"",null,"",null,null,null,null,null,null,{"$f":"VLOOKUP(K6700,[3]Paramètres!$M$5:$O$101,2,0)","v":{"$error":"#N/A"}},{"$f":"VLOOKUP(K6700,[3]Paramètres!$M$5:$O$101,3,0)","v":{"$error":"#N/A"}},null,null,null,null,null,null,null,null,null,null,{"$f":"SUM(Tableau_Data[[#This Row],[Féminin]:[Masculin]])","v":0}]
[null,null,"",null,"",null,null,null,null,null,null,{"$f":"VLOOKUP(K6707,[3]Paramètres!$M$5:$O$101,2,0)","v":{"$error":"#N/A"}},{"$f":"VLOOKUP(K6707,[3]Paramètres!$M$5:$O$101,3,0)","v":{"$error":"#N/A"}},null,null,null,null,null,null,null,null,null,null,{"$f":"SUM(Tableau_Data[[#This Row],[Féminin]:[Masculin]])","v":0}]
[null,null,"",null,"",null,null,null,null,null,null,{"$f":"VLOOKUP(K6716,[3]Paramètres!$M$5:$O$101,2,0)","v":{"$error":"#N/A"}},{"$f":"VLOOKUP(K6716,[3]Paramètres!$M$5:$O$101,3,0)","v":{"$error":"#N/A"}},null,null,null,null,null,null,null,null,null,null,{"$f":"SUM(Tableau_Data[[#This Row],[Féminin]:[Masculin]])","v":0}]
[null,null,"",null,"",null,null,null,null,null,null,{"$f":"VLOOKUP(K6729,[3]Paramètres!$M$5:$O$101,2,0)","v":{"$error":"#N/A"}},{"$f":"VLOOKUP(K6729,[3]Paramètres!$M$5:$O$101,3,0)","v":{"$error":"#N/A"}},null,null,null,null,null,null,null,null,null,null,{"$f":"SUM(Tableau_Data[[#This Row],[Féminin]:[Masculin]])","v":0}]
[null,null,"",null,"",null,null,null,null,null,null,{"$f":"VLOOKUP(K6735,[3]Paramètres!$M$5:$O$101,2,0)","v":{"$error":"#N/A"}},{"$f":"VLOOKUP(K6735,[3]Paramètres!$M$5:$O$101,3,0)","v":{"$error":"#N/A"}},null,null,null,null,null,null,null,null,null,null,{"$f":"SUM(Tableau_Data[[#This Row],[Féminin]:[Masculin]])","v":0}]
[null,null,"",null,"",null,null,null,null,null,null,{"$f":"VLOOKUP(K6744,[3]Paramètres!$M$5:$O$101,2,0)","v":{"$error":"#N/A"}},{"$f":"VLOOKUP(K6744,[3]Paramètres!$M$5:$O$101,3,0)","v":{"$error":"#N/A"}},null,null,null,null,null,null,null,null,null,null,{"$f":"SUM(Tableau_Data[[#This Row],[Féminin]:[Masculin]])","v":0}]
[null,null,"",null,"",null,null,null,null,null,null,{"$f":"VLOOKUP(K6749,[3]Paramètres!$M$5:$O$101,2,0)","v":{"$error":"#N/A"}},{"$f":"VLOOKUP(K6749,[3]Paramètres!$M$5:$O$101,3,0)","v":{"$error":"#N/A"}},null,null,null,null,null,null,null,null,null,null,{"$f":"SUM(Tableau_Data[[#This Row],[Féminin]:[Masculin]])","v":0}]
[null,null,"",null,"",null,null,null,null,null,null,{"$f":"VLOOKUP(K6763,[3]Paramètres!$M$5:$O$101,2,0)","v":{"$error":"#N/A"}},{"$f":"VLOOKUP(K6763,[3]Paramètres!$M$5:$O$101,3,0)","v":{"$error":"#N/A"}},null,null,null,null,null,null,null,null,null,null,{"$f":"SUM(Tableau_Data[[#This Row],[Féminin]:[Masculin]])","v":0}]
[null,null,"",null,"",null,null,null,null,null,null,{"$f":"VLOOKUP(K6772,[3]Paramètres!$M$5:$O$101,2,0)","v":{"$error":"#N/A"}},{"$f":"VLOOKUP(K6772,[3]Paramètres!$M$5:$O$101,3,0)","v":{"$error":"#N/A"}},null,null,null,null,null,null,null,null,null,null,{"$f":"SUM(Tableau_Data[[#This Row],[Féminin]:[Masculin]])","v":0}]
[null,null,"",null,"",null,null,null,null,null,null,{"$f":"VLOOKUP(K6773,[3]Paramètres!$M$5:$O$101,2,0)","v":{"$error":"#N/A"}},{"$f":"VLOOKUP(K6773,[3]Paramètres!$M$5:$O$101,3,0)","v":{"$error":"#N/A"}},null,null,null,null,null,null,null,null,null,null,{"$f":"SUM(Tableau_Data[[#This Row],[Féminin]:[Masculin]])","v":0}]
[null,null,"",null,"",null,null,null,null,null,null,{"$f":"VLOOKUP(K6789,[3]Paramètres!$M$5:$O$101,2,0)","v":{"$error":"#N/A"}},{"$f":"VLOOKUP(K6789,[3]Paramètres!$M$5:$O$101,3,0)","v":{"$error":"#N/A"}},null,null,null,null,null,null,null,null,null,null,{"$f":"SUM(Tableau_Data[[#This Row],[Féminin]:[Masculin]])","v":0}]
[null,null,"",null,"",null,null,null,null,null,null,{"$f":"VLOOKUP(K6792,[3]Paramètres!$M$5:$O$101,2,0)","v":{"$error":"#N/A"}},{"$f":"VLOOKUP(K6792,[3]Paramètres!$M$5:$O$101,3,0)","v":{"$error":"#N/A"}},null,null,null,null,null,null,null,null,null,null,{"$f":"SUM(Tableau_Data[[#This Row],[Féminin]:[Masculin]])","v":0}]
[null,null,"",null,"",null,null,null,null,null,null,{"$f":"VLOOKUP(K6801,[3]Paramètres!$M$5:$O$101,2,0)","v":{"$error":"#N/A"}},{"$f":"VLOOKUP(K6801,[3]Paramètres!$M$5:$O$101,3,0)","v":{"$error":"#N/A"}},null,null,null,null,null,null,null,null,null,null,{"$f":"SUM(Tableau_Data[[#This Row],[Féminin]:[Masculin]])","v":0}]
[null,null,"",null,"",null,null,null,null,null,null,{"$f":"VLOOKUP(K6809,[3]Paramètres!$M$5:$O$101,2,0)","v":{"$error":"#N/A"}},{"$f":"VLOOKUP(K6809,[3]Paramètres!$M$5:$O$101,3,0)","v":{"$error":"#N/A"}},null,null,null,null,null,null,null,null,null,null,{"$f":"SUM(Tableau_Data[[#This Row],[Féminin]:[Masculin]])","v":0}]
[null,null,"",null,"",null,null,null,null,null,null,{"$f":"VLOOKUP(K6820,[3]Paramètres!$M$5:$O$101,2,0)","v":{"$error":"#N/A"}},{"$f":"VLOOKUP(K6820,[3]Paramètres!$M$5:$O$101,3,0)","v":{"$error":"#N/A"}},null,null,null,null,null,null,null,null,null,null,{"$f":"SUM(Tableau_Data[[#This Row],[Féminin]:[Masculin]])","v":0}]
[null,null,"",null,"",null,null,null,null,null,null,{"$f":"VLOOKUP(K6829,[3]Paramètres!$M$5:$O$101,2,0)","v":{"$error":"#N/A"}},{"$f":"VLOOKUP(K6829,[3]Paramètres!$M$5:$O$101,3,0)","v":{"$error":"#N/A"}},null,null,null,null,null,null,null,null,null,null,{"$f":"SUM(Tableau_Data[[#This Row],[Féminin]:[Masculin]])","v":0}]
[null,null,"",null,"",null,null,null,null,null,null,{"$f":"VLOOKUP(K6833,[3]Paramètres!$M$5:$O$101,2,0)","v":{"$error":"#N/A"}},{"$f":"VLOOKUP(K6833,[3]Paramètres!$M$5:$O$101,3,0)","v":{"$error":"#N/A"}},null,null,null,null,null,null,null,null,null,null,{"$f":"SUM(Tableau_Data[[#This Row],[Féminin]:[Masculin]])","v":0}]
[null,null,"",null,"",null,null,null,null,null,null,{"$f":"VLOOKUP(K6840,[3]Paramètres!$M$5:$O$101,2,0)","v":{"$error":"#N/A"}},{"$f":"VLOOKUP(K6840,[3]Paramètres!$M$5:$O$101,3,0)","v":{"$error":"#N/A"}},null,null,null,null,null,null,null,null,null,null,{"$f":"SUM(Tableau_Data[[#This Row],[Féminin]:[Masculin]])","v":0}]
[null,null,{"$f":"IF(D6849=\"\",\"\",YEAR(D6849))","v":""},null,"",null,null,null,null,null,null,{"$f":"VLOOKUP(K6849,[3]Paramètres!$M$5:$O$101,2,0)","v":{"$error":"#N/A"}},{"$f":"VLOOKUP(K6849,[3]Paramètres!$M$5:$O$101,3,0)","v":{"$error":"#N/A"}},null,null,null,null,null,null,null,null,null,null,{"$f":"SUM(Tableau_Data[[#This Row],[Féminin]:[Masculin]])","v":0}]
[null,null,"",null,"",null,null,null,null,null,null,{"$f":"VLOOKUP(K6862,[3]Paramètres!$M$5:$O$101,2,0)","v":{"$error":"#N/A"}},{"$f":"VLOOKUP(K6862,[3]Paramètres!$M$5:$O$101,3,0)","v":{"$error":"#N/A"}},null,null,null,null,null,null,null,null,null,null,{"$f":"SUM(Tableau_Data[[#This Row],[Féminin]:[Masculin]])","v":0}]
[null,null,"",null,"",null,null,null,null,null,null,{"$f":"VLOOKUP(K6868,[3]Paramètres!$M$5:$O$101,2,0)","v":{"$error":"#N/A"}},{"$f":"VLOOKUP(K6868,[3]Paramètres!$M$5:$O$101,3,0)","v":{"$error":"#N/A"}},null,null,null,null,null,null,null,null,null,null,{"$f":"SUM(Tableau_Data[[#This Row],[Féminin]:[Masculin]])","v":0}]
[null,null,"",null,"",null,null,null,null,null,null,{"$f":"VLOOKUP(K6877,[3]Paramètres!$M$5:$O$101,2,0)","v":{"$error":"#N/A"}},{"$f":"VLOOKUP(K6877,[3]Paramètres!$M$5:$O$101,3,0)","v":{"$error":"#N/A"}},null,null,null,null,null,null,null,null,null,null,{"$f":"SUM(Tableau_Data[[#This Row],[Féminin]:[Masculin]])","v":0}]
[null,null,"",null,"",null,null,null,null,null,null,{"$f":"VLOOKUP(K6886,[3]Paramètres!$M$5:$O$101,2,0)","v":{"$error":"#N/A"}},{"$f":"VLOOKUP(K6886,[3]Paramètres!$M$5:$O$101,3,0)","v":{"$error":"#N/A"}},null,null,null,null,null,null,null,null,null,null,{"$f":"SUM(Tableau_Data[[#This Row],[Féminin]:[Masculin]])","v":0}]
[null,null,"",null,"",null,null,null,null,null,null,{"$f":"VLOOKUP(K6893,[3]Paramètres!$M$5:$O$101,2,0)","v":{"$error":"#N/A"}},{"$f":"VLOOKUP(K6893,[3]Paramètres!$M$5:$O$101,3,0)","v":{"$error":"#N/A"}},null,null,null,null,null,null,null,null,null,null,{"$f":"SUM(Tableau_Data[[#This Row],[Féminin]:[Masculin]])","v":0}]
[null,null,"",null,"",null,null,null,null,null,null,{"$f":"VLOOKUP(K6905,[3]Paramètres!$M$5:$O$101,2,0)","v":{"$error":"#N/A"}},{"$f":"VLOOKUP(K6905,[3]Paramètres!$M$5:$O$101,3,0)","v":{"$error":"#N/A"}},null,null,null,null,null,null,null,null,null,null,{"$f":"SUM(Tableau_Data[[#This Row],[Féminin]:[Masculin]])","v":0}]
[null,null,"",null,"",null,null,null,null,null,null,{"$f":"VLOOKUP(K6906,[3]Paramètres!$M$5:$O$101,2,0)","v":{"$error":"#N/A"}},{"$f":"VLOOKUP(K6906,[3]Paramètres!$M$5:$O$101,3,0)","v":{"$error":"#N/A"}},null,null,null,null,null,null,null,null,null,null,{"$f":"SUM(Tableau_Data[[#This Row],[Féminin]:[Masculin]])","v":0}]
[null,null,"",null,"",null,null,null,null,null,null,{"$f":"VLOOKUP(K6922,[3]Paramètres!$M$5:$O$101,2,0)","v":{"$error":"#N/A"}},{"$f":"VLOOKUP(K6922,[3]Paramètres!$M$5:$O$101,3,0)","v":{"$error":"#N/A"}},null,null,null,null,null,null,null,null,null,null,{"$f":"SUM(Tableau_Data[[#This Row],[Féminin]:[Masculin]])","v":0}]
[null,null,"",null,"",null,null,null,null,null,null,{"$f":"VLOOKUP(K6925,[3]Paramètres!$M$5:$O$101,2,0)","v":{"$error":"#N/A"}},{"$f":"VLOOKUP(K6925,[3]Paramètres!$M$5:$O$101,3,0)","v":{"$error":"#N/A"}},null,null,null,null,null,null,null,null,null,null,{"$f":"SUM(Tableau_Data[[#This Row],[Féminin]:[Masculin]])","v":0}]
[null,null,"",null,"",null,null,null,null,null,null,{"$f":"VLOOKUP(K6934,[3]Paramètres!$M$5:$O$101,2,0)","v":{"$error":"#N/A"}},{"$f":"VLOOKUP(K6934,[3]Paramètres!$M$5:$O$101,3,0)","v":{"$error":"#N/A"}},null,null,null,null,null,null,null,null,null,null,{"$f":"SUM(Tableau_Data[[#This Row],[Féminin]:[Masculin]])","v":0}]
[null,null,"",null,"",null,null,null,null,null,null,{"$f":"VLOOKUP(K6946,[3]Paramètres!$M$5:$O$101,2,0)","v":{"$error":"#N/A"}},{"$f":"VLOOKUP(K6946,[3]Paramètres!$M$5:$O$101,3,0)","v":{"$error":"#N/A"}},null,null,null,null,null,null,null,null,null,null,{"$f":"SUM(Tableau_Data[[#This Row],[Féminin]:[Masculin]])","v":0}]
[null,null,"",null,"",null,null,null,null,null,null,{"$f":"VLOOKUP(K6953,[3]Paramètres!$M$5:$O$101,2,0)","v":{"$error":"#N/A"}},{"$f":"VLOOKUP(K6953,[3]Paramètres!$M$5:$O$101,3,0)","v":{"$error":"#N/A"}},null,null,null,null,null,null,null,null,null,null,{"$f":"SUM(Tableau_Data[[#This Row],[Féminin]:[Masculin]])","v":0}]
[null,null,"",null,"",null,null,null,null,null,null,{"$f":"VLOOKUP(K6962,[3]Paramètres!$M$5:$O$101,2,0)","v":{"$error":"#N/A"}},{"$f":"VLOOKUP(K6962,[3]Paramètres!$M$5:$O$101,3,0)","v":{"$error":"#N/A"}},null,null,null,null,null,null,null,null,null,null,{"$f":"SUM(Tableau_Data[[#This Row],[Féminin]:[Masculin]])","v":0}]
[null,null,"",null,"",null,null,null,null,null,null,{"$f":"VLOOKUP(K6966,[3]Paramètres!$M$5:$O$101,2,0)","v":{"$error":"#N/A"}},{"$f":"VLOOKUP(K6966,[3]Paramètres!$M$5:$O$101,3,0)","v":{"$error":"#N/A"}},null,null,null,null,null,null,null,null,null,null,{"$f":"SUM(Tableau_Data[[#This Row],[Féminin]:[Masculin]])","v":0}]
[null,null,"",null,"",null,null,null,null,null,null,{"$f":"VLOOKUP(K6973,[3]Paramètres!$M$5:$O$101,2,0)","v":{"$error":"#N/A"}},{"$f":"VLOOKUP(K6973,[3]Paramètres!$M$5:$O$101,3,0)","v":{"$error":"#N/A"}},null,null,null,null,null,null,null,null,null,null,{"$f":"SUM(Tableau_Data[[#This Row],[Féminin]:[Masculin]])","v":0}]
[null,null,"",null,"",null,null,null,null,null,null,{"$f":"VLOOKUP(K6982,[3]Paramètres!$M$5:$O$101,2,0)","v":{"$error":"#N/A"}},{"$f":"VLOOKUP(K6982,[3]Paramètres!$M$5:$O$101,3,0)","v":{"$error":"#N/A"}},null,null,null,null,null,null,null,null,null,null,{"$f":"SUM(Tableau_Data[[#This Row],[Féminin]:[Masculin]])","v":0}]
[null,null,"",null,"",null,null,null,null,null,null,{"$f":"VLOOKUP(K6991,[3]Paramètres!$M$5:$O$101,2,0)","v":{"$error":"#N/A"}},{"$f":"VLOOKUP(K6991,[3]Paramètres!$M$5:$O$101,3,0)","v":{"$error":"#N/A"}},null,null,null,null,null,null,null,null,null,null,{"$f":"SUM(Tableau_Data[[#This Row],[Féminin]:[Masculin]])","v":0}]
[null,null,"",null,"",null,null,null,null,null,null,{"$f":"VLOOKUP(K6997,[3]Paramètres!$M$5:$O$101,2,0)","v":{"$error":"#N/A"}},{"$f":"VLOOKUP(K6997,[3]Paramètres!$M$5:$O$101,3,0)","v":{"$error":"#N/A"}},null,null,null,null,null,null,null,null,null,null,{"$f":"SUM(Tableau_Data[[#This Row],[Féminin]:[Masculin]])","v":0}]
[null,null,"",null,"",null,null,null,null,null,null,{"$f":"VLOOKUP(K7010,[3]Paramètres!$M$5:$O$101,2,0)","v":{"$error":"#N/A"}},{"$f":"VLOOKUP(K7010,[3]Paramètres!$M$5:$O$101,3,0)","v":{"$error":"#N/A"}},null,null,null,null,null,null,null,null,null,null,{"$f":"SUM(Tableau_Data[[#This Row],[Féminin]:[Masculin]])","v":0}]
[null,null,"",null,"",null,null,null,null,null,null,{"$f":"VLOOKUP(K7019,[3]Paramètres!$M$5:$O$101,2,0)","v":{"$error":"#N/A"}},{"$f":"VLOOKUP(K7019,[3]Paramètres!$M$5:$O$101,3,0)","v":{"$error":"#N/A"}},null,null,null,null,null,null,null,null,null,null,{"$f":"SUM(Tableau_Data[[#This Row],[Féminin]:[Masculin]])","v":0}]
[null,null,"",null,"",null,null,null,null,null,null,"Gitega","Gitega",null,null,null,null,null,null,null,null,null,null,{"$f":"SUM(Tableau_Data[[#This Row],[Féminin]:[Masculin]])","v":0}]
[null,null,"",null,"",null,null,null,null,null,null,{"$f":"VLOOKUP(K7038,[3]Paramètres!$M$5:$O$101,2,0)","v":{"$error":"#N/A"}},{"$f":"VLOOKUP(K7038,[3]Paramètres!$M$5:$O$101,3,0)","v":{"$error":"#N/A"}},null,null,null,null,null,null,null,null,null,null,{"$f":"SUM(Tableau_Data[[#This Row],[Féminin]:[Masculin]])","v":0}]
[null,null,"",null,"",null,null,null,null,null,null,{"$f":"VLOOKUP(K7039,[3]Paramètres!$M$5:$O$101,2,0)","v":{"$error":"#N/A"}},{"$f":"VLOOKUP(K7039,[3]Paramètres!$M$5:$O$101,3,0)","v":{"$error":"#N/A"}},null,null,null,null,null,null,null,null,null,null,{"$f":"SUM(Tableau_Data[[#This Row],[Féminin]:[Masculin]])","v":0}]
[null,null,"",null,"",null,null,null,null,null,null,{"$f":"VLOOKUP(K7050,[3]Paramètres!$M$5:$O$101,2,0)","v":{"$error":"#N/A"}},{"$f":"VLOOKUP(K7050,[3]Paramètres!$M$5:$O$101,3,0)","v":{"$error":"#N/A"}},null,null,null,null,null,null,null,null,null,null,{"$f":"SUM(Tableau_Data[[#This Row],[Féminin]:[Masculin]])","v":0}]
[null,null,"",null,"",null,null,null,null,null,null,{"$f":"VLOOKUP(K7058,[3]Paramètres!$M$5:$O$101,2,0)","v":{"$error":"#N/A"}},{"$f":"VLOOKUP(K7058,[3]Paramètres!$M$5:$O$101,3,0)","v":{"$error":"#N/A"}},null,null,null,null,null,null,null,null,null,null,{"$f":"SUM(Tableau_Data[[#This Row],[Féminin]:[Masculin]])","v":0}]
[null,null,"",null,"",null,null,null,null,null,null,{"$f":"VLOOKUP(K7067,[3]Paramètres!$M$5:$O$101,2,0)","v":{"$error":"#N/A"}},{"$f":"VLOOKUP(K7067,[3]Paramètres!$M$5:$O$101,3,0)","v":{"$error":"#N/A"}},null,null,null,null,null,null,null,null,null,null,{"$f":"SUM(Tableau_Data[[#This Row],[Féminin]:[Masculin]])","v":0}]
[null,null,"",null,"",null,null,null,null,null,null,{"$f":"VLOOKUP(K7076,[3]Paramètres!$M$5:$O$101,2,0)","v":{"$error":"#N/A"}},{"$f":"VLOOKUP(K7076,[3]Paramètres!$M$5:$O$101,3,0)","v":{"$error":"#N/A"}},null,null,null,null,null,null,null,null,null,null,{"$f":"SUM(Tableau_Data[[#This Row],[Féminin]:[Masculin]])","v":0}]
[null,null,"",null,"",null,null,null,null,null,null,{"$f":"VLOOKUP(K7081,[3]Paramètres!$M$5:$O$101,2,0)","v":{"$error":"#N/A"}},{"$f":"VLOOKUP(K7081,[3]Paramètres!$M$5:$O$101,3,0)","v":{"$error":"#N/A"}},null,null,null,null,null,null,null,null,null,null,{"$f":"SUM(Tableau_Data[[#This Row],[Féminin]:[Masculin]])","v":0}]
[null,null,"",null,"",null,null,null,null,null,null,{"$f":"VLOOKUP(K7095,[3]Paramètres!$M$5:$O$101,2,0)","v":{"$error":"#N/A"}},{"$f":"VLOOKUP(K7095,[3]Paramètres!$M$5:$O$101,3,0)","v":{"$error":"#N/A"}},null,null,null,null,null,null,null,null,null,null,{"$f":"SUM(Tableau_Data[[#This Row],[Féminin]:[Masculin]])","v":0}]
[null,null,"",null,"",null,null,null,null,null,null,{"$f":"VLOOKUP(K7104,[3]Paramètres!$M$5:$O$101,2,0)","v":{"$error":"#N/A"}},{"$f":"VLOOKUP(K7104,[3]Paramètres!$M$5:$O$101,3,0)","v":{"$error":"#N/A"}},null,null,null,null,null,null,null,null,null,null,{"$f":"SUM(Tableau_Data[[#This Row],[Féminin]:[Masculin]])","v":0}]
[null,null,"",null,"",null,null,null,null,null,null,{"$f":"VLOOKUP(K7110,[3]Paramètres!$M$5:$O$101,2,0)","v":{"$error":"#N/A"}},{"$f":"VLOOKUP(K7110,[3]Paramètres!$M$5:$O$101,3,0)","v":{"$error":"#N/A"}},null,null,null,null,null,null,null,null,null,null,{"$f":"SUM(Tableau_Data[[#This Row],[Féminin]:[Masculin]])","v":0}]
[null,null,"",null,"",null,null,null,null,null,null,{"$f":"VLOOKUP(K7115,[3]Paramètres!$M$5:$O$101,2,0)","v":{"$error":"#N/A"}},{"$f":"VLOOKUP(K7115,[3]Paramètres!$M$5:$O$101,3,0)","v":{"$error":"#N/A"}},null,null,null,null,null,null,null,null,null,null,{"$f":"SUM(Tableau_Data[[#This Row],[Féminin]:[Masculin]])","v":0}]
[null,null,"",null,"",null,null,null,null,null,null,{"$f":"VLOOKUP(K7124,[3]Paramètres!$M$5:$O$101,2,0)","v":{"$error":"#N/A"}},{"$f":"VLOOKUP(K7124,[3]Paramètres!$M$5:$O$101,3,0)","v":{"$error":"#N/A"}},null,null,null,null,null,null,null,null,null,null,{"$f":"SUM(Tableau_Data[[#This Row],[Féminin]:[Masculin]])","v":0}]
[null,null,"",null,"",null,null,null,null,null,null,{"$f":"VLOOKUP(K7130,[3]Paramètres!$M$5:$O$101,2,0)","v":{"$error":"#N/A"}},{"$f":"VLOOKUP(K7130,[3]Paramètres!$M$5:$O$101,3,0)","v":{"$error":"#N/A"}},null,null,null,null,null,null,null,null,null,null,{"$f":"SUM(Tableau_Data[[#This Row],[Féminin]:[Masculin]])","v":0}]
[null,null,"",null,"",null,null,null,null,null,null,{"$f":"VLOOKUP(K7143,[3]Paramètres!$M$5:$O$101,2,0)","v":{"$error":"#N/A"}},{"$f":"VLOOKUP(K7143,[3]Paramètres!$M$5:$O$101,3,0)","v":{"$error":"#N/A"}},null,null,null,null,null,null,null,null,null,null,{"$f":"SUM(Tableau_Data[[#This Row],[Féminin]:[Masculin]])","v":0}]
[null,null,"",null,"",null,null,null,null,null,null,{"$f":"VLOOKUP(K7152,[3]Paramètres!$M$5:$O$101,2,0)","v":{"$error":"#N/A"}},{"$f":"VLOOKUP(K7152,[3]Paramètres!$M$5:$O$101,3,0)","v":{"$error":"#N/A"}},null,null,null,null,null,null,null,null,null,null,{"$f":"SUM(Tableau_Data[[#This Row],[Féminin]:[Masculin]])","v":0}]
[null,null,"",null,"",null,null,null,null,null,null,{"$f":"VLOOKUP(K7163,[3]Paramètres!$M$5:$O$101,2,0)","v":{"$error":"#N/A"}},{"$f":"VLOOKUP(K7163,[3]Paramètres!$M$5:$O$101,3,0)","v":{"$error":"#N/A"}},null,null,null,null,null,null,null,null,null,null,{"$f":"SUM(Tableau_Data[[#This Row],[Féminin]:[Masculin]])","v":0}]
[null,null,"",null,"",null,null,null,null,null,null,{"$f":"VLOOKUP(K7171,[3]Paramètres!$M$5:$O$101,2,0)","v":{"$error":"#N/A"}},{"$f":"VLOOKUP(K7171,[3]Paramètres!$M$5:$O$101,3,0)","v":{"$error":"#N/A"}},null,null,null,null,null,null,null,null,null,null,{"$f":"SUM(Tableau_Data[[#This Row],[Féminin]:[Masculin]])","v":0}]
[null,null,"",null,"",null,null,null,null,null,null,{"$f":"VLOOKUP(K7172,[3]Paramètres!$M$5:$O$101,2,0)","v":{"$error":"#N/A"}},{"$f":"VLOOKUP(K7172,[3]Paramètres!$M$5:$O$101,3,0)","v":{"$error":"#N/A"}},null,null,null,null,null,null,null,null,null,null,{"$f":"SUM(Tableau_Data[[#This Row],[Féminin]:[Masculin]])","v":0}]
[null,null,"",null,"",null,null,null,null,null,null,{"$f":"VLOOKUP(K7181,[3]Paramètres!$M$5:$O$101,2,0)","v":{"$error":"#N/A"}},{"$f":"VLOOKUP(K7181,[3]Paramètres!$M$5:$O$101,3,0)","v":{"$error":"#N/A"}},null,null,null,null,null,null,null,null,null,null,{"$f":"SUM(Tableau_Data[[#This Row],[Féminin]:[Masculin]])","v":0}]
[null,null,"",null,"",null,null,null,null,null,null,{"$f":"VLOOKUP(K7194,[3]Paramètres!$M$5:$O$101,2,0)","v":{"$error":"#N/A"}},{"$f":"VLOOKUP(K7194,[3]Paramètres!$M$5:$O$101,3,0)","v":{"$error":"#N/A"}},null,null,null,null,null,null,null,null,null,null,{"$f":"SUM(Tableau_Data[[#This Row],[Féminin]:[Masculin]])","v":0}]
[null,null,"",null,"",null,null,null,null,null,null,{"$f":"VLOOKUP(K7200,[3]Paramètres!$M$5:$O$101,2,0)","v":{"$error":"#N/A"}},{"$f":"VLOOKUP(K7200,[3]Paramètres!$M$5:$O$101,3,0)","v":{"$error":"#N/A"}},null,null,null,null,null,null,null,null,null,null,{"$f":"SUM(Tableau_Data[[#This Row],[Féminin]:[Masculin]])","v":0}]
[null,null,"",null,"",null,null,null,null,null,null,"Gitega","Gitega",null,null,null,null,null,null,null,null,null,null,{"$f":"SUM(Tableau_Data[[#This Row],[Féminin]:[Masculin]])","v":0}]
[null,null,"",null,"",null,null,null,null,null,null,{"$f":"VLOOKUP(K7214,[3]Paramètres!$M$5:$O$101,2,0)","v":{"$error":"#N/A"}},{"$f":"VLOOKUP(K7214,[3]Paramètres!$M$5:$O$101,3,0)","v":{"$error":"#N/A"}},null,null,null,null,null,null,null,null,null,null,{"$f":"SUM(Tableau_Data[[#This Row],[Féminin]:[Masculin]])","v":0}]
[null,null,"",null,"",null,null,null,null,null,null,{"$f":"VLOOKUP(K7228,[3]Paramètres!$M$5:$O$101,2,0)","v":{"$error":"#N/A"}},{"$f":"VLOOKUP(K7228,[3]Paramètres!$M$5:$O$101,3,0)","v":{"$error":"#N/A"}},null,null,null,null,null,null,null,null,null,null,{"$f":"SUM(Tableau_Data[[#This Row],[Féminin]:[Masculin]])","v":0}]
[null,null,"",null,"",null,null,null,null,null,null,{"$f":"VLOOKUP(K7237,[3]Paramètres!$M$5:$O$101,2,0)","v":{"$error":"#N/A"}},{"$f":"VLOOKUP(K7237,[3]Paramètres!$M$5:$O$101,3,0)","v":{"$error":"#N/A"}},null,null,null,null,null,null,null,null,null,null,{"$f":"SUM(Tableau_Data[[#This Row],[Féminin]:[Masculin]])","v":0}]
[null,null,"",null,"",null,null,null,null,null,null,{"$f":"VLOOKUP(K7243,[3]Paramètres!$M$5:$O$101,2,0)","v":{"$error":"#N/A"}},{"$f":"VLOOKUP(K7243,[3]Paramètres!$M$5:$O$101,3,0)","v":{"$error":"#N/A"}},null,null,null,null,null,null,null,null,null,null,{"$f":"SUM(Tableau_Data[[#This Row],[Féminin]:[Masculin]])","v":0}]
[null,null,"",null,"",null,null,null,null,null,null,{"$f":"VLOOKUP(K7248,[3]Paramètres!$M$5:$O$101,2,0)","v":{"$error":"#N/A"}},{"$f":"VLOOKUP(K7248,[3]Paramètres!$M$5:$O$101,3,0)","v":{"$error":"#N/A"}},null,null,null,null,null,null,null,null,null,null,{"$f":"SUM(Tableau_Data[[#This Row],[Féminin]:[Masculin]])","v":0}]
[null,null,"",null,"",null,null,null,null,null,null,{"$f":"VLOOKUP(K7257,[3]Paramètres!$M$5:$O$101,2,0)","v":{"$error":"#N/A"}},{"$f":"VLOOKUP(K7257,[3]Paramètres!$M$5:$O$101,3,0)","v":{"$error":"#N/A"}},null,null,null,null,null,null,null,null,null,null,{"$f":"SUM(Tableau_Data[[#This Row],[Féminin]:[Masculin]])","v":0}]
[null,null,"",null,"",null,null,null,null,null,null,{"$f":"VLOOKUP(K7267,[3]Paramètres!$M$5:$O$101,2,0)","v":{"$error":"#N/A"}},{"$f":"VLOOKUP(K7267,[3]Paramètres!$M$5:$O$101,3,0)","v":{"$error":"#N/A"}},null,null,null,null,null,null,null,null,null,null,{"$f":"SUM(Tableau_Data[[#This Row],[Féminin]:[Masculin]])","v":0}]
[null,null,"",null,"",null,null,null,null,null,null,{"$f":"VLOOKUP(K7276,[3]Paramètres!$M$5:$O$101,2,0)","v":{"$error":"#N/A"}},{"$f":"VLOOKUP(K7276,[3]Paramètres!$M$5:$O$101,3,0)","v":{"$error":"#N/A"}},null,null,null,null,null,null,null,null,null,null,{"$f":"SUM(Tableau_Data[[#This Row],[Féminin]:[Masculin]])","v":0}]
[null,null,"",null,"",null,null,null,null,null,null,{"$f":"VLOOKUP(K7285,[3]Paramètres!$M$5:$O$101,2,0)","v":{"$error":"#N/A"}},{"$f":"VLOOKUP(K7285,[3]Paramètres!$M$5:$O$101,3,0)","v":{"$error":"#N/A"}},null,null,null,null,null,null,null,null,null,null,{"$f":"SUM(Tableau_Data[[#This Row],[Féminin]:[Masculin]])","v":0}]
[null,null,"",null,"",null,null,null,null,null,null,{"$f":"VLOOKUP(K7294,[3]Paramètres!$M$5:$O$101,2,0)","v":{"$error":"#N/A"}},{"$f":"VLOOKUP(K7294,[3]Paramètres!$M$5:$O$101,3,0)","v":{"$error":"#N/A"}},null,null,null,null,null,null,null,null,null,null,{"$f":"SUM(Tableau_Data[[#This Row],[Féminin]:[Masculin]])","v":0}]
[null,null,"",null,"",null,null,null,null,null,null,{"$f":"VLOOKUP(K7298,[3]Paramètres!$M$5:$O$101,2,0)","v":{"$error":"#N/A"}},{"$f":"VLOOKUP(K7298,[3]Paramètres!$M$5:$O$101,3,0)","v":{"$error":"#N/A"}},null,null,null,null,null,null,null,null,null,null,{"$f":"SUM(Tableau_Data[[#This Row],[Féminin]:[Masculin]])","v":0}]
[null,null,"",null,"",null,null,null,null,null,null,{"$f":"VLOOKUP(K7305,[3]Paramètres!$M$5:$O$101,2,0)","v":{"$error":"#N/A"}},{"$f":"VLOOKUP(K7305,[3]Paramètres!$M$5:$O$101,3,0)","v":{"$error":"#N/A"}},null,null,null,null,null,null,null,null,null,null,{"$f":"SUM(Tableau_Data[[#This Row],[Féminin]:[Masculin]])","v":0}]
[null,null,"",null,"",null,null,null,null,null,null,{"$f":"VLOOKUP(K7314,[3]Paramètres!$M$5:$O$101,2,0)","v":{"$error":"#N/A"}},{"$f":"VLOOKUP(K7314,[3]Paramètres!$M$5:$O$101,3,0)","v":{"$error":"#N/A"}},null,null,null,null,null,null,null,null,null,null,{"$f":"SUM(Tableau_Data[[#This Row],[Féminin]:[Masculin]])","v":0}]
[null,null,"",null,"",null,null,null,null,null,null,{"$f":"VLOOKUP(K7327,[3]Paramètres!$M$5:$O$101,2,0)","v":{"$error":"#N/A"}},{"$f":"VLOOKUP(K7327,[3]Paramètres!$M$5:$O$101,3,0)","v":{"$error":"#N/A"}},null,null,null,null,null,null,null,null,null,null,{"$f":"SUM(Tableau_Data[[#This Row],[Féminin]:[Masculin]])","v":0}]
[null,null,"",null,"",null,null,null,null,null,null,{"$f":"VLOOKUP(K7333,[3]Paramètres!$M$5:$O$101,2,0)","v":{"$error":"#N/A"}},{"$f":"VLOOKUP(K7333,[3]Paramètres!$M$5:$O$101,3,0)","v":{"$error":"#N/A"}},null,null,null,null,null,null,null,null,null,null,{"$f":"SUM(Tableau_Data[[#This Row],[Féminin]:[Masculin]])","v":0}]
[null,null,"",null,"",null,null,null,null,null,null,{"$f":"VLOOKUP(K7342,[3]Paramètres!$M$5:$O$101,2,0)","v":{"$error":"#N/A"}},{"$f":"VLOOKUP(K7342,[3]Paramètres!$M$5:$O$101,3,0)","v":{"$error":"#N/A"}},null,null,null,null,null,null,null,null,null,null,{"$f":"SUM(Tableau_Data[[#This Row],[Féminin]:[Masculin]])","v":0}]
[null,null,"",null,"",null,null,null,null,null,null,{"$f":"VLOOKUP(K7347,[3]Paramètres!$M$5:$O$101,2,0)","v":{"$error":"#N/A"}},{"$f":"VLOOKUP(K7347,[3]Paramètres!$M$5:$O$101,3,0)","v":{"$error":"#N/A"}},null,null,null,null,null,null,null,null,null,null,{"$f":"SUM(Tableau_Data[[#This Row],[Féminin]:[Masculin]])","v":0}]
[null,null,{"$f":"IF(D7361=\"\",\"\",YEAR(D7361))","v":""},null,"",null,null,null,null,null,null,{"$f":"VLOOKUP(K7361,[3]Paramètres!$M$5:$O$101,2,0)","v":{"$error":"#N/A"}},{"$f":"VLOOKUP(K7361,[3]Paramètres!$M$5:$O$101,3,0)","v":{"$error":"#N/A"}},null,null,null,null,null,null,null,null,null,null,{"$f":"SUM(Tableau_Data[[#This Row],[Féminin]:[Masculin]])","v":0}]
[null,null,"",null,"",null,null,null,null,null,null,{"$f":"VLOOKUP(K7370,[3]Paramètres!$M$5:$O$101,2,0)","v":{"$error":"#N/A"}},{"$f":"VLOOKUP(K7370,[3]Paramètres!$M$5:$O$101,3,0)","v":{"$error":"#N/A"}},null,null,null,null,null,null,null,null,null,null,{"$f":"SUM(Tableau_Data[[#This Row],[Féminin]:[Masculin]])","v":0}]
[null,null,"",null,"",null,null,null,null,null,null,{"$f":"VLOOKUP(K7376,[3]Paramètres!$M$5:$O$101,2,0)","v":{"$error":"#N/A"}},{"$f":"VLOOKUP(K7376,[3]Paramètres!$M$5:$O$101,3,0)","v":{"$error":"#N/A"}},null,null,null,null,null,null,null,null,null,null,{"$f":"SUM(Tableau_Data[[#This Row],[Féminin]:[Masculin]])","v":0}]
[null,null,"",null,"",null,null,null,null,null,null,{"$f":"VLOOKUP(K7381,[3]Paramètres!$M$5:$O$101,2,0)","v":{"$error":"#N/A"}},{"$f":"VLOOKUP(K7381,[3]Paramètres!$M$5:$O$101,3,0)","v":{"$error":"#N/A"}},null,null,null,null,null,null,null,null,null,null,{"$f":"SUM(Tableau_Data[[#This Row],[Féminin]:[Masculin]])","v":0}]
[null,null,"",null,"",null,null,null,null,null,null,{"$f":"VLOOKUP(K7390,[3]Paramètres!$M$5:$O$101,2,0)","v":{"$error":"#N/A"}},{"$f":"VLOOKUP(K7390,[3]Paramètres!$M$5:$O$101,3,0)","v":{"$error":"#N/A"}},null,null,null,null,null,null,null,null,null,null,{"$f":"SUM(Tableau_Data[[#This Row],[Féminin]:[Masculin]])","v":0}]
[null,null,"",null,"",null,null,null,null,null,null,{"$f":"VLOOKUP(K7399,[3]Paramètres!$M$5:$O$101,2,0)","v":{"$error":"#N/A"}},{"$f":"VLOOKUP(K7399,[3]Paramètres!$M$5:$O$101,3,0)","v":{"$error":"#N/A"}},null,null,null,null,null,null,null,null,null,null,{"$f":"SUM(Tableau_Data[[#This Row],[Féminin]:[Masculin]])","v":0}]
[null,null,"",null,"",null,null,null,null,null,null,{"$f":"VLOOKUP(K7411,[3]Paramètres!$M$5:$O$101,2,0)","v":{"$error":"#N/A"}},{"$f":"VLOOKUP(K7411,[3]Paramètres!$M$5:$O$101,3,0)","v":{"$error":"#N/A"}},null,null,null,null,null,null,null,null,null,null,{"$f":"SUM(Tableau_Data[[#This Row],[Féminin]:[Masculin]])","v":0}]
[null,null,"",null,"",null,null,null,null,null,null,{"$f":"VLOOKUP(K7418,[3]Paramètres!$M$5:$O$101,2,0)","v":{"$error":"#N/A"}},{"$f":"VLOOKUP(K7418,[3]Paramètres!$M$5:$O$101,3,0)","v":{"$error":"#N/A"}},null,null,null,null,null,null,null,null,null,null,{"$f":"SUM(Tableau_Data[[#This Row],[Féminin]:[Masculin]])","v":0}]
[null,null,"",null,"",null,null,null,null,null,null,{"$f":"VLOOKUP(K7427,[3]Paramètres!$M$5:$O$101,2,0)","v":{"$error":"#N/A"}},{"$f":"VLOOKUP(K7427,[3]Paramètres!$M$5:$O$101,3,0)","v":{"$error":"#N/A"}},null,null,null,null,null,null,null,null,null,null,{"$f":"SUM(Tableau_Data[[#This Row],[Féminin]:[Masculin]])","v":0}]
[null,null,"",null,"",null,null,null,null,null,null,{"$f":"VLOOKUP(K7431,[3]Paramètres!$M$5:$O$101,2,0)","v":{"$error":"#N/A"}},{"$f":"VLOOKUP(K7431,[3]Paramètres!$M$5:$O$101,3,0)","v":{"$error":"#N/A"}},null,null,null,null,null,null,null,null,null,null,{"$f":"SUM(Tableau_Data[[#This Row],[Féminin]:[Masculin]])","v":0}]
[null,null,"",null,"",null,null,null,null,null,null,{"$f":"VLOOKUP(K7438,[3]Paramètres!$M$5:$O$101,2,0)","v":{"$error":"#N/A"}},{"$f":"VLOOKUP(K7438,[3]Paramètres!$M$5:$O$101,3,0)","v":{"$error":"#N/A"}},null,null,null,null,null,null,null,null,null,null,{"$f":"SUM(Tableau_Data[[#This Row],[Féminin]:[Masculin]])","v":0}]
[null,null,"",null,"",null,null,null,null,null,null,{"$f":"VLOOKUP(K7447,[3]Paramètres!$M$5:$O$101,2,0)","v":{"$error":"#N/A"}},{"$f":"VLOOKUP(K7447,[3]Paramètres!$M$5:$O$101,3,0)","v":{"$error":"#N/A"}},null,null,null,null,null,null,null,null,null,null,{"$f":"SUM(Tableau_Data[[#This Row],[Féminin]:[Masculin]])","v":0}]
[null,null,"",null,"",null,null,null,null,null,null,{"$f":"VLOOKUP(K7460,[3]Paramètres!$M$5:$O$101,2,0)","v":{"$error":"#N/A"}},{"$f":"VLOOKUP(K7460,[3]Paramètres!$M$5:$O$101,3,0)","v":{"$error":"#N/A"}},null,null,null,null,null,null,null,null,null,null,{"$f":"SUM(Tableau_Data[[#This Row],[Féminin]:[Masculin]])","v":0}]
[null,null,"",null,{"$f":"IF(D7466=\"\",\"\",MONTH(D7466))","v":""},null,null,null,null,null,null,{"$f":"VLOOKUP(K7466,[3]Paramètres!$M$5:$O$101,2,0)","v":{"$error":"#N/A"}},{"$f":"VLOOKUP(K7466,[3]Paramètres!$M$5:$O$101,3,0)","v":{"$error":"#N/A"}},null,null,null,null,null,null,null,null,null,null,{"$f":"SUM(Tableau_Data[[#This Row],[Féminin]:[Masculin]])","v":0}]
[null,null,"",null,"",null,null,null,null,null,null,{"$f":"VLOOKUP(K7475,[3]Paramètres!$M$5:$O$101,2,0)","v":{"$error":"#N/A"}},{"$f":"VLOOKUP(K7475,[3]Paramètres!$M$5:$O$101,3,0)","v":{"$error":"#N/A"}},null,null,null,null,null,null,null,null,null,null,{"$f":"SUM(Tableau_Data[[#This Row],[Féminin]:[Masculin]])","v":0}]
[null,null,"",null,"",null,null,null,null,null,null,{"$f":"VLOOKUP(K7484,[3]Paramètres!$M$5:$O$101,2,0)","v":{"$error":"#N/A"}},{"$f":"VLOOKUP(K7484,[3]Paramètres!$M$5:$O$101,3,0)","v":{"$error":"#N/A"}},null,null,null,null,null,null,null,null,null,null,{"$f":"SUM(Tableau_Data[[#This Row],[Féminin]:[Masculin]])","v":0}]
[null,null,"",null,"",null,null,null,null,null,null,{"$f":"VLOOKUP(K7495,[3]Paramètres!$M$5:$O$101,2,0)","v":{"$error":"#N/A"}},{"$f":"VLOOKUP(K7495,[3]Paramètres!$M$5:$O$101,3,0)","v":{"$error":"#N/A"}},null,null,null,null,null,null,null,null,null,null,{"$f":"SUM(Tableau_Data[[#This Row],[Féminin]:[Masculin]])","v":0}]
[null,null,"",null,"",null,null,null,null,null,null,{"$f":"VLOOKUP(K7503,[3]Paramètres!$M$5:$O$101,2,0)","v":{"$error":"#N/A"}},{"$f":"VLOOKUP(K7503,[3]Paramètres!$M$5:$O$101,3,0)","v":{"$error":"#N/A"}},null,null,null,null,null,null,null,null,null,null,{"$f":"SUM(Tableau_Data[[#This Row],[Féminin]:[Masculin]])","v":0}]
[null,null,"",null,"",null,null,null,null,null,null,{"$f":"VLOOKUP(K7504,[3]Paramètres!$M$5:$O$101,2,0)","v":{"$error":"#N/A"}},{"$f":"VLOOKUP(K7504,[3]Paramètres!$M$5:$O$101,3,0)","v":{"$error":"#N/A"}},null,null,null,null,null,null,null,null,null,null,{"$f":"SUM(Tableau_Data[[#This Row],[Féminin]:[Masculin]])","v":0}]
[null,null,"",null,"",null,null,null,null,null,null,{"$f":"VLOOKUP(K7515,[3]Paramètres!$M$5:$O$101,2,0)","v":{"$error":"#N/A"}},{"$f":"VLOOKUP(K7515,[3]Paramètres!$M$5:$O$101,3,0)","v":{"$error":"#N/A"}},null,null,null,null,null,null,null,null,null,null,{"$f":"SUM(Tableau_Data[[#This Row],[Féminin]:[Masculin]])","v":0}]
[null,null,"",null,"",null,null,null,null,null,null,{"$f":"VLOOKUP(K7523,[3]Paramètres!$M$5:$O$101,2,0)","v":{"$error":"#N/A"}},{"$f":"VLOOKUP(K7523,[3]Paramètres!$M$5:$O$101,3,0)","v":{"$error":"#N/A"}},null,null,null,null,null,null,null,null,null,null,{"$f":"SUM(Tableau_Data[[#This Row],[Féminin]:[Masculin]])","v":0}]
[null,null,"",null,"",null,null,null,null,null,null,{"$f":"VLOOKUP(K7532,[3]Paramètres!$M$5:$O$101,2,0)","v":{"$error":"#N/A"}},{"$f":"VLOOKUP(K7532,[3]Paramètres!$M$5:$O$101,3,0)","v":{"$error":"#N/A"}},null,null,null,null,null,null,null,null,null,null,{"$f":"SUM(Tableau_Data[[#This Row],[Féminin]:[Masculin]])","v":0}]
[null,null,"",null,"",null,null,null,null,null,null,{"$f":"VLOOKUP(K7544,[3]Paramètres!$M$5:$O$101,2,0)","v":{"$error":"#N/A"}},{"$f":"VLOOKUP(K7544,[3]Paramètres!$M$5:$O$101,3,0)","v":{"$error":"#N/A"}},null,null,null,null,null,null,null,null,null,null,{"$f":"SUM(Tableau_Data[[#This Row],[Féminin]:[Masculin]])","v":0}]
[null,null,"",null,"",null,null,null,null,null,null,{"$f":"VLOOKUP(K7551,[3]Paramètres!$M$5:$O$101,2,0)","v":{"$error":"#N/A"}},{"$f":"VLOOKUP(K7551,[3]Paramètres!$M$5:$O$101,3,0)","v":{"$error":"#N/A"}},null,null,null,null,null,null,null,null,null,null,{"$f":"SUM(Tableau_Data[[#This Row],[Féminin]:[Masculin]])","v":0}]
[null,null,"",null,"",null,null,null,null,null,null,{"$f":"VLOOKUP(K7560,[3]Paramètres!$M$5:$O$101,2,0)","v":{"$error":"#N/A"}},{"$f":"VLOOKUP(K7560,[3]Paramètres!$M$5:$O$101,3,0)","v":{"$error":"#N/A"}},null,null,null,null,null,null,null,null,null,null,{"$f":"SUM(Tableau_Data[[#This Row],[Féminin]:[Masculin]])","v":0}]
[null,null,"",null,"",null,null,null,null,null,null,{"$f":"VLOOKUP(K7564,[3]Paramètres!$M$5:$O$101,2,0)","v":{"$error":"#N/A"}},{"$f":"VLOOKUP(K7564,[3]Paramètres!$M$5:$O$101,3,0)","v":{"$error":"#N/A"}},null,null,null,null,null,null,null,null,null,null,{"$f":"SUM(Tableau_Data[[#This Row],[Féminin]:[Masculin]])","v":0}]
[null,null,"",null,"",null,null,null,null,null,null,{"$f":"VLOOKUP(K7571,[3]Paramètres!$M$5:$O$101,2,0)","v":{"$error":"#N/A"}},{"$f":"VLOOKUP(K7571,[3]Paramètres!$M$5:$O$101,3,0)","v":{"$error":"#N/A"}},null,null,null,null,null,null,null,null,null,null,{"$f":"SUM(Tableau_Data[[#This Row],[Féminin]:[Masculin]])","v":0}]
[null,null,"",null,"",null,null,null,null,null,null,{"$f":"VLOOKUP(K7580,[3]Paramètres!$M$5:$O$101,2,0)","v":{"$error":"#N/A"}},{"$f":"VLOOKUP(K7580,[3]Paramètres!$M$5:$O$101,3,0)","v":{"$error":"#N/A"}},null,null,null,null,null,null,null,null,null,null,{"$f":"SUM(Tableau_Data[[#This Row],[Féminin]:[Masculin]])","v":0}]
[null,null,"",null,"",null,null,null,null,null,null,{"$f":"VLOOKUP(K7589,[3]Paramètres!$M$5:$O$101,2,0)","v":{"$error":"#N/A"}},{"$f":"VLOOKUP(K7589,[3]Paramètres!$M$5:$O$101,3,0)","v":{"$error":"#N/A"}},null,null,null,null,null,null,null,null,null,null,{"$f":"SUM(Tableau_Data[[#This Row],[Féminin]:[Masculin]])","v":0}]
[null,null,"",null,"",null,null,null,null,null,null,{"$f":"VLOOKUP(K7599,[3]Paramètres!$M$5:$O$101,2,0)","v":{"$error":"#N/A"}},{"$f":"VLOOKUP(K7599,[3]Paramètres!$M$5:$O$101,3,0)","v":{"$error":"#N/A"}},null,null,null,null,null,null,null,null,null,null,{"$f":"SUM(Tableau_Data[[#This Row],[Féminin]:[Masculin]])","v":0}]
[null,null,"",null,"",null,null,null,null,null,null,{"$f":"VLOOKUP(K7608,[3]Paramètres!$M$5:$O$101,2,0)","v":{"$error":"#N/A"}},{"$f":"VLOOKUP(K7608,[3]Paramètres!$M$5:$O$101,3,0)","v":{"$error":"#N/A"}},null,null,null,null,null,null,null,null,null,null,{"$f":"SUM(Tableau_Data[[#This Row],[Féminin]:[Masculin]])","v":0}]
[null,null,{"$f":"IF(D7617=\"\",\"\",YEAR(D7617))","v":""},null,{"$f":"IF(D7617=\"\",\"\",MONTH(D7617))","v":""},null,null,null,null,null,null,{"$f":"VLOOKUP(K7617,[4]Paramètres!$M$5:$O$101,2,0)","v":{"$error":"#N/A"}},{"$f":"VLOOKUP(K7617,[4]Paramètres!$M$5:$O$101,3,0)","v":{"$error":"#N/A"}},null,null,null,null,null,null,null,null,null,null,{"$f":"SUM(Tableau_Data[[#This Row],[Féminin]:[Masculin]])","v":0}]
[null,null,"",null,"",null,null,null,null,null,null,{"$f":"VLOOKUP(K7628,[4]Paramètres!$M$5:$O$101,2,0)","v":{"$error":"#N/A"}},{"$f":"VLOOKUP(K7628,[4]Paramètres!$M$5:$O$101,3,0)","v":{"$error":"#N/A"}},null,null,null,null,null,null,null,null,null,null,{"$f":"SUM(Tableau_Data[[#This Row],[Féminin]:[Masculin]])","v":0}]
[null,null,"",null,"",null,null,null,null,null,null,{"$f":"VLOOKUP(K7636,[4]Paramètres!$M$5:$O$101,2,0)","v":{"$error":"#N/A"}},{"$f":"VLOOKUP(K7636,[4]Paramètres!$M$5:$O$101,3,0)","v":{"$error":"#N/A"}},null,null,null,null,null,null,null,null,null,null,{"$f":"SUM(Tableau_Data[[#This Row],[Féminin]:[Masculin]])","v":0}]
[null,null,"",null,"",null,null,null,null,null,null,{"$f":"VLOOKUP(K7637,[4]Paramètres!$M$5:$O$101,2,0)","v":{"$error":"#N/A"}},{"$f":"VLOOKUP(K7637,[4]Paramètres!$M$5:$O$101,3,0)","v":{"$error":"#N/A"}},null,null,null,null,null,null,null,null,null,null,{"$f":"SUM(Tableau_Data[[#This Row],[Féminin]:[Masculin]])","v":0}]
[null,null,"",null,"",null,null,null,null,null,null,{"$f":"VLOOKUP(K7648,[4]Paramètres!$M$5:$O$101,2,0)","v":{"$error":"#N/A"}},{"$f":"VLOOKUP(K7648,[4]Paramètres!$M$5:$O$101,3,0)","v":{"$error":"#N/A"}},null,null,null,null,null,null,null,null,null,null,{"$f":"SUM(Tableau_Data[[#This Row],[Féminin]:[Masculin]])","v":0}]
[null,null,"",null,"",null,null,null,null,null,null,{"$f":"VLOOKUP(K7656,[4]Paramètres!$M$5:$O$101,2,0)","v":{"$error":"#N/A"}},{"$f":"VLOOKUP(K7656,[4]Paramètres!$M$5:$O$101,3,0)","v":{"$error":"#N/A"}},null,null,null,null,null,null,null,null,null,null,{"$f":"SUM(Tableau_Data[[#This Row],[Féminin]:[Masculin]])","v":0}]
[null,null,"",null,"",null,null,null,null,null,null,{"$f":"VLOOKUP(K7665,[4]Paramètres!$M$5:$O$101,2,0)","v":{"$error":"#N/A"}},{"$f":"VLOOKUP(K7665,[4]Paramètres!$M$5:$O$101,3,0)","v":{"$error":"#N/A"}},null,null,null,null,null,null,null,null,null,null,{"$f":"SUM(Tableau_Data[[#This Row],[Féminin]:[Masculin]])","v":0}]
[null,null,"",null,"",null,null,null,null,null,null,{"$f":"VLOOKUP(K7677,[4]Paramètres!$M$5:$O$101,2,0)","v":{"$error":"#N/A"}},{"$f":"VLOOKUP(K7677,[4]Paramètres!$M$5:$O$101,3,0)","v":{"$error":"#N/A"}},null,null,null,null,null,null,null,null,null,null,{"$f":"SUM(Tableau_Data[[#This Row],[Féminin]:[Masculin]])","v":0}]
[null,null,"",null,"",null,null,null,null,null,null,{"$f":"VLOOKUP(K7684,[4]Paramètres!$M$5:$O$101,2,0)","v":{"$error":"#N/A"}},{"$f":"VLOOKUP(K7684,[4]Paramètres!$M$5:$O$101,3,0)","v":{"$error":"#N/A"}},null,null,null,null,null,null,null,null,null,null,{"$f":"SUM(Tableau_Data[[#This Row],[Féminin]:[Masculin]])","v":0}]
[null,null,"",null,"",null,null,null,null,null,null,{"$f":"VLOOKUP(K7693,[4]Paramètres!$M$5:$O$101,2,0)","v":{"$error":"#N/A"}},{"$f":"VLOOKUP(K7693,[4]Paramètres!$M$5:$O$101,3,0)","v":{"$error":"#N/A"}},null,null,null,null,null,null,null,null,null,null,{"$f":"SUM(Tableau_Data[[#This Row],[Féminin]:[Masculin]])","v":0}]
[null,null,"",null,"",null,null,null,null,null,null,{"$f":"VLOOKUP(K7702,[4]Paramètres!$M$5:$O$101,2,0)","v":{"$error":"#N/A"}},{"$f":"VLOOKUP(K7702,[4]Paramètres!$M$5:$O$101,3,0)","v":{"$error":"#N/A"}},null,null,null,null,null,null,null,null,null,null,{"$f":"SUM(Tableau_Data[[#This Row],[Féminin]:[Masculin]])","v":0}]
[null,null,"",null,"",null,null,null,null,null,null,{"$f":"VLOOKUP(K7703,[4]Paramètres!$M$5:$O$101,2,0)","v":{"$error":"#N/A"}},{"$f":"VLOOKUP(K7703,[4]Paramètres!$M$5:$O$101,3,0)","v":{"$error":"#N/A"}},null,null,null,null,null,null,null,null,null,null,{"$f":"SUM(Tableau_Data[[#This Row],[Féminin]:[Masculin]])","v":0}]
[null,null,"",null,"",null,null,null,null,null,null,{"$f":"VLOOKUP(K7713,[4]Paramètres!$M$5:$O$101,2,0)","v":{"$error":"#N/A"}},{"$f":"VLOOKUP(K7713,[4]Paramètres!$M$5:$O$101,3,0)","v":{"$error":"#N/A"}},null,null,null,null,null,null,null,null,null,null,{"$f":"SUM(Tableau_Data[[#This Row],[Féminin]:[Masculin]])","v":0}]
[null,null,"",null,"",null,null,null,null,null,null,{"$f":"VLOOKUP(K7722,[4]Paramètres!$M$5:$O$101,2,0)","v":{"$error":"#N/A"}},{"$f":"VLOOKUP(K7722,[4]Paramètres!$M$5:$O$101,3,0)","v":{"$error":"#N/A"}},null,null,null,null,null,null,null,null,null,null,{"$f":"SUM(Tableau_Data[[#This Row],[Féminin]:[Masculin]])","v":0}]
[null,null,"",null,"",null,null,null,null,null,null,{"$f":"VLOOKUP(K7732,[4]Paramètres!$M$5:$O$101,2,0)","v":{"$error":"#N/A"}},{"$f":"VLOOKUP(K7732,[4]Paramètres!$M$5:$O$101,3,0)","v":{"$error":"#N/A"}},null,null,null,null,null,null,null,null,null,null,{"$f":"SUM(Tableau_Data[[#This Row],[Féminin]:[Masculin]])","v":0}]
[null,null,"",null,"",null,null,null,null,null,null,{"$f":"VLOOKUP(K7741,[4]Paramètres!$M$5:$O$101,2,0)","v":{"$error":"#N/A"}},{"$f":"VLOOKUP(K7741,[4]Paramètres!$M$5:$O$101,3,0)","v":{"$error":"#N/A"}},null,null,null,null,null,null,null,null,null,null,{"$f":"SUM(Tableau_Data[[#This Row],[Féminin]:[Masculin]])","v":0}]
[null,null,"",null,"",null,null,null,null,null,null,{"$f":"VLOOKUP(K7750,[4]Paramètres!$M$5:$O$101,2,0)","v":{"$error":"#N/A"}},{"$f":"VLOOKUP(K7750,[4]Paramètres!$M$5:$O$101,3,0)","v":{"$error":"#N/A"}},null,null,null,null,null,null,null,null,null,null,{"$f":"SUM(Tableau_Data[[#This Row],[Féminin]:[Masculin]])","v":0}]
[null,null,"",null,"",null,null,null,null,null,null,{"$f":"VLOOKUP(K7761,[4]Paramètres!$M$5:$O$101,2,0)","v":{"$error":"#N/A"}},{"$f":"VLOOKUP(K7761,[4]Paramètres!$M$5:$O$101,3,0)","v":{"$error":"#N/A"}},null,null,null,null,null,null,null,null,null,null,{"$f":"SUM(Tableau_Data[[#This Row],[Féminin]:[Masculin]])","v":0}]
[null,null,"",null,"",null,null,null,null,null,null,{"$f":"VLOOKUP(K7769,[4]Paramètres!$M$5:$O$101,2,0)","v":{"$error":"#N/A"}},{"$f":"VLOOKUP(K7769,[4]Paramètres!$M$5:$O$101,3,0)","v":{"$error":"#N/A"}},null,null,null,null,null,null,null,null,null,null,{"$f":"SUM(Tableau_Data[[#This Row],[Féminin]:[Masculin]])","v":0}]
[null,null,"",null,"",null,null,null,null,null,null,{"$f":"VLOOKUP(K7770,[4]Paramètres!$M$5:$O$101,2,0)","v":{"$error":"#N/A"}},{"$f":"VLOOKUP(K7770,[4]Paramètres!$M$5:$O$101,3,0)","v":{"$error":"#N/A"}},null,null,null,null,null,null,null,null,null,null,{"$f":"SUM(Tableau_Data[[#This Row],[Féminin]:[Masculin]])","v":0}]
[null,null,"",null,"",null,null,null,null,null,null,{"$f":"VLOOKUP(K7781,[4]Paramètres!$M$5:$O$101,2,0)","v":{"$error":"#N/A"}},{"$f":"VLOOKUP(K7781,[4]Paramètres!$M$5:$O$101,3,0)","v":{"$error":"#N/A"}},null,null,null,null,null,null,null,null,null,null,{"$f":"SUM(Tableau_Data[[#This Row],[Féminin]:[Masculin]])","v":0}]
[null,null,"",null,"",null,null,null,null,null,null,{"$f":"VLOOKUP(K7789,[4]Paramètres!$M$5:$O$101,2,0)","v":{"$error":"#N/A"}},{"$f":"VLOOKUP(K7789,[4]Paramètres!$M$5:$O$101,3,0)","v":{"$error":"#N/A"}},null,null,null,null,null,null,null,null,null,null,{"$f":"SUM(Tableau_Data[[#This Row],[Féminin]:[Masculin]])","v":0}]
[null,null,"",null,"",null,null,null,null,null,null,{"$f":"VLOOKUP(K7798,[4]Paramètres!$M$5:$O$101,2,0)","v":{"$error":"#N/A"}},{"$f":"VLOOKUP(K7798,[4]Paramètres!$M$5:$O$101,3,0)","v":{"$error":"#N/A"}},null,null,null,null,null,null,null,null,null,null,{"$f":"SUM(Tableau_Data[[#This Row],[Féminin]:[Masculin]])","v":0}]
[null,null,"",null,"",null,null,null,null,null,null,{"$f":"VLOOKUP(K7807,[4]Paramètres!$M$5:$O$101,2,0)","v":{"$error":"#N/A"}},{"$f":"VLOOKUP(K7807,[4]Paramètres!$M$5:$O$101,3,0)","v":{"$error":"#N/A"}},null,null,null,null,null,null,null,null,null,null,{"$f":"SUM(Tableau_Data[[#This Row],[Féminin]:[Masculin]])","v":0}]
[null,null,"",null,"",null,null,null,null,null,null,{"$f":"VLOOKUP(K7816,[4]Paramètres!$M$5:$O$101,2,0)","v":{"$error":"#N/A"}},{"$f":"VLOOKUP(K7816,[4]Paramètres!$M$5:$O$101,3,0)","v":{"$error":"#N/A"}},null,null,null,null,null,null,null,null,null,null,{"$f":"SUM(Tableau_Data[[#This Row],[Féminin]:[Masculin]])","v":0}]
[null,null,"",null,"",null,null,null,null,null,null,{"$f":"VLOOKUP(K7826,[4]Paramètres!$M$5:$O$101,2,0)","v":{"$error":"#N/A"}},{"$f":"VLOOKUP(K7826,[4]Paramètres!$M$5:$O$101,3,0)","v":{"$error":"#N/A"}},null,null,null,null,null,null,null,null,null,null,{"$f":"SUM(Tableau_Data[[#This Row],[Féminin]:[Masculin]])","v":0}]
[null,null,"",null,"",null,null,null,null,null,null,{"$f":"VLOOKUP(K7835,[4]Paramètres!$M$5:$O$101,2,0)","v":{"$error":"#N/A"}},{"$f":"VLOOKUP(K7835,[4]Paramètres!$M$5:$O$101,3,0)","v":{"$error":"#N/A"}},null,null,null,null,null,null,null,null,null,null,{"$f":"SUM(Tableau_Data[[#This Row],[Féminin]:[Masculin]])","v":0}]
[null,null,"",null,"",null,null,null,null,null,null,{"$f":"VLOOKUP(K7836,[4]Paramètres!$M$5:$O$101,2,0)","v":{"$error":"#N/A"}},{"$f":"VLOOKUP(K7836,[4]Paramètres!$M$5:$O$101,3,0)","v":{"$error":"#N/A"}},null,null,null,null,null,null,null,null,null,null,{"$f":"SUM(Tableau_Data[[#This Row],[Féminin]:[Masculin]])","v":0}]
[null,null,"",null,"",null,null,null,null,null,null,{"$f":"VLOOKUP(K7846,[4]Paramètres!$M$5:$O$101,2,0)","v":{"$error":"#N/A"}},{"$f":"VLOOKUP(K7846,[4]Paramètres!$M$5:$O$101,3,0)","v":{"$error":"#N/A"}},null,null,null,null,null,null,null,null,null,null,{"$f":"SUM(Tableau_Data[[#This Row],[Féminin]:[Masculin]])","v":0}]
[null,null,"",null,"",null,null,null,null,null,null,{"$f":"VLOOKUP(K7855,[4]Paramètres!$M$5:$O$101,2,0)","v":{"$error":"#N/A"}},{"$f":"VLOOKUP(K7855,[4]Paramètres!$M$5:$O$101,3,0)","v":{"$error":"#N/A"}},null,null,null,null,null,null,null,null,null,null,{"$f":"SUM(Tableau_Data[[#This Row],[Féminin]:[Masculin]])","v":0}]
[null,null,"",null,{"$f":"IF(D7865=\"\",\"\",MONTH(D7865))","v":""},null,null,null,null,null,null,{"$f":"VLOOKUP(K7865,[4]Paramètres!$M$5:$O$101,2,0)","v":{"$error":"#N/A"}},{"$f":"VLOOKUP(K7865,[4]Paramètres!$M$5:$O$101,3,0)","v":{"$error":"#N/A"}},null,null,null,null,null,null,null,null,null,null,{"$f":"SUM(Tableau_Data[[#This Row],[Féminin]:[Masculin]])","v":0}]
[null,null,"",null,"",null,null,null,null,null,null,{"$f":"VLOOKUP(K7874,[4]Paramètres!$M$5:$O$101,2,0)","v":{"$error":"#N/A"}},{"$f":"VLOOKUP(K7874,[4]Paramètres!$M$5:$O$101,3,0)","v":{"$error":"#N/A"}},null,null,null,null,null,null,null,null,null,null,{"$f":"SUM(Tableau_Data[[#This Row],[Féminin]:[Masculin]])","v":0}]
[null,null,"",null,"",null,null,null,null,null,null,{"$f":"VLOOKUP(K7883,[4]Paramètres!$M$5:$O$101,2,0)","v":{"$error":"#N/A"}},{"$f":"VLOOKUP(K7883,[4]Paramètres!$M$5:$O$101,3,0)","v":{"$error":"#N/A"}},null,null,null,null,null,null,null,null,null,null,{"$f":"SUM(Tableau_Data[[#This Row],[Féminin]:[Masculin]])","v":0}]
[null,null,"",null,"",null,null,null,null,null,null,{"$f":"VLOOKUP(K7892,[4]Paramètres!$M$5:$O$101,2,0)","v":{"$error":"#N/A"}},{"$f":"VLOOKUP(K7892,[4]Paramètres!$M$5:$O$101,3,0)","v":{"$error":"#N/A"}},null,null,null,null,null,null,null,null,null,null,{"$f":"SUM(Tableau_Data[[#This Row],[Féminin]:[Masculin]])","v":0}]
[null,null,"",null,"",null,null,null,null,null,null,{"$f":"VLOOKUP(K7900,[4]Paramètres!$M$5:$O$101,2,0)","v":{"$error":"#N/A"}},{"$f":"VLOOKUP(K7900,[4]Paramètres!$M$5:$O$101,3,0)","v":{"$error":"#N/A"}},null,null,null,null,null,null,null,null,null,null,{"$f":"SUM(Tableau_Data[[#This Row],[Féminin]:[Masculin]])","v":0}]
[null,null,"",null,"",null,null,null,null,null,null,{"$f":"VLOOKUP(K7903,[4]Paramètres!$M$5:$O$101,2,0)","v":{"$error":"#N/A"}},{"$f":"VLOOKUP(K7903,[4]Paramètres!$M$5:$O$101,3,0)","v":{"$error":"#N/A"}},null,null,null,null,null,null,null,null,null,null,{"$f":"SUM(Tableau_Data[[#This Row],[Féminin]:[Masculin]])","v":0}]
[null,null,"",null,"",null,null,null,null,null,null,{"$f":"VLOOKUP(K7912,[4]Paramètres!$M$5:$O$101,2,0)","v":{"$error":"#N/A"}},{"$f":"VLOOKUP(K7912,[4]Paramètres!$M$5:$O$101,3,0)","v":{"$error":"#N/A"}},null,null,null,null,null,null,null,null,null,null,{"$f":"SUM(Tableau_Data[[#This Row],[Féminin]:[Masculin]])","v":0}]
[null,null,"",null,"",null,null,null,null,null,null,{"$f":"VLOOKUP(K7920,[4]Paramètres!$M$5:$O$101,2,0)","v":{"$error":"#N/A"}},{"$f":"VLOOKUP(K7920,[4]Paramètres!$M$5:$O$101,3,0)","v":{"$error":"#N/A"}},null,null,null,null,null,null,null,null,null,null,{"$f":"SUM(Tableau_Data[[#This Row],[Féminin]:[Masculin]])","v":0}]
[null,null,"",null,"",null,null,null,null,null,null,{"$f":"VLOOKUP(K7931,[4]Paramètres!$M$5:$O$101,2,0)","v":{"$error":"#N/A"}},{"$f":"VLOOKUP(K7931,[4]Paramètres!$M$5:$O$101,3,0)","v":{"$error":"#N/A"}},null,null,null,null,null,null,null,null,null,null,{"$f":"SUM(Tableau_Data[[#This Row],[Féminin]:[Masculin]])","v":0}]
[null,null,"",null,"",null,null,null,null,null,null,{"$f":"VLOOKUP(K7940,[4]Paramètres!$M$5:$O$101,2,0)","v":{"$error":"#N/A"}},{"$f":"VLOOKUP(K7940,[4]Paramètres!$M$5:$O$101,3,0)","v":{"$error":"#N/A"}},null,null,null,null,null,null,null,null,null,null,{"$f":"SUM(Tableau_Data[[#This Row],[Féminin]:[Masculin]])","v":0}]
[null,null,"",null,"",null,null,null,null,null,null,{"$f":"VLOOKUP(K7949,[4]Paramètres!$M$5:$O$101,2,0)","v":{"$error":"#N/A"}},{"$f":"VLOOKUP(K7949,[4]Paramètres!$M$5:$O$101,3,0)","v":{"$error":"#N/A"}},null,null,null,null,null,null,null,null,null,null,{"$f":"SUM(Tableau_Data[[#This Row],[Féminin]:[Masculin]])","v":0}]
[null,null,"",null,"",null,null,null,null,null,null,{"$f":"VLOOKUP(K7959,[4]Paramètres!$M$5:$O$101,2,0)","v":{"$error":"#N/A"}},{"$f":"VLOOKUP(K7959,[4]Paramètres!$M$5:$O$101,3,0)","v":{"$error":"#N/A"}},null,null,null,null,null,null,null,null,null,null,{"$f":"SUM(Tableau_Data[[#This Row],[Féminin]:[Masculin]])","v":0}]
[null,null,"",null,"",null,null,null,null,null,null,{"$f":"VLOOKUP(K7968,[4]Paramètres!$M$5:$O$101,2,0)","v":{"$error":"#N/A"}},{"$f":"VLOOKUP(K7968,[4]Paramètres!$M$5:$O$101,3,0)","v":{"$error":"#N/A"}},null,null,null,null,null,null,null,null,null,null,{"$f":"SUM(Tableau_Data[[#This Row],[Féminin]:[Masculin]])","v":0}]
[null,null,"",null,"",null,null,null,null,null,null,{"$f":"VLOOKUP(K7969,[4]Paramètres!$M$5:$O$101,2,0)","v":{"$error":"#N/A"}},{"$f":"VLOOKUP(K7969,[4]Paramètres!$M$5:$O$101,3,0)","v":{"$error":"#N/A"}},null,null,null,null,null,null,null,null,null,null,{"$f":"SUM(Tableau_Data[[#This Row],[Féminin]:[Masculin]])","v":0}]
[null,null,"",null,"",null,null,null,null,null,null,{"$f":"VLOOKUP(K7979,[4]Paramètres!$M$5:$O$101,2,0)","v":{"$error":"#N/A"}},{"$f":"VLOOKUP(K7979,[4]Paramètres!$M$5:$O$101,3,0)","v":{"$error":"#N/A"}},null,null,null,null,null,null,null,null,null,null,{"$f":"SUM(Tableau_Data[[#This Row],[Féminin]:[Masculin]])","v":0}]
[null,null,"",null,"",null,null,null,null,null,null,{"$f":"VLOOKUP(K7988,[4]Paramètres!$M$5:$O$101,2,0)","v":{"$error":"#N/A"}},{"$f":"VLOOKUP(K7988,[4]Paramètres!$M$5:$O$101,3,0)","v":{"$error":"#N/A"}},null,null,null,null,null,null,null,null,null,null,{"$f":"SUM(Tableau_Data[[#This Row],[Féminin]:[Masculin]])","v":0}]
[null,null,"",null,"",null,null,null,null,null,null,{"$f":"VLOOKUP(K7997,[4]Paramètres!$M$5:$O$101,2,0)","v":{"$error":"#N/A"}},{"$f":"VLOOKUP(K7997,[4]Paramètres!$M$5:$O$101,3,0)","v":{"$error":"#N/A"}},null,null,null,null,null,null,null,null,null,null,{"$f":"SUM(Tableau_Data[[#This Row],[Féminin]:[Masculin]])","v":0}]
[null,null,"",null,"",null,null,null,null,null,null,{"$f":"VLOOKUP(K8009,[4]Paramètres!$M$5:$O$101,2,0)","v":{"$error":"#N/A"}},{"$f":"VLOOKUP(K8009,[4]Paramètres!$M$5:$O$101,3,0)","v":{"$error":"#N/A"}},null,null,null,null,null,null,null,null,null,null,{"$f":"SUM(Tableau_Data[[#This Row],[Féminin]:[Masculin]])","v":0}]
[null,null,{"$f":"IF(D8016=\"\",\"\",YEAR(D8016))","v":""},null,"",null,null,null,null,null,null,{"$f":"VLOOKUP(K8016,[4]Paramètres!$M$5:$O$101,2,0)","v":{"$error":"#N/A"}},{"$f":"VLOOKUP(K8016,[4]Paramètres!$M$5:$O$101,3,0)","v":{"$error":"#N/A"}},null,null,null,null,null,null,null,null,null,null,{"$f":"SUM(Tableau_Data[[#This Row],[Féminin]:[Masculin]])","v":0}]
[null,null,"",null,"",null,null,null,null,null,null,{"$f":"VLOOKUP(K8025,[4]Paramètres!$M$5:$O$101,2,0)","v":{"$error":"#N/A"}},{"$f":"VLOOKUP(K8025,[4]Paramètres!$M$5:$O$101,3,0)","v":{"$error":"#N/A"}},null,null,null,null,null,null,null,null,null,null,{"$f":"SUM(Tableau_Data[[#This Row],[Féminin]:[Masculin]])","v":0}]
[null,null,"",null,"",null,null,null,null,null,null,{"$f":"VLOOKUP(K8033,[4]Paramètres!$M$5:$O$101,2,0)","v":{"$error":"#N/A"}},{"$f":"VLOOKUP(K8033,[4]Paramètres!$M$5:$O$101,3,0)","v":{"$error":"#N/A"}},null,null,null,null,null,null,null,null,null,null,{"$f":"SUM(Tableau_Data[[#This Row],[Féminin]:[Masculin]])","v":0}]
[null,null,"",null,"",null,null,null,null,null,null,{"$f":"VLOOKUP(K8036,[4]Paramètres!$M$5:$O$101,2,0)","v":{"$error":"#N/A"}},{"$f":"VLOOKUP(K8036,[4]Paramètres!$M$5:$O$101,3,0)","v":{"$error":"#N/A"}},null,null,null,null,null,null,null,null,null,null,{"$f":"SUM(Tableau_Data[[#This Row],[Féminin]:[Masculin]])","v":0}]
[null,null,"",null,"",null,null,null,null,null,null,{"$f":"VLOOKUP(K8045,[4]Paramètres!$M$5:$O$101,2,0)","v":{"$error":"#N/A"}},{"$f":"VLOOKUP(K8045,[4]Paramètres!$M$5:$O$101,3,0)","v":{"$error":"#N/A"}},null,null,null,null,null,null,null,null,null,null,{"$f":"SUM(Tableau_Data[[#This Row],[Féminin]:[Masculin]])","v":0}]
[null,null,"",null,"",null,null,null,null,null,null,{"$f":"VLOOKUP(K8053,[4]Paramètres!$M$5:$O$101,2,0)","v":{"$error":"#N/A"}},{"$f":"VLOOKUP(K8053,[4]Paramètres!$M$5:$O$101,3,0)","v":{"$error":"#N/A"}},null,null,null,null,null,null,null,null,null,null,{"$f":"SUM(Tableau_Data[[#This Row],[Féminin]:[Masculin]])","v":0}]
[null,null,"",null,"",null,null,null,null,null,null,{"$f":"VLOOKUP(K8064,[4]Paramètres!$M$5:$O$101,2,0)","v":{"$error":"#N/A"}},{"$f":"VLOOKUP(K8064,[4]Paramètres!$M$5:$O$101,3,0)","v":{"$error":"#N/A"}},null,null,null,null,null,null,null,null,null,null,{"$f":"SUM(Tableau_Data[[#This Row],[Féminin]:[Masculin]])","v":0}]
[null,null,"",null,"",null,null,null,null,null,null,{"$f":"VLOOKUP(K8073,[4]Paramètres!$M$5:$O$101,2,0)","v":{"$error":"#N/A"}},{"$f":"VLOOKUP(K8073,[4]Paramètres!$M$5:$O$101,3,0)","v":{"$error":"#N/A"}},null,null,null,null,null,null,null,null,null,null,{"$f":"SUM(Tableau_Data[[#This Row],[Féminin]:[Masculin]])","v":0}]
[null,null,"",null,"",null,null,null,null,null,null,{"$f":"VLOOKUP(K8082,[4]Paramètres!$M$5:$O$101,2,0)","v":{"$error":"#N/A"}},{"$f":"VLOOKUP(K8082,[4]Paramètres!$M$5:$O$101,3,0)","v":{"$error":"#N/A"}},null,null,null,null,null,null,null,null,null,null,{"$f":"SUM(Tableau_Data[[#This Row],[Féminin]:[Masculin]])","v":0}]
[null,null,"",null,"",null,null,null,null,null,null,{"$f":"VLOOKUP(K8092,[4]Paramètres!$M$5:$O$101,2,0)","v":{"$error":"#N/A"}},{"$f":"VLOOKUP(K8092,[4]Paramètres!$M$5:$O$101,3,0)","v":{"$error":"#N/A"}},null,null,null,null,null,null,null,null,null,null,{"$f":"SUM(Tableau_Data[[#This Row],[Féminin]:[Masculin]])","v":0}]
[null,null,"",null,"",null,null,null,null,null,null,{"$f":"VLOOKUP(K8101,[4]Paramètres!$M$5:$O$101,2,0)","v":{"$error":"#N/A"}},{"$f":"VLOOKUP(K8101,[4]Paramètres!$M$5:$O$101,3,0)","v":{"$error":"#N/A"}},null,null,null,null,null,null,null,null,null,null,{"$f":"SUM(Tableau_Data[[#This Row],[Féminin]:[Masculin]])","v":0}]
[null,null,"",null,"",null,null,null,null,null,null,{"$f":"VLOOKUP(K8102,[4]Paramètres!$M$5:$O$101,2,0)","v":{"$error":"#N/A"}},{"$f":"VLOOKUP(K8102,[4]Paramètres!$M$5:$O$101,3,0)","v":{"$error":"#N/A"}},null,null,null,null,null,null,null,null,null,null,{"$f":"SUM(Tableau_Data[[#This Row],[Féminin]:[Masculin]])","v":0}]
[null,null,"",null,"",null,null,null,null,null,null,{"$f":"VLOOKUP(K8113,[4]Paramètres!$M$5:$O$101,2,0)","v":{"$error":"#N/A"}},{"$f":"VLOOKUP(K8113,[4]Paramètres!$M$5:$O$101,3,0)","v":{"$error":"#N/A"}},null,null,null,null,null,null,null,null,null,null,{"$f":"SUM(Tableau_Data[[#This Row],[Féminin]:[Masculin]])","v":0}]
[null,null,"",null,{"$f":"IF(D8121=\"\",\"\",MONTH(D8121))","v":""},null,null,null,null,null,null,{"$f":"VLOOKUP(K8121,[4]Paramètres!$M$5:$O$101,2,0)","v":{"$error":"#N/A"}},{"$f":"VLOOKUP(K8121,[4]Paramètres!$M$5:$O$101,3,0)","v":{"$error":"#N/A"}},null,null,null,null,null,null,null,null,null,null,{"$f":"SUM(Tableau_Data[[#This Row],[Féminin]:[Masculin]])","v":0}]
[null,null,"",null,"",null,null,null,null,null,null,{"$f":"VLOOKUP(K8130,[4]Paramètres!$M$5:$O$101,2,0)","v":{"$error":"#N/A"}},{"$f":"VLOOKUP(K8130,[4]Paramètres!$M$5:$O$101,3,0)","v":{"$error":"#N/A"}},null,null,null,null,null,null,null,null,null,null,{"$f":"SUM(Tableau_Data[[#This Row],[Féminin]:[Masculin]])","v":0}]
[null,null,"",null,"",null,null,null,null,null,null,{"$f":"VLOOKUP(K8137,[4]Paramètres!$M$5:$O$101,2,0)","v":{"$error":"#N/A"}},{"$f":"VLOOKUP(K8137,[4]Paramètres!$M$5:$O$101,3,0)","v":{"$error":"#N/A"}},null,null,null,null,null,null,null,null,null,null,{"$f":"SUM(Tableau_Data[[#This Row],[Féminin]:[Masculin]])","v":0}]
[null,null,"",null,"",null,null,null,null,null,null,{"$f":"VLOOKUP(K8149,[4]Paramètres!$M$5:$O$101,2,0)","v":{"$error":"#N/A"}},{"$f":"VLOOKUP(K8149,[4]Paramètres!$M$5:$O$101,3,0)","v":{"$error":"#N/A"}},null,null,null,null,null,null,null,null,null,null,{"$f":"SUM(Tableau_Data[[#This Row],[Féminin]:[Masculin]])","v":0}]
[null,null,"",null,"",null,null,null,null,null,null,{"$f":"VLOOKUP(K8158,[4]Paramètres!$M$5:$O$101,2,0)","v":{"$error":"#N/A"}},{"$f":"VLOOKUP(K8158,[4]Paramètres!$M$5:$O$101,3,0)","v":{"$error":"#N/A"}},null,null,null,null,null,null,null,null,null,null,{"$f":"SUM(Tableau_Data[[#This Row],[Féminin]:[Masculin]])","v":0}]
[null,null,"",null,"",null,null,null,null,null,null,{"$f":"VLOOKUP(K8166,[4]Paramètres!$M$5:$O$101,2,0)","v":{"$error":"#N/A"}},{"$f":"VLOOKUP(K8166,[4]Paramètres!$M$5:$O$101,3,0)","v":{"$error":"#N/A"}},null,null,null,null,null,null,null,null,null,null,{"$f":"SUM(Tableau_Data[[#This Row],[Féminin]:[Masculin]])","v":0}]
[null,null,"",null,"",null,null,null,null,null,null,{"$f":"VLOOKUP(K8169,[4]Paramètres!$M$5:$O$101,2,0)","v":{"$error":"#N/A"}},{"$f":"VLOOKUP(K8169,[4]Paramètres!$M$5:$O$101,3,0)","v":{"$error":"#N/A"}},null,null,null,null,null,null,null,null,null,null,{"$f":"SUM(Tableau_Data[[#This Row],[Féminin]:[Masculin]])","v":0}]
[null,null,"",null,"",null,null,null,null,null,null,{"$f":"VLOOKUP(K8178,[4]Paramètres!$M$5:$O$101,2,0)","v":{"$error":"#N/A"}},{"$f":"VLOOKUP(K8178,[4]Paramètres!$M$5:$O$101,3,0)","v":{"$error":"#N/A"}},null,null,null,null,null,null,null,null,null,null,{"$f":"SUM(Tableau_Data[[#This Row],[Féminin]:[Masculin]])","v":0}]
[null,null,"",null,"",null,null,null,null,null,null,{"$f":"VLOOKUP(K8187,[4]Paramètres!$M$5:$O$101,2,0)","v":{"$error":"#N/A"}},{"$f":"VLOOKUP(K8187,[4]Paramètres!$M$5:$O$101,3,0)","v":{"$error":"#N/A"}},null,null,null,null,null,null,null,null,null,null,{"$f":"SUM(Tableau_Data[[#This Row],[Féminin]:[Masculin]])","v":0}]
[null,null,"",null,"",null,null,null,null,null,null,{"$f":"VLOOKUP(K8197,[4]Paramètres!$M$5:$O$101,2,0)","v":{"$error":"#N/A"}},{"$f":"VLOOKUP(K8197,[4]Paramètres!$M$5:$O$101,3,0)","v":{"$error":"#N/A"}},null,null,null,null,null,null,null,null,null,null,{"$f":"SUM(Tableau_Data[[#This Row],[Féminin]:[Masculin]])","v":0}]
[null,null,"",null,"",null,null,null,null,null,null,{"$f":"VLOOKUP(K8206,[4]Paramètres!$M$5:$O$101,2,0)","v":{"$error":"#N/A"}},{"$f":"VLOOKUP(K8206,[4]Paramètres!$M$5:$O$101,3,0)","v":{"$error":"#N/A"}},null,null,null,null,null,null,null,null,null,null,{"$f":"SUM(Tableau_Data[[#This Row],[Féminin]:[Masculin]])","v":0}]
[null,null,"",null,"",null,null,null,null,null,null,{"$f":"VLOOKUP(K8215,[4]Paramètres!$M$5:$O$101,2,0)","v":{"$error":"#N/A"}},{"$f":"VLOOKUP(K8215,[4]Paramètres!$M$5:$O$101,3,0)","v":{"$error":"#N/A"}},null,null,null,null,null,null,null,null,null,null,{"$f":"SUM(Tableau_Data[[#This Row],[Féminin]:[Masculin]])","v":0}]
[null,null,"",null,"",null,null,null,null,null,null,{"$f":"VLOOKUP(K8226,[4]Paramètres!$M$5:$O$101,2,0)","v":{"$error":"#N/A"}},{"$f":"VLOOKUP(K8226,[4]Paramètres!$M$5:$O$101,3,0)","v":{"$error":"#N/A"}},null,null,null,null,null,null,null,null,null,null,{"$f":"SUM(Tableau_Data[[#This Row],[Féminin]:[Masculin]])","v":0}]
[null,null,"",null,"",null,null,null,null,null,null,{"$f":"VLOOKUP(K8234,[4]Paramètres!$M$5:$O$101,2,0)","v":{"$error":"#N/A"}},{"$f":"VLOOKUP(K8234,[4]Paramètres!$M$5:$O$101,3,0)","v":{"$error":"#N/A"}},null,null,null,null,null,null,null,null,null,null,{"$f":"SUM(Tableau_Data[[#This Row],[Féminin]:[Masculin]])","v":0}]
[null,null,"",null,"",null,null,null,null,null,null,{"$f":"VLOOKUP(K8235,[4]Paramètres!$M$5:$O$101,2,0)","v":{"$error":"#N/A"}},{"$f":"VLOOKUP(K8235,[4]Paramètres!$M$5:$O$101,3,0)","v":{"$error":"#N/A"}},null,null,null,null,null,null,null,null,null,null,{"$f":"SUM(Tableau_Data[[#This Row],[Féminin]:[Masculin]])","v":0}]
[null,null,"",null,"",null,null,null,null,null,null,{"$f":"VLOOKUP(K8250,[4]Paramètres!$M$5:$O$101,2,0)","v":{"$error":"#N/A"}},{"$f":"VLOOKUP(K8250,[4]Paramètres!$M$5:$O$101,3,0)","v":{"$error":"#N/A"}},null,null,null,null,null,null,null,null,null,null,{"$f":"SUM(Tableau_Data[[#This Row],[Féminin]:[Masculin]])","v":0}]
[null,null,"",null,"",null,null,null,null,null,null,{"$f":"VLOOKUP(K8254,[4]Paramètres!$M$5:$O$101,2,0)","v":{"$error":"#N/A"}},{"$f":"VLOOKUP(K8254,[4]Paramètres!$M$5:$O$101,3,0)","v":{"$error":"#N/A"}},null,null,null,null,null,null,null,null,null,null,{"$f":"SUM(Tableau_Data[[#This Row],[Féminin]:[Masculin]])","v":0}]
[null,null,"",null,"",null,null,null,null,null,null,{"$f":"VLOOKUP(K8263,[4]Paramètres!$M$5:$O$101,2,0)","v":{"$error":"#N/A"}},{"$f":"VLOOKUP(K8263,[4]Paramètres!$M$5:$O$101,3,0)","v":{"$error":"#N/A"}},null,null,null,null,null,null,null,null,null,null,{"$f":"SUM(Tableau_Data[[#This Row],[Féminin]:[Masculin]])","v":0}]
[null,null,"",null,"",null,null,null,null,null,null,{"$f":"VLOOKUP(K8270,[4]Paramètres!$M$5:$O$101,2,0)","v":{"$error":"#N/A"}},{"$f":"VLOOKUP(K8270,[4]Paramètres!$M$5:$O$101,3,0)","v":{"$error":"#N/A"}},null,null,null,null,null,null,null,null,null,null,{"$f":"SUM(Tableau_Data[[#This Row],[Féminin]:[Masculin]])","v":0}]
[null,null,"",null,"",null,null,null,null,null,null,{"$f":"VLOOKUP(K8282,[4]Paramètres!$M$5:$O$101,2,0)","v":{"$error":"#N/A"}},{"$f":"VLOOKUP(K8282,[4]Paramètres!$M$5:$O$101,3,0)","v":{"$error":"#N/A"}},null,null,null,null,null,null,null,null,null,null,{"$f":"SUM(Tableau_Data[[#This Row],[Féminin]:[Masculin]])","v":0}]
[null,null,"",null,"",null,null,null,null,null,null,{"$f":"VLOOKUP(K8291,[4]Paramètres!$M$5:$O$101,2,0)","v":{"$error":"#N/A"}},{"$f":"VLOOKUP(K8291,[4]Paramètres!$M$5:$O$101,3,0)","v":{"$error":"#N/A"}},null,null,null,null,null,null,null,null,null,null,{"$f":"SUM(Tableau_Data[[#This Row],[Féminin]:[Masculin]])","v":0}]
[null,null,"",null,"",null,null,null,null,null,null,{"$f":"VLOOKUP(K8300,[4]Paramètres!$M$5:$O$101,2,0)","v":{"$error":"#N/A"}},{"$f":"VLOOKUP(K8300,[4]Paramètres!$M$5:$O$101,3,0)","v":{"$error":"#N/A"}},null,null,null,null,null,null,null,null,null,null,{"$f":"SUM(Tableau_Data[[#This Row],[Féminin]:[Masculin]])","v":0}]
[null,null,"",null,"",null,null,null,null,null,null,{"$f":"VLOOKUP(K8301,[4]Paramètres!$M$5:$O$101,2,0)","v":{"$error":"#N/A"}},{"$f":"VLOOKUP(K8301,[4]Paramètres!$M$5:$O$101,3,0)","v":{"$error":"#N/A"}},null,null,null,null,null,null,null,null,null,null,{"$f":"SUM(Tableau_Data[[#This Row],[Féminin]:[Masculin]])","v":0}]
[null,null,"",null,"",null,null,null,null,null,null,{"$f":"VLOOKUP(K8311,[4]Paramètres!$M$5:$O$101,2,0)","v":{"$error":"#N/A"}},{"$f":"VLOOKUP(K8311,[4]Paramètres!$M$5:$O$101,3,0)","v":{"$error":"#N/A"}},null,null,null,null,null,null,null,null,null,null,{"$f":"SUM(Tableau_Data[[#This Row],[Féminin]:[Masculin]])","v":0}]
[null,null,"",null,"",null,null,null,null,null,null,{"$f":"VLOOKUP(K8320,[4]Paramètres!$M$5:$O$101,2,0)","v":{"$error":"#N/A"}},{"$f":"VLOOKUP(K8320,[4]Paramètres!$M$5:$O$101,3,0)","v":{"$error":"#N/A"}},null,null,null,null,null,null,null,null,null,null,{"$f":"SUM(Tableau_Data[[#This Row],[Féminin]:[Masculin]])","v":0}]
[null,null,"",null,"",null,null,null,null,null,null,{"$f":"VLOOKUP(K8330,[4]Paramètres!$M$5:$O$101,2,0)","v":{"$error":"#N/A"}},{"$f":"VLOOKUP(K8330,[4]Paramètres!$M$5:$O$101,3,0)","v":{"$error":"#N/A"}},null,null,null,null,null,null,null,null,null,null,{"$f":"SUM(Tableau_Data[[#This Row],[Féminin]:[Masculin]])","v":0}]
[null,null,"",null,"",null,null,null,null,null,null,{"$f":"VLOOKUP(K8339,[4]Paramètres!$M$5:$O$101,2,0)","v":{"$error":"#N/A"}},{"$f":"VLOOKUP(K8339,[4]Paramètres!$M$5:$O$101,3,0)","v":{"$error":"#N/A"}},null,null,null,null,null,null,null,null,null,null,{"$f":"SUM(Tableau_Data[[#This Row],[Féminin]:[Masculin]])","v":0}]
[null,null,"",null,"",null,null,null,null,null,null,{"$f":"VLOOKUP(K8348,[4]Paramètres!$M$5:$O$101,2,0)","v":{"$error":"#N/A"}},{"$f":"VLOOKUP(K8348,[4]Paramètres!$M$5:$O$101,3,0)","v":{"$error":"#N/A"}},null,null,null,null,null,null,null,null,null,null,{"$f":"SUM(Tableau_Data[[#This Row],[Féminin]:[Masculin]])","v":0}]
[null,null,"",null,"",null,null,null,null,null,null,{"$f":"VLOOKUP(K8354,[4]Paramètres!$M$5:$O$101,2,0)","v":{"$error":"#N/A"}},{"$f":"VLOOKUP(K8354,[4]Paramètres!$M$5:$O$101,3,0)","v":{"$error":"#N/A"}},null,null,null,null,null,null,null,null,null,null,{"$f":"SUM(Tableau_Data[[#This Row],[Féminin]:[Masculin]])","v":0}]
[null,null,"",null,"",null,null,null,null,null,null,{"$f":"VLOOKUP(K8367,[4]Paramètres!$M$5:$O$101,2,0)","v":{"$error":"#N/A"}},{"$f":"VLOOKUP(K8367,[4]Paramètres!$M$5:$O$101,3,0)","v":{"$error":"#N/A"}},null,null,null,null,null,null,null,null,null,null,{"$f":"SUM(Tableau_Data[[#This Row],[Féminin]:[Masculin]])","v":0}]
[null,null,"",null,"",null,null,null,null,null,null,{"$f":"VLOOKUP(K8368,[4]Paramètres!$M$5:$O$101,2,0)","v":{"$error":"#N/A"}},{"$f":"VLOOKUP(K8368,[4]Paramètres!$M$5:$O$101,3,0)","v":{"$error":"#N/A"}},null,null,null,null,null,null,null,null,null,null,{"$f":"SUM(Tableau_Data[[#This Row],[Féminin]:[Masculin]])","v":0}]
[null,null,"",null,"",null,null,null,null,null,null,{"$f":"VLOOKUP(K8383,[4]Paramètres!$M$5:$O$101,2,0)","v":{"$error":"#N/A"}},{"$f":"VLOOKUP(K8383,[4]Paramètres!$M$5:$O$101,3,0)","v":{"$error":"#N/A"}},null,null,null,null,null,null,null,null,null,null,{"$f":"SUM(Tableau_Data[[#This Row],[Féminin]:[Masculin]])","v":0}]
[null,null,"",null,"",null,null,null,null,null,null,{"$f":"VLOOKUP(K8387,[4]Paramètres!$M$5:$O$101,2,0)","v":{"$error":"#N/A"}},{"$f":"VLOOKUP(K8387,[4]Paramètres!$M$5:$O$101,3,0)","v":{"$error":"#N/A"}},null,null,null,null,null,null,null,null,null,null,{"$f":"SUM(Tableau_Data[[#This Row],[Féminin]:[Masculin]])","v":0}]
[null,null,"",null,"",null,null,null,null,null,null,{"$f":"VLOOKUP(K8396,[4]Paramètres!$M$5:$O$101,2,0)","v":{"$error":"#N/A"}},{"$f":"VLOOKUP(K8396,[4]Paramètres!$M$5:$O$101,3,0)","v":{"$error":"#N/A"}},null,null,null,null,null,null,null,null,null,null,{"$f":"SUM(Tableau_Data[[#This Row],[Féminin]:[Masculin]])","v":0}]
[null,null,"",null,"",null,null,null,null,null,null,{"$f":"VLOOKUP(K8405,[4]Paramètres!$M$5:$O$101,2,0)","v":{"$error":"#N/A"}},{"$f":"VLOOKUP(K8405,[4]Paramètres!$M$5:$O$101,3,0)","v":{"$error":"#N/A"}},null,null,null,null,null,null,null,null,null,null,{"$f":"SUM(Tableau_Data[[#This Row],[Féminin]:[Masculin]])","v":0}]
[null,null,"",null,"",null,null,null,null,null,null,{"$f":"VLOOKUP(K8414,[4]Paramètres!$M$5:$O$101,2,0)","v":{"$error":"#N/A"}},{"$f":"VLOOKUP(K8414,[4]Paramètres!$M$5:$O$101,3,0)","v":{"$error":"#N/A"}},null,null,null,null,null,null,null,null,null,null,{"$f":"SUM(Tableau_Data[[#This Row],[Féminin]:[Masculin]])","v":0}]
[null,null,"",null,"",null,null,null,null,null,null,{"$f":"VLOOKUP(K8424,[4]Paramètres!$M$5:$O$101,2,0)","v":{"$error":"#N/A"}},{"$f":"VLOOKUP(K8424,[4]Paramètres!$M$5:$O$101,3,0)","v":{"$error":"#N/A"}},null,null,null,null,null,null,null,null,null,null,{"$f":"SUM(Tableau_Data[[#This Row],[Féminin]:[Masculin]])","v":0}]
[null,null,"",null,"",null,null,null,null,null,null,{"$f":"VLOOKUP(K8433,[5]Paramètres!$M$5:$O$101,2,0)","v":{"$error":"#N/A"}},{"$f":"VLOOKUP(K8433,[5]Paramètres!$M$5:$O$101,3,0)","v":{"$error":"#N/A"}},null,null,null,null,null,null,null,null,null,null,{"$f":"SUM(Tableau_Data[[#This Row],[Féminin]:[Masculin]])","v":0}]
[null,null,"",null,"",null,null,null,null,null,null,{"$f":"VLOOKUP(K8434,[5]Paramètres!$M$5:$O$101,2,0)","v":{"$error":"#N/A"}},{"$f":"VLOOKUP(K8434,[5]Paramètres!$M$5:$O$101,3,0)","v":{"$error":"#N/A"}},null,null,null,null,null,null,null,null,null,null,{"$f":"SUM(Tableau_Data[[#This Row],[Féminin]:[Masculin]])","v":0}]
[null,null,"",null,"",null,null,null,null,null,null,{"$f":"VLOOKUP(K8444,[5]Paramètres!$M$5:$O$101,2,0)","v":{"$error":"#N/A"}},{"$f":"VLOOKUP(K8444,[5]Paramètres!$M$5:$O$101,3,0)","v":{"$error":"#N/A"}},null,null,null,null,null,null,null,null,null,null,{"$f":"SUM(Tableau_Data[[#This Row],[Féminin]:[Masculin]])","v":0}]
[null,null,"",null,"",null,null,null,null,null,null,{"$f":"VLOOKUP(K8453,[5]Paramètres!$M$5:$O$101,2,0)","v":{"$error":"#N/A"}},{"$f":"VLOOKUP(K8453,[5]Paramètres!$M$5:$O$101,3,0)","v":{"$error":"#N/A"}},null,null,null,null,null,null,null,null,null,null,{"$f":"SUM(Tableau_Data[[#This Row],[Féminin]:[Masculin]])","v":0}]
[null,null,"",null,"",null,null,null,null,null,null,{"$f":"VLOOKUP(K8467,[5]Paramètres!$M$5:$O$101,2,0)","v":{"$error":"#N/A"}},{"$f":"VLOOKUP(K8467,[5]Paramètres!$M$5:$O$101,3,0)","v":{"$error":"#N/A"}},null,null,null,null,null,null,null,null,null,null,{"$f":"SUM(Tableau_Data[[#This Row],[Féminin]:[Masculin]])","v":0}]
[null,null,"",null,"",null,null,null,null,null,null,{"$f":"VLOOKUP(K8472,[5]Paramètres!$M$5:$O$101,2,0)","v":{"$error":"#N/A"}},{"$f":"VLOOKUP(K8472,[5]Paramètres!$M$5:$O$101,3,0)","v":{"$error":"#N/A"}},null,null,null,null,null,null,null,null,null,null,{"$f":"SUM(Tableau_Data[[#This Row],[Féminin]:[Masculin]])","v":0}]
[null,null,"",null,"",null,null,null,null,null,null,{"$f":"VLOOKUP(K8481,[5]Paramètres!$M$5:$O$101,2,0)","v":{"$error":"#N/A"}},{"$f":"VLOOKUP(K8481,[5]Paramètres!$M$5:$O$101,3,0)","v":{"$error":"#N/A"}},null,null,null,null,null,null,null,null,null,null,{"$f":"SUM(Tableau_Data[[#This Row],[Féminin]:[Masculin]])","v":0}]
[null,null,"",null,"",null,null,null,null,null,null,{"$f":"VLOOKUP(K8487,[5]Paramètres!$M$5:$O$101,2,0)","v":{"$error":"#N/A"}},{"$f":"VLOOKUP(K8487,[5]Paramètres!$M$5:$O$101,3,0)","v":{"$error":"#N/A"}},null,null,null,null,null,null,null,null,null,null,{"$f":"SUM(Tableau_Data[[#This Row],[Féminin]:[Masculin]])","v":0}]
[null,null,"",null,"",null,null,null,null,null,null,{"$f":"VLOOKUP(K8500,[5]Paramètres!$M$5:$O$101,2,0)","v":{"$error":"#N/A"}},{"$f":"VLOOKUP(K8500,[5]Paramètres!$M$5:$O$101,3,0)","v":{"$error":"#N/A"}},null,null,null,null,null,null,null,null,null,null,{"$f":"SUM(Tableau_Data[[#This Row],[Féminin]:[Masculin]])","v":0}]
[null,null,"",null,"",null,null,null,null,null,null,{"$f":"VLOOKUP(K8501,[5]Paramètres!$M$5:$O$101,2,0)","v":{"$error":"#N/A"}},{"$f":"VLOOKUP(K8501,[5]Paramètres!$M$5:$O$101,3,0)","v":{"$error":"#N/A"}},null,null,null,null,null,null,null,null,null,null,{"$f":"SUM(Tableau_Data[[#This Row],[Féminin]:[Masculin]])","v":0}]
[null,null,"",null,"",null,null,null,null,null,null,{"$f":"VLOOKUP(K8510,[5]Paramètres!$M$5:$O$101,2,0)","v":{"$error":"#N/A"}},{"$f":"VLOOKUP(K8510,[5]Paramètres!$M$5:$O$101,3,0)","v":{"$error":"#N/A"}},null,null,null,null,null,null,null,null,null,null,{"$f":"SUM(Tableau_Data[[#This Row],[Féminin]:[Masculin]])","v":0}]
[null,null,"",null,"",null,null,null,null,null,null,{"$f":"VLOOKUP(K8518,[5]Paramètres!$M$5:$O$101,2,0)","v":{"$error":"#N/A"}},{"$f":"VLOOKUP(K8518,[5]Paramètres!$M$5:$O$101,3,0)","v":{"$error":"#N/A"}},null,null,null,null,null,null,null,null,null,null,{"$f":"SUM(Tableau_Data[[#This Row],[Féminin]:[Masculin]])","v":0}]
[null,null,"",null,"",null,null,null,null,null,null,{"$f":"VLOOKUP(K8529,[5]Paramètres!$M$5:$O$101,2,0)","v":{"$error":"#N/A"}},{"$f":"VLOOKUP(K8529,[5]Paramètres!$M$5:$O$101,3,0)","v":{"$error":"#N/A"}},null,null,null,null,null,null,null,null,null,null,{"$f":"SUM(Tableau_Data[[#This Row],[Féminin]:[Masculin]])","v":0}]
[null,null,"",null,"",null,null,null,null,null,null,{"$f":"VLOOKUP(K8538,[5]Paramètres!$M$5:$O$101,2,0)","v":{"$error":"#N/A"}},{"$f":"VLOOKUP(K8538,[5]Paramètres!$M$5:$O$101,3,0)","v":{"$error":"#N/A"}},null,null,null,null,null,null,null,null,null,null,{"$f":"SUM(Tableau_Data[[#This Row],[Féminin]:[Masculin]])","v":0}]
[null,null,"",null,"",null,null,null,null,null,null,{"$f":"VLOOKUP(K8547,[5]Paramètres!$M$5:$O$101,2,0)","v":{"$error":"#N/A"}},{"$f":"VLOOKUP(K8547,[5]Paramètres!$M$5:$O$101,3,0)","v":{"$error":"#N/A"}},null,null,null,null,null,null,null,null,null,null,{"$f":"SUM(Tableau_Data[[#This Row],[Féminin]:[Masculin]])","v":0}]
[null,null,"",null,"",null,null,null,null,null,null,{"$f":"VLOOKUP(K8557,[5]Paramètres!$M$5:$O$101,2,0)","v":{"$error":"#N/A"}},{"$f":"VLOOKUP(K8557,[5]Paramètres!$M$5:$O$101,3,0)","v":{"$error":"#N/A"}},null,null,null,null,null,null,null,null,null,null,{"$f":"SUM(Tableau_Data[[#This Row],[Féminin]:[Masculin]])","v":0}]
[null,null,"",null,"",null,null,null,null,null,null,{"$f":"VLOOKUP(K8566,[5]Paramètres!$M$5:$O$101,2,0)","v":{"$error":"#N/A"}},{"$f":"VLOOKUP(K8566,[5]Paramètres!$M$5:$O$101,3,0)","v":{"$error":"#N/A"}},null,null,null,null,null,null,null,null,null,null,{"$f":"SUM(Tableau_Data[[#This Row],[Féminin]:[Masculin]])","v":0}]
[null,null,"",null,"",null,null,null,null,null,null,{"$f":"VLOOKUP(K8567,[5]Paramètres!$M$5:$O$101,2,0)","v":{"$error":"#N/A"}},{"$f":"VLOOKUP(K8567,[5]Paramètres!$M$5:$O$101,3,0)","v":{"$error":"#N/A"}},null,null,null,null,null,null,null,null,null,null,{"$f":"SUM(Tableau_Data[[#This Row],[Féminin]:[Masculin]])","v":0}]
[null,null,"",null,"",null,null,null,null,null,null,{"$f":"VLOOKUP(K8577,[5]Paramètres!$M$5:$O$101,2,0)","v":{"$error":"#N/A"}},{"$f":"VLOOKUP(K8577,[5]Paramètres!$M$5:$O$101,3,0)","v":{"$error":"#N/A"}},null,null,null,null,null,null,null,null,null,null,{"$f":"SUM(Tableau_Data[[#This Row],[Féminin]:[Masculin]])","v":0}]
[null,null,"",null,"",null,null,null,null,null,null,{"$f":"VLOOKUP(K8586,[5]Paramètres!$M$5:$O$101,2,0)","v":{"$error":"#N/A"}},{"$f":"VLOOKUP(K8586,[5]Paramètres!$M$5:$O$101,3,0)","v":{"$error":"#N/A"}},null,null,null,null,null,null,null,null,null,null,{"$f":"SUM(Tableau_Data[[#This Row],[Féminin]:[Masculin]])","v":0}]
[null,null,"",null,"",null,null,null,null,null,null,{"$f":"VLOOKUP(K8595,[5]Paramètres!$M$5:$O$101,2,0)","v":{"$error":"#N/A"}},{"$f":"VLOOKUP(K8595,[5]Paramètres!$M$5:$O$101,3,0)","v":{"$error":"#N/A"}},null,null,null,null,null,null,null,null,null,null,{"$f":"SUM(Tableau_Data[[#This Row],[Féminin]:[Masculin]])","v":0}]
[null,null,"",null,"",null,null,null,null,null,null,{"$f":"VLOOKUP(K8602,[5]Paramètres!$M$5:$O$101,2,0)","v":{"$error":"#N/A"}},{"$f":"VLOOKUP(K8602,[5]Paramètres!$M$5:$O$101,3,0)","v":{"$error":"#N/A"}},null,null,null,null,null,null,null,null,null,null,{"$f":"SUM(Tableau_Data[[#This Row],[Féminin]:[Masculin]])","v":0}]
[null,null,"",null,"",null,null,null,null,null,null,{"$f":"VLOOKUP(K8614,[5]Paramètres!$M$5:$O$101,2,0)","v":{"$error":"#N/A"}},{"$f":"VLOOKUP(K8614,[5]Paramètres!$M$5:$O$101,3,0)","v":{"$error":"#N/A"}},null,null,null,null,null,null,null,null,null,null,{"$f":"SUM(Tableau_Data[[#This Row],[Féminin]:[Masculin]])","v":0}]
[null,null,"",null,"",null,null,null,null,null,null,{"$f":"VLOOKUP(K8623,[5]Paramètres!$M$5:$O$101,2,0)","v":{"$error":"#N/A"}},{"$f":"VLOOKUP(K8623,[5]Paramètres!$M$5:$O$101,3,0)","v":{"$error":"#N/A"}},null,null,null,null,null,null,null,null,null,null,{"$f":"SUM(Tableau_Data[[#This Row],[Féminin]:[Masculin]])","v":0}]
[null,null,"",null,"",null,null,null,null,null,null,{"$f":"VLOOKUP(K8631,[5]Paramètres!$M$5:$O$101,2,0)","v":{"$error":"#N/A"}},{"$f":"VLOOKUP(K8631,[5]Paramètres!$M$5:$O$101,3,0)","v":{"$error":"#N/A"}},null,null,null,null,null,null,null,null,null,null,{"$f":"SUM(Tableau_Data[[#This Row],[Féminin]:[Masculin]])","v":0}]
[null,null,"",null,"",null,null,null,null,null,null,{"$f":"VLOOKUP(K8634,[5]Paramètres!$M$5:$O$101,2,0)","v":{"$error":"#N/A"}},{"$f":"VLOOKUP(K8634,[5]Paramètres!$M$5:$O$101,3,0)","v":{"$error":"#N/A"}},null,null,null,null,null,null,null,null,null,null,{"$f":"SUM(Tableau_Data[[#This Row],[Féminin]:[Masculin]])","v":0}]
[null,null,"",null,"",null,null,null,null,null,null,{"$f":"VLOOKUP(K8643,[5]Paramètres!$M$5:$O$101,2,0)","v":{"$error":"#N/A"}},{"$f":"VLOOKUP(K8643,[5]Paramètres!$M$5:$O$101,3,0)","v":{"$error":"#N/A"}},null,null,null,null,null,null,null,null,null,null,{"$f":"SUM(Tableau_Data[[#This Row],[Féminin]:[Masculin]])","v":0}]
[null,null,"",null,"",null,null,null,null,null,null,{"$f":"VLOOKUP(K8651,[5]Paramètres!$M$5:$O$101,2,0)","v":{"$error":"#N/A"}},{"$f":"VLOOKUP(K8651,[5]Paramètres!$M$5:$O$101,3,0)","v":{"$error":"#N/A"}},null,null,null,null,null,null,null,null,null,null,{"$f":"SUM(Tableau_Data[[#This Row],[Féminin]:[Masculin]])","v":0}]
[null,null,"",null,"",null,null,null,null,null,null,{"$f":"VLOOKUP(K8662,[5]Paramètres!$M$5:$O$101,2,0)","v":{"$error":"#N/A"}},{"$f":"VLOOKUP(K8662,[5]Paramètres!$M$5:$O$101,3,0)","v":{"$error":"#N/A"}},null,null,null,null,null,null,null,null,null,null,{"$f":"SUM(Tableau_Data[[#This Row],[Féminin]:[Masculin]])","v":0}]
[null,null,"",null,"",null,null,null,null,null,null,{"$f":"VLOOKUP(K8671,[5]Paramètres!$M$5:$O$101,2,0)","v":{"$error":"#N/A"}},{"$f":"VLOOKUP(K8671,[5]Paramètres!$M$5:$O$101,3,0)","v":{"$error":"#N/A"}},null,null,null,null,null,null,null,null,null,null,{"$f":"SUM(Tableau_Data[[#This Row],[Féminin]:[Masculin]])","v":0}]
[null,null,"",null,"",null,null,null,null,null,null,{"$f":"VLOOKUP(K8680,[5]Paramètres!$M$5:$O$101,2,0)","v":{"$error":"#N/A"}},{"$f":"VLOOKUP(K8680,[5]Paramètres!$M$5:$O$101,3,0)","v":{"$error":"#N/A"}},null,null,null,null,null,null,null,null,null,null,{"$f":"SUM(Tableau_Data[[#This Row],[Féminin]:[Masculin]])","v":0}]
[null,null,"",null,"",null,null,null,null,null,null,{"$f":"VLOOKUP(K8690,[5]Paramètres!$M$5:$O$101,2,0)","v":{"$error":"#N/A"}},{"$f":"VLOOKUP(K8690,[5]Paramètres!$M$5:$O$101,3,0)","v":{"$error":"#N/A"}},null,null,null,null,null,null,null,null,null,null,{"$f":"SUM(Tableau_Data[[#This Row],[Féminin]:[Masculin]])","v":0}]
[null,null,"",null,"",null,null,null,null,null,null,{"$f":"VLOOKUP(K8699,[5]Paramètres!$M$5:$O$101,2,0)","v":{"$error":"#N/A"}},{"$f":"VLOOKUP(K8699,[5]Paramètres!$M$5:$O$101,3,0)","v":{"$error":"#N/A"}},null,null,null,null,null,null,null,null,null,null,{"$f":"SUM(Tableau_Data[[#This Row],[Féminin]:[Masculin]])","v":0}]
[null,null,"",null,"",null,null,null,null,null,null,{"$f":"VLOOKUP(K8700,[5]Paramètres!$M$5:$O$101,2,0)","v":{"$error":"#N/A"}},{"$f":"VLOOKUP(K8700,[5]Paramètres!$M$5:$O$101,3,0)","v":{"$error":"#N/A"}},null,null,null,null,null,null,null,null,null,null,{"$f":"SUM(Tableau_Data[[#This Row],[Féminin]:[Masculin]])","v":0}]
[null,null,"",null,"",null,null,null,null,null,null,{"$f":"VLOOKUP(K8715,[5]Paramètres!$M$5:$O$101,2,0)","v":{"$error":"#N/A"}},{"$f":"VLOOKUP(K8715,[5]Paramètres!$M$5:$O$101,3,0)","v":{"$error":"#N/A"}},null,null,null,null,null,null,null,null,null,null,{"$f":"SUM(Tableau_Data[[#This Row],[Féminin]:[Masculin]])","v":0}]
[null,null,"",null,"",null,null,null,null,null,null,{"$f":"VLOOKUP(K8719,[5]Paramètres!$M$5:$O$101,2,0)","v":{"$error":"#N/A"}},{"$f":"VLOOKUP(K8719,[5]Paramètres!$M$5:$O$101,3,0)","v":{"$error":"#N/A"}},null,null,null,null,null,null,null,null,null,null,{"$f":"SUM(Tableau_Data[[#This Row],[Féminin]:[Masculin]])","v":0}]
[null,null,"",null,"",null,null,null,null,null,null,{"$f":"VLOOKUP(K8728,[5]Paramètres!$M$5:$O$101,2,0)","v":{"$error":"#N/A"}},{"$f":"VLOOKUP(K8728,[5]Paramètres!$M$5:$O$101,3,0)","v":{"$error":"#N/A"}},null,null,null,null,null,null,null,null,null,null,{"$f":"SUM(Tableau_Data[[#This Row],[Féminin]:[Masculin]])","v":0}]
[null,null,"",null,"",null,null,null,null,null,null,{"$f":"VLOOKUP(K8735,[5]Paramètres!$M$5:$O$101,2,0)","v":{"$error":"#N/A"}},{"$f":"VLOOKUP(K8735,[5]Paramètres!$M$5:$O$101,3,0)","v":{"$error":"#N/A"}},null,null,null,null,null,null,null,null,null,null,{"$f":"SUM(Tableau_Data[[#This Row],[Féminin]:[Masculin]])","v":0}]
[null,null,"",null,"",null,null,null,null,null,null,{"$f":"VLOOKUP(K8747,[5]Paramètres!$M$5:$O$101,2,0)","v":{"$error":"#N/A"}},{"$f":"VLOOKUP(K8747,[5]Paramètres!$M$5:$O$101,3,0)","v":{"$error":"#N/A"}},null,null,null,null,null,null,null,null,null,null,{"$f":"SUM(Tableau_Data[[#This Row],[Féminin]:[Masculin]])","v":0}]
[null,null,"",null,"",null,null,null,null,null,null,{"$f":"VLOOKUP(K8756,[5]Paramètres!$M$5:$O$101,2,0)","v":{"$error":"#N/A"}},{"$f":"VLOOKUP(K8756,[5]Paramètres!$M$5:$O$101,3,0)","v":{"$error":"#N/A"}},null,null,null,null,null,null,null,null,null,null,{"$f":"SUM(Tableau_Data[[#This Row],[Féminin]:[Masculin]])","v":0}]
[null,null,"",null,"",null,null,null,null,null,null,{"$f":"VLOOKUP(K8764,[5]Paramètres!$M$5:$O$101,2,0)","v":{"$error":"#N/A"}},{"$f":"VLOOKUP(K8764,[5]Paramètres!$M$5:$O$101,3,0)","v":{"$error":"#N/A"}},null,null,null,null,null,null,null,null,null,null,{"$f":"SUM(Tableau_Data[[#This Row],[Féminin]:[Masculin]])","v":0}]
[null,null,"",null,"",null,null,null,null,null,null,{"$f":"VLOOKUP(K8767,[5]Paramètres!$M$5:$O$101,2,0)","v":{"$error":"#N/A"}},{"$f":"VLOOKUP(K8767,[5]Paramètres!$M$5:$O$101,3,0)","v":{"$error":"#N/A"}},null,null,null,null,null,null,null,null,null,null,{"$f":"SUM(Tableau_Data[[#This Row],[Féminin]:[Masculin]])","v":0}]
[null,null,"",null,"",null,null,null,null,null,null,{"$f":"VLOOKUP(K8776,[5]Paramètres!$M$5:$O$101,2,0)","v":{"$error":"#N/A"}},{"$f":"VLOOKUP(K8776,[5]Paramètres!$M$5:$O$101,3,0)","v":{"$error":"#N/A"}},null,null,null,null,null,null,null,null,null,null,{"$f":"SUM(Tableau_Data[[#This Row],[Féminin]:[Masculin]])","v":0}]
[null,null,{"$f":"IF(D8784=\"\",\"\",YEAR(D8784))","v":""},null,"",null,null,null,null,null,null,{"$f":"VLOOKUP(K8784,[5]Paramètres!$M$5:$O$101,2,0)","v":{"$error":"#N/A"}},{"$f":"VLOOKUP(K8784,[5]Paramètres!$M$5:$O$101,3,0)","v":{"$error":"#N/A"}},null,null,null,null,null,null,null,null,null,null,{"$f":"SUM(Tableau_Data[[#This Row],[Féminin]:[Masculin]])","v":0}]
[null,null,"",null,"",null,null,null,null,null,null,{"$f":"VLOOKUP(K8795,[5]Paramètres!$M$5:$O$101,2,0)","v":{"$error":"#N/A"}},{"$f":"VLOOKUP(K8795,[5]Paramètres!$M$5:$O$101,3,0)","v":{"$error":"#N/A"}},null,null,null,null,null,null,null,null,null,null,{"$f":"SUM(Tableau_Data[[#This Row],[Féminin]:[Masculin]])","v":0}]
[null,null,"",null,"",null,null,null,null,null,null,{"$f":"VLOOKUP(K8804,[5]Paramètres!$M$5:$O$101,2,0)","v":{"$error":"#N/A"}},{"$f":"VLOOKUP(K8804,[5]Paramètres!$M$5:$O$101,3,0)","v":{"$error":"#N/A"}},null,null,null,null,null,null,null,null,null,null,{"$f":"SUM(Tableau_Data[[#This Row],[Féminin]:[Masculin]])","v":0}]
[null,null,"",null,"",null,null,null,null,null,null,{"$f":"VLOOKUP(K8813,[5]Paramètres!$M$5:$O$101,2,0)","v":{"$error":"#N/A"}},{"$f":"VLOOKUP(K8813,[5]Paramètres!$M$5:$O$101,3,0)","v":{"$error":"#N/A"}},null,null,null,null,null,null,null,null,null,null,{"$f":"SUM(Tableau_Data[[#This Row],[Féminin]:[Masculin]])","v":0}]
[null,null,"",null,"",null,null,null,null,null,null,{"$f":"VLOOKUP(K8819,[5]Paramètres!$M$5:$O$101,2,0)","v":{"$error":"#N/A"}},{"$f":"VLOOKUP(K8819,[5]Paramètres!$M$5:$O$101,3,0)","v":{"$error":"#N/A"}},null,null,null,null,null,null,null,null,null,null,{"$f":"SUM(Tableau_Data[[#This Row],[Féminin]:[Masculin]])","v":0}]
[null,null,"",null,"",null,null,null,null,null,null,{"$f":"VLOOKUP(K8832,[5]Paramètres!$M$5:$O$101,2,0)","v":{"$error":"#N/A"}},{"$f":"VLOOKUP(K8832,[5]Paramètres!$M$5:$O$101,3,0)","v":{"$error":"#N/A"}},null,null,null,null,null,null,null,null,null,null,{"$f":"SUM(Tableau_Data[[#This Row],[Féminin]:[Masculin]])","v":0}]
[null,null,"",null,"",null,null,null,null,null,null,{"$f":"VLOOKUP(K8833,[5]Paramètres!$M$5:$O$101,2,0)","v":{"$error":"#N/A"}},{"$f":"VLOOKUP(K8833,[5]Paramètres!$M$5:$O$101,3,0)","v":{"$error":"#N/A"}},null,null,null,null,null,null,null,null,null,null,{"$f":"SUM(Tableau_Data[[#This Row],[Féminin]:[Masculin]])","v":0}]
[null,null,{"$f":"IF(D8848=\"\",\"\",YEAR(D8848))","v":""},null,"",null,null,null,null,null,null,{"$f":"VLOOKUP(K8848,[5]Paramètres!$M$5:$O$101,2,0)","v":{"$error":"#N/A"}},{"$f":"VLOOKUP(K8848,[5]Paramètres!$M$5:$O$101,3,0)","v":{"$error":"#N/A"}},null,null,null,null,null,null,null,null,null,null,{"$f":"SUM(Tableau_Data[[#This Row],[Féminin]:[Masculin]])","v":0}]
[null,null,"",null,"",null,null,null,null,null,null,{"$f":"VLOOKUP(K8852,[5]Paramètres!$M$5:$O$101,2,0)","v":{"$error":"#N/A"}},{"$f":"VLOOKUP(K8852,[5]Paramètres!$M$5:$O$101,3,0)","v":{"$error":"#N/A"}},null,null,null,null,null,null,null,null,null,null,{"$f":"SUM(Tableau_Data[[#This Row],[Féminin]:[Masculin]])","v":0}]
[null,null,"",null,"",null,null,null,null,null,null,{"$f":"VLOOKUP(K8861,[5]Paramètres!$M$5:$O$101,2,0)","v":{"$error":"#N/A"}},{"$f":"VLOOKUP(K8861,[5]Paramètres!$M$5:$O$101,3,0)","v":{"$error":"#N/A"}},null,null,null,null,null,null,null,null,null,null,{"$f":"SUM(Tableau_Data[[#This Row],[Féminin]:[Masculin]])","v":0}]
[null,null,"",null,"",null,null,null,null,null,null,{"$f":"VLOOKUP(K8868,[5]Paramètres!$M$5:$O$101,2,0)","v":{"$error":"#N/A"}},{"$f":"VLOOKUP(K8868,[5]Paramètres!$M$5:$O$101,3,0)","v":{"$error":"#N/A"}},null,null,null,null,null,null,null,null,null,null,{"$f":"SUM(Tableau_Data[[#This Row],[Féminin]:[Masculin]])","v":0}]
[null,null,"",null,"",null,null,null,null,null,null,{"$f":"VLOOKUP(K8880,[5]Paramètres!$M$5:$O$101,2,0)","v":{"$error":"#N/A"}},{"$f":"VLOOKUP(K8880,[5]Paramètres!$M$5:$O$101,3,0)","v":{"$error":"#N/A"}},null,null,null,null,null,null,null,null,null,null,{"$f":"SUM(Tableau_Data[[#This Row],[Féminin]:[Masculin]])","v":0}]
[null,null,"",null,{"$f":"IF(D8889=\"\",\"\",MONTH(D8889))","v":""},null,null,null,null,null,null,{"$f":"VLOOKUP(K8889,[5]Paramètres!$M$5:$O$101,2,0)","v":{"$error":"#N/A"}},{"$f":"VLOOKUP(K8889,[5]Paramètres!$M$5:$O$101,3,0)","v":{"$error":"#N/A"}},null,null,null,null,null,null,null,null,null,null,{"$f":"SUM(Tableau_Data[[#This Row],[Féminin]:[Masculin]])","v":0}]
[null,null,"",null,"",null,null,null,null,null,null,{"$f":"VLOOKUP(K8897,[5]Paramètres!$M$5:$O$101,2,0)","v":{"$error":"#N/A"}},{"$f":"VLOOKUP(K8897,[5]Paramètres!$M$5:$O$101,3,0)","v":{"$error":"#N/A"}},null,null,null,null,null,null,null,null,null,null,{"$f":"SUM(Tableau_Data[[#This Row],[Féminin]:[Masculin]])","v":0}]
[null,null,"",null,"",null,null,null,null,null,null,{"$f":"VLOOKUP(K8900,[5]Paramètres!$M$5:$O$101,2,0)","v":{"$error":"#N/A"}},{"$f":"VLOOKUP(K8900,[5]Paramètres!$M$5:$O$101,3,0)","v":{"$error":"#N/A"}},null,null,null,null,null,null,null,null,null,null,{"$f":"SUM(Tableau_Data[[#This Row],[Féminin]:[Masculin]])","v":0}]
[null,null,"",null,"",null,null,null,null,null,null,{"$f":"VLOOKUP(K8909,[5]Paramètres!$M$5:$O$101,2,0)","v":{"$error":"#N/A"}},{"$f":"VLOOKUP(K8909,[5]Paramètres!$M$5:$O$101,3,0)","v":{"$error":"#N/A"}},null,null,null,null,null,null,null,null,null,null,{"$f":"SUM(Tableau_Data[[#This Row],[Féminin]:[Masculin]])","v":0}]
[null,null,"",null,"",null,null,null,null,null,null,{"$f":"VLOOKUP(K8918,[5]Paramètres!$M$5:$O$101,2,0)","v":{"$error":"#N/A"}},{"$f":"VLOOKUP(K8918,[5]Paramètres!$M$5:$O$101,3,0)","v":{"$error":"#N/A"}},null,null,null,null,null,null,null,null,null,null,{"$f":"SUM(Tableau_Data[[#This Row],[Féminin]:[Masculin]])","v":0}]
[null,null,"",null,"",null,null,null,null,null,null,{"$f":"VLOOKUP(K8932,[5]Paramètres!$M$5:$O$101,2,0)","v":{"$error":"#N/A"}},{"$f":"VLOOKUP(K8932,[5]Paramètres!$M$5:$O$101,3,0)","v":{"$error":"#N/A"}},null,null,null,null,null,null,null,null,null,null,{"$f":"SUM(Tableau_Data[[#This Row],[Féminin]:[Masculin]])","v":0}]
[null,null,"",null,"",null,null,null,null,null,null,{"$f":"VLOOKUP(K8937,[5]Paramètres!$M$5:$O$101,2,0)","v":{"$error":"#N/A"}},{"$f":"VLOOKUP(K8937,[5]Paramètres!$M$5:$O$101,3,0)","v":{"$error":"#N/A"}},null,null,null,null,null,null,null,null,null,null,{"$f":"SUM(Tableau_Data[[#This Row],[Féminin]:[Masculin]])","v":0}]
[null,null,"",null,"",null,null,null,null,null,null,{"$f":"VLOOKUP(K8946,[5]Paramètres!$M$5:$O$101,2,0)","v":{"$error":"#N/A"}},{"$f":"VLOOKUP(K8946,[5]Paramètres!$M$5:$O$101,3,0)","v":{"$error":"#N/A"}},null,null,null,null,null,null,null,null,null,null,{"$f":"SUM(Tableau_Data[[#This Row],[Féminin]:[Masculin]])","v":0}]
[null,null,"",null,"",null,null,null,null,null,null,{"$f":"VLOOKUP(K8952,[5]Paramètres!$M$5:$O$101,2,0)","v":{"$error":"#N/A"}},{"$f":"VLOOKUP(K8952,[5]Paramètres!$M$5:$O$101,3,0)","v":{"$error":"#N/A"}},null,null,null,null,null,null,null,null,null,null,{"$f":"SUM(Tableau_Data[[#This Row],[Féminin]:[Masculin]])","v":0}]
[null,null,"",null,"",null,null,null,null,null,null,{"$f":"VLOOKUP(K8965,[5]Paramètres!$M$5:$O$101,2,0)","v":{"$error":"#N/A"}},{"$f":"VLOOKUP(K8965,[5]Paramètres!$M$5:$O$101,3,0)","v":{"$error":"#N/A"}},null,null,null,null,null,null,null,null,null,null,{"$f":"SUM(Tableau_Data[[#This Row],[Féminin]:[Masculin]])","v":0}]
[null,null,"",null,"",null,null,null,null,null,null,{"$f":"VLOOKUP(K8966,[5]Paramètres!$M$5:$O$101,2,0)","v":{"$error":"#N/A"}},{"$f":"VLOOKUP(K8966,[5]Paramètres!$M$5:$O$101,3,0)","v":{"$error":"#N/A"}},null,null,null,null,null,null,null,null,null,null,{"$f":"SUM(Tableau_Data[[#This Row],[Féminin]:[Masculin]])","v":0}]
[null,null,"",null,"",null,null,null,null,null,null,{"$f":"VLOOKUP(K8981,[5]Paramètres!$M$5:$O$101,2,0)","v":{"$error":"#N/A"}},{"$f":"VLOOKUP(K8981,[5]Paramètres!$M$5:$O$101,3,0)","v":{"$error":"#N/A"}},null,null,null,null,null,null,null,null,null,null,{"$f":"SUM(Tableau_Data[[#This Row],[Féminin]:[Masculin]])","v":0}]
[null,null,"",null,"",null,null,null,null,null,null,{"$f":"VLOOKUP(K8985,[5]Paramètres!$M$5:$O$101,2,0)","v":{"$error":"#N/A"}},{"$f":"VLOOKUP(K8985,[5]Paramètres!$M$5:$O$101,3,0)","v":{"$error":"#N/A"}},null,null,null,null,null,null,null,null,null,null,{"$f":"SUM(Tableau_Data[[#This Row],[Féminin]:[Masculin]])","v":0}]
[null,null,"",null,"",null,null,null,null,null,null,{"$f":"VLOOKUP(K8994,[5]Paramètres!$M$5:$O$101,2,0)","v":{"$error":"#N/A"}},{"$f":"VLOOKUP(K8994,[5]Paramètres!$M$5:$O$101,3,0)","v":{"$error":"#N/A"}},null,null,null,null,null,null,null,null,null,null,{"$f":"SUM(Tableau_Data[[#This Row],[Féminin]:[Masculin]])","v":0}]
[null,null,"",null,"",null,null,null,null,null,null,{"$f":"VLOOKUP(K9003,[5]Paramètres!$M$5:$O$101,2,0)","v":{"$error":"#N/A"}},{"$f":"VLOOKUP(K9003,[5]Paramètres!$M$5:$O$101,3,0)","v":{"$error":"#N/A"}},null,null,null,null,null,null,null,null,null,null,{"$f":"SUM(Tableau_Data[[#This Row],[Féminin]:[Masculin]])","v":0}]
[null,null,"",null,"",null,null,null,null,null,null,{"$f":"VLOOKUP(K9007,[5]Paramètres!$M$5:$O$101,2,0)","v":{"$error":"#N/A"}},{"$f":"VLOOKUP(K9007,[5]Paramètres!$M$5:$O$101,3,0)","v":{"$error":"#N/A"}},null,null,null,null,null,null,null,null,null,null,{"$f":"SUM(Tableau_Data[[#This Row],[Féminin]:[Masculin]])","v":0}]
[null,null,"",null,"",null,null,null,null,null,null,{"$f":"VLOOKUP(K9022,[5]Paramètres!$M$5:$O$101,2,0)","v":{"$error":"#N/A"}},{"$f":"VLOOKUP(K9022,[5]Paramètres!$M$5:$O$101,3,0)","v":{"$error":"#N/A"}},null,null,null,null,null,null,null,null,null,null,{"$f":"SUM(Tableau_Data[[#This Row],[Féminin]:[Masculin]])","v":0}]
[null,null,"",null,"",null,null,null,null,null,null,{"$f":"VLOOKUP(K9031,[5]Paramètres!$M$5:$O$101,2,0)","v":{"$error":"#N/A"}},{"$f":"VLOOKUP(K9031,[5]Paramètres!$M$5:$O$101,3,0)","v":{"$error":"#N/A"}},null,null,null,null,null,null,null,null,null,null,{"$f":"SUM(Tableau_Data[[#This Row],[Féminin]:[Masculin]])","v":0}]
[null,null,"",null,"",null,null,null,null,null,null,{"$f":"VLOOKUP(K9036,[5]Paramètres!$M$5:$O$101,2,0)","v":{"$error":"#N/A"}},{"$f":"VLOOKUP(K9036,[5]Paramètres!$M$5:$O$101,3,0)","v":{"$error":"#N/A"}},null,null,null,null,null,null,null,null,null,null,{"$f":"SUM(Tableau_Data[[#This Row],[Féminin]:[Masculin]])","v":0}]
[null,null,"",null,"",null,null,null,null,null,null,{"$f":"VLOOKUP(K9042,[5]Paramètres!$M$5:$O$101,2,0)","v":{"$error":"#N/A"}},{"$f":"VLOOKUP(K9042,[5]Paramètres!$M$5:$O$101,3,0)","v":{"$error":"#N/A"}},null,null,null,null,null,null,null,null,null,null,{"$f":"SUM(Tableau_Data[[#This Row],[Féminin]:[Masculin]])","v":0}]
[null,null,"",null,"",null,null,null,null,null,null,{"$f":"VLOOKUP(K9051,[5]Paramètres!$M$5:$O$101,2,0)","v":{"$error":"#N/A"}},{"$f":"VLOOKUP(K9051,[5]Paramètres!$M$5:$O$101,3,0)","v":{"$error":"#N/A"}},null,null,null,null,null,null,null,null,null,null,{"$f":"SUM(Tableau_Data[[#This Row],[Féminin]:[Masculin]])","v":0}]
[null,null,"",null,"",null,null,null,null,null,null,{"$f":"VLOOKUP(K9065,[5]Paramètres!$M$5:$O$101,2,0)","v":{"$error":"#N/A"}},{"$f":"VLOOKUP(K9065,[5]Paramètres!$M$5:$O$101,3,0)","v":{"$error":"#N/A"}},null,null,null,null,null,null,null,null,null,null,{"$f":"SUM(Tableau_Data[[#This Row],[Féminin]:[Masculin]])","v":0}]
[null,null,"",null,"",null,null,null,null,null,null,{"$f":"VLOOKUP(K9070,[5]Paramètres!$M$5:$O$101,2,0)","v":{"$error":"#N/A"}},{"$f":"VLOOKUP(K9070,[5]Paramètres!$M$5:$O$101,3,0)","v":{"$error":"#N/A"}},null,null,null,null,null,null,null,null,null,null,{"$f":"SUM(Tableau_Data[[#This Row],[Féminin]:[Masculin]])","v":0}]
[null,null,"",null,"",null,null,null,null,null,null,{"$f":"VLOOKUP(K9079,[5]Paramètres!$M$5:$O$101,2,0)","v":{"$error":"#N/A"}},{"$f":"VLOOKUP(K9079,[5]Paramètres!$M$5:$O$101,3,0)","v":{"$error":"#N/A"}},null,null,null,null,null,null,null,null,null,null,{"$f":"SUM(Tableau_Data[[#This Row],[Féminin]:[Masculin]])","v":0}]
[null,null,"",null,"",null,null,null,null,null,null,{"$f":"VLOOKUP(K9085,[5]Paramètres!$M$5:$O$101,2,0)","v":{"$error":"#N/A"}},{"$f":"VLOOKUP(K9085,[5]Paramètres!$M$5:$O$101,3,0)","v":{"$error":"#N/A"}},null,null,null,null,null,null,null,null,null,null,{"$f":"SUM(Tableau_Data[[#This Row],[Féminin]:[Masculin]])","v":0}]
[null,null,"",null,"",null,null,null,null,null,null,{"$f":"VLOOKUP(K9098,[5]Paramètres!$M$5:$O$101,2,0)","v":{"$error":"#N/A"}},{"$f":"VLOOKUP(K9098,[5]Paramètres!$M$5:$O$101,3,0)","v":{"$error":"#N/A"}},null,null,null,null,null,null,null,null,null,null,{"$f":"SUM(Tableau_Data[[#This Row],[Féminin]:[Masculin]])","v":0}]
[null,null,"",null,"",null,null,null,null,null,null,{"$f":"VLOOKUP(K9099,[5]Paramètres!$M$5:$O$101,2,0)","v":{"$error":"#N/A"}},{"$f":"VLOOKUP(K9099,[5]Paramètres!$M$5:$O$101,3,0)","v":{"$error":"#N/A"}},null,null,null,null,null,null,null,null,null,null,{"$f":"SUM(Tableau_Data[[#This Row],[Féminin]:[Masculin]])","v":0}]
[null,null,"",null,"",null,null,null,null,null,null,{"$f":"VLOOKUP(K9108,[5]Paramètres!$M$5:$O$101,2,0)","v":{"$error":"#N/A"}},{"$f":"VLOOKUP(K9108,[5]Paramètres!$M$5:$O$101,3,0)","v":{"$error":"#N/A"}},null,null,null,null,null,null,null,null,null,null,{"$f":"SUM(Tableau_Data[[#This Row],[Féminin]:[Masculin]])","v":0}]
[null,null,"",null,"",null,null,null,null,null,null,{"$f":"VLOOKUP(K9120,[5]Paramètres!$M$5:$O$101,2,0)","v":{"$error":"#N/A"}},{"$f":"VLOOKUP(K9120,[5]Paramètres!$M$5:$O$101,3,0)","v":{"$error":"#N/A"}},null,null,null,null,null,null,null,null,null,null,{"$f":"SUM(Tableau_Data[[#This Row],[Féminin]:[Masculin]])","v":0}]
[null,null,"",null,"",null,null,null,null,null,null,{"$f":"VLOOKUP(K9127,[5]Paramètres!$M$5:$O$101,2,0)","v":{"$error":"#N/A"}},{"$f":"VLOOKUP(K9127,[5]Paramètres!$M$5:$O$101,3,0)","v":{"$error":"#N/A"}},null,null,null,null,null,null,null,null,null,null,{"$f":"SUM(Tableau_Data[[#This Row],[Féminin]:[Masculin]])","v":0}]
[null,null,"",null,"",null,null,null,null,null,null,{"$f":"VLOOKUP(K9136,[5]Paramètres!$M$5:$O$101,2,0)","v":{"$error":"#N/A"}},{"$f":"VLOOKUP(K9136,[5]Paramètres!$M$5:$O$101,3,0)","v":{"$error":"#N/A"}},null,null,null,null,null,null,null,null,null,null,{"$f":"SUM(Tableau_Data[[#This Row],[Féminin]:[Masculin]])","v":0}]
[null,null,"",null,"",null,null,null,null,null,null,{"$f":"VLOOKUP(K9140,[5]Paramètres!$M$5:$O$101,2,0)","v":{"$error":"#N/A"}},{"$f":"VLOOKUP(K9140,[5]Paramètres!$M$5:$O$101,3,0)","v":{"$error":"#N/A"}},null,null,null,null,null,null,null,null,null,null,{"$f":"SUM(Tableau_Data[[#This Row],[Féminin]:[Masculin]])","v":0}]
[null,null,"",null,"",null,null,null,null,null,null,{"$f":"VLOOKUP(K9155,[5]Paramètres!$M$5:$O$101,2,0)","v":{"$error":"#N/A"}},{"$f":"VLOOKUP(K9155,[5]Paramètres!$M$5:$O$101,3,0)","v":{"$error":"#N/A"}},null,null,null,null,null,null,null,null,null,null,{"$f":"SUM(Tableau_Data[[#This Row],[Féminin]:[Masculin]])","v":0}]
[null,null,"",null,"",null,null,null,null,null,null,{"$f":"VLOOKUP(K9164,[5]Paramètres!$M$5:$O$101,2,0)","v":{"$error":"#N/A"}},{"$f":"VLOOKUP(K9164,[5]Paramètres!$M$5:$O$101,3,0)","v":{"$error":"#N/A"}},null,null,null,null,null,null,null,null,null,null,{"$f":"SUM(Tableau_Data[[#This Row],[Féminin]:[Masculin]])","v":0}]
[null,null,"",null,"",null,null,null,null,null,null,{"$f":"VLOOKUP(K9169,[5]Paramètres!$M$5:$O$101,2,0)","v":{"$error":"#N/A"}},{"$f":"VLOOKUP(K9169,[5]Paramètres!$M$5:$O$101,3,0)","v":{"$error":"#N/A"}},null,null,null,null,null,null,null,null,null,null,{"$f":"SUM(Tableau_Data[[#This Row],[Féminin]:[Masculin]])","v":0}]
[null,null,"",null,"",null,null,null,null,null,null,{"$f":"VLOOKUP(K9175,[5]Paramètres!$M$5:$O$101,2,0)","v":{"$error":"#N/A"}},{"$f":"VLOOKUP(K9175,[5]Paramètres!$M$5:$O$101,3,0)","v":{"$error":"#N/A"}},null,null,null,null,null,null,null,null,null,null,{"$f":"SUM(Tableau_Data[[#This Row],[Féminin]:[Masculin]])","v":0}]
[null,null,"",null,"",null,null,null,null,null,null,{"$f":"VLOOKUP(K9184,[5]Paramètres!$M$5:$O$101,2,0)","v":{"$error":"#N/A"}},{"$f":"VLOOKUP(K9184,[5]Paramètres!$M$5:$O$101,3,0)","v":{"$error":"#N/A"}},null,null,null,null,null,null,null,null,null,null,{"$f":"SUM(Tableau_Data[[#This Row],[Féminin]:[Masculin]])","v":0}]
[null,null,"",null,"",null,null,null,null,null,null,{"$f":"VLOOKUP(K9198,[5]Paramètres!$M$5:$O$101,2,0)","v":{"$error":"#N/A"}},{"$f":"VLOOKUP(K9198,[5]Paramètres!$M$5:$O$101,3,0)","v":{"$error":"#N/A"}},null,null,null,null,null,null,null,null,null,null,{"$f":"SUM(Tableau_Data[[#This Row],[Féminin]:[Masculin]])","v":0}]
[null,null,"",null,"",null,null,null,null,null,null,{"$f":"VLOOKUP(K9203,[5]Paramètres!$M$5:$O$101,2,0)","v":{"$error":"#N/A"}},{"$f":"VLOOKUP(K9203,[5]Paramètres!$M$5:$O$101,3,0)","v":{"$error":"#N/A"}},null,null,null,null,null,null,null,null,null,null,{"$f":"SUM(Tableau_Data[[#This Row],[Féminin]:[Masculin]])","v":0}]
[null,null,"",null,"",null,null,null,null,null,null,{"$f":"VLOOKUP(K9212,[5]Paramètres!$M$5:$O$101,2,0)","v":{"$error":"#N/A"}},{"$f":"VLOOKUP(K9212,[5]Paramètres!$M$5:$O$101,3,0)","v":{"$error":"#N/A"}},null,null,null,null,null,null,null,null,null,null,{"$f":"SUM(Tableau_Data[[#This Row],[Féminin]:[Masculin]])","v":0}]
[null,null,"",null,"",null,null,null,null,null,null,{"$f":"VLOOKUP(K9221,[5]Paramètres!$M$5:$O$101,2,0)","v":{"$error":"#N/A"}},{"$f":"VLOOKUP(K9221,[5]Paramètres!$M$5:$O$101,3,0)","v":{"$error":"#N/A"}},null,null,null,null,null,null,null,null,null,null,{"$f":"SUM(Tableau_Data[[#This Row],[Féminin]:[Masculin]])","v":0}]
[null,null,"",null,"",null,null,null,null,null,null,{"$f":"VLOOKUP(K9224,[5]Paramètres!$M$5:$O$101,2,0)","v":{"$error":"#N/A"}},{"$f":"VLOOKUP(K9224,[5]Paramètres!$M$5:$O$101,3,0)","v":{"$error":"#N/A"}},null,null,null,null,null,null,null,null,null,null,{"$f":"SUM(Tableau_Data[[#This Row],[Féminin]:[Masculin]])","v":0}]
[null,null,{"$f":"IF(D9232=\"\",\"\",YEAR(D9232))","v":""},null,"",null,null,null,null,null,null,{"$f":"VLOOKUP(K9232,[5]Paramètres!$M$5:$O$101,2,0)","v":{"$error":"#N/A"}},{"$f":"VLOOKUP(K9232,[5]Paramètres!$M$5:$O$101,3,0)","v":{"$error":"#N/A"}},null,null,null,null,null,null,null,null,null,null,{"$f":"SUM(Tableau_Data[[#This Row],[Féminin]:[Masculin]])","v":0}]
[null,null,"",null,"",null,null,null,null,null,null,{"$f":"VLOOKUP(K9241,[5]Paramètres!$M$5:$O$101,2,0)","v":{"$error":"#N/A"}},{"$f":"VLOOKUP(K9241,[5]Paramètres!$M$5:$O$101,3,0)","v":{"$error":"#N/A"}},null,null,null,null,null,null,null,null,null,null,{"$f":"SUM(Tableau_Data[[#This Row],[Féminin]:[Masculin]])","v":0}]
[null,null,"",null,"",null,null,null,null,null,null,{"$f":"VLOOKUP(K9253,[5]Paramètres!$M$5:$O$101,2,0)","v":{"$error":"#N/A"}},{"$f":"VLOOKUP(K9253,[5]Paramètres!$M$5:$O$101,3,0)","v":{"$error":"#N/A"}},null,null,null,null,null,null,null,null,null,null,{"$f":"SUM(Tableau_Data[[#This Row],[Féminin]:[Masculin]])","v":0}]
[null,null,"",null,"",null,null,null,null,null,null,{"$f":"VLOOKUP(K9260,[5]Paramètres!$M$5:$O$101,2,0)","v":{"$error":"#N/A"}},{"$f":"VLOOKUP(K9260,[5]Paramètres!$M$5:$O$101,3,0)","v":{"$error":"#N/A"}},null,null,null,null,null,null,null,null,null,null,{"$f":"SUM(Tableau_Data[[#This Row],[Féminin]:[Masculin]])","v":0}]
[null,null,"",null,"",null,null,null,null,null,null,{"$f":"VLOOKUP(K9269,[5]Paramètres!$M$5:$O$101,2,0)","v":{"$error":"#N/A"}},{"$f":"VLOOKUP(K9269,[5]Paramètres!$M$5:$O$101,3,0)","v":{"$error":"#N/A"}},null,null,null,null,null,null,null,null,null,null,{"$f":"SUM(Tableau_Data[[#This Row],[Féminin]:[Masculin]])","v":0}]
[null,null,"",null,"",null,null,null,null,null,null,{"$f":"VLOOKUP(K9273,[5]Paramètres!$M$5:$O$101,2,0)","v":{"$error":"#N/A"}},{"$f":"VLOOKUP(K9273,[5]Paramètres!$M$5:$O$101,3,0)","v":{"$error":"#N/A"}},null,null,null,null,null,null,null,null,null,null,{"$f":"SUM(Tableau_Data[[#This Row],[Féminin]:[Masculin]])","v":0}]
[null,null,"",null,"",null,null,null,null,null,null,{"$f":"VLOOKUP(K9288,[5]Paramètres!$M$5:$O$101,2,0)","v":{"$error":"#N/A"}},{"$f":"VLOOKUP(K9288,[5]Paramètres!$M$5:$O$101,3,0)","v":{"$error":"#N/A"}},null,null,null,null,null,null,null,null,null,null,{"$f":"SUM(Tableau_Data[[#This Row],[Féminin]:[Masculin]])","v":0}]
[null,null,"",null,"",null,null,null,null,null,null,{"$f":"VLOOKUP(K9297,[5]Paramètres!$M$5:$O$101,2,0)","v":{"$error":"#N/A"}},{"$f":"VLOOKUP(K9297,[5]Paramètres!$M$5:$O$101,3,0)","v":{"$error":"#N/A"}},null,null,null,null,null,null,null,null,null,null,{"$f":"SUM(Tableau_Data[[#This Row],[Féminin]:[Masculin]])","v":0}]
[null,null,"",null,"",null,null,null,null,null,null,{"$f":"VLOOKUP(K9302,[5]Paramètres!$M$5:$O$101,2,0)","v":{"$error":"#N/A"}},{"$f":"VLOOKUP(K9302,[5]Paramètres!$M$5:$O$101,3,0)","v":{"$error":"#N/A"}},null,null,null,null,null,null,null,null,null,null,{"$f":"SUM(Tableau_Data[[#This Row],[Féminin]:[Masculin]])","v":0}]
[null,null,"",null,"",null,null,null,null,null,null,{"$f":"VLOOKUP(K9307,[5]Paramètres!$M$5:$O$101,2,0)","v":{"$error":"#N/A"}},{"$f":"VLOOKUP(K9307,[5]Paramètres!$M$5:$O$101,3,0)","v":{"$error":"#N/A"}},null,null,null,null,null,null,null,null,null,null,{"$f":"SUM(Tableau_Data[[#This Row],[Féminin]:[Masculin]])","v":0}]
[null,null,"",null,{"$f":"IF(D9308=\"\",\"\",MONTH(D9308))","v":""},null,null,null,null,null,null,{"$f":"VLOOKUP(K9308,[5]Paramètres!$M$5:$O$101,2,0)","v":{"$error":"#N/A"}},{"$f":"VLOOKUP(K9308,[5]Paramètres!$M$5:$O$101,3,0)","v":{"$error":"#N/A"}},null,null,null,null,null,null,null,null,null,null,{"$f":"SUM(Tableau_Data[[#This Row],[Féminin]:[Masculin]])","v":0}]
[null,null,"",null,"",null,null,null,null,null,null,{"$f":"VLOOKUP(K9309,[5]Paramètres!$M$5:$O$101,2,0)","v":{"$error":"#N/A"}},{"$f":"VLOOKUP(K9309,[5]Paramètres!$M$5:$O$101,3,0)","v":{"$error":"#N/A"}},null,null,null,null,null,null,null,null,null,null,{"$f":"SUM(Tableau_Data[[#This Row],[Féminin]:[Masculin]])","v":0}]
[null,null,"",null,"",null,null,null,null,null,null,{"$f":"VLOOKUP(K9310,[5]Paramètres!$M$5:$O$101,2,0)","v":{"$error":"#N/A"}},{"$f":"VLOOKUP(K9310,[5]Paramètres!$M$5:$O$101,3,0)","v":{"$error":"#N/A"}},null,null,null,null,null,null,null,null,null,null,{"$f":"SUM(Tableau_Data[[#This Row],[Féminin]:[Masculin]])","v":0}]
[null,null,"",null,"",null,null,null,null,null,null,{"$f":"VLOOKUP(K9311,[5]Paramètres!$M$5:$O$101,2,0)","v":{"$error":"#N/A"}},{"$f":"VLOOKUP(K9311,[5]Paramètres!$M$5:$O$101,3,0)","v":{"$error":"#N/A"}},null,null,null,null,null,null,null,null,null,null,{"$f":"SUM(Tableau_Data[[#This Row],[Féminin]:[Masculin]])","v":0}]
[null,null,"",null,"",null,null,null,null,null,null,{"$f":"VLOOKUP(K9312,[5]Paramètres!$M$5:$O$101,2,0)","v":{"$error":"#N/A"}},{"$f":"VLOOKUP(K9312,[5]Paramètres!$M$5:$O$101,3,0)","v":{"$error":"#N/A"}},null,null,null,null,null,null,null,null,null,null,{"$f":"SUM(Tableau_Data[[#This Row],[Féminin]:[Masculin]])","v":0}]
[null,null,"",null,"",null,null,null,null,null,null,{"$f":"VLOOKUP(K9313,[5]Paramètres!$M$5:$O$101,2,0)","v":{"$error":"#N/A"}},{"$f":"VLOOKUP(K9313,[5]Paramètres!$M$5:$O$101,3,0)","v":{"$error":"#N/A"}},null,null,null,null,null,null,null,null,null,null,{"$f":"SUM(Tableau_Data[[#This Row],[Féminin]:[Masculin]])","v":0}]
[null,null,"",null,"",null,null,null,null,null,null,{"$f":"VLOOKUP(K9314,[5]Paramètres!$M$5:$O$101,2,0)","v":{"$error":"#N/A"}},{"$f":"VLOOKUP(K9314,[5]Paramètres!$M$5:$O$101,3,0)","v":{"$error":"#N/A"}},null,null,null,null,null,null,null,null,null,null,{"$f":"SUM(Tableau_Data[[#This Row],[Féminin]:[Masculin]])","v":0}]
[null,null,"",null,"",null,null,null,null,null,null,{"$f":"VLOOKUP(K9315,[5]Paramètres!$M$5:$O$101,2,0)","v":{"$error":"#N/A"}},{"$f":"VLOOKUP(K9315,[5]Paramètres!$M$5:$O$101,3,0)","v":{"$error":"#N/A"}},null,null,null,null,null,null,null,null,null,null,{"$f":"SUM(Tableau_Data[[#This Row],[Féminin]:[Masculin]])","v":0}]
[null,null,"",null,"",null,null,null,null,null,null,{"$f":"VLOOKUP(K9316,[5]Paramètres!$M$5:$O$101,2,0)","v":{"$error":"#N/A"}},{"$f":"VLOOKUP(K9316,[5]Paramètres!$M$5:$O$101,3,0)","v":{"$error":"#N/A"}},null,null,null,null,null,null,null,null,null,null,{"$f":"SUM(Tableau_Data[[#This Row],[Féminin]:[Masculin]])","v":0}]
[null,null,"",null,"",null,null,null,null,null,null,{"$f":"VLOOKUP(K9317,[5]Paramètres!$M$5:$O$101,2,0)","v":{"$error":"#N/A"}},{"$f":"VLOOKUP(K9317,[5]Paramètres!$M$5:$O$101,3,0)","v":{"$error":"#N/A"}},null,null,null,null,null,null,null,null,null,null,{"$f":"SUM(Tableau_Data[[#This Row],[Féminin]:[Masculin]])","v":0}]
[null,null,"",null,"",null,null,null,null,null,null,{"$f":"VLOOKUP(K9318,[5]Paramètres!$M$5:$O$101,2,0)","v":{"$error":"#N/A"}},{"$f":"VLOOKUP(K9318,[5]Paramètres!$M$5:$O$101,3,0)","v":{"$error":"#N/A"}},null,null,null,null,null,null,null,null,null,null,{"$f":"SUM(Tableau_Data[[#This Row],[Féminin]:[Masculin]])","v":0}]
[null,null,"",null,"",null,null,null,null,null,null,{"$f":"VLOOKUP(K9319,[5]Paramètres!$M$5:$O$101,2,0)","v":{"$error":"#N/A"}},{"$f":"VLOOKUP(K9319,[5]Paramètres!$M$5:$O$101,3,0)","v":{"$error":"#N/A"}},null,null,null,null,null,null,null,null,null,null,{"$f":"SUM(Tableau_Data[[#This Row],[Féminin]:[Masculin]])","v":0}]
[null,null,"",null,"",null,null,null,null,null,null,{"$f":"VLOOKUP(K9320,[5]Paramètres!$M$5:$O$101,2,0)","v":{"$error":"#N/A"}},{"$f":"VLOOKUP(K9320,[5]Paramètres!$M$5:$O$101,3,0)","v":{"$error":"#N/A"}},null,null,null,null,null,null,null,null,null,null,{"$f":"SUM(Tableau_Data[[#This Row],[Féminin]:[Masculin]])","v":0}]
[null,null,"",null,"",null,null,null,null,null,null,{"$f":"VLOOKUP(K9321,[5]Paramètres!$M$5:$O$101,2,0)","v":{"$error":"#N/A"}},{"$f":"VLOOKUP(K9321,[5]Paramètres!$M$5:$O$101,3,0)","v":{"$error":"#N/A"}},null,null,null,null,null,null,null,null,null,null,{"$f":"SUM(Tableau_Data[[#This Row],[Féminin]:[Masculin]])","v":0}]
[null,null,"",null,"",null,null,null,null,null,null,{"$f":"VLOOKUP(K9322,[5]Paramètres!$M$5:$O$101,2,0)","v":{"$error":"#N/A"}},{"$f":"VLOOKUP(K9322,[5]Paramètres!$M$5:$O$101,3,0)","v":{"$error":"#N/A"}},null,null,null,null,null,null,null,null,null,null,{"$f":"SUM(Tableau_Data[[#This Row],[Féminin]:[Masculin]])","v":0}]
[null,null,"",null,"",null,null,null,null,null,null,{"$f":"VLOOKUP(K9323,[5]Paramètres!$M$5:$O$101,2,0)","v":{"$error":"#N/A"}},{"$f":"VLOOKUP(K9323,[5]Paramètres!$M$5:$O$101,3,0)","v":{"$error":"#N/A"}},null,null,null,null,null,null,null,null,null,null,{"$f":"SUM(Tableau_Data[[#This Row],[Féminin]:[Masculin]])","v":0}]
[null,null,"",null,"",null,null,null,null,null,null,{"$f":"VLOOKUP(K9324,[5]Paramètres!$M$5:$O$101,2,0)","v":{"$error":"#N/A"}},{"$f":"VLOOKUP(K9324,[5]Paramètres!$M$5:$O$101,3,0)","v":{"$error":"#N/A"}},null,null,null,null,null,null,null,null,null,null,{"$f":"SUM(Tableau_Data[[#This Row],[Féminin]:[Masculin]])","v":0}]
[null,null,"",null,"",null,null,null,null,null,null,{"$f":"VLOOKUP(K9325,[5]Paramètres!$M$5:$O$101,2,0)","v":{"$error":"#N/A"}},{"$f":"VLOOKUP(K9325,[5]Paramètres!$M$5:$O$101,3,0)","v":{"$error":"#N/A"}},null,null,null,null,null,null,null,null,null,null,{"$f":"SUM(Tableau_Data[[#This Row],[Féminin]:[Masculin]])","v":0}]
[null,null,"",null,"",null,null,null,null,null,null,{"$f":"VLOOKUP(K9326,[5]Paramètres!$M$5:$O$101,2,0)","v":{"$error":"#N/A"}},{"$f":"VLOOKUP(K9326,[5]Paramètres!$M$5:$O$101,3,0)","v":{"$error":"#N/A"}},null,null,null,null,null,null,null,null,null,null,{"$f":"SUM(Tableau_Data[[#This Row],[Féminin]:[Masculin]])","v":0}]
[null,null,"",null,"",null,null,null,null,null,null,{"$f":"VLOOKUP(K9327,[5]Paramètres!$M$5:$O$101,2,0)","v":{"$error":"#N/A"}},{"$f":"VLOOKUP(K9327,[5]Paramètres!$M$5:$O$101,3,0)","v":{"$error":"#N/A"}},null,null,null,null,null,null,null,null,null,null,{"$f":"SUM(Tableau_Data[[#This Row],[Féminin]:[Masculin]])","v":0}]
[null,null,"",null,"",null,null,null,null,null,null,{"$f":"VLOOKUP(K9328,[5]Paramètres!$M$5:$O$101,2,0)","v":{"$error":"#N/A"}},{"$f":"VLOOKUP(K9328,[5]Paramètres!$M$5:$O$101,3,0)","v":{"$error":"#N/A"}},null,null,null,null,null,null,null,null,null,null,{"$f":"SUM(Tableau_Data[[#This Row],[Féminin]:[Masculin]])","v":0}]
[null,null,"",null,"",null,null,null,null,null,null,{"$f":"VLOOKUP(K9329,[5]Paramètres!$M$5:$O$101,2,0)","v":{"$error":"#N/A"}},{"$f":"VLOOKUP(K9329,[5]Paramètres!$M$5:$O$101,3,0)","v":{"$error":"#N/A"}},null,null,null,null,null,null,null,null,null,null,{"$f":"SUM(Tableau_Data[[#This Row],[Féminin]:[Masculin]])","v":0}]
[null,null,"",null,"",null,null,null,null,null,null,{"$f":"VLOOKUP(K9330,[5]Paramètres!$M$5:$O$101,2,0)","v":{"$error":"#N/A"}},{"$f":"VLOOKUP(K9330,[5]Paramètres!$M$5:$O$101,3,0)","v":{"$error":"#N/A"}},null,null,null,null,null,null,null,null,null,null,{"$f":"SUM(Tableau_Data[[#This Row],[Féminin]:[Masculin]])","v":0}]
[null,null,"",null,"",null,null,null,null,null,null,{"$f":"VLOOKUP(K9331,[5]Paramètres!$M$5:$O$101,2,0)","v":{"$error":"#N/A"}},{"$f":"VLOOKUP(K9331,[5]Paramètres!$M$5:$O$101,3,0)","v":{"$error":"#N/A"}},null,null,null,null,null,null,null,null,null,null,{"$f":"SUM(Tableau_Data[[#This Row],[Féminin]:[Masculin]])","v":0}]
[null,null,"",null,"",null,null,null,null,null,null,{"$f":"VLOOKUP(K9332,[5]Paramètres!$M$5:$O$101,2,0)","v":{"$error":"#N/A"}},{"$f":"VLOOKUP(K9332,[5]Paramètres!$M$5:$O$101,3,0)","v":{"$error":"#N/A"}},null,null,null,null,null,null,null,null,null,null,{"$f":"SUM(Tableau_Data[[#This Row],[Féminin]:[Masculin]])","v":0}]
[null,null,"",null,"",null,null,null,null,null,null,{"$f":"VLOOKUP(K9333,[5]Paramètres!$M$5:$O$101,2,0)","v":{"$error":"#N/A"}},{"$f":"VLOOKUP(K9333,[5]Paramètres!$M$5:$O$101,3,0)","v":{"$error":"#N/A"}},null,null,null,null,null,null,null,null,null,null,{"$f":"SUM(Tableau_Data[[#This Row],[Féminin]:[Masculin]])","v":0}]
[null,null,"",null,"",null,null,null,null,null,null,{"$f":"VLOOKUP(K9334,[5]Paramètres!$M$5:$O$101,2,0)","v":{"$error":"#N/A"}},{"$f":"VLOOKUP(K9334,[5]Paramètres!$M$5:$O$101,3,0)","v":{"$error":"#N/A"}},null,null,null,null,null,null,null,null,null,null,{"$f":"SUM(Tableau_Data[[#This Row],[Féminin]:[Masculin]])","v":0}]
[null,null,"",null,"",null,null,null,null,null,null,{"$f":"VLOOKUP(K9335,[5]Paramètres!$M$5:$O$101,2,0)","v":{"$error":"#N/A"}},{"$f":"VLOOKUP(K9335,[5]Paramètres!$M$5:$O$101,3,0)","v":{"$error":"#N/A"}},null,null,null,null,null,null,null,null,null,null,{"$f":"SUM(Tableau_Data[[#This Row],[Féminin]:[Masculin]])","v":0}]
[null,null,"",null,"",null,null,null,null,null,null,{"$f":"VLOOKUP(K9336,[5]Paramètres!$M$5:$O$101,2,0)","v":{"$error":"#N/A"}},{"$f":"VLOOKUP(K9336,[5]Paramètres!$M$5:$O$101,3,0)","v":{"$error":"#N/A"}},null,null,null,null,null,null,null,null,null,null,{"$f":"SUM(Tableau_Data[[#This Row],[Féminin]:[Masculin]])","v":0}]
[null,null,"",null,"",null,null,null,null,null,null,{"$f":"VLOOKUP(K9337,[5]Paramètres!$M$5:$O$101,2,0)","v":{"$error":"#N/A"}},{"$f":"VLOOKUP(K9337,[5]Paramètres!$M$5:$O$101,3,0)","v":{"$error":"#N/A"}},null,null,null,null,null,null,null,null,null,null,{"$f":"SUM(Tableau_Data[[#This Row],[Féminin]:[Masculin]])","v":0}]
[null,null,"",null,"",null,null,null,null,null,null,{"$f":"VLOOKUP(K9338,[5]Paramètres!$M$5:$O$101,2,0)","v":{"$error":"#N/A"}},{"$f":"VLOOKUP(K9338,[5]Paramètres!$M$5:$O$101,3,0)","v":{"$error":"#N/A"}},null,null,null,null,null,null,null,null,null,null,{"$f":"SUM(Tableau_Data[[#This Row],[Féminin]:[Masculin]])","v":0}]
[null,null,"",null,"",null,null,null,null,null,null,{"$f":"VLOOKUP(K9339,[5]Paramètres!$M$5:$O$101,2,0)","v":{"$error":"#N/A"}},{"$f":"VLOOKUP(K9339,[5]Paramètres!$M$5:$O$101,3,0)","v":{"$error":"#N/A"}},null,null,null,null,null,null,null,null,null,null,{"$f":"SUM(Tableau_Data[[#This Row],[Féminin]:[Masculin]])","v":0}]
[null,null,"",null,"",null,null,null,null,null,null,{"$f":"VLOOKUP(K9340,[5]Paramètres!$M$5:$O$101,2,0)","v":{"$error":"#N/A"}},{"$f":"VLOOKUP(K9340,[5]Paramètres!$M$5:$O$101,3,0)","v":{"$error":"#N/A"}},null,null,null,null,null,null,null,null,null,null,{"$f":"SUM(Tableau_Data[[#This Row],[Féminin]:[Masculin]])","v":0}]
[null,null,"",null,"",null,null,null,null,null,null,{"$f":"VLOOKUP(K9341,[5]Paramètres!$M$5:$O$101,2,0)","v":{"$error":"#N/A"}},{"$f":"VLOOKUP(K9341,[5]Paramètres!$M$5:$O$101,3,0)","v":{"$error":"#N/A"}},null,null,null,null,null,null,null,null,null,null,{"$f":"SUM(Tableau_Data[[#This Row],[Féminin]:[Masculin]])","v":0}]
[null,null,"",null,"",null,null,null,null,null,null,{"$f":"VLOOKUP(K9342,[5]Paramètres!$M$5:$O$101,2,0)","v":{"$error":"#N/A"}},{"$f":"VLOOKUP(K9342,[5]Paramètres!$M$5:$O$101,3,0)","v":{"$error":"#N/A"}},null,null,null,null,null,null,null,null,null,null,{"$f":"SUM(Tableau_Data[[#This Row],[Féminin]:[Masculin]])","v":0}]
[null,null,"",null,"",null,null,null,null,null,null,{"$f":"VLOOKUP(K9343,[5]Paramètres!$M$5:$O$101,2,0)","v":{"$error":"#N/A"}},{"$f":"VLOOKUP(K9343,[5]Paramètres!$M$5:$O$101,3,0)","v":{"$error":"#N/A"}},null,null,null,null,null,null,null,null,null,null,{"$f":"SUM(Tableau_Data[[#This Row],[Féminin]:[Masculin]])","v":0}]
[null,null,"",null,"",null,null,null,null,null,null,{"$f":"VLOOKUP(K9344,[5]Paramètres!$M$5:$O$101,2,0)","v":{"$error":"#N/A"}},{"$f":"VLOOKUP(K9344,[5]Paramètres!$M$5:$O$101,3,0)","v":{"$error":"#N/A"}},null,null,null,null,null,null,null,null,null,null,{"$f":"SUM(Tableau_Data[[#This Row],[Féminin]:[Masculin]])","v":0}]
[null,null,"",null,"",null,null,null,null,null,null,{"$f":"VLOOKUP(K9345,[5]Paramètres!$M$5:$O$101,2,0)","v":{"$error":"#N/A"}},{"$f":"VLOOKUP(K9345,[5]Paramètres!$M$5:$O$101,3,0)","v":{"$error":"#N/A"}},null,null,null,null,null,null,null,null,null,null,{"$f":"SUM(Tableau_Data[[#This Row],[Féminin]:[Masculin]])","v":0}]
[null,null,"",null,"",null,null,null,null,null,null,{"$f":"VLOOKUP(K9346,[5]Paramètres!$M$5:$O$101,2,0)","v":{"$error":"#N/A"}},{"$f":"VLOOKUP(K9346,[5]Paramètres!$M$5:$O$101,3,0)","v":{"$error":"#N/A"}},null,null,null,null,null,null,null,null,null,null,{"$f":"SUM(Tableau_Data[[#This Row],[Féminin]:[Masculin]])","v":0}]
[null,null,"",null,"",null,null,null,null,null,null,{"$f":"VLOOKUP(K9347,[5]Paramètres!$M$5:$O$101,2,0)","v":{"$error":"#N/A"}},{"$f":"VLOOKUP(K9347,[5]Paramètres!$M$5:$O$101,3,0)","v":{"$error":"#N/A"}},null,null,null,null,null,null,null,null,null,null,{"$f":"SUM(Tableau_Data[[#This Row],[Féminin]:[Masculin]])","v":0}]
[null,null,"",null,"",null,null,null,null,null,null,{"$f":"VLOOKUP(K9348,[5]Paramètres!$M$5:$O$101,2,0)","v":{"$error":"#N/A"}},{"$f":"VLOOKUP(K9348,[5]Paramètres!$M$5:$O$101,3,0)","v":{"$error":"#N/A"}},null,null,null,null,null,null,null,null,null,null,{"$f":"SUM(Tableau_Data[[#This Row],[Féminin]:[Masculin]])","v":0}]
[null,null,"",null,"",null,null,null,null,null,null,{"$f":"VLOOKUP(K9349,[5]Paramètres!$M$5:$O$101,2,0)","v":{"$error":"#N/A"}},{"$f":"VLOOKUP(K9349,[5]Paramètres!$M$5:$O$101,3,0)","v":{"$error":"#N/A"}},null,null,null,null,null,null,null,null,null,null,{"$f":"SUM(Tableau_Data[[#This Row],[Féminin]:[Masculin]])","v":0}]
[null,null,"",null,"",null,null,null,null,null,null,{"$f":"VLOOKUP(K9350,[5]Paramètres!$M$5:$O$101,2,0)","v":{"$error":"#N/A"}},{"$f":"VLOOKUP(K9350,[5]Paramètres!$M$5:$O$101,3,0)","v":{"$error":"#N/A"}},null,null,null,null,null,null,null,null,null,null,{"$f":"SUM(Tableau_Data[[#This Row],[Féminin]:[Masculin]])","v":0}]
[null,null,"",null,"",null,null,null,null,null,null,{"$f":"VLOOKUP(K9351,[5]Paramètres!$M$5:$O$101,2,0)","v":{"$error":"#N/A"}},{"$f":"VLOOKUP(K9351,[5]Paramètres!$M$5:$O$101,3,0)","v":{"$error":"#N/A"}},null,null,null,null,null,null,null,null,null,null,{"$f":"SUM(Tableau_Data[[#This Row],[Féminin]:[Masculin]])","v":0}]
[null,null,"",null,"",null,null,null,null,null,null,{"$f":"VLOOKUP(K9352,[5]Paramètres!$M$5:$O$101,2,0)","v":{"$error":"#N/A"}},{"$f":"VLOOKUP(K9352,[5]Paramètres!$M$5:$O$101,3,0)","v":{"$error":"#N/A"}},null,null,null,null,null,null,null,null,null,null,{"$f":"SUM(Tableau_Data[[#This Row],[Féminin]:[Masculin]])","v":0}]
[null,null,"",null,"",null,null,null,null,null,null,{"$f":"VLOOKUP(K9353,[5]Paramètres!$M$5:$O$101,2,0)","v":{"$error":"#N/A"}},{"$f":"VLOOKUP(K9353,[5]Paramètres!$M$5:$O$101,3,0)","v":{"$error":"#N/A"}},null,null,null,null,null,null,null,null,null,null,{"$f":"SUM(Tableau_Data[[#This Row],[Féminin]:[Masculin]])","v":0}]
[null,null,"",null,"",null,null,null,null,null,null,{"$f":"VLOOKUP(K9354,[5]Paramètres!$M$5:$O$101,2,0)","v":{"$error":"#N/A"}},{"$f":"VLOOKUP(K9354,[5]Paramètres!$M$5:$O$101,3,0)","v":{"$error":"#N/A"}},null,null,null,null,null,null,null,null,null,null,{"$f":"SUM(Tableau_Data[[#This Row],[Féminin]:[Masculin]])","v":0}]
[null,null,"",null,"",null,null,null,null,null,null,{"$f":"VLOOKUP(K9355,[5]Paramètres!$M$5:$O$101,2,0)","v":{"$error":"#N/A"}},{"$f":"VLOOKUP(K9355,[5]Paramètres!$M$5:$O$101,3,0)","v":{"$error":"#N/A"}},null,null,null,null,null,null,null,null,null,null,{"$f":"SUM(Tableau_Data[[#This Row],[Féminin]:[Masculin]])","v":0}]
[null,null,"",null,"",null,null,null,null,null,null,{"$f":"VLOOKUP(K9356,[5]Paramètres!$M$5:$O$101,2,0)","v":{"$error":"#N/A"}},{"$f":"VLOOKUP(K9356,[5]Paramètres!$M$5:$O$101,3,0)","v":{"$error":"#N/A"}},null,null,null,null,null,null,null,null,null,null,{"$f":"SUM(Tableau_Data[[#This Row],[Féminin]:[Masculin]])","v":0}]
[null,null,"",null,"",null,null,null,null,null,null,{"$f":"VLOOKUP(K9357,[5]Paramètres!$M$5:$O$101,2,0)","v":{"$error":"#N/A"}},{"$f":"VLOOKUP(K9357,[5]Paramètres!$M$5:$O$101,3,0)","v":{"$error":"#N/A"}},null,null,null,null,null,null,null,null,null,null,{"$f":"SUM(Tableau_Data[[#This Row],[Féminin]:[Masculin]])","v":0}]
[null,null,"",null,"",null,null,null,null,null,null,{"$f":"VLOOKUP(K9358,[5]Paramètres!$M$5:$O$101,2,0)","v":{"$error":"#N/A"}},{"$f":"VLOOKUP(K9358,[5]Paramètres!$M$5:$O$101,3,0)","v":{"$error":"#N/A"}},null,null,null,null,null,null,null,null,null,null,{"$f":"SUM(Tableau_Data[[#This Row],[Féminin]:[Masculin]])","v":0}]
[null,null,"",null,"",null,null,null,null,null,null,{"$f":"VLOOKUP(K9359,[5]Paramètres!$M$5:$O$101,2,0)","v":{"$error":"#N/A"}},{"$f":"VLOOKUP(K9359,[5]Paramètres!$M$5:$O$101,3,0)","v":{"$error":"#N/A"}},null,null,null,null,null,null,null,null,null,null,{"$f":"SUM(Tableau_Data[[#This Row],[Féminin]:[Masculin]])","v":0}]
[null,null,{"$f":"IF(D9360=\"\",\"\",YEAR(D9360))","v":""},null,"",null,null,null,null,null,null,{"$f":"VLOOKUP(K9360,[5]Paramètres!$M$5:$O$101,2,0)","v":{"$error":"#N/A"}},{"$f":"VLOOKUP(K9360,[5]Paramètres!$M$5:$O$101,3,0)","v":{"$error":"#N/A"}},null,null,null,null,null,null,null,null,null,null,{"$f":"SUM(Tableau_Data[[#This Row],[Féminin]:[Masculin]])","v":0}]
[null,null,"",null,"",null,null,null,null,null,null,{"$f":"VLOOKUP(K9361,[5]Paramètres!$M$5:$O$101,2,0)","v":{"$error":"#N/A"}},{"$f":"VLOOKUP(K9361,[5]Paramètres!$M$5:$O$101,3,0)","v":{"$error":"#N/A"}},null,null,null,null,null,null,null,null,null,null,{"$f":"SUM(Tableau_Data[[#This Row],[Féminin]:[Masculin]])","v":0}]
[null,null,"",null,"",null,null,null,null,null,null,{"$f":"VLOOKUP(K9362,[5]Paramètres!$M$5:$O$101,2,0)","v":{"$error":"#N/A"}},{"$f":"VLOOKUP(K9362,[5]Paramètres!$M$5:$O$101,3,0)","v":{"$error":"#N/A"}},null,null,null,null,null,null,null,null,null,null,{"$f":"SUM(Tableau_Data[[#This Row],[Féminin]:[Masculin]])","v":0}]
[null,null,"",null,"",null,null,null,null,null,null,{"$f":"VLOOKUP(K9363,[5]Paramètres!$M$5:$O$101,2,0)","v":{"$error":"#N/A"}},{"$f":"VLOOKUP(K9363,[5]Paramètres!$M$5:$O$101,3,0)","v":{"$error":"#N/A"}},null,null,null,null,null,null,null,null,null,null,{"$f":"SUM(Tableau_Data[[#This Row],[Féminin]:[Masculin]])","v":0}]
[null,null,"",null,"",null,null,null,null,null,null,{"$f":"VLOOKUP(K9364,[5]Paramètres!$M$5:$O$101,2,0)","v":{"$error":"#N/A"}},{"$f":"VLOOKUP(K9364,[5]Paramètres!$M$5:$O$101,3,0)","v":{"$error":"#N/A"}},null,null,null,null,null,null,null,null,null,null,{"$f":"SUM(Tableau_Data[[#This Row],[Féminin]:[Masculin]])","v":0}]
[null,null,"",null,"",null,null,null,null,null,null,{"$f":"VLOOKUP(K9365,[5]Paramètres!$M$5:$O$101,2,0)","v":{"$error":"#N/A"}},{"$f":"VLOOKUP(K9365,[5]Paramètres!$M$5:$O$101,3,0)","v":{"$error":"#N/A"}},null,null,null,null,null,null,null,null,null,null,{"$f":"SUM(Tableau_Data[[#This Row],[Féminin]:[Masculin]])","v":0}]
[null,null,"",null,"",null,null,null,null,null,null,{"$f":"VLOOKUP(K9366,[5]Paramètres!$M$5:$O$101,2,0)","v":{"$error":"#N/A"}},{"$f":"VLOOKUP(K9366,[5]Paramètres!$M$5:$O$101,3,0)","v":{"$error":"#N/A"}},null,null,null,null,null,null,null,null,null,null,{"$f":"SUM(Tableau_Data[[#This Row],[Féminin]:[Masculin]])","v":0}]
[null,null,"",null,"",null,null,null,null,null,null,{"$f":"VLOOKUP(K9367,[5]Paramètres!$M$5:$O$101,2,0)","v":{"$error":"#N/A"}},{"$f":"VLOOKUP(K9367,[5]Paramètres!$M$5:$O$101,3,0)","v":{"$error":"#N/A"}},null,null,null,null,null,null,null,null,null,null,{"$f":"SUM(Tableau_Data[[#This Row],[Féminin]:[Masculin]])","v":0}]
[null,null,"",null,"",null,null,null,null,null,null,{"$f":"VLOOKUP(K9368,[5]Paramètres!$M$5:$O$101,2,0)","v":{"$error":"#N/A"}},{"$f":"VLOOKUP(K9368,[5]Paramètres!$M$5:$O$101,3,0)","v":{"$error":"#N/A"}},null,null,null,null,null,null,null,null,null,null,{"$f":"SUM(Tableau_Data[[#This Row],[Féminin]:[Masculin]])","v":0}]
[null,null,"",null,"",null,null,null,null,null,null,{"$f":"VLOOKUP(K9369,[5]Paramètres!$M$5:$O$101,2,0)","v":{"$error":"#N/A"}},{"$f":"VLOOKUP(K9369,[5]Paramètres!$M$5:$O$101,3,0)","v":{"$error":"#N/A"}},null,null,null,null,null,null,null,null,null,null,{"$f":"SUM(Tableau_Data[[#This Row],[Féminin]:[Masculin]])","v":0}]
[null,null,"",null,"",null,null,null,null,null,null,{"$f":"VLOOKUP(K9370,[5]Paramètres!$M$5:$O$101,2,0)","v":{"$error":"#N/A"}},{"$f":"VLOOKUP(K9370,[5]Paramètres!$M$5:$O$101,3,0)","v":{"$error":"#N/A"}},null,null,null,null,null,null,null,null,null,null,{"$f":"SUM(Tableau_Data[[#This Row],[Féminin]:[Masculin]])","v":0}]
[null,null,"",null,"",null,null,null,null,null,null,{"$f":"VLOOKUP(K9371,[5]Paramètres!$M$5:$O$101,2,0)","v":{"$error":"#N/A"}},{"$f":"VLOOKUP(K9371,[5]Paramètres!$M$5:$O$101,3,0)","v":{"$error":"#N/A"}},null,null,null,null,null,null,null,null,null,null,{"$f":"SUM(Tableau_Data[[#This Row],[Féminin]:[Masculin]])","v":0}]
[null,null,"",null,{"$f":"IF(D9372=\"\",\"\",MONTH(D9372))","v":""},null,null,null,null,null,null,{"$f":"VLOOKUP(K9372,[5]Paramètres!$M$5:$O$101,2,0)","v":{"$error":"#N/A"}},{"$f":"VLOOKUP(K9372,[5]Paramètres!$M$5:$O$101,3,0)","v":{"$error":"#N/A"}},null,null,null,null,null,null,null,null,null,null,{"$f":"SUM(Tableau_Data[[#This Row],[Féminin]:[Masculin]])","v":0}]
[null,null,"",null,"",null,null,null,null,null,null,{"$f":"VLOOKUP(K9373,[5]Paramètres!$M$5:$O$101,2,0)","v":{"$error":"#N/A"}},{"$f":"VLOOKUP(K9373,[5]Paramètres!$M$5:$O$101,3,0)","v":{"$error":"#N/A"}},null,null,null,null,null,null,null,null,null,null,{"$f":"SUM(Tableau_Data[[#This Row],[Féminin]:[Masculin]])","v":0}]
[null,null,"",null,"",null,null,null,null,null,null,{"$f":"VLOOKUP(K9374,[5]Paramètres!$M$5:$O$101,2,0)","v":{"$error":"#N/A"}},{"$f":"VLOOKUP(K9374,[5]Paramètres!$M$5:$O$101,3,0)","v":{"$error":"#N/A"}},null,null,null,null,null,null,null,null,null,null,{"$f":"SUM(Tableau_Data[[#This Row],[Féminin]:[Masculin]])","v":0}]
[null,null,"",null,"",null,null,null,null,null,null,{"$f":"VLOOKUP(K9375,[5]Paramètres!$M$5:$O$101,2,0)","v":{"$error":"#N/A"}},{"$f":"VLOOKUP(K9375,[5]Paramètres!$M$5:$O$101,3,0)","v":{"$error":"#N/A"}},null,null,null,null,null,null,null,null,null,null,{"$f":"SUM(Tableau_Data[[#This Row],[Féminin]:[Masculin]])","v":0}]
[null,null,"",null,"",null,null,null,null,null,null,{"$f":"VLOOKUP(K9376,[5]Paramètres!$M$5:$O$101,2,0)","v":{"$error":"#N/A"}},{"$f":"VLOOKUP(K9376,[5]Paramètres!$M$5:$O$101,3,0)","v":{"$error":"#N/A"}},null,null,null,null,null,null,null,null,null,null,{"$f":"SUM(Tableau_Data[[#This Row],[Féminin]:[Masculin]])","v":0}]
[null,null,"",null,"",null,null,null,null,null,null,{"$f":"VLOOKUP(K9377,[5]Paramètres!$M$5:$O$101,2,0)","v":{"$error":"#N/A"}},{"$f":"VLOOKUP(K9377,[5]Paramètres!$M$5:$O$101,3,0)","v":{"$error":"#N/A"}},null,null,null,null,null,null,null,null,null,null,{"$f":"SUM(Tableau_Data[[#This Row],[Féminin]:[Masculin]])","v":0}]
[null,null,"",null,"",null,null,null,null,null,null,{"$f":"VLOOKUP(K9378,[5]Paramètres!$M$5:$O$101,2,0)","v":{"$error":"#N/A"}},{"$f":"VLOOKUP(K9378,[5]Paramètres!$M$5:$O$101,3,0)","v":{"$error":"#N/A"}},null,null,null,null,null,null,null,null,null,null,{"$f":"SUM(Tableau_Data[[#This Row],[Féminin]:[Masculin]])","v":0}]
[null,null,"",null,"",null,null,null,null,null,null,{"$f":"VLOOKUP(K9379,[5]Paramètres!$M$5:$O$101,2,0)","v":{"$error":"#N/A"}},{"$f":"VLOOKUP(K9379,[5]Paramètres!$M$5:$O$101,3,0)","v":{"$error":"#N/A"}},null,null,null,null,null,null,null,null,null,null,{"$f":"SUM(Tableau_Data[[#This Row],[Féminin]:[Masculin]])","v":0}]
[null,null,"",null,"",null,null,null,null,null,null,{"$f":"VLOOKUP(K9380,[5]Paramètres!$M$5:$O$101,2,0)","v":{"$error":"#N/A"}},{"$f":"VLOOKUP(K9380,[5]Paramètres!$M$5:$O$101,3,0)","v":{"$error":"#N/A"}},null,null,null,null,null,null,null,null,null,null,{"$f":"SUM(Tableau_Data[[#This Row],[Féminin]:[Masculin]])","v":0}]
[null,null,"",null,"",null,null,null,null,null,null,{"$f":"VLOOKUP(K9381,[5]Paramètres!$M$5:$O$101,2,0)","v":{"$error":"#N/A"}},{"$f":"VLOOKUP(K9381,[5]Paramètres!$M$5:$O$101,3,0)","v":{"$error":"#N/A"}},null,null,null,null,null,null,null,null,null,null,{"$f":"SUM(Tableau_Data[[#This Row],[Féminin]:[Masculin]])","v":0}]
[null,null,"",null,"",null,null,null,null,null,null,{"$f":"VLOOKUP(K9382,[5]Paramètres!$M$5:$O$101,2,0)","v":{"$error":"#N/A"}},{"$f":"VLOOKUP(K9382,[5]Paramètres!$M$5:$O$101,3,0)","v":{"$error":"#N/A"}},null,null,null,null,null,null,null,null,null,null,{"$f":"SUM(Tableau_Data[[#This Row],[Féminin]:[Masculin]])","v":0}]
[null,null,"",null,"",null,null,null,null,null,null,{"$f":"VLOOKUP(K9383,[5]Paramètres!$M$5:$O$101,2,0)","v":{"$error":"#N/A"}},{"$f":"VLOOKUP(K9383,[5]Paramètres!$M$5:$O$101,3,0)","v":{"$error":"#N/A"}},null,null,null,null,null,null,null,null,null,null,{"$f":"SUM(Tableau_Data[[#This Row],[Féminin]:[Masculin]])","v":0}]
[null,null,"",null,"",null,null,null,null,null,null,{"$f":"VLOOKUP(K9384,[5]Paramètres!$M$5:$O$101,2,0)","v":{"$error":"#N/A"}},{"$f":"VLOOKUP(K9384,[5]Paramètres!$M$5:$O$101,3,0)","v":{"$error":"#N/A"}},null,null,null,null,null,null,null,null,null,null,{"$f":"SUM(Tableau_Data[[#This Row],[Féminin]:[Masculin]])","v":0}]
[null,null,"",null,"",null,null,null,null,null,null,{"$f":"VLOOKUP(K9385,[5]Paramètres!$M$5:$O$101,2,0)","v":{"$error":"#N/A"}},{"$f":"VLOOKUP(K9385,[5]Paramètres!$M$5:$O$101,3,0)","v":{"$error":"#N/A"}},null,null,null,null,null,null,null,null,null,null,{"$f":"SUM(Tableau_Data[[#This Row],[Féminin]:[Masculin]])","v":0}]
[null,null,"",null,"",null,null,null,null,null,null,{"$f":"VLOOKUP(K9386,[5]Paramètres!$M$5:$O$101,2,0)","v":{"$error":"#N/A"}},{"$f":"VLOOKUP(K9386,[5]Paramètres!$M$5:$O$101,3,0)","v":{"$error":"#N/A"}},null,null,null,null,null,null,null,null,null,null,{"$f":"SUM(Tableau_Data[[#This Row],[Féminin]:[Masculin]])","v":0}]
[null,null,"",null,"",null,null,null,null,null,null,{"$f":"VLOOKUP(K9387,[5]Paramètres!$M$5:$O$101,2,0)","v":{"$error":"#N/A"}},{"$f":"VLOOKUP(K9387,[5]Paramètres!$M$5:$O$101,3,0)","v":{"$error":"#N/A"}},null,null,null,null,null,null,null,null,null,null,{"$f":"SUM(Tableau_Data[[#This Row],[Féminin]:[Masculin]])","v":0}]
[null,null,"",null,"",null,null,null,null,null,null,{"$f":"VLOOKUP(K9388,[5]Paramètres!$M$5:$O$101,2,0)","v":{"$error":"#N/A"}},{"$f":"VLOOKUP(K9388,[5]Paramètres!$M$5:$O$101,3,0)","v":{"$error":"#N/A"}},null,null,null,null,null,null,null,null,null,null,{"$f":"SUM(Tableau_Data[[#This Row],[Féminin]:[Masculin]])","v":0}]
[null,null,"",null,"",null,null,null,null,null,null,{"$f":"VLOOKUP(K9389,[5]Paramètres!$M$5:$O$101,2,0)","v":{"$error":"#N/A"}},{"$f":"VLOOKUP(K9389,[5]Paramètres!$M$5:$O$101,3,0)","v":{"$error":"#N/A"}},null,null,null,null,null,null,null,null,null,null,{"$f":"SUM(Tableau_Data[[#This Row],[Féminin]:[Masculin]])","v":0}]
[null,null,"",null,"",null,null,null,null,null,null,{"$f":"VLOOKUP(K9390,[5]Paramètres!$M$5:$O$101,2,0)","v":{"$error":"#N/A"}},{"$f":"VLOOKUP(K9390,[5]Paramètres!$M$5:$O$101,3,0)","v":{"$error":"#N/A"}},null,null,null,null,null,null,null,null,null,null,{"$f":"SUM(Tableau_Data[[#This Row],[Féminin]:[Masculin]])","v":0}]
[null,null,"",null,"",null,null,null,null,null,null,{"$f":"VLOOKUP(K9391,[5]Paramètres!$M$5:$O$101,2,0)","v":{"$error":"#N/A"}},{"$f":"VLOOKUP(K9391,[5]Paramètres!$M$5:$O$101,3,0)","v":{"$error":"#N/A"}},null,null,null,null,null,null,null,null,null,null,{"$f":"SUM(Tableau_Data[[#This Row],[Féminin]:[Masculin]])","v":0}]
[null,null,"",null,"",null,null,null,null,null,null,{"$f":"VLOOKUP(K9392,[5]Paramètres!$M$5:$O$101,2,0)","v":{"$error":"#N/A"}},{"$f":"VLOOKUP(K9392,[5]Paramètres!$M$5:$O$101,3,0)","v":{"$error":"#N/A"}},null,null,null,null,null,null,null,null,null,null,{"$f":"SUM(Tableau_Data[[#This Row],[Féminin]:[Masculin]])","v":0}]
[null,null,"",null,"",null,null,null,null,null,null,{"$f":"VLOOKUP(K9393,[5]Paramètres!$M$5:$O$101,2,0)","v":{"$error":"#N/A"}},{"$f":"VLOOKUP(K9393,[5]Paramètres!$M$5:$O$101,3,0)","v":{"$error":"#N/A"}},null,null,null,null,null,null,null,null,null,null,{"$f":"SUM(Tableau_Data[[#This Row],[Féminin]:[Masculin]])","v":0}]
[null,null,"",null,"",null,null,null,null,null,null,{"$f":"VLOOKUP(K9394,[5]Paramètres!$M$5:$O$101,2,0)","v":{"$error":"#N/A"}},{"$f":"VLOOKUP(K9394,[5]Paramètres!$M$5:$O$101,3,0)","v":{"$error":"#N/A"}},null,null,null,null,null,null,null,null,null,null,{"$f":"SUM(Tableau_Data[[#This Row],[Féminin]:[Masculin]])","v":0}]
[null,null,"",null,"",null,null,null,null,null,null,{"$f":"VLOOKUP(K9395,[5]Paramètres!$M$5:$O$101,2,0)","v":{"$error":"#N/A"}},{"$f":"VLOOKUP(K9395,[5]Paramètres!$M$5:$O$101,3,0)","v":{"$error":"#N/A"}},null,null,null,null,null,null,null,null,null,null,{"$f":"SUM(Tableau_Data[[#This Row],[Féminin]:[Masculin]])","v":0}]
[null,null,"",null,"",null,null,null,null,null,null,{"$f":"VLOOKUP(K9396,[5]Paramètres!$M$5:$O$101,2,0)","v":{"$error":"#N/A"}},{"$f":"VLOOKUP(K9396,[5]Paramètres!$M$5:$O$101,3,0)","v":{"$error":"#N/A"}},null,null,null,null,null,null,null,null,null,null,{"$f":"SUM(Tableau_Data[[#This Row],[Féminin]:[Masculin]])","v":0}]
[null,null,"",null,"",null,null,null,null,null,null,{"$f":"VLOOKUP(K9397,[5]Paramètres!$M$5:$O$101,2,0)","v":{"$error":"#N/A"}},{"$f":"VLOOKUP(K9397,[5]Paramètres!$M$5:$O$101,3,0)","v":{"$error":"#N/A"}},null,null,null,null,null,null,null,null,null,null,{"$f":"SUM(Tableau_Data[[#This Row],[Féminin]:[Masculin]])","v":0}]
[null,null,"",null,"",null,null,null,null,null,null,{"$f":"VLOOKUP(K9398,[5]Paramètres!$M$5:$O$101,2,0)","v":{"$error":"#N/A"}},{"$f":"VLOOKUP(K9398,[5]Paramètres!$M$5:$O$101,3,0)","v":{"$error":"#N/A"}},null,null,null,null,null,null,null,null,null,null,{"$f":"SUM(Tableau_Data[[#This Row],[Féminin]:[Masculin]])","v":0}]
[null,null,"",null,"",null,null,null,null,null,null,{"$f":"VLOOKUP(K9399,[5]Paramètres!$M$5:$O$101,2,0)","v":{"$error":"#N/A"}},{"$f":"VLOOKUP(K9399,[5]Paramètres!$M$5:$O$101,3,0)","v":{"$error":"#N/A"}},null,null,null,null,null,null,null,null,null,null,{"$f":"SUM(Tableau_Data[[#This Row],[Féminin]:[Masculin]])","v":0}]
[null,null,"",null,"",null,null,null,null,null,null,{"$f":"VLOOKUP(K9400,[5]Paramètres!$M$5:$O$101,2,0)","v":{"$error":"#N/A"}},{"$f":"VLOOKUP(K9400,[5]Paramètres!$M$5:$O$101,3,0)","v":{"$error":"#N/A"}},null,null,null,null,null,null,null,null,null,null,{"$f":"SUM(Tableau_Data[[#This Row],[Féminin]:[Masculin]])","v":0}]
[null,null,"",null,"",null,null,null,null,null,null,{"$f":"VLOOKUP(K9401,[5]Paramètres!$M$5:$O$101,2,0)","v":{"$error":"#N/A"}},{"$f":"VLOOKUP(K9401,[5]Paramètres!$M$5:$O$101,3,0)","v":{"$error":"#N/A"}},null,null,null,null,null,null,null,null,null,null,{"$f":"SUM(Tableau_Data[[#This Row],[Féminin]:[Masculin]])","v":0}]
[null,null,"",null,"",null,null,null,null,null,null,{"$f":"VLOOKUP(K9402,[5]Paramètres!$M$5:$O$101,2,0)","v":{"$error":"#N/A"}},{"$f":"VLOOKUP(K9402,[5]Paramètres!$M$5:$O$101,3,0)","v":{"$error":"#N/A"}},null,null,null,null,null,null,null,null,null,null,{"$f":"SUM(Tableau_Data[[#This Row],[Féminin]:[Masculin]])","v":0}]
[null,null,"",null,"",null,null,null,null,null,null,{"$f":"VLOOKUP(K9403,[5]Paramètres!$M$5:$O$101,2,0)","v":{"$error":"#N/A"}},{"$f":"VLOOKUP(K9403,[5]Paramètres!$M$5:$O$101,3,0)","v":{"$error":"#N/A"}},null,null,null,null,null,null,null,null,null,null,{"$f":"SUM(Tableau_Data[[#This Row],[Féminin]:[Masculin]])","v":0}]
[null,null,"",null,"",null,null,null,null,null,null,{"$f":"VLOOKUP(K9404,[5]Paramètres!$M$5:$O$101,2,0)","v":{"$error":"#N/A"}},{"$f":"VLOOKUP(K9404,[5]Paramètres!$M$5:$O$101,3,0)","v":{"$error":"#N/A"}},null,null,null,null,null,null,null,null,null,null,{"$f":"SUM(Tableau_Data[[#This Row],[Féminin]:[Masculin]])","v":0}]
[null,null,"",null,"",null,null,null,null,null,null,{"$f":"VLOOKUP(K9405,[5]Paramètres!$M$5:$O$101,2,0)","v":{"$error":"#N/A"}},{"$f":"VLOOKUP(K9405,[5]Paramètres!$M$5:$O$101,3,0)","v":{"$error":"#N/A"}},null,null,null,null,null,null,null,null,null,null,{"$f":"SUM(Tableau_Data[[#This Row],[Féminin]:[Masculin]])","v":0}]
[null,null,"",null,"",null,null,null,null,null,null,{"$f":"VLOOKUP(K9406,[5]Paramètres!$M$5:$O$101,2,0)","v":{"$error":"#N/A"}},{"$f":"VLOOKUP(K9406,[5]Paramètres!$M$5:$O$101,3,0)","v":{"$error":"#N/A"}},null,null,null,null,null,null,null,null,null,null,{"$f":"SUM(Tableau_Data[[#This Row],[Féminin]:[Masculin]])","v":0}]
[null,null,"",null,"",null,null,null,null,null,null,{"$f":"VLOOKUP(K9407,[5]Paramètres!$M$5:$O$101,2,0)","v":{"$error":"#N/A"}},{"$f":"VLOOKUP(K9407,[5]Paramètres!$M$5:$O$101,3,0)","v":{"$error":"#N/A"}},null,null,null,null,null,null,null,null,null,null,{"$f":"SUM(Tableau_Data[[#This Row],[Féminin]:[Masculin]])","v":0}]
[null,null,"",null,"",null,null,null,null,null,null,{"$f":"VLOOKUP(K9408,[5]Paramètres!$M$5:$O$101,2,0)","v":{"$error":"#N/A"}},{"$f":"VLOOKUP(K9408,[5]Paramètres!$M$5:$O$101,3,0)","v":{"$error":"#N/A"}},null,null,null,null,null,null,null,null,null,null,{"$f":"SUM(Tableau_Data[[#This Row],[Féminin]:[Masculin]])","v":0}]
[null,null,"",null,"",null,null,null,null,null,null,{"$f":"VLOOKUP(K9409,[5]Paramètres!$M$5:$O$101,2,0)","v":{"$error":"#N/A"}},{"$f":"VLOOKUP(K9409,[5]Paramètres!$M$5:$O$101,3,0)","v":{"$error":"#N/A"}},null,null,null,null,null,null,null,null,null,null,{"$f":"SUM(Tableau_Data[[#This Row],[Féminin]:[Masculin]])","v":0}]
[null,null,"",null,"",null,null,null,null,null,null,{"$f":"VLOOKUP(K9410,[5]Paramètres!$M$5:$O$101,2,0)","v":{"$error":"#N/A"}},{"$f":"VLOOKUP(K9410,[5]Paramètres!$M$5:$O$101,3,0)","v":{"$error":"#N/A"}},null,null,null,null,null,null,null,null,null,null,{"$f":"SUM(Tableau_Data[[#This Row],[Féminin]:[Masculin]])","v":0}]
[null,null,"",null,"",null,null,null,null,null,null,{"$f":"VLOOKUP(K9411,[5]Paramètres!$M$5:$O$101,2,0)","v":{"$error":"#N/A"}},{"$f":"VLOOKUP(K9411,[5]Paramètres!$M$5:$O$101,3,0)","v":{"$error":"#N/A"}},null,null,null,null,null,null,null,null,null,null,{"$f":"SUM(Tableau_Data[[#This Row],[Féminin]:[Masculin]])","v":0}]
[null,null,"",null,"",null,null,null,null,null,null,{"$f":"VLOOKUP(K9412,[5]Paramètres!$M$5:$O$101,2,0)","v":{"$error":"#N/A"}},{"$f":"VLOOKUP(K9412,[5]Paramètres!$M$5:$O$101,3,0)","v":{"$error":"#N/A"}},null,null,null,null,null,null,null,null,null,null,{"$f":"SUM(Tableau_Data[[#This Row],[Féminin]:[Masculin]])","v":0}]
[null,null,"",null,"",null,null,null,null,null,null,{"$f":"VLOOKUP(K9413,[5]Paramètres!$M$5:$O$101,2,0)","v":{"$error":"#N/A"}},{"$f":"VLOOKUP(K9413,[5]Paramètres!$M$5:$O$101,3,0)","v":{"$error":"#N/A"}},null,null,null,null,null,null,null,null,null,null,{"$f":"SUM(Tableau_Data[[#This Row],[Féminin]:[Masculin]])","v":0}]
[null,null,"",null,"",null,null,null,null,null,null,{"$f":"VLOOKUP(K9414,[5]Paramètres!$M$5:$O$101,2,0)","v":{"$error":"#N/A"}},{"$f":"VLOOKUP(K9414,[5]Paramètres!$M$5:$O$101,3,0)","v":{"$error":"#N/A"}},null,null,null,null,null,null,null,null,null,null,{"$f":"SUM(Tableau_Data[[#This Row],[Féminin]:[Masculin]])","v":0}]
[null,null,"",null,"",null,null,null,null,null,null,{"$f":"VLOOKUP(K9415,[5]Paramètres!$M$5:$O$101,2,0)","v":{"$error":"#N/A"}},{"$f":"VLOOKUP(K9415,[5]Paramètres!$M$5:$O$101,3,0)","v":{"$error":"#N/A"}},null,null,null,null,null,null,null,null,null,null,{"$f":"SUM(Tableau_Data[[#This Row],[Féminin]:[Masculin]])","v":0}]
[null,null,"",null,"",null,null,null,null,null,null,{"$f":"VLOOKUP(K9416,[5]Paramètres!$M$5:$O$101,2,0)","v":{"$error":"#N/A"}},{"$f":"VLOOKUP(K9416,[5]Paramètres!$M$5:$O$101,3,0)","v":{"$error":"#N/A"}},null,null,null,null,null,null,null,null,null,null,{"$f":"SUM(Tableau_Data[[#This Row],[Féminin]:[Masculin]])","v":0}]
[null,null,"",null,"",null,null,null,null,null,null,{"$f":"VLOOKUP(K9417,[5]Paramètres!$M$5:$O$101,2,0)","v":{"$error":"#N/A"}},{"$f":"VLOOKUP(K9417,[5]Paramètres!$M$5:$O$101,3,0)","v":{"$error":"#N/A"}},null,null,null,null,null,null,null,null,null,null,{"$f":"SUM(Tableau_Data[[#This Row],[Féminin]:[Masculin]])","v":0}]
[null,null,"",null,"",null,null,null,null,null,null,{"$f":"VLOOKUP(K9418,[5]Paramètres!$M$5:$O$101,2,0)","v":{"$error":"#N/A"}},{"$f":"VLOOKUP(K9418,[5]Paramètres!$M$5:$O$101,3,0)","v":{"$error":"#N/A"}},null,null,null,null,null,null,null,null,null,null,{"$f":"SUM(Tableau_Data[[#This Row],[Féminin]:[Masculin]])","v":0}]
[null,null,"",null,"",null,null,null,null,null,null,{"$f":"VLOOKUP(K9419,[5]Paramètres!$M$5:$O$101,2,0)","v":{"$error":"#N/A"}},{"$f":"VLOOKUP(K9419,[5]Paramètres!$M$5:$O$101,3,0)","v":{"$error":"#N/A"}},null,null,null,null,null,null,null,null,null,null,{"$f":"SUM(Tableau_Data[[#This Row],[Féminin]:[Masculin]])","v":0}]
[null,null,"",null,"",null,null,null,null,null,null,{"$f":"VLOOKUP(K9420,[5]Paramètres!$M$5:$O$101,2,0)","v":{"$error":"#N/A"}},{"$f":"VLOOKUP(K9420,[5]Paramètres!$M$5:$O$101,3,0)","v":{"$error":"#N/A"}},null,null,null,null,null,null,null,null,null,null,{"$f":"SUM(Tableau_Data[[#This Row],[Féminin]:[Masculin]])","v":0}]
[null,null,"",null,"",null,null,null,null,null,null,{"$f":"VLOOKUP(K9421,[5]Paramètres!$M$5:$O$101,2,0)","v":{"$error":"#N/A"}},{"$f":"VLOOKUP(K9421,[5]Paramètres!$M$5:$O$101,3,0)","v":{"$error":"#N/A"}},null,null,null,null,null,null,null,null,null,null,{"$f":"SUM(Tableau_Data[[#This Row],[Féminin]:[Masculin]])","v":0}]
[null,null,"",null,"",null,null,null,null,null,null,{"$f":"VLOOKUP(K9422,[5]Paramètres!$M$5:$O$101,2,0)","v":{"$error":"#N/A"}},{"$f":"VLOOKUP(K9422,[5]Paramètres!$M$5:$O$101,3,0)","v":{"$error":"#N/A"}},null,null,null,null,null,null,null,null,null,null,{"$f":"SUM(Tableau_Data[[#This Row],[Féminin]:[Masculin]])","v":0}]
[null,null,"",null,"",null,null,null,null,null,null,{"$f":"VLOOKUP(K9423,[5]Paramètres!$M$5:$O$101,2,0)","v":{"$error":"#N/A"}},{"$f":"VLOOKUP(K9423,[5]Paramètres!$M$5:$O$101,3,0)","v":{"$error":"#N/A"}},null,null,null,null,null,null,null,null,null,null,{"$f":"SUM(Tableau_Data[[#This Row],[Féminin]:[Masculin]])","v":0}]
[null,null,{"$f":"IF(D9424=\"\",\"\",YEAR(D9424))","v":""},null,"",null,null,null,null,null,null,{"$f":"VLOOKUP(K9424,[5]Paramètres!$M$5:$O$101,2,0)","v":{"$error":"#N/A"}},{"$f":"VLOOKUP(K9424,[5]Paramètres!$M$5:$O$101,3,0)","v":{"$error":"#N/A"}},null,null,null,null,null,null,null,null,null,null,{"$f":"SUM(Tableau_Data[[#This Row],[Féminin]:[Masculin]])","v":0}]
[null,null,"",null,"",null,null,null,null,null,null,{"$f":"VLOOKUP(K9425,[5]Paramètres!$M$5:$O$101,2,0)","v":{"$error":"#N/A"}},{"$f":"VLOOKUP(K9425,[5]Paramètres!$M$5:$O$101,3,0)","v":{"$error":"#N/A"}},null,null,null,null,null,null,null,null,null,null,{"$f":"SUM(Tableau_Data[[#This Row],[Féminin]:[Masculin]])","v":0}]
[null,null,"",null,"",null,null,null,null,null,null,{"$f":"VLOOKUP(K9426,[5]Paramètres!$M$5:$O$101,2,0)","v":{"$error":"#N/A"}},{"$f":"VLOOKUP(K9426,[5]Paramètres!$M$5:$O$101,3,0)","v":{"$error":"#N/A"}},null,null,null,null,null,null,null,null,null,null,{"$f":"SUM(Tableau_Data[[#This Row],[Féminin]:[Masculin]])","v":0}]
[null,null,"",null,"",null,null,null,null,null,null,{"$f":"VLOOKUP(K9427,[5]Paramètres!$M$5:$O$101,2,0)","v":{"$error":"#N/A"}},{"$f":"VLOOKUP(K9427,[5]Paramètres!$M$5:$O$101,3,0)","v":{"$error":"#N/A"}},null,null,null,null,null,null,null,null,null,null,{"$f":"SUM(Tableau_Data[[#This Row],[Féminin]:[Masculin]])","v":0}]
[null,null,"",null,"",null,null,null,null,null,null,{"$f":"VLOOKUP(K9428,[5]Paramètres!$M$5:$O$101,2,0)","v":{"$error":"#N/A"}},{"$f":"VLOOKUP(K9428,[5]Paramètres!$M$5:$O$101,3,0)","v":{"$error":"#N/A"}},null,null,null,null,null,null,null,null,null,null,{"$f":"SUM(Tableau_Data[[#This Row],[Féminin]:[Masculin]])","v":0}]
[null,null,"",null,"",null,null,null,null,null,null,{"$f":"VLOOKUP(K9429,[5]Paramètres!$M$5:$O$101,2,0)","v":{"$error":"#N/A"}},{"$f":"VLOOKUP(K9429,[5]Paramètres!$M$5:$O$101,3,0)","v":{"$error":"#N/A"}},null,null,null,null,null,null,null,null,null,null,{"$f":"SUM(Tableau_Data[[#This Row],[Féminin]:[Masculin]])","v":0}]
[null,null,"",null,"",null,null,null,null,null,null,{"$f":"VLOOKUP(K9430,[5]Paramètres!$M$5:$O$101,2,0)","v":{"$error":"#N/A"}},{"$f":"VLOOKUP(K9430,[5]Paramètres!$M$5:$O$101,3,0)","v":{"$error":"#N/A"}},null,null,null,null,null,null,null,null,null,null,{"$f":"SUM(Tableau_Data[[#This Row],[Féminin]:[Masculin]])","v":0}]
[null,null,"",null,"",null,null,null,null,null,null,{"$f":"VLOOKUP(K9431,[5]Paramètres!$M$5:$O$101,2,0)","v":{"$error":"#N/A"}},{"$f":"VLOOKUP(K9431,[5]Paramètres!$M$5:$O$101,3,0)","v":{"$error":"#N/A"}},null,null,null,null,null,null,null,null,null,null,{"$f":"SUM(Tableau_Data[[#This Row],[Féminin]:[Masculin]])","v":0}]
[null,null,"",null,"",null,null,null,null,null,null,{"$f":"VLOOKUP(K9432,[5]Paramètres!$M$5:$O$101,2,0)","v":{"$error":"#N/A"}},{"$f":"VLOOKUP(K9432,[5]Paramètres!$M$5:$O$101,3,0)","v":{"$error":"#N/A"}},null,null,null,null,null,null,null,null,null,null,{"$f":"SUM(Tableau_Data[[#This Row],[Féminin]:[Masculin]])","v":0}]
[null,null,"",null,"",null,null,null,null,null,null,{"$f":"VLOOKUP(K9433,[5]Paramètres!$M$5:$O$101,2,0)","v":{"$error":"#N/A"}},{"$f":"VLOOKUP(K9433,[5]Paramètres!$M$5:$O$101,3,0)","v":{"$error":"#N/A"}},null,null,null,null,null,null,null,null,null,null,{"$f":"SUM(Tableau_Data[[#This Row],[Féminin]:[Masculin]])","v":0}]
[null,null,"",null,"",null,null,null,null,null,null,{"$f":"VLOOKUP(K9434,[5]Paramètres!$M$5:$O$101,2,0)","v":{"$error":"#N/A"}},{"$f":"VLOOKUP(K9434,[5]Paramètres!$M$5:$O$101,3,0)","v":{"$error":"#N/A"}},null,null,null,null,null,null,null,null,null,null,{"$f":"SUM(Tableau_Data[[#This Row],[Féminin]:[Masculin]])","v":0}]
[null,null,"",null,"",null,null,null,null,null,null,{"$f":"VLOOKUP(K9435,[5]Paramètres!$M$5:$O$101,2,0)","v":{"$error":"#N/A"}},{"$f":"VLOOKUP(K9435,[5]Paramètres!$M$5:$O$101,3,0)","v":{"$error":"#N/A"}},null,null,null,null,null,null,null,null,null,null,{"$f":"SUM(Tableau_Data[[#This Row],[Féminin]:[Masculin]])","v":0}]
[null,null,"",null,{"$f":"IF(D9436=\"\",\"\",MONTH(D9436))","v":""},null,null,null,null,null,null,{"$f":"VLOOKUP(K9436,[5]Paramètres!$M$5:$O$101,2,0)","v":{"$error":"#N/A"}},{"$f":"VLOOKUP(K9436,[5]Paramètres!$M$5:$O$101,3,0)","v":{"$error":"#N/A"}},null,null,null,null,null,null,null,null,null,null,{"$f":"SUM(Tableau_Data[[#This Row],[Féminin]:[Masculin]])","v":0}]
[null,null,"",null,"",null,null,null,null,null,null,{"$f":"VLOOKUP(K9437,[5]Paramètres!$M$5:$O$101,2,0)","v":{"$error":"#N/A"}},{"$f":"VLOOKUP(K9437,[5]Paramètres!$M$5:$O$101,3,0)","v":{"$error":"#N/A"}},null,null,null,null,null,null,null,null,null,null,{"$f":"SUM(Tableau_Data[[#This Row],[Féminin]:[Masculin]])","v":0}]
[null,null,"",null,"",null,null,null,null,null,null,{"$f":"VLOOKUP(K9438,[5]Paramètres!$M$5:$O$101,2,0)","v":{"$error":"#N/A"}},{"$f":"VLOOKUP(K9438,[5]Paramètres!$M$5:$O$101,3,0)","v":{"$error":"#N/A"}},null,null,null,null,null,null,null,null,null,null,{"$f":"SUM(Tableau_Data[[#This Row],[Féminin]:[Masculin]])","v":0}]
[null,null,"",null,"",null,null,null,null,null,null,{"$f":"VLOOKUP(K9439,[5]Paramètres!$M$5:$O$101,2,0)","v":{"$error":"#N/A"}},{"$f":"VLOOKUP(K9439,[5]Paramètres!$M$5:$O$101,3,0)","v":{"$error":"#N/A"}},null,null,null,null,null,null,null,null,null,null,{"$f":"SUM(Tableau_Data[[#This Row],[Féminin]:[Masculin]])","v":0}]
[null,null,"",null,"",null,null,null,null,null,null,{"$f":"VLOOKUP(K9440,[5]Paramètres!$M$5:$O$101,2,0)","v":{"$error":"#N/A"}},{"$f":"VLOOKUP(K9440,[5]Paramètres!$M$5:$O$101,3,0)","v":{"$error":"#N/A"}},null,null,null,null,null,null,null,null,null,null,{"$f":"SUM(Tableau_Data[[#This Row],[Féminin]:[Masculin]])","v":0}]
[null,null,"",null,"",null,null,null,null,null,null,{"$f":"VLOOKUP(K9441,[5]Paramètres!$M$5:$O$101,2,0)","v":{"$error":"#N/A"}},{"$f":"VLOOKUP(K9441,[5]Paramètres!$M$5:$O$101,3,0)","v":{"$error":"#N/A"}},null,null,null,null,null,null,null,null,null,null,{"$f":"SUM(Tableau_Data[[#This Row],[Féminin]:[Masculin]])","v":0}]
[null,null,"",null,"",null,null,null,null,null,null,{"$f":"VLOOKUP(K9442,[5]Paramètres!$M$5:$O$101,2,0)","v":{"$error":"#N/A"}},{"$f":"VLOOKUP(K9442,[5]Paramètres!$M$5:$O$101,3,0)","v":{"$error":"#N/A"}},null,null,null,null,null,null,null,null,null,null,{"$f":"SUM(Tableau_Data[[#This Row],[Féminin]:[Masculin]])","v":0}]
[null,null,"",null,"",null,null,null,null,null,null,{"$f":"VLOOKUP(K9443,[5]Paramètres!$M$5:$O$101,2,0)","v":{"$error":"#N/A"}},{"$f":"VLOOKUP(K9443,[5]Paramètres!$M$5:$O$101,3,0)","v":{"$error":"#N/A"}},null,null,null,null,null,null,null,null,null,null,{"$f":"SUM(Tableau_Data[[#This Row],[Féminin]:[Masculin]])","v":0}]
[null,null,"",null,"",null,null,null,null,null,null,{"$f":"VLOOKUP(K9444,[5]Paramètres!$M$5:$O$101,2,0)","v":{"$error":"#N/A"}},{"$f":"VLOOKUP(K9444,[5]Paramètres!$M$5:$O$101,3,0)","v":{"$error":"#N/A"}},null,null,null,null,null,null,null,null,null,null,{"$f":"SUM(Tableau_Data[[#This Row],[Féminin]:[Masculin]])","v":0}]
[null,null,"",null,"",null,null,null,null,null,null,{"$f":"VLOOKUP(K9445,[5]Paramètres!$M$5:$O$101,2,0)","v":{"$error":"#N/A"}},{"$f":"VLOOKUP(K9445,[5]Paramètres!$M$5:$O$101,3,0)","v":{"$error":"#N/A"}},null,null,null,null,null,null,null,null,null,null,{"$f":"SUM(Tableau_Data[[#This Row],[Féminin]:[Masculin]])","v":0}]
[null,null,"",null,"",null,null,null,null,null,null,{"$f":"VLOOKUP(K9446,[5]Paramètres!$M$5:$O$101,2,0)","v":{"$error":"#N/A"}},{"$f":"VLOOKUP(K9446,[5]Paramètres!$M$5:$O$101,3,0)","v":{"$error":"#N/A"}},null,null,null,null,null,null,null,null,null,null,{"$f":"SUM(Tableau_Data[[#This Row],[Féminin]:[Masculin]])","v":0}]
[null,null,"",null,"",null,null,null,null,null,null,{"$f":"VLOOKUP(K9447,[5]Paramètres!$M$5:$O$101,2,0)","v":{"$error":"#N/A"}},{"$f":"VLOOKUP(K9447,[5]Paramètres!$M$5:$O$101,3,0)","v":{"$error":"#N/A"}},null,null,null,null,null,null,null,null,null,null,{"$f":"SUM(Tableau_Data[[#This Row],[Féminin]:[Masculin]])","v":0}]
[null,null,"",null,"",null,null,null,null,null,null,{"$f":"VLOOKUP(K9448,[5]Paramètres!$M$5:$O$101,2,0)","v":{"$error":"#N/A"}},{"$f":"VLOOKUP(K9448,[5]Paramètres!$M$5:$O$101,3,0)","v":{"$error":"#N/A"}},null,null,null,null,null,null,null,null,null,null,{"$f":"SUM(Tableau_Data[[#This Row],[Féminin]:[Masculin]])","v":0}]
[null,null,"",null,"",null,null,null,null,null,null,{"$f":"VLOOKUP(K9449,[5]Paramètres!$M$5:$O$101,2,0)","v":{"$error":"#N/A"}},{"$f":"VLOOKUP(K9449,[5]Paramètres!$M$5:$O$101,3,0)","v":{"$error":"#N/A"}},null,null,null,null,null,null,null,null,null,null,{"$f":"SUM(Tableau_Data[[#This Row],[Féminin]:[Masculin]])","v":0}]
[null,null,"",null,"",null,null,null,null,null,null,{"$f":"VLOOKUP(K9450,[5]Paramètres!$M$5:$O$101,2,0)","v":{"$error":"#N/A"}},{"$f":"VLOOKUP(K9450,[5]Paramètres!$M$5:$O$101,3,0)","v":{"$error":"#N/A"}},null,null,null,null,null,null,null,null,null,null,{"$f":"SUM(Tableau_Data[[#This Row],[Féminin]:[Masculin]])","v":0}]
[null,null,"",null,"",null,null,null,null,null,null,{"$f":"VLOOKUP(K9451,[5]Paramètres!$M$5:$O$101,2,0)","v":{"$error":"#N/A"}},{"$f":"VLOOKUP(K9451,[5]Paramètres!$M$5:$O$101,3,0)","v":{"$error":"#N/A"}},null,null,null,null,null,null,null,null,null,null,{"$f":"SUM(Tableau_Data[[#This Row],[Féminin]:[Masculin]])","v":0}]
[null,null,"",null,"",null,null,null,null,null,null,{"$f":"VLOOKUP(K9452,[5]Paramètres!$M$5:$O$101,2,0)","v":{"$error":"#N/A"}},{"$f":"VLOOKUP(K9452,[5]Paramètres!$M$5:$O$101,3,0)","v":{"$error":"#N/A"}},null,null,null,null,null,null,null,null,null,null,{"$f":"SUM(Tableau_Data[[#This Row],[Féminin]:[Masculin]])","v":0}]
[null,null,"",null,"",null,null,null,null,null,null,{"$f":"VLOOKUP(K9453,[5]Paramètres!$M$5:$O$101,2,0)","v":{"$error":"#N/A"}},{"$f":"VLOOKUP(K9453,[5]Paramètres!$M$5:$O$101,3,0)","v":{"$error":"#N/A"}},null,null,null,null,null,null,null,null,null,null,{"$f":"SUM(Tableau_Data[[#This Row],[Féminin]:[Masculin]])","v":0}]
[null,null,"",null,"",null,null,null,null,null,null,{"$f":"VLOOKUP(K9454,[5]Paramètres!$M$5:$O$101,2,0)","v":{"$error":"#N/A"}},{"$f":"VLOOKUP(K9454,[5]Paramètres!$M$5:$O$101,3,0)","v":{"$error":"#N/A"}},null,null,null,null,null,null,null,null,null,null,{"$f":"SUM(Tableau_Data[[#This Row],[Féminin]:[Masculin]])","v":0}]
[null,null,"",null,"",null,null,null,null,null,null,{"$f":"VLOOKUP(K9455,[5]Paramètres!$M$5:$O$101,2,0)","v":{"$error":"#N/A"}},{"$f":"VLOOKUP(K9455,[5]Paramètres!$M$5:$O$101,3,0)","v":{"$error":"#N/A"}},null,null,null,null,null,null,null,null,null,null,{"$f":"SUM(Tableau_Data[[#This Row],[Féminin]:[Masculin]])","v":0}]
[null,null,"",null,"",null,null,null,null,null,null,{"$f":"VLOOKUP(K9456,[5]Paramètres!$M$5:$O$101,2,0)","v":{"$error":"#N/A"}},{"$f":"VLOOKUP(K9456,[5]Paramètres!$M$5:$O$101,3,0)","v":{"$error":"#N/A"}},null,null,null,null,null,null,null,null,null,null,{"$f":"SUM(Tableau_Data[[#This Row],[Féminin]:[Masculin]])","v":0}]
[null,null,"",null,"",null,null,null,null,null,null,{"$f":"VLOOKUP(K9457,[5]Paramètres!$M$5:$O$101,2,0)","v":{"$error":"#N/A"}},{"$f":"VLOOKUP(K9457,[5]Paramètres!$M$5:$O$101,3,0)","v":{"$error":"#N/A"}},null,null,null,null,null,null,null,null,null,null,{"$f":"SUM(Tableau_Data[[#This Row],[Féminin]:[Masculin]])","v":0}]
[null,null,"",null,"",null,null,null,null,null,null,{"$f":"VLOOKUP(K9459,[5]Paramètres!$M$5:$O$101,2,0)","v":{"$error":"#N/A"}},{"$f":"VLOOKUP(K9459,[5]Paramètres!$M$5:$O$101,3,0)","v":{"$error":"#N/A"}},null,null,null,null,null,null,null,null,null,null,{"$f":"SUM(Tableau_Data[[#This Row],[Féminin]:[Masculin]])","v":0}]
[null,null,"",null,"",null,null,null,null,null,null,{"$f":"VLOOKUP(K9460,[5]Paramètres!$M$5:$O$101,2,0)","v":{"$error":"#N/A"}},{"$f":"VLOOKUP(K9460,[5]Paramètres!$M$5:$O$101,3,0)","v":{"$error":"#N/A"}},null,null,null,null,null,null,null,null,null,null,{"$f":"SUM(Tableau_Data[[#This Row],[Féminin]:[Masculin]])","v":0}]
[null,null,"",null,"",null,null,null,null,null,null,{"$f":"VLOOKUP(K9461,[5]Paramètres!$M$5:$O$101,2,0)","v":{"$error":"#N/A"}},{"$f":"VLOOKUP(K9461,[5]Paramètres!$M$5:$O$101,3,0)","v":{"$error":"#N/A"}},null,null,null,null,null,null,null,null,null,null,{"$f":"SUM(Tableau_Data[[#This Row],[Féminin]:[Masculin]])","v":0}]
[null,null,"",null,"",null,null,null,null,null,null,{"$f":"VLOOKUP(K9462,[5]Paramètres!$M$5:$O$101,2,0)","v":{"$error":"#N/A"}},{"$f":"VLOOKUP(K9462,[5]Paramètres!$M$5:$O$101,3,0)","v":{"$error":"#N/A"}},null,null,null,null,null,null,null,null,null,null,{"$f":"SUM(Tableau_Data[[#This Row],[Féminin]:[Masculin]])","v":0}]
[null,null,"",null,"",null,null,null,null,null,null,{"$f":"VLOOKUP(K9462,[5]Paramètres!$M$5:$O$101,2,0)","v":{"$error":"#N/A"}},{"$f":"VLOOKUP(K9462,[5]Paramètres!$M$5:$O$101,3,0)","v":{"$error":"#N/A"}},null,null,null,null,null,null,null,null,null,null,{"$f":"SUM(Tableau_Data[[#This Row],[Féminin]:[Masculin]])","v":0}]
[null,null,"",null,"",null,null,null,null,null,null,{"$f":"VLOOKUP(K9463,[5]Paramètres!$M$5:$O$101,2,0)","v":{"$error":"#N/A"}},{"$f":"VLOOKUP(K9463,[5]Paramètres!$M$5:$O$101,3,0)","v":{"$error":"#N/A"}},null,null,null,null,null,null,null,null,null,null,{"$f":"SUM(Tableau_Data[[#This Row],[Féminin]:[Masculin]])","v":0}]
[null,null,"",null,"",null,null,null,null,null,null,{"$f":"VLOOKUP(K9464,[5]Paramètres!$M$5:$O$101,2,0)","v":{"$error":"#N/A"}},{"$f":"VLOOKUP(K9464,[5]Paramètres!$M$5:$O$101,3,0)","v":{"$error":"#N/A"}},null,null,null,null,null,null,null,null,null,null,{"$f":"SUM(Tableau_Data[[#This Row],[Féminin]:[Masculin]])","v":0}]
[null,null,"",null,"",null,null,null,null,null,null,{"$f":"VLOOKUP(K9465,[5]Paramètres!$M$5:$O$101,2,0)","v":{"$error":"#N/A"}},{"$f":"VLOOKUP(K9465,[5]Paramètres!$M$5:$O$101,3,0)","v":{"$error":"#N/A"}},null,null,null,null,null,null,null,null,null,null,{"$f":"SUM(Tableau_Data[[#This Row],[Féminin]:[Masculin]])","v":0}]
[null,null,"",null,"",null,null,null,null,null,null,{"$f":"VLOOKUP(K9466,[5]Paramètres!$M$5:$O$101,2,0)","v":{"$error":"#N/A"}},{"$f":"VLOOKUP(K9466,[5]Paramètres!$M$5:$O$101,3,0)","v":{"$error":"#N/A"}},null,null,null,null,null,null,null,null,null,null,{"$f":"SUM(Tableau_Data[[#This Row],[Féminin]:[Masculin]])","v":0}]
[null,null,"",null,"",null,null,null,null,null,null,{"$f":"VLOOKUP(K9467,[5]Paramètres!$M$5:$O$101,2,0)","v":{"$error":"#N/A"}},{"$f":"VLOOKUP(K9467,[5]Paramètres!$M$5:$O$101,3,0)","v":{"$error":"#N/A"}},null,null,null,null,null,null,null,null,null,null,{"$f":"SUM(Tableau_Data[[#This Row],[Féminin]:[Masculin]])","v":0}]
[null,null,"",null,"",null,null,null,null,null,null,{"$f":"VLOOKUP(K9468,[5]Paramètres!$M$5:$O$101,2,0)","v":{"$error":"#N/A"}},{"$f":"VLOOKUP(K9468,[5]Paramètres!$M$5:$O$101,3,0)","v":{"$error":"#N/A"}},null,null,null,null,null,null,null,null,null,null,{"$f":"SUM(Tableau_Data[[#This Row],[Féminin]:[Masculin]])","v":0}]
[null,null,"",null,"",null,null,null,null,null,null,{"$f":"VLOOKUP(K9469,[5]Paramètres!$M$5:$O$101,2,0)","v":{"$error":"#N/A"}},{"$f":"VLOOKUP(K9469,[5]Paramètres!$M$5:$O$101,3,0)","v":{"$error":"#N/A"}},null,null,null,null,null,null,null,null,null,null,{"$f":"SUM(Tableau_Data[[#This Row],[Féminin]:[Masculin]])","v":0}]
[null,null,"",null,"",null,null,null,null,null,null,{"$f":"VLOOKUP(K9470,[5]Paramètres!$M$5:$O$101,2,0)","v":{"$error":"#N/A"}},{"$f":"VLOOKUP(K9470,[5]Paramètres!$M$5:$O$101,3,0)","v":{"$error":"#N/A"}},null,null,null,null,null,null,null,null,null,null,{"$f":"SUM(Tableau_Data[[#This Row],[Féminin]:[Masculin]])","v":0}]
[null,null,"",null,"",null,null,null,null,null,null,{"$f":"VLOOKUP(K9471,[5]Paramètres!$M$5:$O$101,2,0)","v":{"$error":"#N/A"}},{"$f":"VLOOKUP(K9471,[5]Paramètres!$M$5:$O$101,3,0)","v":{"$error":"#N/A"}},null,null,null,null,null,null,null,null,null,null,{"$f":"SUM(Tableau_Data[[#This Row],[Féminin]:[Masculin]])","v":0}]
[null,null,"",null,"",null,null,null,null,null,null,{"$f":"VLOOKUP(K9472,[5]Paramètres!$M$5:$O$101,2,0)","v":{"$error":"#N/A"}},{"$f":"VLOOKUP(K9472,[5]Paramètres!$M$5:$O$101,3,0)","v":{"$error":"#N/A"}},null,null,null,null,null,null,null,null,null,null,{"$f":"SUM(Tableau_Data[[#This Row],[Féminin]:[Masculin]])","v":0}]
[null,null,"",null,"",null,null,null,null,null,null,{"$f":"VLOOKUP(K9473,[5]Paramètres!$M$5:$O$101,2,0)","v":{"$error":"#N/A"}},{"$f":"VLOOKUP(K9473,[5]Paramètres!$M$5:$O$101,3,0)","v":{"$error":"#N/A"}},null,null,null,null,null,null,null,null,null,null,{"$f":"SUM(Tableau_Data[[#This Row],[Féminin]:[Masculin]])","v":0}]
[null,null,"",null,"",null,null,null,null,null,null,{"$f":"VLOOKUP(K9474,[5]Paramètres!$M$5:$O$101,2,0)","v":{"$error":"#N/A"}},{"$f":"VLOOKUP(K9474,[5]Paramètres!$M$5:$O$101,3,0)","v":{"$error":"#N/A"}},null,null,null,null,null,null,null,null,null,null,{"$f":"SUM(Tableau_Data[[#This Row],[Féminin]:[Masculin]])","v":0}]
[null,null,"",null,"",null,null,null,null,null,null,{"$f":"VLOOKUP(K9475,[5]Paramètres!$M$5:$O$101,2,0)","v":{"$error":"#N/A"}},{"$f":"VLOOKUP(K9475,[5]Paramètres!$M$5:$O$101,3,0)","v":{"$error":"#N/A"}},null,null,null,null,null,null,null,null,null,null,{"$f":"SUM(Tableau_Data[[#This Row],[Féminin]:[Masculin]])","v":0}]
[null,null,"",null,"",null,null,null,null,null,null,{"$f":"VLOOKUP(K9476,[5]Paramètres!$M$5:$O$101,2,0)","v":{"$error":"#N/A"}},{"$f":"VLOOKUP(K9476,[5]Paramètres!$M$5:$O$101,3,0)","v":{"$error":"#N/A"}},null,null,null,null,null,null,null,null,null,null,{"$f":"SUM(Tableau_Data[[#This Row],[Féminin]:[Masculin]])","v":0}]
[null,null,"",null,"",null,null,null,null,null,null,{"$f":"VLOOKUP(K9477,[5]Paramètres!$M$5:$O$101,2,0)","v":{"$error":"#N/A"}},{"$f":"VLOOKUP(K9477,[5]Paramètres!$M$5:$O$101,3,0)","v":{"$error":"#N/A"}},null,null,null,null,null,null,null,null,null,null,{"$f":"SUM(Tableau_Data[[#This Row],[Féminin]:[Masculin]])","v":0}]
[null,null,"",null,"",null,null,null,null,null,null,{"$f":"VLOOKUP(K9478,[5]Paramètres!$M$5:$O$101,2,0)","v":{"$error":"#N/A"}},{"$f":"VLOOKUP(K9478,[5]Paramètres!$M$5:$O$101,3,0)","v":{"$error":"#N/A"}},null,null,null,null,null,null,null,null,null,null,{"$f":"SUM(Tableau_Data[[#This Row],[Féminin]:[Masculin]])","v":0}]
[null,null,"",null,"",null,null,null,null,null,null,{"$f":"VLOOKUP(K9479,[5]Paramètres!$M$5:$O$101,2,0)","v":{"$error":"#N/A"}},{"$f":"VLOOKUP(K9479,[5]Paramètres!$M$5:$O$101,3,0)","v":{"$error":"#N/A"}},null,null,null,null,null,null,null,null,null,null,{"$f":"SUM(Tableau_Data[[#This Row],[Féminin]:[Masculin]])","v":0}]
[null,null,"",null,"",null,null,null,null,null,null,{"$f":"VLOOKUP(K9480,[5]Paramètres!$M$5:$O$101,2,0)","v":{"$error":"#N/A"}},{"$f":"VLOOKUP(K9480,[5]Paramètres!$M$5:$O$101,3,0)","v":{"$error":"#N/A"}},null,null,null,null,null,null,null,null,null,null,{"$f":"SUM(Tableau_Data[[#This Row],[Féminin]:[Masculin]])","v":0}]
[null,null,"",null,"",null,null,null,null,null,null,{"$f":"VLOOKUP(K9481,[5]Paramètres!$M$5:$O$101,2,0)","v":{"$error":"#N/A"}},{"$f":"VLOOKUP(K9481,[5]Paramètres!$M$5:$O$101,3,0)","v":{"$error":"#N/A"}},null,null,null,null,null,null,null,null,null,null,{"$f":"SUM(Tableau_Data[[#This Row],[Féminin]:[Masculin]])","v":0}]
[null,null,"",null,"",null,null,null,null,null,null,{"$f":"VLOOKUP(K9482,[5]Paramètres!$M$5:$O$101,2,0)","v":{"$error":"#N/A"}},{"$f":"VLOOKUP(K9482,[5]Paramètres!$M$5:$O$101,3,0)","v":{"$error":"#N/A"}},null,null,null,null,null,null,null,null,null,null,{"$f":"SUM(Tableau_Data[[#This Row],[Féminin]:[Masculin]])","v":0}]
[null,null,"",null,"",null,null,null,null,null,null,{"$f":"VLOOKUP(K9483,[5]Paramètres!$M$5:$O$101,2,0)","v":{"$error":"#N/A"}},{"$f":"VLOOKUP(K9483,[5]Paramètres!$M$5:$O$101,3,0)","v":{"$error":"#N/A"}},null,null,null,null,null,null,null,null,null,null,{"$f":"SUM(Tableau_Data[[#This Row],[Féminin]:[Masculin]])","v":0}]
[null,null,"",null,"",null,null,null,null,null,null,{"$f":"VLOOKUP(K9484,[5]Paramètres!$M$5:$O$101,2,0)","v":{"$error":"#N/A"}},{"$f":"VLOOKUP(K9484,[5]Paramètres!$M$5:$O$101,3,0)","v":{"$error":"#N/A"}},null,null,null,null,null,null,null,null,null,null,{"$f":"SUM(Tableau_Data[[#This Row],[Féminin]:[Masculin]])","v":0}]
[null,null,"",null,"",null,null,null,null,null,null,{"$f":"VLOOKUP(K9485,[5]Paramètres!$M$5:$O$101,2,0)","v":{"$error":"#N/A"}},{"$f":"VLOOKUP(K9485,[5]Paramètres!$M$5:$O$101,3,0)","v":{"$error":"#N/A"}},null,null,null,null,null,null,null,null,null,null,{"$f":"SUM(Tableau_Data[[#This Row],[Féminin]:[Masculin]])","v":0}]
[null,null,"",null,"",null,null,null,null,null,null,{"$f":"VLOOKUP(K9486,[5]Paramètres!$M$5:$O$101,2,0)","v":{"$error":"#N/A"}},{"$f":"VLOOKUP(K9486,[5]Paramètres!$M$5:$O$101,3,0)","v":{"$error":"#N/A"}},null,null,null,null,null,null,null,null,null,null,{"$f":"SUM(Tableau_Data[[#This Row],[Féminin]:[Masculin]])","v":0}]
[null,null,"",null,"",null,null,null,null,null,null,{"$f":"VLOOKUP(K9487,[5]Paramètres!$M$5:$O$101,2,0)","v":{"$error":"#N/A"}},{"$f":"VLOOKUP(K9487,[5]Paramètres!$M$5:$O$101,3,0)","v":{"$error":"#N/A"}},null,null,null,null,null,null,null,null,null,null,{"$f":"SUM(Tableau_Data[[#This Row],[Féminin]:[Masculin]])","v":0}]
[null,null,{"$f":"IF(D9488=\"\",\"\",YEAR(D9488))","v":""},null,"",null,null,null,null,null,null,{"$f":"VLOOKUP(K9488,[5]Paramètres!$M$5:$O$101,2,0)","v":{"$error":"#N/A"}},{"$f":"VLOOKUP(K9488,[5]Paramètres!$M$5:$O$101,3,0)","v":{"$error":"#N/A"}},null,null,null,null,null,null,null,null,null,null,{"$f":"SUM(Tableau_Data[[#This Row],[Féminin]:[Masculin]])","v":0}]
[null,null,"",null,"",null,null,null,null,null,null,{"$f":"VLOOKUP(K9489,[5]Paramètres!$M$5:$O$101,2,0)","v":{"$error":"#N/A"}},{"$f":"VLOOKUP(K9489,[5]Paramètres!$M$5:$O$101,3,0)","v":{"$error":"#N/A"}},null,null,null,null,null,null,null,null,null,null,{"$f":"SUM(Tableau_Data[[#This Row],[Féminin]:[Masculin]])","v":0}]
[null,null,"",null,"",null,null,null,null,null,null,{"$f":"VLOOKUP(K9490,[5]Paramètres!$M$5:$O$101,2,0)","v":{"$error":"#N/A"}},{"$f":"VLOOKUP(K9490,[5]Paramètres!$M$5:$O$101,3,0)","v":{"$error":"#N/A"}},null,null,null,null,null,null,null,null,null,null,{"$f":"SUM(Tableau_Data[[#This Row],[Féminin]:[Masculin]])","v":0}]
[null,null,"",null,"",null,null,null,null,null,null,{"$f":"VLOOKUP(K9491,[5]Paramètres!$M$5:$O$101,2,0)","v":{"$error":"#N/A"}},{"$f":"VLOOKUP(K9491,[5]Paramètres!$M$5:$O$101,3,0)","v":{"$error":"#N/A"}},null,null,null,null,null,null,null,null,null,null,{"$f":"SUM(Tableau_Data[[#This Row],[Féminin]:[Masculin]])","v":0}]
[null,null,"",null,"",null,null,null,null,null,null,{"$f":"VLOOKUP(K9492,[5]Paramètres!$M$5:$O$101,2,0)","v":{"$error":"#N/A"}},{"$f":"VLOOKUP(K9492,[5]Paramètres!$M$5:$O$101,3,0)","v":{"$error":"#N/A"}},null,null,null,null,null,null,null,null,null,null,{"$f":"SUM(Tableau_Data[[#This Row],[Féminin]:[Masculin]])","v":0}]
[null,null,"",null,"",null,null,null,null,null,null,{"$f":"VLOOKUP(K9493,[5]Paramètres!$M$5:$O$101,2,0)","v":{"$error":"#N/A"}},{"$f":"VLOOKUP(K9493,[5]Paramètres!$M$5:$O$101,3,0)","v":{"$error":"#N/A"}},null,null,null,null,null,null,null,null,null,null,{"$f":"SUM(Tableau_Data[[#This Row],[Féminin]:[Masculin]])","v":0}]
[null,null,"",null,"",null,null,null,null,null,null,{"$f":"VLOOKUP(K9494,[5]Paramètres!$M$5:$O$101,2,0)","v":{"$error":"#N/A"}},{"$f":"VLOOKUP(K9494,[5]Paramètres!$M$5:$O$101,3,0)","v":{"$error":"#N/A"}},null,null,null,null,null,null,null,null,null,null,{"$f":"SUM(Tableau_Data[[#This Row],[Féminin]:[Masculin]])","v":0}]
[null,null,"",null,"",null,null,null,null,null,null,{"$f":"VLOOKUP(K9495,[5]Paramètres!$M$5:$O$101,2,0)","v":{"$error":"#N/A"}},{"$f":"VLOOKUP(K9495,[5]Paramètres!$M$5:$O$101,3,0)","v":{"$error":"#N/A"}},null,null,null,null,null,null,null,null,null,null,{"$f":"SUM(Tableau_Data[[#This Row],[Féminin]:[Masculin]])","v":0}]
[null,null,"",null,"",null,null,null,null,null,null,{"$f":"VLOOKUP(K9496,[5]Paramètres!$M$5:$O$101,2,0)","v":{"$error":"#N/A"}},{"$f":"VLOOKUP(K9496,[5]Paramètres!$M$5:$O$101,3,0)","v":{"$error":"#N/A"}},null,null,null,null,null,null,null,null,null,null,{"$f":"SUM(Tableau_Data[[#This Row],[Féminin]:[Masculin]])","v":0}]
[null,null,"",null,"",null,null,null,null,null,null,{"$f":"VLOOKUP(K9497,[5]Paramètres!$M$5:$O$101,2,0)","v":{"$error":"#N/A"}},{"$f":"VLOOKUP(K9497,[5]Paramètres!$M$5:$O$101,3,0)","v":{"$error":"#N/A"}},null,null,null,null,null,null,null,null,null,null,{"$f":"SUM(Tableau_Data[[#This Row],[Féminin]:[Masculin]])","v":0}]
[null,null,"",null,"",null,null,null,null,null,null,{"$f":"VLOOKUP(K9498,[5]Paramètres!$M$5:$O$101,2,0)","v":{"$error":"#N/A"}},{"$f":"VLOOKUP(K9498,[5]Paramètres!$M$5:$O$101,3,0)","v":{"$error":"#N/A"}},null,null,null,null,null,null,null,null,null,null,{"$f":"SUM(Tableau_Data[[#This Row],[Féminin]:[Masculin]])","v":0}]
[null,null,"",null,"",null,null,null,null,null,null,{"$f":"VLOOKUP(K9499,[5]Paramètres!$M$5:$O$101,2,0)","v":{"$error":"#N/A"}},{"$f":"VLOOKUP(K9499,[5]Paramètres!$M$5:$O$101,3,0)","v":{"$error":"#N/A"}},null,null,null,null,null,null,null,null,null,null,{"$f":"SUM(Tableau_Data[[#This Row],[Féminin]:[Masculin]])","v":0}]
[null,null,"",null,{"$f":"IF(D9500=\"\",\"\",MONTH(D9500))","v":""},null,null,null,null,null,null,{"$f":"VLOOKUP(K9500,[5]Paramètres!$M$5:$O$101,2,0)","v":{"$error":"#N/A"}},{"$f":"VLOOKUP(K9500,[5]Paramètres!$M$5:$O$101,3,0)","v":{"$error":"#N/A"}},null,null,null,null,null,null,null,null,null,null,{"$f":"SUM(Tableau_Data[[#This Row],[Féminin]:[Masculin]])","v":0}]
[null,null,"",null,"",null,null,null,null,null,null,{"$f":"VLOOKUP(K9501,[5]Paramètres!$M$5:$O$101,2,0)","v":{"$error":"#N/A"}},{"$f":"VLOOKUP(K9501,[5]Paramètres!$M$5:$O$101,3,0)","v":{"$error":"#N/A"}},null,null,null,null,null,null,null,null,null,null,{"$f":"SUM(Tableau_Data[[#This Row],[Féminin]:[Masculin]])","v":0}]
[null,null,"",null,"",null,null,null,null,null,null,{"$f":"VLOOKUP(K9502,[5]Paramètres!$M$5:$O$101,2,0)","v":{"$error":"#N/A"}},{"$f":"VLOOKUP(K9502,[5]Paramètres!$M$5:$O$101,3,0)","v":{"$error":"#N/A"}},null,null,null,null,null,null,null,null,null,null,{"$f":"SUM(Tableau_Data[[#This Row],[Féminin]:[Masculin]])","v":0}]
[null,null,"",null,"",null,null,null,null,null,null,{"$f":"VLOOKUP(K9503,[5]Paramètres!$M$5:$O$101,2,0)","v":{"$error":"#N/A"}},{"$f":"VLOOKUP(K9503,[5]Paramètres!$M$5:$O$101,3,0)","v":{"$error":"#N/A"}},null,null,null,null,null,null,null,null,null,null,{"$f":"SUM(Tableau_Data[[#This Row],[Féminin]:[Masculin]])","v":0}]
[null,null,"",null,"",null,null,null,null,null,null,{"$f":"VLOOKUP(K9504,[5]Paramètres!$M$5:$O$101,2,0)","v":{"$error":"#N/A"}},{"$f":"VLOOKUP(K9504,[5]Paramètres!$M$5:$O$101,3,0)","v":{"$error":"#N/A"}},null,null,null,null,null,null,null,null,null,null,{"$f":"SUM(Tableau_Data[[#This Row],[Féminin]:[Masculin]])","v":0}]
[null,null,"",null,"",null,null,null,null,null,null,{"$f":"VLOOKUP(K9505,[5]Paramètres!$M$5:$O$101,2,0)","v":{"$error":"#N/A"}},{"$f":"VLOOKUP(K9505,[5]Paramètres!$M$5:$O$101,3,0)","v":{"$error":"#N/A"}},null,null,null,null,null,null,null,null,null,null,{"$f":"SUM(Tableau_Data[[#This Row],[Féminin]:[Masculin]])","v":0}]
[null,null,"",null,"",null,null,null,null,null,null,{"$f":"VLOOKUP(K9506,[5]Paramètres!$M$5:$O$101,2,0)","v":{"$error":"#N/A"}},{"$f":"VLOOKUP(K9506,[5]Paramètres!$M$5:$O$101,3,0)","v":{"$error":"#N/A"}},null,null,null,null,null,null,null,null,null,null,{"$f":"SUM(Tableau_Data[[#This Row],[Féminin]:[Masculin]])","v":0}]
[null,null,"",null,"",null,null,null,null,null,null,{"$f":"VLOOKUP(K9507,[5]Paramètres!$M$5:$O$101,2,0)","v":{"$error":"#N/A"}},{"$f":"VLOOKUP(K9507,[5]Paramètres!$M$5:$O$101,3,0)","v":{"$error":"#N/A"}},null,null,null,null,null,null,null,null,null,null,{"$f":"SUM(Tableau_Data[[#This Row],[Féminin]:[Masculin]])","v":0}]
[null,null,"",null,"",null,null,null,null,null,null,{"$f":"VLOOKUP(K9508,[5]Paramètres!$M$5:$O$101,2,0)","v":{"$error":"#N/A"}},{"$f":"VLOOKUP(K9508,[5]Paramètres!$M$5:$O$101,3,0)","v":{"$error":"#N/A"}},null,null,null,null,null,null,null,null,null,null,{"$f":"SUM(Tableau_Data[[#This Row],[Féminin]:[Masculin]])","v":0}]
[null,null,"",null,"",null,null,null,null,null,null,{"$f":"VLOOKUP(K9509,[5]Paramètres!$M$5:$O$101,2,0)","v":{"$error":"#N/A"}},{"$f":"VLOOKUP(K9509,[5]Paramètres!$M$5:$O$101,3,0)","v":{"$error":"#N/A"}},null,null,null,null,null,null,null,null,null,null,{"$f":"SUM(Tableau_Data[[#This Row],[Féminin]:[Masculin]])","v":0}]
[null,null,"",null,"",null,null,null,null,null,null,{"$f":"VLOOKUP(K9510,[5]Paramètres!$M$5:$O$101,2,0)","v":{"$error":"#N/A"}},{"$f":"VLOOKUP(K9510,[5]Paramètres!$M$5:$O$101,3,0)","v":{"$error":"#N/A"}},null,null,null,null,null,null,null,null,null,null,{"$f":"SUM(Tableau_Data[[#This Row],[Féminin]:[Masculin]])","v":0}]
[null,null,"",null,"",null,null,null,null,null,null,{"$f":"VLOOKUP(K9511,[5]Paramètres!$M$5:$O$101,2,0)","v":{"$error":"#N/A"}},{"$f":"VLOOKUP(K9511,[5]Paramètres!$M$5:$O$101,3,0)","v":{"$error":"#N/A"}},null,null,null,null,null,null,null,null,null,null,{"$f":"SUM(Tableau_Data[[#This Row],[Féminin]:[Masculin]])","v":0}]
[null,null,"",null,"",null,null,null,null,null,null,{"$f":"VLOOKUP(K9512,[5]Paramètres!$M$5:$O$101,2,0)","v":{"$error":"#N/A"}},{"$f":"VLOOKUP(K9512,[5]Paramètres!$M$5:$O$101,3,0)","v":{"$error":"#N/A"}},null,null,null,null,null,null,null,null,null,null,{"$f":"SUM(Tableau_Data[[#This Row],[Féminin]:[Masculin]])","v":0}]
[null,null,"",null,"",null,null,null,null,null,null,{"$f":"VLOOKUP(K9513,[5]Paramètres!$M$5:$O$101,2,0)","v":{"$error":"#N/A"}},{"$f":"VLOOKUP(K9513,[5]Paramètres!$M$5:$O$101,3,0)","v":{"$error":"#N/A"}},null,null,null,null,null,null,null,null,null,null,{"$f":"SUM(Tableau_Data[[#This Row],[Féminin]:[Masculin]])","v":0}]
[null,null,"",null,"",null,null,null,null,null,null,{"$f":"VLOOKUP(K9514,[5]Paramètres!$M$5:$O$101,2,0)","v":{"$error":"#N/A"}},{"$f":"VLOOKUP(K9514,[5]Paramètres!$M$5:$O$101,3,0)","v":{"$error":"#N/A"}},null,null,null,null,null,null,null,null,null,null,{"$f":"SUM(Tableau_Data[[#This Row],[Féminin]:[Masculin]])","v":0}]
[null,null,"",null,"",null,null,null,null,null,null,{"$f":"VLOOKUP(K9515,[5]Paramètres!$M$5:$O$101,2,0)","v":{"$error":"#N/A"}},{"$f":"VLOOKUP(K9515,[5]Paramètres!$M$5:$O$101,3,0)","v":{"$error":"#N/A"}},null,null,null,null,null,null,null,null,null,null,{"$f":"SUM(Tableau_Data[[#This Row],[Féminin]:[Masculin]])","v":0}]
[null,null,"",null,"",null,null,null,null,null,null,{"$f":"VLOOKUP(K9516,[5]Paramètres!$M$5:$O$101,2,0)","v":{"$error":"#N/A"}},{"$f":"VLOOKUP(K9516,[5]Paramètres!$M$5:$O$101,3,0)","v":{"$error":"#N/A"}},null,null,null,null,null,null,null,null,null,null,{"$f":"SUM(Tableau_Data[[#This Row],[Féminin]:[Masculin]])","v":0}]
[null,null,"",null,"",null,null,null,null,null,null,{"$f":"VLOOKUP(K9517,[5]Paramètres!$M$5:$O$101,2,0)","v":{"$error":"#N/A"}},{"$f":"VLOOKUP(K9517,[5]Paramètres!$M$5:$O$101,3,0)","v":{"$error":"#N/A"}},null,null,null,null,null,null,null,null,null,null,{"$f":"SUM(Tableau_Data[[#This Row],[Féminin]:[Masculin]])","v":0}]
[null,null,"",null,"",null,null,null,null,null,null,{"$f":"VLOOKUP(K9518,[5]Paramètres!$M$5:$O$101,2,0)","v":{"$error":"#N/A"}},{"$f":"VLOOKUP(K9518,[5]Paramètres!$M$5:$O$101,3,0)","v":{"$error":"#N/A"}},null,null,null,null,null,null,null,null,null,null,{"$f":"SUM(Tableau_Data[[#This Row],[Féminin]:[Masculin]])","v":0}]
[null,null,"",null,"",null,null,null,null,null,null,{"$f":"VLOOKUP(K9519,[5]Paramètres!$M$5:$O$101,2,0)","v":{"$error":"#N/A"}},{"$f":"VLOOKUP(K9519,[5]Paramètres!$M$5:$O$101,3,0)","v":{"$error":"#N/A"}},null,null,null,null,null,null,null,null,null,null,{"$f":"SUM(Tableau_Data[[#This Row],[Féminin]:[Masculin]])","v":0}]
[null,null,"",null,"",null,null,null,null,null,null,{"$f":"VLOOKUP(K9520,[5]Paramètres!$M$5:$O$101,2,0)","v":{"$error":"#N/A"}},{"$f":"VLOOKUP(K9520,[5]Paramètres!$M$5:$O$101,3,0)","v":{"$error":"#N/A"}},null,null,null,null,null,null,null,null,null,null,{"$f":"SUM(Tableau_Data[[#This Row],[Féminin]:[Masculin]])","v":0}]
[null,null,"",null,"",null,null,null,null,null,null,{"$f":"VLOOKUP(K9521,[5]Paramètres!$M$5:$O$101,2,0)","v":{"$error":"#N/A"}},{"$f":"VLOOKUP(K9521,[5]Paramètres!$M$5:$O$101,3,0)","v":{"$error":"#N/A"}},null,null,null,null,null,null,null,null,null,null,{"$f":"SUM(Tableau_Data[[#This Row],[Féminin]:[Masculin]])","v":0}]
[null,null,"",null,"",null,null,null,null,null,null,{"$f":"VLOOKUP(K9522,[5]Paramètres!$M$5:$O$101,2,0)","v":{"$error":"#N/A"}},{"$f":"VLOOKUP(K9522,[5]Paramètres!$M$5:$O$101,3,0)","v":{"$error":"#N/A"}},null,null,null,null,null,null,null,null,null,null,{"$f":"SUM(Tableau_Data[[#This Row],[Féminin]:[Masculin]])","v":0}]
[null,null,"",null,"",null,null,null,null,null,null,{"$f":"VLOOKUP(K9523,[5]Paramètres!$M$5:$O$101,2,0)","v":{"$error":"#N/A"}},{"$f":"VLOOKUP(K9523,[5]Paramètres!$M$5:$O$101,3,0)","v":{"$error":"#N/A"}},null,null,null,null,null,null,null,null,null,null,{"$f":"SUM(Tableau_Data[[#This Row],[Féminin]:[Masculin]])","v":0}]
[null,null,"",null,"",null,null,null,null,null,null,{"$f":"VLOOKUP(K9524,[5]Paramètres!$M$5:$O$101,2,0)","v":{"$error":"#N/A"}},{"$f":"VLOOKUP(K9524,[5]Paramètres!$M$5:$O$101,3,0)","v":{"$error":"#N/A"}},null,null,null,null,null,null,null,null,null,null,{"$f":"SUM(Tableau_Data[[#This Row],[Féminin]:[Masculin]])","v":0}]
[null,null,"",null,"",null,null,null,null,null,null,{"$f":"VLOOKUP(K9525,[5]Paramètres!$M$5:$O$101,2,0)","v":{"$error":"#N/A"}},{"$f":"VLOOKUP(K9525,[5]Paramètres!$M$5:$O$101,3,0)","v":{"$error":"#N/A"}},null,null,null,null,null,null,null,null,null,null,{"$f":"SUM(Tableau_Data[[#This Row],[Féminin]:[Masculin]])","v":0}]
[null,null,"",null,"",null,null,null,null,null,null,{"$f":"VLOOKUP(K9526,[5]Paramètres!$M$5:$O$101,2,0)","v":{"$error":"#N/A"}},{"$f":"VLOOKUP(K9526,[5]Paramètres!$M$5:$O$101,3,0)","v":{"$error":"#N/A"}},null,null,null,null,null,null,null,null,null,null,{"$f":"SUM(Tableau_Data[[#This Row],[Féminin]:[Masculin]])","v":0}]
[null,null,"",null,"",null,null,null,null,null,null,{"$f":"VLOOKUP(K9527,[5]Paramètres!$M$5:$O$101,2,0)","v":{"$error":"#N/A"}},{"$f":"VLOOKUP(K9527,[5]Paramètres!$M$5:$O$101,3,0)","v":{"$error":"#N/A"}},null,null,null,null,null,null,null,null,null,null,{"$f":"SUM(Tableau_Data[[#This Row],[Féminin]:[Masculin]])","v":0}]
[null,null,"",null,"",null,null,null,null,null,null,{"$f":"VLOOKUP(K9528,[5]Paramètres!$M$5:$O$101,2,0)","v":{"$error":"#N/A"}},{"$f":"VLOOKUP(K9528,[5]Paramètres!$M$5:$O$101,3,0)","v":{"$error":"#N/A"}},null,null,null,null,null,null,null,null,null,null,{"$f":"SUM(Tableau_Data[[#This Row],[Féminin]:[Masculin]])","v":0}]
[null,null,"",null,"",null,null,null,null,null,null,{"$f":"VLOOKUP(K9529,[5]Paramètres!$M$5:$O$101,2,0)","v":{"$error":"#N/A"}},{"$f":"VLOOKUP(K9529,[5]Paramètres!$M$5:$O$101,3,0)","v":{"$error":"#N/A"}},null,null,null,null,null,null,null,null,null,null,{"$f":"SUM(Tableau_Data[[#This Row],[Féminin]:[Masculin]])","v":0}]
[null,null,"",null,"",null,null,null,null,null,null,{"$f":"VLOOKUP(K9530,[5]Paramètres!$M$5:$O$101,2,0)","v":{"$error":"#N/A"}},{"$f":"VLOOKUP(K9530,[5]Paramètres!$M$5:$O$101,3,0)","v":{"$error":"#N/A"}},null,null,null,null,null,null,null,null,null,null,{"$f":"SUM(Tableau_Data[[#This Row],[Féminin]:[Masculin]])","v":0}]
[null,null,"",null,"",null,null,null,null,null,null,{"$f":"VLOOKUP(K9531,[5]Paramètres!$M$5:$O$101,2,0)","v":{"$error":"#N/A"}},{"$f":"VLOOKUP(K9531,[5]Paramètres!$M$5:$O$101,3,0)","v":{"$error":"#N/A"}},null,null,null,null,null,null,null,null,null,null,{"$f":"SUM(Tableau_Data[[#This Row],[Féminin]:[Masculin]])","v":0}]
[null,null,"",null,"",null,null,null,null,null,null,{"$f":"VLOOKUP(K9532,[5]Paramètres!$M$5:$O$101,2,0)","v":{"$error":"#N/A"}},{"$f":"VLOOKUP(K9532,[5]Paramètres!$M$5:$O$101,3,0)","v":{"$error":"#N/A"}},null,null,null,null,null,null,null,null,null,null,{"$f":"SUM(Tableau_Data[[#This Row],[Féminin]:[Masculin]])","v":0}]
[null,null,"",null,"",null,null,null,null,null,null,{"$f":"VLOOKUP(K9533,[5]Paramètres!$M$5:$O$101,2,0)","v":{"$error":"#N/A"}},{"$f":"VLOOKUP(K9533,[5]Paramètres!$M$5:$O$101,3,0)","v":{"$error":"#N/A"}},null,null,null,null,null,null,null,null,null,null,{"$f":"SUM(Tableau_Data[[#This Row],[Féminin]:[Masculin]])","v":0}]
[null,null,"",null,"",null,null,null,null,null,null,{"$f":"VLOOKUP(K9534,[5]Paramètres!$M$5:$O$101,2,0)","v":{"$error":"#N/A"}},{"$f":"VLOOKUP(K9534,[5]Paramètres!$M$5:$O$101,3,0)","v":{"$error":"#N/A"}},null,null,null,null,null,null,null,null,null,null,{"$f":"SUM(Tableau_Data[[#This Row],[Féminin]:[Masculin]])","v":0}]
[null,null,"",null,"",null,null,null,null,null,null,{"$f":"VLOOKUP(K9535,[5]Paramètres!$M$5:$O$101,2,0)","v":{"$error":"#N/A"}},{"$f":"VLOOKUP(K9535,[5]Paramètres!$M$5:$O$101,3,0)","v":{"$error":"#N/A"}},null,null,null,null,null,null,null,null,null,null,{"$f":"SUM(Tableau_Data[[#This Row],[Féminin]:[Masculin]])","v":0}]
[null,null,{"$f":"IF(D9536=\"\",\"\",YEAR(D9536))","v":""},null,{"$f":"IF(D9536=\"\",\"\",MONTH(D9536))","v":""},null,null,null,null,null,null,{"$f":"VLOOKUP(K9536,[6]Paramètres!$M$5:$O$101,2,0)","v":{"$error":"#N/A"}},{"$f":"VLOOKUP(K9536,[6]Paramètres!$M$5:$O$101,3,0)","v":{"$error":"#N/A"}},null,null,null,null,null,null,null,null,null,null,{"$f":"SUM(Tableau_Data[[#This Row],[Féminin]:[Masculin]])","v":0}]
[null,null,"",null,"",null,null,null,null,null,null,{"$f":"VLOOKUP(K9537,[6]Paramètres!$M$5:$O$101,2,0)","v":{"$error":"#N/A"}},{"$f":"VLOOKUP(K9537,[6]Paramètres!$M$5:$O$101,3,0)","v":{"$error":"#N/A"}},null,null,null,null,null,null,null,null,null,null,{"$f":"SUM(Tableau_Data[[#This Row],[Féminin]:[Masculin]])","v":0}]
[null,null,"",null,"",null,null,null,null,null,null,{"$f":"VLOOKUP(K9538,[6]Paramètres!$M$5:$O$101,2,0)","v":{"$error":"#N/A"}},{"$f":"VLOOKUP(K9538,[6]Paramètres!$M$5:$O$101,3,0)","v":{"$error":"#N/A"}},null,null,null,null,null,null,null,null,null,null,{"$f":"SUM(Tableau_Data[[#This Row],[Féminin]:[Masculin]])","v":0}]
[null,null,"",null,"",null,null,null,null,null,null,{"$f":"VLOOKUP(K9539,[6]Paramètres!$M$5:$O$101,2,0)","v":{"$error":"#N/A"}},{"$f":"VLOOKUP(K9539,[6]Paramètres!$M$5:$O$101,3,0)","v":{"$error":"#N/A"}},null,null,null,null,null,null,null,null,null,null,{"$f":"SUM(Tableau_Data[[#This Row],[Féminin]:[Masculin]])","v":0}]
[null,null,"",null,"",null,null,null,null,null,null,{"$f":"VLOOKUP(K9540,[6]Paramètres!$M$5:$O$101,2,0)","v":{"$error":"#N/A"}},{"$f":"VLOOKUP(K9540,[6]Paramètres!$M$5:$O$101,3,0)","v":{"$error":"#N/A"}},null,null,null,null,null,null,null,null,null,null,{"$f":"SUM(Tableau_Data[[#This Row],[Féminin]:[Masculin]])","v":0}]
[null,null,"",null,"",null,null,null,null,null,null,{"$f":"VLOOKUP(K9541,[6]Paramètres!$M$5:$O$101,2,0)","v":{"$error":"#N/A"}},{"$f":"VLOOKUP(K9541,[6]Paramètres!$M$5:$O$101,3,0)","v":{"$error":"#N/A"}},null,null,null,null,null,null,null,null,null,null,{"$f":"SUM(Tableau_Data[[#This Row],[Féminin]:[Masculin]])","v":0}]
[null,null,"",null,"",null,null,null,null,null,null,{"$f":"VLOOKUP(K9542,[6]Paramètres!$M$5:$O$101,2,0)","v":{"$error":"#N/A"}},{"$f":"VLOOKUP(K9542,[6]Paramètres!$M$5:$O$101,3,0)","v":{"$error":"#N/A"}},null,null,null,null,null,null,null,null,null,null,{"$f":"SUM(Tableau_Data[[#This Row],[Féminin]:[Masculin]])","v":0}]
[null,null,"",null,"",null,null,null,null,null,null,{"$f":"VLOOKUP(K9543,[6]Paramètres!$M$5:$O$101,2,0)","v":{"$error":"#N/A"}},{"$f":"VLOOKUP(K9543,[6]Paramètres!$M$5:$O$101,3,0)","v":{"$error":"#N/A"}},null,null,null,null,null,null,null,null,null,null,{"$f":"SUM(Tableau_Data[[#This Row],[Féminin]:[Masculin]])","v":0}]
[null,null,"",null,"",null,null,null,null,null,null,{"$f":"VLOOKUP(K9544,[6]Paramètres!$M$5:$O$101,2,0)","v":{"$error":"#N/A"}},{"$f":"VLOOKUP(K9544,[6]Paramètres!$M$5:$O$101,3,0)","v":{"$error":"#N/A"}},null,null,null,null,null,null,null,null,null,null,{"$f":"SUM(Tableau_Data[[#This Row],[Féminin]:[Masculin]])","v":0}]
[null,null,"",null,"",null,null,null,null,null,null,{"$f":"VLOOKUP(K9545,[6]Paramètres!$M$5:$O$101,2,0)","v":{"$error":"#N/A"}},{"$f":"VLOOKUP(K9545,[6]Paramètres!$M$5:$O$101,3,0)","v":{"$error":"#N/A"}},null,null,null,null,null,null,null,null,null,null,{"$f":"SUM(Tableau_Data[[#This Row],[Féminin]:[Masculin]])","v":0}]
[null,null,"",null,{"$f":"IF(D9546=\"\",\"\",MONTH(D9546))","v":""},null,null,null,null,null,null,{"$f":"VLOOKUP(K9546,[6]Paramètres!$M$5:$O$101,2,0)","v":{"$error":"#N/A"}},{"$f":"VLOOKUP(K9546,[6]Paramètres!$M$5:$O$101,3,0)","v":{"$error":"#N/A"}},null,null,null,null,null,null,null,null,null,null,{"$f":"SUM(Tableau_Data[[#This Row],[Féminin]:[Masculin]])","v":0}]
[null,null,"",null,"",null,null,null,null,null,null,{"$f":"VLOOKUP(K9547,[6]Paramètres!$M$5:$O$101,2,0)","v":{"$error":"#N/A"}},{"$f":"VLOOKUP(K9547,[6]Paramètres!$M$5:$O$101,3,0)","v":{"$error":"#N/A"}},null,null,null,null,null,null,null,null,null,null,{"$f":"SUM(Tableau_Data[[#This Row],[Féminin]:[Masculin]])","v":0}]
[null,null,"",null,"",null,null,null,null,null,null,{"$f":"VLOOKUP(K9548,[6]Paramètres!$M$5:$O$101,2,0)","v":{"$error":"#N/A"}},{"$f":"VLOOKUP(K9548,[6]Paramètres!$M$5:$O$101,3,0)","v":{"$error":"#N/A"}},null,null,null,null,null,null,null,null,null,null,{"$f":"SUM(Tableau_Data[[#This Row],[Féminin]:[Masculin]])","v":0}]
[null,null,"",null,"",null,null,null,null,null,null,{"$f":"VLOOKUP(K9549,[6]Paramètres!$M$5:$O$101,2,0)","v":{"$error":"#N/A"}},{"$f":"VLOOKUP(K9549,[6]Paramètres!$M$5:$O$101,3,0)","v":{"$error":"#N/A"}},null,null,null,null,null,null,null,null,null,null,{"$f":"SUM(Tableau_Data[[#This Row],[Féminin]:[Masculin]])","v":0}]
[null,null,"",null,"",null,null,null,null,null,null,{"$f":"VLOOKUP(K9550,[6]Paramètres!$M$5:$O$101,2,0)","v":{"$error":"#N/A"}},{"$f":"VLOOKUP(K9550,[6]Paramètres!$M$5:$O$101,3,0)","v":{"$error":"#N/A"}},null,null,null,null,null,null,null,null,null,null,{"$f":"SUM(Tableau_Data[[#This Row],[Féminin]:[Masculin]])","v":0}]
[null,null,"",null,"",null,null,null,null,null,null,{"$f":"VLOOKUP(K9551,[6]Paramètres!$M$5:$O$101,2,0)","v":{"$error":"#N/A"}},{"$f":"VLOOKUP(K9551,[6]Paramètres!$M$5:$O$101,3,0)","v":{"$error":"#N/A"}},null,null,null,null,null,null,null,null,null,null,{"$f":"SUM(Tableau_Data[[#This Row],[Féminin]:[Masculin]])","v":0}]
[null,null,"",null,"",null,null,null,null,null,null,{"$f":"VLOOKUP(K9552,[6]Paramètres!$M$5:$O$101,2,0)","v":{"$error":"#N/A"}},{"$f":"VLOOKUP(K9552,[6]Paramètres!$M$5:$O$101,3,0)","v":{"$error":"#N/A"}},null,null,null,null,null,null,null,null,null,null,{"$f":"SUM(Tableau_Data[[#This Row],[Féminin]:[Masculin]])","v":0}]
[null,null,"",null,"",null,null,null,null,null,null,{"$f":"VLOOKUP(K9553,[6]Paramètres!$M$5:$O$101,2,0)","v":{"$error":"#N/A"}},{"$f":"VLOOKUP(K9553,[6]Paramètres!$M$5:$O$101,3,0)","v":{"$error":"#N/A"}},null,null,null,null,null,null,null,null,null,null,{"$f":"SUM(Tableau_Data[[#This Row],[Féminin]:[Masculin]])","v":0}]
[null,null,"",null,"",null,null,null,null,null,null,{"$f":"VLOOKUP(K9554,[6]Paramètres!$M$5:$O$101,2,0)","v":{"$error":"#N/A"}},{"$f":"VLOOKUP(K9554,[6]Paramètres!$M$5:$O$101,3,0)","v":{"$error":"#N/A"}},null,null,null,null,null,null,null,null,null,null,{"$f":"SUM(Tableau_Data[[#This Row],[Féminin]:[Masculin]])","v":0}]
[null,null,"",null,"",null,null,null,null,null,null,{"$f":"VLOOKUP(K9555,[6]Paramètres!$M$5:$O$101,2,0)","v":{"$error":"#N/A"}},{"$f":"VLOOKUP(K9555,[6]Paramètres!$M$5:$O$101,3,0)","v":{"$error":"#N/A"}},null,null,null,null,null,null,null,null,null,null,{"$f":"SUM(Tableau_Data[[#This Row],[Féminin]:[Masculin]])","v":0}]
[null,{"$f":"SUBTOTAL(103,Tableau_Data[Données de])","v":0},{"$f":"SUBTOTAL(103,Tableau_Data[Annee])","v":9548},{"$f":"SUBTOTAL(103,Tableau_Data[Date])","v":0},{"$f":"SUBTOTAL(103,Tableau_Data[Mois])","v":9548},{"$f":"SUBTOTAL(103,Tableau_Data[Code fiche])","v":0},{"$f":"SUBTOTAL(103,Tableau_Data[Colline/Quartier])","v":0},{"$f":"SUBTOTAL(103,Tableau_Data[Lieu d''intervention])","v":0},{"$f":"SUBTOTAL(103,Tableau_Data[Nom du lieu d''intervention])","v":0},{"$f":"SUBTOTAL(103,Tableau_Data[Classe])","v":0},{"$f":"SUBTOTAL(103,Tableau_Data[Nom du CDS])","v":0},{"$f":"SUBTOTAL(103,Tableau_Data[Province sanitaire])","v":9548},{"$f":"SUBTOTAL(103,Tableau_Data[District sanitaire])","v":9548},{"$f":"SUBTOTAL(103,Tableau_Data[ASBL])","v":0},{"$f":"SUBTOTAL(103,Tableau_Data[Durée (En minutes)])","v":0},{"$f":"SUBTOTAL(103,Tableau_Data[Thèmes])","v":0},{"$f":"SUBTOTAL(103,Tableau_Data[Sous Thème])","v":0},{"$f":"SUBTOTAL(103,Tableau_Data[Démo Preservatif])","v":0},{"$f":"SUBTOTAL(103,Tableau_Data[Témoignage])","v":0},{"$f":"SUBTOTAL(103,Tableau_Data[Cible])","v":0},{"$f":"SUBTOTAL(103,Tableau_Data[Tranche d''age])","v":0},{"$f":"SUBTOTAL(109,Tableau_Data[Féminin])","v":0},{"$f":"SUBTOTAL(109,Tableau_Data[Masculin])","v":0},{"$f":"SUBTOTAL(109,Tableau_Data[Total])","v":0}]

{"sheet":"DS","index":6,"n_rows":30,"n_cols":75,"rows_kept":30,"cut":false,"hidden":false,"merged":[[8,64,8,68],[6,64,6,68],[8,40,8,44],[8,11,8,15],[8,17,8,21],[8,23,8,27],[8,29,8,33],[8,34,8,38],[6,40,6,44],[6,46,6,50],[5,1,5,2],[5,4,5,8],[8,46,8,50],[8,52,8,56],[8,58,8,62],[6,52,6,56],[6,58,6,62],[6,11,6,15],[6,17,6,21],[6,23,6,27],[6,29,6,33],[6,34,6,38],[3,7,3,8],[5,11,5,38],[5,40,5,69],[0,4,0,5],[0,7,0,8],[0,10,0,14],[1,4,1,5],[1,7,1,8]]}
[null,null,null,null,"TOTAL MASCULIN",null,null,"TOTAL FEMININ",null,null,{"$f":"TODAY()","v":"2023-03-21"}]
[null,null,"Selectionnez l'année",null,{"$f":"SUMIFS(Tableau_Data[Masculin],Tableau_Data[Annee],DS!C$3)","v":0},null,null,{"$f":"SUMIFS(Tableau_Data[Féminin],Tableau_Data[Annee],DS!C$3)","v":0},null,null,null,{"$f":"SUMIFS(Tableau_Data[Masculin],Tableau_Data[Lieu d''intervention],$L$9,Tableau_Data[Annee],$F$3)","v":0},null,{"$f":"SUMIFS(Tableau_Data[Féminin],Tableau_Data[Lieu d''intervention],$L$9,Tableau_Data[Annee],$F$3)","v":0},null,{"$f":"SUM(L2:N2)","v":0},null,{"$f":"SUMIFS(Tableau_Data[Masculin],Tableau_Data[Lieu d''intervention],$R$9,Tableau_Data[Annee],$F$3)","v":0},null,{"$f":"SUMIFS(Tableau_Data[Féminin],Tableau_Data[Lieu d''intervention],$R$9,Tableau_Data[Annee],$F$3)","v":0},null,{"$f":"SUM(R2:T2)","v":0},null,{"$f":"SUMIFS(Tableau_Data[Masculin],Tableau_Data[Lieu d''intervention],$X$9,Tableau_Data[Annee],$F$3)","v":0},null,{"$f":"SUMIFS(Tableau_Data[Féminin],Tableau_Data[Lieu d''intervention],$X$9,Tableau_Data[Annee],$F$3)","v":0},null,{"$f":"SUM(X2:Z2)","v":0},null,{"$f":"SUMIFS(Tableau_Data[Masculin],Tableau_Data[Lieu d''intervention],$AD$9,Tableau_Data[Annee],$F$3)","v":0},null,{"$f":"SUMIFS(Tableau_Data[Féminin],Tableau_Data[Lieu d''intervention],$AD$9,Tableau_Data[Annee],$F$3)","v":0},null,{"$f":"SUM(AD2:AF2)","v":0},{"$f":"SUMIFS(Tableau_Data[Masculin],Tableau_Data[Thèmes],$AI$9,Tableau_Data[Annee],$F$3)","v":0},null,{"$f":"SUMIFS(Tableau_Data[Féminin],Tableau_Data[Thèmes],$AI$9,Tableau_Data[Annee],$F$3)","v":0},null,{"$f":"SUM(AI2:AK2)","v":0},null,{"$f":"SUMIFS(Tableau_Data[Masculin],Tableau_Data[Thèmes],$AO$9,Tableau_Data[Annee],$F$3)","v":0},null,{"$f":"SUMIFS(Tableau_Data[Féminin],Tableau_Data[Thèmes],$AO$9,Tableau_Data[Annee],$F$3)","v":0},null,{"$f":"SUM(AO2:AQ2)","v":0},null,{"$f":"SUMIFS(Tableau_Data[Masculin],Tableau_Data[Thèmes],$AU$9,Tableau_Data[Annee],$F$3)","v":0},null,{"$f":"SUMIFS(Tableau_Data[Féminin],Tableau_Data[Thèmes],$AU$9,Tableau_Data[Annee],$F$3)","v":0},null,{"$f":"SUM(AU2:AW2)","v":0},null,{"$f":"SUMIFS(Tableau_Data[Masculin],Tableau_Data[Thèmes],$BA$9,Tableau_Data[Annee],$F$3)","v":0},null,{"$f":"SUMIFS(Tableau_Data[Féminin],Tableau_Data[Thèmes],$BA$9,Tableau_Data[Annee],$F$3)","v":0},null,{"$f":"SUM(BA2:BC2)","v":0},null,{"$f":"SUMIFS(Tableau_Data[Masculin],Tableau_Data[Thèmes],$BG$9,Tableau_Data[Annee],$F$3)","v":0},null,{"$f":"SUMIFS(Tableau_Data[Féminin],Tableau_Data[Thèmes],$BG$9,Tableau_Data[Annee],$F$3)","v":0},null,{"$f":"SUM(BG2:BI2)","v":0},null,{"$f":"SUMIFS(Tableau_Data[Masculin],Tableau_Data[Thèmes],$BM$9,Tableau_Data[Annee],$F$3)","v":0},null,{"$f":"SUMIFS(Tableau_Data[Féminin],Tableau_Data[Thèmes],$BM$9,Tableau_Data[Annee],$F$3)","v":0},null,{"$f":"SUM(BM2:BO2)","v":0}]
[null,null,2019,null,null,{"$f":"C3","v":2019}]
[null,null,null,null,null,null,null,"Novembre",null,{"$f":"VLOOKUP(H4,DS!$BV$19:$BW$30,2,0)","v":11}]
[]
[null,"Variales",null,null,"SEXE",null,null,null,null,null,null,"LIEU D'INTERVENTION",null,null,null,null,null,null,null,null,null,null,null,null,null,null,null,null,null,null,null,null,null,null,null,null,null,null,null,null,"THEMES TRAITES"]
[null,null,null,null,{"$f":"E10","v":"MASCULIN"},null,{"$f":"G10","v":"FEMININ"},null,null,null,null,{"$f":"L9","v":"ECOLE"},null,null,null,null,null,{"$f":"R9","v":"CENTRE DE SANTE"},null,null,null,null,null,{"$f":"X9","v":"COMMUNAUTE"},null,null,null,null,null,{"$f":"AD9","v":"CENTRE PVH"},null,null,null,null,{"$f":"AI9","v":"EGLISE"},null,null,null,null,null,{"$f":"AO9","v":"IST/VIH-SIDA"},null,null,null,null,null,{"$f":"AU9","v":"VSBG"},null,null,null,null,null,{"$f":"BA9","v":"PF"},null,null,null,null,null,{"$f":"BG9","v":"Autres thèmes SSRAJ"},null,null,null,null,null,{"$f":"BM9","v":0}]
[null,null,null,null,{"$f":"E18","v":0},null,{"$f":"G18","v":0},null,{"$f":"I18","v":0},null,null,{"$f":"L18","v":0},null,{"$f":"N18","v":0},null,{"$f":"P18","v":0},null,{"$f":"R18","v":0},null,0,null,0,null,0,0,0,0,0,null,0,null,0,null,{"$f":"AH18","v":0},{"$f":"AI18","v":0},null,{"$f":"AK18","v":0},null,{"$f":"AM18","v":0},null,{"$f":"AO18","v":0},null,{"$f":"AQ18","v":0},null,{"$f":"AS18","v":0},null,{"$f":"AU18","v":0},null,{"$f":"AW18","v":0},null,{"$f":"AY18","v":0},null,{"$f":"BA18","v":0},null,{"$f":"BC18","v":0},null,{"$f":"BE18","v":0},null,{"$f":"BG18","v":0},null,{"$f":"BI18","v":0},null,{"$f":"BK18","v":0},null,{"$f":"BM18","v":0},null,{"$f":"BO18","v":0},null,{"$f":"BQ18","v":0}]
[null,null,null,null,null,null,null,null,null,null,null,{"$f":"Paramètres!B7","v":"ECOLE"},null,null,null,null,null,{"$f":"Paramètres!B8","v":"CENTRE DE SANTE"},null,null,null,null,null,{"$f":"Paramètres!B9","v":"COMMUNAUTE"},null,null,null,null,null,{"$f":"Paramètres!B10","v":"CENTRE PVH"},null,null,null,null,{"$f":"Paramètres!B11","v":"EGLISE"},null,null,null,null,null,{"$f":"Paramètres!F7","v":"IST/VIH-SIDA"},null,null,null,null,null,{"$f":"Paramètres!F8","v":"VSBG"},null,null,null,null,null,{"$f":"Paramètres!F9","v":"PF"},null,null,null,null,null,{"$f":"Paramètres!F10","v":"Autres thèmes SSRAJ"},null,null,null,null,null,{"$f":"Paramètres!F11","v":0}]
[null,null,null,null,"MASCULIN",null,"FEMININ",null,null,null,null,"M",null,"F",null,null,null,"M",null,"F",null,null,null,"M",null,"F",null,null,null,"M",null,"F",null,null,"M",null,"F",null,null,null,"M",null,"F",null,null,null,"M",null,"F",null,null,null,"M",null,"F",null,null,null,"M",null,"F",null,null,null,"M",null,"F"]
[]
[null,1,{"$f":"Paramètres!F21","v":"Muramvya"},null,{"$f":"SUMIFS(Tableau_Data[Masculin],Tableau_Data[District sanitaire],DS!$C12,Tableau_Data[Annee],DS!$F$3,Tableau_Data[Mois],DS!J$4)","v":0},null,{"$f":"SUMIFS(Tableau_Data[Féminin],Tableau_Data[District sanitaire],DS!$C12,Tableau_Data[Annee],DS!$F$3,Tableau_Data[Mois],DS!J$4)","v":0},null,{"$f":"SUM(E12:G12)","v":0},null,null,{"$f":"SUMIFS(Tableau_Data[Masculin],Tableau_Data[District sanitaire],DS!$C12,Tableau_Data[Lieu d''intervention],DS!$L$9,Tableau_Data[Annee],DS!$F$3,Tableau_Data[Mois],DS!J$4)","v":0},null,{"$f":"SUMIFS(Tableau_Data[Féminin],Tableau_Data[District sanitaire],DS!$C12,Tableau_Data[Lieu d''intervention],DS!$L$9,Tableau_Data[Annee],DS!$F$3,Tableau_Data[Mois],DS!J$4)","v":0},null,{"$f":"SUM(L12:N12)","v":0},null,{"$f":"SUMIFS(Tableau_Data[Masculin],Tableau_Data[District sanitaire],DS!$C12,Tableau_Data[Lieu d''intervention],DS!$R$9,Tableau_Data[Annee],DS!$F$3,Tableau_Data[Mois],DS!J$4)","v":0},null,{"$f":"SUMIFS(Tableau_Data[Féminin],Tableau_Data[District sanitaire],DS!$C12,Tableau_Data[Lieu d''intervention],DS!$R$9,Tableau_Data[Annee],DS!$F$3,Tableau_Data[Mois],DS!J$4)","v":0},null,{"$f":"SUM(R12:T12)","v":0},null,{"$f":"SUMIFS(Tableau_Data[Masculin],Tableau_Data[District sanitaire],DS!$C12,Tableau_Data[Lieu d''intervention],DS!$X$9,Tableau_Data[Annee],DS!$F$3,Tableau_Data[Mois],DS!J$4)","v":0},null,{"$f":"SUMIFS(Tableau_Data[Féminin],Tableau_Data[District sanitaire],DS!$C12,Tableau_Data[Lieu d''intervention],DS!$X$9,Tableau_Data[Annee],DS!$F$3,Tableau_Data[Mois],DS!J$4)","v":0},null,{"$f":"SUM(X12:Z12)","v":0},null,{"$f":"SUMIFS(Tableau_Data[Masculin],Tableau_Data[District sanitaire],DS!$C12,Tableau_Data[Lieu d''intervention],DS!$AD$9,Tableau_Data[Annee],DS!$F$3,Tableau_Data[Mois],DS!J$4)","v":0},null,{"$f":"SUMIFS(Tableau_Data[Féminin],Tableau_Data[District sanitaire],DS!$C12,Tableau_Data[Lieu d''intervention],DS!$AD$9,Tableau_Data[Annee],DS!$F$3,Tableau_Data[Mois],DS!J$4)","v":0},null,{"$f":"SUM(AD12:AF12)","v":0},{"$f":"SUMIFS(Tableau_Data[Masculin],Tableau_Data[District sanitaire],DS!$C12,Tableau_Data[Lieu d''intervention],DS!$AI$9,Tableau_Data[Annee],DS!$F$3,Tableau_Data[Mois],DS!O$4)","v":0},null,{"$f":"SUMIFS(Tableau_Data[Féminin],Tableau_Data[District sanitaire],DS!$C12,Tableau_Data[Lieu d''intervention],DS!$AI$9,Tableau_Data[Annee],DS!$F$3,Tableau_Data[Mois],DS!O$4)","v":0},null,{"$f":"SUM(AI12:AK12)","v":0},null,{"$f":"SUMIFS(Tableau_Data[Masculin],Tableau_Data[District sanitaire],DS!$C12,Tableau_Data[Thèmes],DS!$AO$9,Tableau_Data[Annee],DS!$F$3,Tableau_Data[Mois],DS!J$4)","v":0},null,{"$f":"SUMIFS(Tableau_Data[Féminin],Tableau_Data[District sanitaire],DS!$C12,Tableau_Data[Thèmes],DS!$AO$9,Tableau_Data[Annee],DS!$F$3,Tableau_Data[Mois],DS!J$4)","v":0},null,{"$f":"SUM(AO12:AQ12)","v":0},null,{"$f":"SUMIFS(Tableau_Data[Masculin],Tableau_Data[District sanitaire],DS!$C12,Tableau_Data[Thèmes],DS!$AU$9,Tableau_Data[Annee],DS!$F$3,Tableau_Data[Mois],DS!J$4)","v":0},null,{"$f":"SUMIFS(Tableau_Data[Féminin],Tableau_Data[District sanitaire],DS!$C12,Tableau_Data[Thèmes],DS!$AU$9,Tableau_Data[Annee],DS!$F$3,Tableau_Data[Mois],DS!J$4)","v":0},null,{"$f":"SUM(AU12:AW12)","v":0},null,{"$f":"SUMIFS(Tableau_Data[Masculin],Tableau_Data[District sanitaire],DS!$C12,Tableau_Data[Thèmes],DS!$BA$9,Tableau_Data[Annee],DS!$F$3,Tableau_Data[Mois],DS!J$4)","v":0},null,{"$f":"SUMIFS(Tableau_Data[Féminin],Tableau_Data[District sanitaire],DS!$C12,Tableau_Data[Thèmes],DS!$BA$9,Tableau_Data[Annee],DS!$F$3,Tableau_Data[Mois],DS!$J$4)","v":0},null,{"$f":"SUM(BA12:BC12)","v":0},null,{"$f":"SUMIFS(Tableau_Data[Masculin],Tableau_Data[District sanitaire],DS!$C12,Tableau_Data[Thèmes],DS!$BG$9,Tableau_Data[Annee],DS!$F$3,Tableau_Data[Mois],DS!$J$4)","v":0},null,{"$f":"SUMIFS(Tableau_Data[Féminin],Tableau_Data[District sanitaire],DS!$C12,Tableau_Data[Thèmes],DS!$BG$9,Tableau_Data[Annee],DS!$F$3,Tableau_Data[Mois],DS!$J$4)","v":0},null,{"$f":"SUM(BG12:BI12)","v":0},null,{"$f":"SUMIFS(Tableau_Data[Masculin],Tableau_Data[District sanitaire],DS!$C12,Tableau_Data[Thèmes],DS!$BM$9,Tableau_Data[Annee],DS!$F$3,Tableau_Data[Mois],DS!$J$4)","v":0},null,{"$f":"SUMIFS(Tableau_Data[Féminin],Tableau_Data[District sanitaire],DS!$C12,Tableau_Data[Thèmes],DS!$BM$9,Tableau_Data[Annee],DS!$F$3,Tableau_Data[Mois],DS!$J$4)","v":0},null,{"$f":"SUM(BM12:BO12)","v":0}]
[null,{"$f":"IF(DS!B12=\"\",\"\",1+B12)","v":2},{"$f":"Paramètres!F22","v":"Kiganda"},null,{"$f":"SUMIFS(Tableau_Data[Masculin],Tableau_Data[District sanitaire],DS!$C13,Tableau_Data[Annee],DS!$F$3,Tableau_Data[Mois],DS!J$4)","v":0},null,{"$f":"SUMIFS(Tableau_Data[Féminin],Tableau_Data[District sanitaire],DS!$C13,Tableau_Data[Annee],DS!$F$3,Tableau_Data[Mois],DS!J$4)","v":0},null,{"$f":"SUM(E13:G13)","v":0},null,null,{"$f":"SUMIFS(Tableau_Data[Masculin],Tableau_Data[District sanitaire],DS!$C13,Tableau_Data[Lieu d''intervention],DS!$L$9,Tableau_Data[Annee],DS!$F$3,Tableau_Data[Mois],DS!J$4)","v":0},null,{"$f":"SUMIFS(Tableau_Data[Féminin],Tableau_Data[District sanitaire],DS!$C13,Tableau_Data[Lieu d''intervention],DS!$L$9,Tableau_Data[Annee],DS!$F$3,Tableau_Data[Mois],DS!J$4)","v":0},null,{"$f":"SUM(L13:N13)","v":0},null,{"$f":"SUMIFS(Tableau_Data[Masculin],Tableau_Data[District sanitaire],DS!$C13,Tableau_Data[Lieu d''intervention],DS!$R$9,Tableau_Data[Annee],DS!$F$3,Tableau_Data[Mois],DS!J$4)","v":0},null,{"$f":"SUMIFS(Tableau_Data[Féminin],Tableau_Data[District sanitaire],DS!$C13,Tableau_Data[Lieu d''intervention],DS!$R$9,Tableau_Data[Annee],DS!$F$3,Tableau_Data[Mois],DS!J$4)","v":0},null,{"$f":"SUM(R13:T13)","v":0},null,{"$f":"SUMIFS(Tableau_Data[Masculin],Tableau_Data[District sanitaire],DS!$C13,Tableau_Data[Lieu d''intervention],DS!$X$9,Tableau_Data[Annee],DS!$F$3,Tableau_Data[Mois],DS!J$4)","v":0},null,{"$f":"SUMIFS(Tableau_Data[Féminin],Tableau_Data[District sanitaire],DS!$C13,Tableau_Data[Lieu d''intervention],DS!$X$9,Tableau_Data[Annee],DS!$F$3,Tableau_Data[Mois],DS!J$4)","v":0},null,{"$f":"SUM(X13:Z13)","v":0},null,{"$f":"SUMIFS(Tableau_Data[Masculin],Tableau_Data[District sanitaire],DS!$C13,Tableau_Data[Lieu d''intervention],DS!$AD$9,Tableau_Data[Annee],DS!$F$3,Tableau_Data[Mois],DS!J$4)","v":0},null,{"$f":"SUMIFS(Tableau_Data[Féminin],Tableau_Data[District sanitaire],DS!$C13,Tableau_Data[Lieu d''intervention],DS!$AD$9,Tableau_Data[Annee],DS!$F$3,Tableau_Data[Mois],DS!J$4)","v":0},null,{"$f":"SUM(AD13:AF13)","v":0},{"$f":"SUMIFS(Tableau_Data[Masculin],Tableau_Data[District sanitaire],DS!$C13,Tableau_Data[Lieu d''intervention],DS!$AI$9,Tableau_Data[Annee],DS!$F$3,Tableau_Data[Mois],DS!O$4)","v":0},null,{"$f":"SUMIFS(Tableau_Data[Féminin],Tableau_Data[District sanitaire],DS!$C13,Tableau_Data[Lieu d''intervention],DS!$AI$9,Tableau_Data[Annee],DS!$F$3,Tableau_Data[Mois],DS!O$4)","v":0},null,{"$f":"SUM(AI13:AK13)","v":0},null,{"$f":"SUMIFS(Tableau_Data[Masculin],Tableau_Data[District sanitaire],DS!$C13,Tableau_Data[Thèmes],DS!$AO$9,Tableau_Data[Annee],DS!$F$3,Tableau_Data[Mois],DS!J$4)","v":0},null,{"$f":"SUMIFS(Tableau_Data[Féminin],Tableau_Data[District sanitaire],DS!$C13,Tableau_Data[Thèmes],DS!$AO$9,Tableau_Data[Annee],DS!$F$3,Tableau_Data[Mois],DS!J$4)","v":0},null,{"$f":"SUM(AO13:AQ13)","v":0},null,{"$f":"SUMIFS(Tableau_Data[Masculin],Tableau_Data[District sanitaire],DS!$C13,Tableau_Data[Thèmes],DS!$AU$9,Tableau_Data[Annee],DS!$F$3,Tableau_Data[Mois],DS!J$4)","v":0},null,{"$f":"SUMIFS(Tableau_Data[Féminin],Tableau_Data[District sanitaire],DS!$C13,Tableau_Data[Thèmes],DS!$AU$9,Tableau_Data[Annee],DS!$F$3,Tableau_Data[Mois],DS!J$4)","v":0},null,{"$f":"SUM(AU13:AW13)","v":0},null,{"$f":"SUMIFS(Tableau_Data[Masculin],Tableau_Data[District sanitaire],DS!$C13,Tableau_Data[Thèmes],DS!$BA$9,Tableau_Data[Annee],DS!$F$3,Tableau_Data[Mois],DS!J$4)","v":0},null,{"$f":"SUMIFS(Tableau_Data[Féminin],Tableau_Data[District sanitaire],DS!$C13,Tableau_Data[Thèmes],DS!$BA$9,Tableau_Data[Annee],DS!$F$3,Tableau_Data[Mois],DS!$J$4)","v":0},null,{"$f":"SUM(BA13:BC13)","v":0},null,{"$f":"SUMIFS(Tableau_Data[Masculin],Tableau_Data[District sanitaire],DS!$C13,Tableau_Data[Thèmes],DS!$BG$9,Tableau_Data[Annee],DS!$F$3,Tableau_Data[Mois],DS!$J$4)","v":0},null,{"$f":"SUMIFS(Tableau_Data[Féminin],Tableau_Data[District sanitaire],DS!$C13,Tableau_Data[Thèmes],DS!$BG$9,Tableau_Data[Annee],DS!$F$3,Tableau_Data[Mois],DS!$J$4)","v":0},null,{"$f":"SUM(BG13:BI13)","v":0},null,{"$f":"SUMIFS(Tableau_Data[Masculin],Tableau_Data[District sanitaire],DS!$C13,Tableau_Data[Thèmes],DS!$BM$9,Tableau_Data[Annee],DS!$F$3,Tableau_Data[Mois],DS!$J$4)","v":0},null,{"$f":"SUMIFS(Tableau_Data[Féminin],Tableau_Data[District sanitaire],DS!$C13,Tableau_Data[Thèmes],DS!$BM$9,Tableau_Data[Annee],DS!$F$3,Tableau_Data[Mois],DS!$J$4)","v":0},null,{"$f":"SUM(BM13:BO13)","v":0}]
[null,{"$f":"IF(DS!B13=\"\",\"\",1+B13)","v":3},{"$f":"Paramètres!F23","v":"Fota"},null,{"$f":"SUMIFS(Tableau_Data[Masculin],Tableau_Data[District sanitaire],DS!$C14,Tableau_Data[Annee],DS!$F$3,Tableau_Data[Mois],DS!J$4)","v":0},null,{"$f":"SUMIFS(Tableau_Data[Féminin],Tableau_Data[District sanitaire],DS!$C14,Tableau_Data[Annee],DS!$F$3,Tableau_Data[Mois],DS!J$4)","v":0},null,{"$f":"SUM(E14:G14)","v":0},null,null,{"$f":"SUMIFS(Tableau_Data[Masculin],Tableau_Data[District sanitaire],DS!$C14,Tableau_Data[Lieu d''intervention],DS!$L$9,Tableau_Data[Annee],DS!$F$3,Tableau_Data[Mois],DS!J$4)","v":0},null,{"$f":"SUMIFS(Tableau_Data[Féminin],Tableau_Data[District sanitaire],DS!$C14,Tableau_Data[Lieu d''intervention],DS!$L$9,Tableau_Data[Annee],DS!$F$3,Tableau_Data[Mois],DS!J$4)","v":0},null,{"$f":"SUM(L14:N14)","v":0},null,{"$f":"SUMIFS(Tableau_Data[Masculin],Tableau_Data[District sanitaire],DS!$C14,Tableau_Data[Lieu d''intervention],DS!$R$9,Tableau_Data[Annee],DS!$F$3,Tableau_Data[Mois],DS!J$4)","v":0},null,{"$f":"SUMIFS(Tableau_Data[Féminin],Tableau_Data[District sanitaire],DS!$C14,Tableau_Data[Lieu d''intervention],DS!$R$9,Tableau_Data[Annee],DS!$F$3,Tableau_Data[Mois],DS!J$4)","v":0},null,{"$f":"SUM(R14:T14)","v":0},null,{"$f":"SUMIFS(Tableau_Data[Masculin],Tableau_Data[District sanitaire],DS!$C14,Tableau_Data[Lieu d''intervention],DS!$X$9,Tableau_Data[Annee],DS!$F$3,Tableau_Data[Mois],DS!J$4)","v":0},null,{"$f":"SUMIFS(Tableau_Data[Féminin],Tableau_Data[District sanitaire],DS!$C14,Tableau_Data[Lieu d''intervention],DS!$X$9,Tableau_Data[Annee],DS!$F$3,Tableau_Data[Mois],DS!J$4)","v":0},null,{"$f":"SUM(X14:Z14)","v":0},null,{"$f":"SUMIFS(Tableau_Data[Masculin],Tableau_Data[District sanitaire],DS!$C14,Tableau_Data[Lieu d''intervention],DS!$AD$9,Tableau_Data[Annee],DS!$F$3,Tableau_Data[Mois],DS!J$4)","v":0},null,{"$f":"SUMIFS(Tableau_Data[Féminin],Tableau_Data[District sanitaire],DS!$C14,Tableau_Data[Lieu d''intervention],DS!$AD$9,Tableau_Data[Annee],DS!$F$3,Tableau_Data[Mois],DS!J$4)","v":0},null,{"$f":"SUM(AD14:AF14)","v":0},{"$f":"SUMIFS(Tableau_Data[Masculin],Tableau_Data[District sanitaire],DS!$C14,Tableau_Data[Lieu d''intervention],DS!$AI$9,Tableau_Data[Annee],DS!$F$3,Tableau_Data[Mois],DS!O$4)","v":0},null,{"$f":"SUMIFS(Tableau_Data[Féminin],Tableau_Data[District sanitaire],DS!$C14,Tableau_Data[Lieu d''intervention],DS!$AI$9,Tableau_Data[Annee],DS!$F$3,Tableau_Data[Mois],DS!O$4)","v":0},null,{"$f":"SUM(AI14:AK14)","v":0},null,{"$f":"SUMIFS(Tableau_Data[Masculin],Tableau_Data[District sanitaire],DS!$C14,Tableau_Data[Thèmes],DS!$AO$9,Tableau_Data[Annee],DS!$F$3,Tableau_Data[Mois],DS!J$4)","v":0},null,{"$f":"SUMIFS(Tableau_Data[Féminin],Tableau_Data[District sanitaire],DS!$C14,Tableau_Data[Thèmes],DS!$AO$9,Tableau_Data[Annee],DS!$F$3,Tableau_Data[Mois],DS!J$4)","v":0},null,{"$f":"SUM(AO14:AQ14)","v":0},null,{"$f":"SUMIFS(Tableau_Data[Masculin],Tableau_Data[District sanitaire],DS!$C14,Tableau_Data[Thèmes],DS!$AU$9,Tableau_Data[Annee],DS!$F$3,Tableau_Data[Mois],DS!J$4)","v":0},null,{"$f":"SUMIFS(Tableau_Data[Féminin],Tableau_Data[District sanitaire],DS!$C14,Tableau_Data[Thèmes],DS!$AU$9,Tableau_Data[Annee],DS!$F$3,Tableau_Data[Mois],DS!J$4)","v":0},null,{"$f":"SUM(AU14:AW14)","v":0},null,{"$f":"SUMIFS(Tableau_Data[Masculin],Tableau_Data[District sanitaire],DS!$C14,Tableau_Data[Thèmes],DS!$BA$9,Tableau_Data[Annee],DS!$F$3,Tableau_Data[Mois],DS!J$4)","v":0},null,{"$f":"SUMIFS(Tableau_Data[Féminin],Tableau_Data[District sanitaire],DS!$C14,Tableau_Data[Thèmes],DS!$BA$9,Tableau_Data[Annee],DS!$F$3,Tableau_Data[Mois],DS!$J$4)","v":0},null,{"$f":"SUM(BA14:BC14)","v":0},null,{"$f":"SUMIFS(Tableau_Data[Masculin],Tableau_Data[District sanitaire],DS!$C14,Tableau_Data[Thèmes],DS!$BG$9,Tableau_Data[Annee],DS!$F$3,Tableau_Data[Mois],DS!$J$4)","v":0},null,{"$f":"SUMIFS(Tableau_Data[Féminin],Tableau_Data[District sanitaire],DS!$C14,Tableau_Data[Thèmes],DS!$BG$9,Tableau_Data[Annee],DS!$F$3,Tableau_Data[Mois],DS!$J$4)","v":0},null,{"$f":"SUM(BG14:BI14)","v":0},null,{"$f":"SUMIFS(Tableau_Data[Masculin],Tableau_Data[District sanitaire],DS!$C14,Tableau_Data[Thèmes],DS!$BM$9,Tableau_Data[Annee],DS!$F$3,Tableau_Data[Mois],DS!$J$4)","v":0},null,{"$f":"SUMIFS(Tableau_Data[Féminin],Tableau_Data[District sanitaire],DS!$C14,Tableau_Data[Thèmes],DS!$BM$9,Tableau_Data[Annee],DS!$F$3,Tableau_Data[Mois],DS!$J$4)","v":0},null,{"$f":"SUM(BM14:BO14)","v":0}]
[null,{"$f":"IF(DS!B14=\"\",\"\",1+B14)","v":4},{"$f":"Paramètres!F24","v":"Kibumbu"},null,{"$f":"SUMIFS(Tableau_Data[Masculin],Tableau_Data[District sanitaire],DS!$C15,Tableau_Data[Annee],DS!$F$3,Tableau_Data[Mois],DS!J$4)","v":0},null,{"$f":"SUMIFS(Tableau_Data[Féminin],Tableau_Data[District sanitaire],DS!$C15,Tableau_Data[Annee],DS!$F$3,Tableau_Data[Mois],DS!J$4)","v":0},null,{"$f":"SUM(E15:G15)","v":0},null,null,{"$f":"SUMIFS(Tableau_Data[Masculin],Tableau_Data[District sanitaire],DS!$C15,Tableau_Data[Lieu d''intervention],DS!$L$9,Tableau_Data[Annee],DS!$F$3,Tableau_Data[Mois],DS!J$4)","v":0},null,{"$f":"SUMIFS(Tableau_Data[Féminin],Tableau_Data[District sanitaire],DS!$C15,Tableau_Data[Lieu d''intervention],DS!$L$9,Tableau_Data[Annee],DS!$F$3,Tableau_Data[Mois],DS!J$4)","v":0},null,{"$f":"SUM(L15:N15)","v":0},null,{"$f":"SUMIFS(Tableau_Data[Masculin],Tableau_Data[District sanitaire],DS!$C15,Tableau_Data[Lieu d''intervention],DS!$R$9,Tableau_Data[Annee],DS!$F$3,Tableau_Data[Mois],DS!J$4)","v":0},null,{"$f":"SUMIFS(Tableau_Data[Féminin],Tableau_Data[District sanitaire],DS!$C15,Tableau_Data[Lieu d''intervention],DS!$R$9,Tableau_Data[Annee],DS!$F$3,Tableau_Data[Mois],DS!J$4)","v":0},null,{"$f":"SUM(R15:T15)","v":0},null,{"$f":"SUMIFS(Tableau_Data[Masculin],Tableau_Data[District sanitaire],DS!$C15,Tableau_Data[Lieu d''intervention],DS!$X$9,Tableau_Data[Annee],DS!$F$3,Tableau_Data[Mois],DS!J$4)","v":0},null,{"$f":"SUMIFS(Tableau_Data[Féminin],Tableau_Data[District sanitaire],DS!$C15,Tableau_Data[Lieu d''intervention],DS!$X$9,Tableau_Data[Annee],DS!$F$3,Tableau_Data[Mois],DS!J$4)","v":0},null,{"$f":"SUM(X15:Z15)","v":0},null,{"$f":"SUMIFS(Tableau_Data[Masculin],Tableau_Data[District sanitaire],DS!$C15,Tableau_Data[Lieu d''intervention],DS!$AD$9,Tableau_Data[Annee],DS!$F$3,Tableau_Data[Mois],DS!J$4)","v":0},null,{"$f":"SUMIFS(Tableau_Data[Féminin],Tableau_Data[District sanitaire],DS!$C15,Tableau_Data[Lieu d''intervention],DS!$AD$9,Tableau_Data[Annee],DS!$F$3,Tableau_Data[Mois],DS!J$4)","v":0},null,{"$f":"SUM(AD15:AF15)","v":0},{"$f":"SUMIFS(Tableau_Data[Masculin],Tableau_Data[District sanitaire],DS!$C15,Tableau_Data[Lieu d''intervention],DS!$AI$9,Tableau_Data[Annee],DS!$F$3,Tableau_Data[Mois],DS!O$4)","v":0},null,{"$f":"SUMIFS(Tableau_Data[Féminin],Tableau_Data[District sanitaire],DS!$C15,Tableau_Data[Lieu d''intervention],DS!$AI$9,Tableau_Data[Annee],DS!$F$3,Tableau_Data[Mois],DS!O$4)","v":0},null,{"$f":"SUM(AI15:AK15)","v":0},null,{"$f":"SUMIFS(Tableau_Data[Masculin],Tableau_Data[District sanitaire],DS!$C15,Tableau_Data[Thèmes],DS!$AO$9,Tableau_Data[Annee],DS!$F$3,Tableau_Data[Mois],DS!J$4)","v":0},null,{"$f":"SUMIFS(Tableau_Data[Féminin],Tableau_Data[District sanitaire],DS!$C15,Tableau_Data[Thèmes],DS!$AO$9,Tableau_Data[Annee],DS!$F$3,Tableau_Data[Mois],DS!J$4)","v":0},null,{"$f":"SUM(AO15:AQ15)","v":0},null,{"$f":"SUMIFS(Tableau_Data[Masculin],Tableau_Data[District sanitaire],DS!$C15,Tableau_Data[Thèmes],DS!$AU$9,Tableau_Data[Annee],DS!$F$3,Tableau_Data[Mois],DS!J$4)","v":0},null,{"$f":"SUMIFS(Tableau_Data[Féminin],Tableau_Data[District sanitaire],DS!$C15,Tableau_Data[Thèmes],DS!$AU$9,Tableau_Data[Annee],DS!$F$3,Tableau_Data[Mois],DS!J$4)","v":0},null,{"$f":"SUM(AU15:AW15)","v":0},null,{"$f":"SUMIFS(Tableau_Data[Masculin],Tableau_Data[District sanitaire],DS!$C15,Tableau_Data[Thèmes],DS!$BA$9,Tableau_Data[Annee],DS!$F$3,Tableau_Data[Mois],DS!J$4)","v":0},null,{"$f":"SUMIFS(Tableau_Data[Féminin],Tableau_Data[District sanitaire],DS!$C15,Tableau_Data[Thèmes],DS!$BA$9,Tableau_Data[Annee],DS!$F$3,Tableau_Data[Mois],DS!$J$4)","v":0},null,{"$f":"SUM(BA15:BC15)","v":0},null,{"$f":"SUMIFS(Tableau_Data[Masculin],Tableau_Data[District sanitaire],DS!$C15,Tableau_Data[Thèmes],DS!$BG$9,Tableau_Data[Annee],DS!$F$3,Tableau_Data[Mois],DS!$J$4)","v":0},null,{"$f":"SUMIFS(Tableau_Data[Féminin],Tableau_Data[District sanitaire],DS!$C15,Tableau_Data[Thèmes],DS!$BG$9,Tableau_Data[Annee],DS!$F$3,Tableau_Data[Mois],DS!$J$4)","v":0},null,{"$f":"SUM(BG15:BI15)","v":0},null,{"$f":"SUMIFS(Tableau_Data[Masculin],Tableau_Data[District sanitaire],DS!$C15,Tableau_Data[Thèmes],DS!$BM$9,Tableau_Data[Annee],DS!$F$3,Tableau_Data[Mois],DS!$J$4)","v":0},null,{"$f":"SUMIFS(Tableau_Data[Féminin],Tableau_Data[District sanitaire],DS!$C15,Tableau_Data[Thèmes],DS!$BM$9,Tableau_Data[Annee],DS!$F$3,Tableau_Data[Mois],DS!$J$4)","v":0},null,{"$f":"SUM(BM15:BO15)","v":0}]
[null,{"$f":"IF(DS!B15=\"\",\"\",1+B15)","v":5},{"$f":"Paramètres!F25","v":"Gitega"},null,{"$f":"SUMIFS(Tableau_Data[Masculin],Tableau_Data[District sanitaire],DS!$C16,Tableau_Data[Annee],DS!$F$3,Tableau_Data[Mois],DS!J$4)","v":0},null,{"$f":"SUMIFS(Tableau_Data[Féminin],Tableau_Data[District sanitaire],DS!$C16,Tableau_Data[Annee],DS!$F$3,Tableau_Data[Mois],DS!J$4)","v":0},null,{"$f":"SUM(E16:G16)","v":0},null,null,{"$f":"SUMIFS(Tableau_Data[Masculin],Tableau_Data[District sanitaire],DS!$C16,Tableau_Data[Lieu d''intervention],DS!$L$9,Tableau_Data[Annee],DS!$F$3,Tableau_Data[Mois],DS!J$4)","v":0},null,{"$f":"SUMIFS(Tableau_Data[Féminin],Tableau_Data[District sanitaire],DS!$C16,Tableau_Data[Lieu d''intervention],DS!$L$9,Tableau_Data[Annee],DS!$F$3,Tableau_Data[Mois],DS!J$4)","v":0},null,{"$f":"SUM(L16:N16)","v":0},null,{"$f":"SUMIFS(Tableau_Data[Masculin],Tableau_Data[District sanitaire],DS!$C16,Tableau_Data[Lieu d''intervention],DS!$R$9,Tableau_Data[Annee],DS!$F$3,Tableau_Data[Mois],DS!J$4)","v":0},null,{"$f":"SUMIFS(Tableau_Data[Féminin],Tableau_Data[District sanitaire],DS!$C16,Tableau_Data[Lieu d''intervention],DS!$R$9,Tableau_Data[Annee],DS!$F$3,Tableau_Data[Mois],DS!J$4)","v":0},null,{"$f":"SUM(R16:T16)","v":0},null,{"$f":"SUMIFS(Tableau_Data[Masculin],Tableau_Data[District sanitaire],DS!$C16,Tableau_Data[Lieu d''intervention],DS!$X$9,Tableau_Data[Annee],DS!$F$3,Tableau_Data[Mois],DS!J$4)","v":0},null,{"$f":"SUMIFS(Tableau_Data[Féminin],Tableau_Data[District sanitaire],DS!$C16,Tableau_Data[Lieu d''intervention],DS!$X$9,Tableau_Data[Annee],DS!$F$3,Tableau_Data[Mois],DS!J$4)","v":0},null,{"$f":"SUM(X16:Z16)","v":0},null,{"$f":"SUMIFS(Tableau_Data[Masculin],Tableau_Data[District sanitaire],DS!$C16,Tableau_Data[Lieu d''intervention],DS!$AD$9,Tableau_Data[Annee],DS!$F$3,Tableau_Data[Mois],DS!J$4)","v":0},null,{"$f":"SUMIFS(Tableau_Data[Féminin],Tableau_Data[District sanitaire],DS!$C16,Tableau_Data[Lieu d''intervention],DS!$AD$9,Tableau_Data[Annee],DS!$F$3,Tableau_Data[Mois],DS!J$4)","v":0},null,{"$f":"SUM(AD16:AF16)","v":0},{"$f":"SUMIFS(Tableau_Data[Masculin],Tableau_Data[District sanitaire],DS!$C16,Tableau_Data[Lieu d''intervention],DS!$AI$9,Tableau_Data[Annee],DS!$F$3,Tableau_Data[Mois],DS!O$4)","v":0},null,{"$f":"SUMIFS(Tableau_Data[Féminin],Tableau_Data[District sanitaire],DS!$C16,Tableau_Data[Lieu d''intervention],DS!$AI$9,Tableau_Data[Annee],DS!$F$3,Tableau_Data[Mois],DS!O$4)","v":0},null,{"$f":"SUM(AI16:AK16)","v":0},null,{"$f":"SUMIFS(Tableau_Data[Masculin],Tableau_Data[District sanitaire],DS!$C16,Tableau_Data[Thèmes],DS!$AO$9,Tableau_Data[Annee],DS!$F$3,Tableau_Data[Mois],DS!J$4)","v":0},null,{"$f":"SUMIFS(Tableau_Data[Féminin],Tableau_Data[District sanitaire],DS!$C16,Tableau_Data[Thèmes],DS!$AO$9,Tableau_Data[Annee],DS!$F$3,Tableau_Data[Mois],DS!J$4)","v":0},null,{"$f":"SUM(AO16:AQ16)","v":0},null,{"$f":"SUMIFS(Tableau_Data[Masculin],Tableau_Data[District sanitaire],DS!$C16,Tableau_Data[Thèmes],DS!$AU$9,Tableau_Data[Annee],DS!$F$3,Tableau_Data[Mois],DS!J$4)","v":0},null,{"$f":"SUMIFS(Tableau_Data[Féminin],Tableau_Data[District sanitaire],DS!$C16,Tableau_Data[Thèmes],DS!$AU$9,Tableau_Data[Annee],DS!$F$3,Tableau_Data[Mois],DS!J$4)","v":0},null,{"$f":"SUM(AU16:AW16)","v":0},null,{"$f":"SUMIFS(Tableau_Data[Masculin],Tableau_Data[District sanitaire],DS!$C16,Tableau_Data[Thèmes],DS!$BA$9,Tableau_Data[Annee],DS!$F$3,Tableau_Data[Mois],DS!J$4)","v":0},null,{"$f":"SUMIFS(Tableau_Data[Féminin],Tableau_Data[District sanitaire],DS!$C16,Tableau_Data[Thèmes],DS!$BA$9,Tableau_Data[Annee],DS!$F$3,Tableau_Data[Mois],DS!$J$4)","v":0},null,{"$f":"SUM(BA16:BC16)","v":0},null,{"$f":"SUMIFS(Tableau_Data[Masculin],Tableau_Data[District sanitaire],DS!$C16,Tableau_Data[Thèmes],DS!$BG$9,Tableau_Data[Annee],DS!$F$3,Tableau_Data[Mois],DS!$J$4)","v":0},null,{"$f":"SUMIFS(Tableau_Data[Féminin],Tableau_Data[District sanitaire],DS!$C16,Tableau_Data[Thèmes],DS!$BG$9,Tableau_Data[Annee],DS!$F$3,Tableau_Data[Mois],DS!$J$4)","v":0},null,{"$f":"SUM(BG16:BI16)","v":0},null,{"$f":"SUMIFS(Tableau_Data[Masculin],Tableau_Data[District sanitaire],DS!$C16,Tableau_Data[Thèmes],DS!$BM$9,Tableau_Data[Annee],DS!$F$3,Tableau_Data[Mois],DS!$J$4)","v":0},null,{"$f":"SUMIFS(Tableau_Data[Féminin],Tableau_Data[District sanitaire],DS!$C16,Tableau_Data[Thèmes],DS!$BM$9,Tableau_Data[Annee],DS!$F$3,Tableau_Data[Mois],DS!$J$4)","v":0},null,{"$f":"SUM(BM16:BO16)","v":0}]
[]
[null,null,"Total",null,{"$f":"SUM(E12:E16)","v":0},null,{"$f":"SUM(G12:G16)","v":0},null,{"$f":"SUM(I12:I16)","v":0},null,null,{"$f":"SUM(L12:L16)","v":0},null,{"$f":"SUM(N12:N16)","v":0},null,{"$f":"SUM(P12:P16)","v":0},null,{"$f":"SUM(R12:R16)","v":0},null,{"$f":"SUM(T12:T16)","v":0},null,{"$f":"SUM(V12:V16)","v":0},null,{"$f":"SUM(X12:X16)","v":0},null,{"$f":"SUM(Z12:Z16)","v":0},null,{"$f":"SUM(AB12:AB16)","v":0},null,{"$f":"SUM(AD12:AD16)","v":0},null,{"$f":"SUM(AF12:AF16)","v":0},null,{"$f":"SUM(AH12:AH16)","v":0},{"$f":"SUM(AI12:AI16)","v":0},null,{"$f":"SUM(AK12:AK16)","v":0},null,{"$f":"SUM(AM12:AM16)","v":0},null,{"$f":"SUM(AO12:AO16)","v":0},null,{"$f":"SUM(AQ12:AQ16)","v":0},null,{"$f":"SUM(AS12:AS16)","v":0},null,{"$f":"SUM(AU12:AU16)","v":0},null,{"$f":"SUM(AW12:AW16)","v":0},null,{"$f":"SUM(AY12:AY16)","v":0},null,{"$f":"SUM(BA12:BA16)","v":0},null,{"$f":"SUM(BC12:BC16)","v":0},null,{"$f":"SUM(BE12:BE16)","v":0},null,{"$f":"SUM(BG12:BG16)","v":0},null,{"$f":"SUM(BI12:BI16)","v":0},null,{"$f":"SUM(BK12:BK16)","v":0},null,{"$f":"SUM(BM12:BM16)","v":0},null,{"$f":"SUM(BO12:BO16)","v":0},null,{"$f":"SUM(BQ12:BQ16)","v":0}]
[null,null,null,null,null,null,null,null,null,null,null,null,null,null,null,null,null,null,null,null,null,null,null,null,null,null,null,null,null,null,null,null,null,null,null,null,null,null,null,null,null,null,null,null,null,null,null,null,null,null,null,null,null,null,null,null,null,null,null,null,null,null,null,null,null,null,null,null,null,null,null,null,null,"Janvier",1]
[null,null,null,null,null,null,null,null,null,null,null,null,null,null,null,null,null,null,null,null,null,null,null,null,null,null,null,null,null,null,null,null,null,null,null,null,null,null,null,null,null,null,null,null,null,null,null,null,null,null,null,null,null,null,null,null,null,null,null,null,null,null,null,null,null,null,null,null,null,null,null,null,null,"Février",2]
[null,null,null,null,null,null,null,null,null,null,null,null,null,null,null,null,null,null,null,null,null,null,null,null,null,null,null,null,null,null,null,null,null,null,null,null,null,null,null,null,null,null,null,null,null,null,null,null,null,null,null,null,null,null,null,null,null,null,null,null,null,null,null,null,null,null,null,null,null,null,null,null,null,"Mars",3]
[null,null,null,null,null,null,null,null,null,null,null,null,null,null,null,null,null,null,null,null,null,null,null,null,null,null,null,null,null,null,null,null,null,null,null,null,null,null,null,null,null,null,null,null,null,null,null,null,null,null,null,null,null,null,null,null,null,null,null,null,null,null,null,null,null,null,null,null,null,null,null,null,null,"Avril",4]
[null,null,null,null,null,null,null,null,null,null,null,null,null,null,null,null,null,null,null,null,null,null,null,null,null,null,null,null,null,null,null,null,null,null,null,null,null,null,null,null,null,null,null,null,null,null,null,null,null,null,null,null,null,null,null,null,null,null,null,null,null,null,null,null,null,null,null,null,null,null,null,null,null,"Mai",5]
[null,null,null,null,null,null,null,null,null,null,null,null,null,null,null,null,null,null,null,null,null,null,null,null,null,null,null,null,null,null,null,null,null,null,null,null,null,null,null,null,null,null,null,null,null,null,null,null,null,null,null,null,null,null,null,null,null,null,null,null,null,null,null,null,null,null,null,null,null,null,null,null,null,"Juin",6]
[null,null,null,null,null,null,null,null,null,null,null,null,null,null,null,null,null,null,null,null,null,null,null,null,null,null,null,null,null,null,null,null,null,null,null,null,null,null,null,null,null,null,null,null,null,null,null,null,null,null,null,null,null,null,null,null,null,null,null,null,null,null,null,null,null,null,null,null,null,null,null,null,null,"Juillet",7]
[null,null,null,null,null,null,null,null,null,null,null,null,null,null,null,null,null,null,null,null,null,null,null,null,null,null,null,null,null,null,null,null,null,null,null,null,null,null,null,null,null,null,null,null,null,null,null,null,null,null,null,null,null,null,null,null,null,null,null,null,null,null,null,null,null,null,null,null,null,null,null,null,null,"Aout",8]
[null,null,null,null,null,null,null,null,null,null,null,null,null,null,null,null,null,null,null,null,null,null,null,null,null,null,null,null,null,null,null,null,null,null,null,null,null,null,null,null,null,null,null,null,null,null,null,null,null,null,null,null,null,null,null,null,null,null,null,null,null,null,null,null,null,null,null,null,null,null,null,null,null,"Septembre",9]
[null,null,null,null,null,null,null,null,null,null,null,null,null,null,null,null,null,null,null,null,null,null,null,null,null,null,null,null,null,null,null,null,null,null,null,null,null,null,null,null,null,null,null,null,null,null,null,null,null,null,null,null,null,null,null,null,null,null,null,null,null,null,null,null,null,null,null,null,null,null,null,null,null,"Octobre",10]
[null,null,null,null,null,null,null,null,null,null,null,null,null,null,null,null,null,null,null,null,null,null,null,null,null,null,null,null,null,null,null,null,null,null,null,null,null,null,null,null,null,null,null,null,null,null,null,null,null,null,null,null,null,null,null,null,null,null,null,null,null,null,null,null,null,null,null,null,null,null,null,null,null,"Novembre",11]
[null,null,null,null,null,null,null,null,null,null,null,null,null,null,null,null,null,null,null,null,null,null,null,null,null,null,null,null,null,null,null,null,null,null,null,null,null,null,null,null,null,null,null,null,null,null,null,null,null,null,null,null,null,null,null,null,null,null,null,null,null,null,null,null,null,null,null,null,null,null,null,null,null,"Décembre",12]

{"sheet":"ASBL","index":7,"n_rows":31,"n_cols":75,"rows_kept":31,"cut":false,"hidden":false,"merged":[[5,1,5,2],[5,4,5,8],[8,46,8,50],[8,52,8,56],[8,58,8,62],[6,34,6,38],[8,64,8,68],[6,64,6,68],[8,40,8,44],[8,11,8,15],[8,17,8,21],[8,23,8,27],[8,29,8,33],[8,34,8,38],[6,40,6,44],[6,46,6,50],[6,52,6,56],[6,58,6,62],[6,11,6,15],[6,17,6,21],[6,23,6,27],[6,29,6,33],[3,7,3,8],[5,11,5,38],[5,40,5,69],[0,4,0,5],[0,7,0,8],[0,10,0,14],[1,4,1,5],[1,7,1,8]]}
[null,null,null,null,"TOTAL MASCULIN",null,null,"TOTAL FEMININ",null,null,{"$f":"TODAY()","v":"2023-03-21"}]
[null,null,"Selectionnez l'année",null,{"$f":"SUMIFS(Tableau_Data[Masculin],Tableau_Data[Annee],ASBL!C$3)","v":0},null,null,{"$f":"SUMIFS(Tableau_Data[Féminin],Tableau_Data[Annee],ASBL!C$3)","v":0},null,null,null,{"$f":"SUMIFS(Tableau_Data[Masculin],Tableau_Data[Lieu d''intervention],$L$9,Tableau_Data[Annee],$F$3)","v":0},null,{"$f":"SUMIFS(Tableau_Data[Féminin],Tableau_Data[Lieu d''intervention],$L$9,Tableau_Data[Annee],$F$3)","v":0},null,{"$f":"SUM(L2:N2)","v":0},null,{"$f":"SUMIFS(Tableau_Data[Masculin],Tableau_Data[Lieu d''intervention],$R$9,Tableau_Data[Annee],$F$3)","v":0},null,{"$f":"SUMIFS(Tableau_Data[Féminin],Tableau_Data[Lieu d''intervention],$R$9,Tableau_Data[Annee],$F$3)","v":0},null,{"$f":"SUM(R2:T2)","v":0},null,{"$f":"SUMIFS(Tableau_Data[Masculin],Tableau_Data[Lieu d''intervention],$X$9,Tableau_Data[Annee],$F$3)","v":0},null,{"$f":"SUMIFS(Tableau_Data[Féminin],Tableau_Data[Lieu d''intervention],$X$9,Tableau_Data[Annee],$F$3)","v":0},null,{"$f":"SUM(X2:Z2)","v":0},null,{"$f":"SUMIFS(Tableau_Data[Masculin],Tableau_Data[Lieu d''intervention],$AD$9,Tableau_Data[Annee],$F$3)","v":0},null,{"$f":"SUMIFS(Tableau_Data[Féminin],Tableau_Data[Lieu d''intervention],$AD$9,Tableau_Data[Annee],$F$3)","v":0},null,{"$f":"SUM(AD2:AF2)","v":0},{"$f":"SUMIFS(Tableau_Data[Masculin],Tableau_Data[Thèmes],$AI$9,Tableau_Data[Annee],$F$3)","v":0},null,{"$f":"SUMIFS(Tableau_Data[Féminin],Tableau_Data[Thèmes],$AI$9,Tableau_Data[Annee],$F$3)","v":0},null,{"$f":"SUM(AI2:AK2)","v":0},null,{"$f":"SUMIFS(Tableau_Data[Masculin],Tableau_Data[Thèmes],$AO$9,Tableau_Data[Annee],$F$3)","v":0},null,{"$f":"SUMIFS(Tableau_Data[Féminin],Tableau_Data[Thèmes],$AO$9,Tableau_Data[Annee],$F$3)","v":0},null,{"$f":"SUM(AO2:AQ2)","v":0},null,{"$f":"SUMIFS(Tableau_Data[Masculin],Tableau_Data[Thèmes],$AU$9,Tableau_Data[Annee],$F$3)","v":0},null,{"$f":"SUMIFS(Tableau_Data[Féminin],Tableau_Data[Thèmes],$AU$9,Tableau_Data[Annee],$F$3)","v":0},null,{"$f":"SUM(AU2:AW2)","v":0},null,{"$f":"SUMIFS(Tableau_Data[Masculin],Tableau_Data[Thèmes],$BA$9,Tableau_Data[Annee],$F$3)","v":0},null,{"$f":"SUMIFS(Tableau_Data[Féminin],Tableau_Data[Thèmes],$BA$9,Tableau_Data[Annee],$F$3)","v":0},null,{"$f":"SUM(BA2:BC2)","v":0},null,{"$f":"SUMIFS(Tableau_Data[Masculin],Tableau_Data[Thèmes],$BG$9,Tableau_Data[Annee],$F$3)","v":0},null,{"$f":"SUMIFS(Tableau_Data[Féminin],Tableau_Data[Thèmes],$BG$9,Tableau_Data[Annee],$F$3)","v":0},null,{"$f":"SUM(BG2:BI2)","v":0},null,{"$f":"SUMIFS(Tableau_Data[Masculin],Tableau_Data[Thèmes],$BM$9,Tableau_Data[Annee],$F$3)","v":0},null,{"$f":"SUMIFS(Tableau_Data[Féminin],Tableau_Data[Thèmes],$BM$9,Tableau_Data[Annee],$F$3)","v":0},null,{"$f":"SUM(BM2:BO2)","v":0}]
[null,null,2019,null,null,{"$f":"C3","v":2019}]
[null,null,null,null,null,null,null,"Novembre",null,{"$f":"VLOOKUP(H4,ASBL!$BV$20:$BW$31,2,0)","v":11}]
[]
[null,"Variales",null,null,"SEXE",null,null,null,null,null,null,"LIEU D'INTERVENTION",null,null,null,null,null,null,null,null,null,null,null,null,null,null,null,null,null,null,null,null,null,null,null,null,null,null,null,null,"THEMES TRAITES"]
[null,null,null,null,{"$f":"E10","v":"MASCULIN"},null,{"$f":"G10","v":"FEMININ"},null,null,null,null,{"$f":"L9","v":"ECOLE"},null,null,null,null,null,{"$f":"R9","v":"CENTRE DE SANTE"},null,null,null,null,null,{"$f":"X9","v":"COMMUNAUTE"},null,null,null,null,null,{"$f":"AD9","v":"CENTRE PVH"},null,null,null,null,{"$f":"AI9","v":"EGLISE"},null,null,null,null,null,{"$f":"AO9","v":"IST/VIH-SIDA"},null,null,null,null,null,{"$f":"AU9","v":"VSBG"},null,null,null,null,null,{"$f":"BA9","v":"PF"},null,null,null,null,null,{"$f":"BG9","v":"Autres thèmes SSRAJ"},null,null,null,null,null,{"$f":"BM9","v":0}]
[null,null,null,null,{"$f":"E19","v":0},null,{"$f":"G19","v":0},null,{"$f":"I19","v":0},null,null,{"$f":"L19","v":0},null,{"$f":"N19","v":0},null,{"$f":"P19","v":0},null,{"$f":"R19","v":0},null,0,null,0,null,0,0,0,0,0,null,0,null,0,null,{"$f":"AH19","v":0},{"$f":"AI19","v":0},null,{"$f":"AK19","v":0},null,{"$f":"AM19","v":0},null,{"$f":"AO19","v":0},null,{"$f":"AQ19","v":0},null,{"$f":"AS19","v":0},null,{"$f":"AU19","v":0},null,{"$f":"AW19","v":0},null,{"$f":"AY19","v":0},null,{"$f":"BA19","v":0},null,{"$f":"BC19","v":0},null,{"$f":"BE19","v":0},null,{"$f":"BG19","v":0},null,{"$f":"BI19","v":0},null,{"$f":"BK19","v":0},null,{"$f":"BM19","v":0},null,{"$f":"BO19","v":0},null,{"$f":"BQ19","v":0}]
[null,null,null,null,null,null,null,null,null,null,null,{"$f":"Paramètres!B7","v":"ECOLE"},null,null,null,null,null,{"$f":"Paramètres!B8","v":"CENTRE DE SANTE"},null,null,null,null,null,{"$f":"Paramètres!B9","v":"COMMUNAUTE"},null,null,null,null,null,{"$f":"Paramètres!B10","v":"CENTRE PVH"},null,null,null,null,{"$f":"Paramètres!B11","v":"EGLISE"},null,null,null,null,null,{"$f":"Paramètres!F7","v":"IST/VIH-SIDA"},null,null,null,null,null,{"$f":"Paramètres!F8","v":"VSBG"},null,null,null,null,null,{"$f":"Paramètres!F9","v":"PF"},null,null,null,null,null,{"$f":"Paramètres!F10","v":"Autres thèmes SSRAJ"},null,null,null,null,null,{"$f":"Paramètres!F11","v":0}]
[null,null,null,null,"MASCULIN",null,"FEMININ",null,null,null,null,"M",null,"F",null,null,null,"M",null,"F",null,null,null,"M",null,"F",null,null,null,"M",null,"F",null,null,"M",null,"F",null,null,null,"M",null,"F",null,null,null,"M",null,"F",null,null,null,"M",null,"F",null,null,null,"M",null,"F",null,null,null,"M",null,"F"]
[]
[null,1,{"$f":"Paramètres!D21","v":"SYM"},null,{"$f":"SUMIFS(Tableau_Data[Masculin],Tableau_Data[ASBL],ASBL!$C12,Tableau_Data[Annee],ASBL!$F$3,Tableau_Data[Mois],ASBL!J$4)","v":0},null,{"$f":"SUMIFS(Tableau_Data[Féminin],Tableau_Data[ASBL],ASBL!$C12,Tableau_Data[Annee],ASBL!$F$3,Tableau_Data[Mois],ASBL!J$4)","v":0},null,{"$f":"SUM(E12:G12)","v":0},null,null,{"$f":"SUMIFS(Tableau_Data[Masculin],Tableau_Data[ASBL],ASBL!$C12,Tableau_Data[Lieu d''intervention],ASBL!$L$9,Tableau_Data[Annee],ASBL!$F$3,Tableau_Data[Mois],ASBL!J$4)","v":0},null,{"$f":"SUMIFS(Tableau_Data[Féminin],Tableau_Data[ASBL],ASBL!$C12,Tableau_Data[Lieu d''intervention],ASBL!$L$9,Tableau_Data[Annee],ASBL!$F$3,Tableau_Data[Mois],ASBL!J$4)","v":0},null,{"$f":"SUM(L12:N12)","v":0},null,{"$f":"SUMIFS(Tableau_Data[Masculin],Tableau_Data[ASBL],ASBL!$C12,Tableau_Data[Lieu d''intervention],ASBL!$R$9,Tableau_Data[Annee],ASBL!$F$3,Tableau_Data[Mois],ASBL!J$4)","v":0},null,{"$f":"SUMIFS(Tableau_Data[Féminin],Tableau_Data[ASBL],ASBL!$C12,Tableau_Data[Lieu d''intervention],ASBL!$R$9,Tableau_Data[Annee],ASBL!$F$3,Tableau_Data[Mois],ASBL!J$4)","v":0},null,{"$f":"SUM(R12:T12)","v":0},null,{"$f":"SUMIFS(Tableau_Data[Masculin],Tableau_Data[ASBL],ASBL!$C12,Tableau_Data[Lieu d''intervention],ASBL!$X$9,Tableau_Data[Annee],ASBL!$F$3,Tableau_Data[Mois],ASBL!J$4)","v":0},null,{"$f":"SUMIFS(Tableau_Data[Féminin],Tableau_Data[ASBL],ASBL!$C12,Tableau_Data[Lieu d''intervention],ASBL!$X$9,Tableau_Data[Annee],ASBL!$F$3,Tableau_Data[Mois],ASBL!J$4)","v":0},null,{"$f":"SUM(X12:Z12)","v":0},null,{"$f":"SUMIFS(Tableau_Data[Masculin],Tableau_Data[ASBL],ASBL!$C12,Tableau_Data[Lieu d''intervention],ASBL!$AD$9,Tableau_Data[Annee],ASBL!$F$3,Tableau_Data[Mois],ASBL!J$4)","v":0},null,{"$f":"SUMIFS(Tableau_Data[Féminin],Tableau_Data[ASBL],ASBL!$C12,Tableau_Data[Lieu d''intervention],ASBL!$AD$9,Tableau_Data[Annee],ASBL!$F$3,Tableau_Data[Mois],ASBL!J$4)","v":0},null,{"$f":"SUM(AD12:AF12)","v":0},{"$f":"SUMIFS(Tableau_Data[Masculin],Tableau_Data[ASBL],ASBL!$C12,Tableau_Data[Thèmes],ASBL!$AI$9,Tableau_Data[Annee],ASBL!$F$3,Tableau_Data[Mois],ASBL!J$4)","v":0},null,{"$f":"SUMIFS(Tableau_Data[Féminin],Tableau_Data[ASBL],ASBL!$C12,Tableau_Data[Thèmes],ASBL!$AI$9,Tableau_Data[Annee],ASBL!$F$3,Tableau_Data[Mois],ASBL!J$4)","v":0},null,{"$f":"SUM(AI12:AK12)","v":0},null,{"$f":"SUMIFS(Tableau_Data[Masculin],Tableau_Data[ASBL],ASBL!$C12,Tableau_Data[Thèmes],ASBL!$AO$9,Tableau_Data[Annee],ASBL!$F$3,Tableau_Data[Mois],ASBL!J$4)","v":0},null,{"$f":"SUMIFS(Tableau_Data[Féminin],Tableau_Data[ASBL],ASBL!$C12,Tableau_Data[Thèmes],ASBL!$AO$9,Tableau_Data[Annee],ASBL!$F$3,Tableau_Data[Mois],ASBL!J$4)","v":0},null,{"$f":"SUM(AO12:AQ12)","v":0},null,{"$f":"SUMIFS(Tableau_Data[Masculin],Tableau_Data[ASBL],ASBL!$C12,Tableau_Data[Thèmes],ASBL!$AU$9,Tableau_Data[Annee],ASBL!$F$3,Tableau_Data[Mois],ASBL!J$4)","v":0},null,{"$f":"SUMIFS(Tableau_Data[Féminin],Tableau_Data[ASBL],ASBL!$C12,Tableau_Data[Thèmes],ASBL!$AU$9,Tableau_Data[Annee],ASBL!$F$3,Tableau_Data[Mois],ASBL!J$4)","v":0},null,{"$f":"SUM(AU12:AW12)","v":0},null,{"$f":"SUMIFS(Tableau_Data[Masculin],Tableau_Data[ASBL],ASBL!$C12,Tableau_Data[Thèmes],ASBL!$BA$9,Tableau_Data[Annee],ASBL!$F$3,Tableau_Data[Mois],ASBL!J$4)","v":0},null,{"$f":"SUMIFS(Tableau_Data[Féminin],Tableau_Data[ASBL],ASBL!$C12,Tableau_Data[Thèmes],ASBL!$BA$9,Tableau_Data[Annee],ASBL!$F$3,Tableau_Data[Mois],ASBL!$J$4)","v":0},null,{"$f":"SUM(BA12:BC12)","v":0},null,{"$f":"SUMIFS(Tableau_Data[Masculin],Tableau_Data[ASBL],ASBL!$C12,Tableau_Data[Thèmes],ASBL!$BG$9,Tableau_Data[Annee],ASBL!$F$3,Tableau_Data[Mois],ASBL!$J$4)","v":0},null,{"$f":"SUMIFS(Tableau_Data[Féminin],Tableau_Data[ASBL],ASBL!$C12,Tableau_Data[Thèmes],ASBL!$BG$9,Tableau_Data[Annee],ASBL!$F$3,Tableau_Data[Mois],ASBL!$J$4)","v":0},null,{"$f":"SUM(BG12:BI12)","v":0},null,{"$f":"SUMIFS(Tableau_Data[Masculin],Tableau_Data[ASBL],ASBL!$C12,Tableau_Data[Thèmes],ASBL!$BM$9,Tableau_Data[Annee],ASBL!$F$3,Tableau_Data[Mois],ASBL!$J$4)","v":0},null,{"$f":"SUMIFS(Tableau_Data[Féminin],Tableau_Data[ASBL],ASBL!$C12,Tableau_Data[Thèmes],ASBL!$BM$9,Tableau_Data[Annee],ASBL!$F$3,Tableau_Data[Mois],ASBL!$J$4)","v":0},null,{"$f":"SUM(BM12:BO12)","v":0}]
[null,{"$f":"IF(ASBL!B12=\"\",\"\",1+B12)","v":2},{"$f":"Paramètres!D22","v":"RENAJES"},null,{"$f":"SUMIFS(Tableau_Data[Masculin],Tableau_Data[ASBL],ASBL!$C13,Tableau_Data[Annee],ASBL!$F$3,Tableau_Data[Mois],ASBL!J$4)","v":0},null,{"$f":"SUMIFS(Tableau_Data[Féminin],Tableau_Data[ASBL],ASBL!$C13,Tableau_Data[Annee],ASBL!$F$3,Tableau_Data[Mois],ASBL!J$4)","v":0},null,0,null,null,{"$f":"SUMIFS(Tableau_Data[Masculin],Tableau_Data[ASBL],ASBL!$C13,Tableau_Data[Lieu d''intervention],ASBL!$L$9,Tableau_Data[Annee],ASBL!$F$3,Tableau_Data[Mois],ASBL!J$4)","v":0},null,{"$f":"SUMIFS(Tableau_Data[Féminin],Tableau_Data[ASBL],ASBL!$C13,Tableau_Data[Lieu d''intervention],ASBL!$L$9,Tableau_Data[Annee],ASBL!$F$3,Tableau_Data[Mois],ASBL!J$4)","v":0},null,0,null,{"$f":"SUMIFS(Tableau_Data[Masculin],Tableau_Data[ASBL],ASBL!$C13,Tableau_Data[Lieu d''intervention],ASBL!$R$9,Tableau_Data[Annee],ASBL!$F$3,Tableau_Data[Mois],ASBL!J$4)","v":0},null,{"$f":"SUMIFS(Tableau_Data[Féminin],Tableau_Data[ASBL],ASBL!$C13,Tableau_Data[Lieu d''intervention],ASBL!$R$9,Tableau_Data[Annee],ASBL!$F$3,Tableau_Data[Mois],ASBL!J$4)","v":0},null,0,null,{"$f":"SUMIFS(Tableau_Data[Masculin],Tableau_Data[ASBL],ASBL!$C13,Tableau_Data[Lieu d''intervention],ASBL!$X$9,Tableau_Data[Annee],ASBL!$F$3,Tableau_Data[Mois],ASBL!J$4)","v":0},null,{"$f":"SUMIFS(Tableau_Data[Féminin],Tableau_Data[ASBL],ASBL!$C13,Tableau_Data[Lieu d''intervention],ASBL!$X$9,Tableau_Data[Annee],ASBL!$F$3,Tableau_Data[Mois],ASBL!J$4)","v":0},null,0,null,{"$f":"SUMIFS(Tableau_Data[Masculin],Tableau_Data[ASBL],ASBL!$C13,Tableau_Data[Lieu d''intervention],ASBL!$AD$9,Tableau_Data[Annee],ASBL!$F$3,Tableau_Data[Mois],ASBL!J$4)","v":0},null,{"$f":"SUMIFS(Tableau_Data[Féminin],Tableau_Data[ASBL],ASBL!$C13,Tableau_Data[Lieu d''intervention],ASBL!$AD$9,Tableau_Data[Annee],ASBL!$F$3,Tableau_Data[Mois],ASBL!J$4)","v":0},null,0,{"$f":"SUMIFS(Tableau_Data[Masculin],Tableau_Data[ASBL],ASBL!$C13,Tableau_Data[Thèmes],ASBL!$AI$9,Tableau_Data[Annee],ASBL!$F$3,Tableau_Data[Mois],ASBL!J$4)","v":0},null,{"$f":"SUMIFS(Tableau_Data[Féminin],Tableau_Data[ASBL],ASBL!$C13,Tableau_Data[Thèmes],ASBL!$AI$9,Tableau_Data[Annee],ASBL!$F$3,Tableau_Data[Mois],ASBL!J$4)","v":0},null,0,null,{"$f":"SUMIFS(Tableau_Data[Masculin],Tableau_Data[ASBL],ASBL!$C13,Tableau_Data[Thèmes],ASBL!$AO$9,Tableau_Data[Annee],ASBL!$F$3,Tableau_Data[Mois],ASBL!J$4)","v":0},null,{"$f":"SUMIFS(Tableau_Data[Féminin],Tableau_Data[ASBL],ASBL!$C13,Tableau_Data[Thèmes],ASBL!$AO$9,Tableau_Data[Annee],ASBL!$F$3,Tableau_Data[Mois],ASBL!J$4)","v":0},null,0,null,{"$f":"SUMIFS(Tableau_Data[Masculin],Tableau_Data[ASBL],ASBL!$C13,Tableau_Data[Thèmes],ASBL!$AU$9,Tableau_Data[Annee],ASBL!$F$3,Tableau_Data[Mois],ASBL!J$4)","v":0},null,{"$f":"SUMIFS(Tableau_Data[Féminin],Tableau_Data[ASBL],ASBL!$C13,Tableau_Data[Thèmes],ASBL!$AU$9,Tableau_Data[Annee],ASBL!$F$3,Tableau_Data[Mois],ASBL!J$4)","v":0},null,0,null,{"$f":"SUMIFS(Tableau_Data[Masculin],Tableau_Data[ASBL],ASBL!$C13,Tableau_Data[Thèmes],ASBL!$BA$9,Tableau_Data[Annee],ASBL!$F$3,Tableau_Data[Mois],ASBL!J$4)","v":0},null,{"$f":"SUMIFS(Tableau_Data[Féminin],Tableau_Data[ASBL],ASBL!$C13,Tableau_Data[Thèmes],ASBL!$BA$9,Tableau_Data[Annee],ASBL!$F$3,Tableau_Data[Mois],ASBL!$J$4)","v":0},null,0,null,{"$f":"SUMIFS(Tableau_Data[Masculin],Tableau_Data[ASBL],ASBL!$C13,Tableau_Data[Thèmes],ASBL!$BG$9,Tableau_Data[Annee],ASBL!$F$3,Tableau_Data[Mois],ASBL!$J$4)","v":0},null,{"$f":"SUMIFS(Tableau_Data[Féminin],Tableau_Data[ASBL],ASBL!$C13,Tableau_Data[Thèmes],ASBL!$BG$9,Tableau_Data[Annee],ASBL!$F$3,Tableau_Data[Mois],ASBL!$J$4)","v":0},null,0,null,{"$f":"SUMIFS(Tableau_Data[Masculin],Tableau_Data[ASBL],ASBL!$C13,Tableau_Data[Thèmes],ASBL!$BM$9,Tableau_Data[Annee],ASBL!$F$3,Tableau_Data[Mois],ASBL!$J$4)","v":0},null,{"$f":"SUMIFS(Tableau_Data[Féminin],Tableau_Data[ASBL],ASBL!$C13,Tableau_Data[Thèmes],ASBL!$BM$9,Tableau_Data[Annee],ASBL!$F$3,Tableau_Data[Mois],ASBL!$J$4)","v":0},null,0]
[null,{"$f":"IF(ASBL!B13=\"\",\"\",1+B13)","v":3},{"$f":"Paramètres!D23","v":"Croix rouge Burundi"},null,{"$f":"SUMIFS(Tableau_Data[Masculin],Tableau_Data[ASBL],ASBL!$C14,Tableau_Data[Annee],ASBL!$F$3,Tableau_Data[Mois],ASBL!J$4)","v":0},null,{"$f":"SUMIFS(Tableau_Data[Féminin],Tableau_Data[ASBL],ASBL!$C14,Tableau_Data[Annee],ASBL!$F$3,Tableau_Data[Mois],ASBL!J$4)","v":0},null,0,null,null,{"$f":"SUMIFS(Tableau_Data[Masculin],Tableau_Data[ASBL],ASBL!$C14,Tableau_Data[Lieu d''intervention],ASBL!$L$9,Tableau_Data[Annee],ASBL!$F$3,Tableau_Data[Mois],ASBL!J$4)","v":0},null,{"$f":"SUMIFS(Tableau_Data[Féminin],Tableau_Data[ASBL],ASBL!$C14,Tableau_Data[Lieu d''intervention],ASBL!$L$9,Tableau_Data[Annee],ASBL!$F$3,Tableau_Data[Mois],ASBL!J$4)","v":0},null,0,null,{"$f":"SUMIFS(Tableau_Data[Masculin],Tableau_Data[ASBL],ASBL!$C14,Tableau_Data[Lieu d''intervention],ASBL!$R$9,Tableau_Data[Annee],ASBL!$F$3,Tableau_Data[Mois],ASBL!J$4)","v":0},null,{"$f":"SUMIFS(Tableau_Data[Féminin],Tableau_Data[ASBL],ASBL!$C14,Tableau_Data[Lieu d''intervention],ASBL!$R$9,Tableau_Data[Annee],ASBL!$F$3,Tableau_Data[Mois],ASBL!J$4)","v":0},null,0,null,{"$f":"SUMIFS(Tableau_Data[Masculin],Tableau_Data[ASBL],ASBL!$C14,Tableau_Data[Lieu d''intervention],ASBL!$X$9,Tableau_Data[Annee],ASBL!$F$3,Tableau_Data[Mois],ASBL!J$4)","v":0},null,{"$f":"SUMIFS(Tableau_Data[Féminin],Tableau_Data[ASBL],ASBL!$C14,Tableau_Data[Lieu d''intervention],ASBL!$X$9,Tableau_Data[Annee],ASBL!$F$3,Tableau_Data[Mois],ASBL!J$4)","v":0},null,0,null,{"$f":"SUMIFS(Tableau_Data[Masculin],Tableau_Data[ASBL],ASBL!$C14,Tableau_Data[Lieu d''intervention],ASBL!$AD$9,Tableau_Data[Annee],ASBL!$F$3,Tableau_Data[Mois],ASBL!J$4)","v":0},null,{"$f":"SUMIFS(Tableau_Data[Féminin],Tableau_Data[ASBL],ASBL!$C14,Tableau_Data[Lieu d''intervention],ASBL!$AD$9,Tableau_Data[Annee],ASBL!$F$3,Tableau_Data[Mois],ASBL!J$4)","v":0},null,0,{"$f":"SUMIFS(Tableau_Data[Masculin],Tableau_Data[ASBL],ASBL!$C14,Tableau_Data[Thèmes],ASBL!$AI$9,Tableau_Data[Annee],ASBL!$F$3,Tableau_Data[Mois],ASBL!J$4)","v":0},null,{"$f":"SUMIFS(Tableau_Data[Féminin],Tableau_Data[ASBL],ASBL!$C14,Tableau_Data[Thèmes],ASBL!$AI$9,Tableau_Data[Annee],ASBL!$F$3,Tableau_Data[Mois],ASBL!J$4)","v":0},null,0,null,{"$f":"SUMIFS(Tableau_Data[Masculin],Tableau_Data[ASBL],ASBL!$C14,Tableau_Data[Thèmes],ASBL!$AO$9,Tableau_Data[Annee],ASBL!$F$3,Tableau_Data[Mois],ASBL!J$4)","v":0},null,{"$f":"SUMIFS(Tableau_Data[Féminin],Tableau_Data[ASBL],ASBL!$C14,Tableau_Data[Thèmes],ASBL!$AO$9,Tableau_Data[Annee],ASBL!$F$3,Tableau_Data[Mois],ASBL!J$4)","v":0},null,0,null,{"$f":"SUMIFS(Tableau_Data[Masculin],Tableau_Data[ASBL],ASBL!$C14,Tableau_Data[Thèmes],ASBL!$AU$9,Tableau_Data[Annee],ASBL!$F$3,Tableau_Data[Mois],ASBL!J$4)","v":0},null,{"$f":"SUMIFS(Tableau_Data[Féminin],Tableau_Data[ASBL],ASBL!$C14,Tableau_Data[Thèmes],ASBL!$AU$9,Tableau_Data[Annee],ASBL!$F$3,Tableau_Data[Mois],ASBL!J$4)","v":0},null,0,null,{"$f":"SUMIFS(Tableau_Data[Masculin],Tableau_Data[ASBL],ASBL!$C14,Tableau_Data[Thèmes],ASBL!$BA$9,Tableau_Data[Annee],ASBL!$F$3,Tableau_Data[Mois],ASBL!J$4)","v":0},null,{"$f":"SUMIFS(Tableau_Data[Féminin],Tableau_Data[ASBL],ASBL!$C14,Tableau_Data[Thèmes],ASBL!$BA$9,Tableau_Data[Annee],ASBL!$F$3,Tableau_Data[Mois],ASBL!$J$4)","v":0},null,0,null,{"$f":"SUMIFS(Tableau_Data[Masculin],Tableau_Data[ASBL],ASBL!$C14,Tableau_Data[Thèmes],ASBL!$BG$9,Tableau_Data[Annee],ASBL!$F$3,Tableau_Data[Mois],ASBL!$J$4)","v":0},null,{"$f":"SUMIFS(Tableau_Data[Féminin],Tableau_Data[ASBL],ASBL!$C14,Tableau_Data[Thèmes],ASBL!$BG$9,Tableau_Data[Annee],ASBL!$F$3,Tableau_Data[Mois],ASBL!$J$4)","v":0},null,0,null,{"$f":"SUMIFS(Tableau_Data[Masculin],Tableau_Data[ASBL],ASBL!$C14,Tableau_Data[Thèmes],ASBL!$BM$9,Tableau_Data[Annee],ASBL!$F$3,Tableau_Data[Mois],ASBL!$J$4)","v":0},null,{"$f":"SUMIFS(Tableau_Data[Féminin],Tableau_Data[ASBL],ASBL!$C14,Tableau_Data[Thèmes],ASBL!$BM$9,Tableau_Data[Annee],ASBL!$F$3,Tableau_Data[Mois],ASBL!$J$4)","v":0},null,0]
[null,{"$f":"IF(ASBL!B14=\"\",\"\",1+B14)","v":4},{"$f":"Paramètres!D24","v":"FVS AMADE"},null,{"$f":"SUMIFS(Tableau_Data[Masculin],Tableau_Data[ASBL],ASBL!$C15,Tableau_Data[Annee],ASBL!$F$3,Tableau_Data[Mois],ASBL!J$4)","v":0},null,{"$f":"SUMIFS(Tableau_Data[Féminin],Tableau_Data[ASBL],ASBL!$C15,Tableau_Data[Annee],ASBL!$F$3,Tableau_Data[Mois],ASBL!J$4)","v":0},null,0,null,null,{"$f":"SUMIFS(Tableau_Data[Masculin],Tableau_Data[ASBL],ASBL!$C15,Tableau_Data[Lieu d''intervention],ASBL!$L$9,Tableau_Data[Annee],ASBL!$F$3,Tableau_Data[Mois],ASBL!J$4)","v":0},null,{"$f":"SUMIFS(Tableau_Data[Féminin],Tableau_Data[ASBL],ASBL!$C15,Tableau_Data[Lieu d''intervention],ASBL!$L$9,Tableau_Data[Annee],ASBL!$F$3,Tableau_Data[Mois],ASBL!J$4)","v":0},null,0,null,{"$f":"SUMIFS(Tableau_Data[Masculin],Tableau_Data[ASBL],ASBL!$C15,Tableau_Data[Lieu d''intervention],ASBL!$R$9,Tableau_Data[Annee],ASBL!$F$3,Tableau_Data[Mois],ASBL!J$4)","v":0},null,{"$f":"SUMIFS(Tableau_Data[Féminin],Tableau_Data[ASBL],ASBL!$C15,Tableau_Data[Lieu d''intervention],ASBL!$R$9,Tableau_Data[Annee],ASBL!$F$3,Tableau_Data[Mois],ASBL!J$4)","v":0},null,0,null,{"$f":"SUMIFS(Tableau_Data[Masculin],Tableau_Data[ASBL],ASBL!$C15,Tableau_Data[Lieu d''intervention],ASBL!$X$9,Tableau_Data[Annee],ASBL!$F$3,Tableau_Data[Mois],ASBL!J$4)","v":0},null,{"$f":"SUMIFS(Tableau_Data[Féminin],Tableau_Data[ASBL],ASBL!$C15,Tableau_Data[Lieu d''intervention],ASBL!$X$9,Tableau_Data[Annee],ASBL!$F$3,Tableau_Data[Mois],ASBL!J$4)","v":0},null,0,null,{"$f":"SUMIFS(Tableau_Data[Masculin],Tableau_Data[ASBL],ASBL!$C15,Tableau_Data[Lieu d''intervention],ASBL!$AD$9,Tableau_Data[Annee],ASBL!$F$3,Tableau_Data[Mois],ASBL!J$4)","v":0},null,{"$f":"SUMIFS(Tableau_Data[Féminin],Tableau_Data[ASBL],ASBL!$C15,Tableau_Data[Lieu d''intervention],ASBL!$AD$9,Tableau_Data[Annee],ASBL!$F$3,Tableau_Data[Mois],ASBL!J$4)","v":0},null,0,{"$f":"SUMIFS(Tableau_Data[Masculin],Tableau_Data[ASBL],ASBL!$C15,Tableau_Data[Thèmes],ASBL!$AI$9,Tableau_Data[Annee],ASBL!$F$3,Tableau_Data[Mois],ASBL!J$4)","v":0},null,{"$f":"SUMIFS(Tableau_Data[Féminin],Tableau_Data[ASBL],ASBL!$C15,Tableau_Data[Thèmes],ASBL!$AI$9,Tableau_Data[Annee],ASBL!$F$3,Tableau_Data[Mois],ASBL!J$4)","v":0},null,0,null,{"$f":"SUMIFS(Tableau_Data[Masculin],Tableau_Data[ASBL],ASBL!$C15,Tableau_Data[Thèmes],ASBL!$AO$9,Tableau_Data[Annee],ASBL!$F$3,Tableau_Data[Mois],ASBL!J$4)","v":0},null,{"$f":"SUMIFS(Tableau_Data[Féminin],Tableau_Data[ASBL],ASBL!$C15,Tableau_Data[Thèmes],ASBL!$AO$9,Tableau_Data[Annee],ASBL!$F$3,Tableau_Data[Mois],ASBL!J$4)","v":0},null,0,null,{"$f":"SUMIFS(Tableau_Data[Masculin],Tableau_Data[ASBL],ASBL!$C15,Tableau_Data[Thèmes],ASBL!$AU$9,Tableau_Data[Annee],ASBL!$F$3,Tableau_Data[Mois],ASBL!J$4)","v":0},null,{"$f":"SUMIFS(Tableau_Data[Féminin],Tableau_Data[ASBL],ASBL!$C15,Tableau_Data[Thèmes],ASBL!$AU$9,Tableau_Data[Annee],ASBL!$F$3,Tableau_Data[Mois],ASBL!J$4)","v":0},null,0,null,{"$f":"SUMIFS(Tableau_Data[Masculin],Tableau_Data[ASBL],ASBL!$C15,Tableau_Data[Thèmes],ASBL!$BA$9,Tableau_Data[Annee],ASBL!$F$3,Tableau_Data[Mois],ASBL!J$4)","v":0},null,{"$f":"SUMIFS(Tableau_Data[Féminin],Tableau_Data[ASBL],ASBL!$C15,Tableau_Data[Thèmes],ASBL!$BA$9,Tableau_Data[Annee],ASBL!$F$3,Tableau_Data[Mois],ASBL!$J$4)","v":0},null,0,null,{"$f":"SUMIFS(Tableau_Data[Masculin],Tableau_Data[ASBL],ASBL!$C15,Tableau_Data[Thèmes],ASBL!$BG$9,Tableau_Data[Annee],ASBL!$F$3,Tableau_Data[Mois],ASBL!$J$4)","v":0},null,{"$f":"SUMIFS(Tableau_Data[Féminin],Tableau_Data[ASBL],ASBL!$C15,Tableau_Data[Thèmes],ASBL!$BG$9,Tableau_Data[Annee],ASBL!$F$3,Tableau_Data[Mois],ASBL!$J$4)","v":0},null,0,null,{"$f":"SUMIFS(Tableau_Data[Masculin],Tableau_Data[ASBL],ASBL!$C15,Tableau_Data[Thèmes],ASBL!$BM$9,Tableau_Data[Annee],ASBL!$F$3,Tableau_Data[Mois],ASBL!$J$4)","v":0},null,{"$f":"SUMIFS(Tableau_Data[Féminin],Tableau_Data[ASBL],ASBL!$C15,Tableau_Data[Thèmes],ASBL!$BM$9,Tableau_Data[Annee],ASBL!$F$3,Tableau_Data[Mois],ASBL!$J$4)","v":0},null,0]
[null,{"$f":"IF(ASBL!B15=\"\",\"\",1+B15)","v":5},{"$f":"Paramètres!D25","v":"UPHB"},null,{"$f":"SUMIFS(Tableau_Data[Masculin],Tableau_Data[ASBL],ASBL!$C16,Tableau_Data[Annee],ASBL!$F$3,Tableau_Data[Mois],ASBL!J$4)","v":0},null,{"$f":"SUMIFS(Tableau_Data[Féminin],Tableau_Data[ASBL],ASBL!$C16,Tableau_Data[Annee],ASBL!$F$3,Tableau_Data[Mois],ASBL!J$4)","v":0},null,0,null,null,{"$f":"SUMIFS(Tableau_Data[Masculin],Tableau_Data[ASBL],ASBL!$C16,Tableau_Data[Lieu d''intervention],ASBL!$L$9,Tableau_Data[Annee],ASBL!$F$3,Tableau_Data[Mois],ASBL!J$4)","v":0},null,{"$f":"SUMIFS(Tableau_Data[Féminin],Tableau_Data[ASBL],ASBL!$C16,Tableau_Data[Lieu d''intervention],ASBL!$L$9,Tableau_Data[Annee],ASBL!$F$3,Tableau_Data[Mois],ASBL!J$4)","v":0},null,0,null,{"$f":"SUMIFS(Tableau_Data[Masculin],Tableau_Data[ASBL],ASBL!$C16,Tableau_Data[Lieu d''intervention],ASBL!$R$9,Tableau_Data[Annee],ASBL!$F$3,Tableau_Data[Mois],ASBL!J$4)","v":0},null,{"$f":"SUMIFS(Tableau_Data[Féminin],Tableau_Data[ASBL],ASBL!$C16,Tableau_Data[Lieu d''intervention],ASBL!$R$9,Tableau_Data[Annee],ASBL!$F$3,Tableau_Data[Mois],ASBL!J$4)","v":0},null,0,null,{"$f":"SUMIFS(Tableau_Data[Masculin],Tableau_Data[ASBL],ASBL!$C16,Tableau_Data[Lieu d''intervention],ASBL!$X$9,Tableau_Data[Annee],ASBL!$F$3,Tableau_Data[Mois],ASBL!J$4)","v":0},null,{"$f":"SUMIFS(Tableau_Data[Féminin],Tableau_Data[ASBL],ASBL!$C16,Tableau_Data[Lieu d''intervention],ASBL!$X$9,Tableau_Data[Annee],ASBL!$F$3,Tableau_Data[Mois],ASBL!J$4)","v":0},null,0,null,{"$f":"SUMIFS(Tableau_Data[Masculin],Tableau_Data[ASBL],ASBL!$C16,Tableau_Data[Lieu d''intervention],ASBL!$AD$9,Tableau_Data[Annee],ASBL!$F$3,Tableau_Data[Mois],ASBL!J$4)","v":0},null,{"$f":"SUMIFS(Tableau_Data[Féminin],Tableau_Data[ASBL],ASBL!$C16,Tableau_Data[Lieu d''intervention],ASBL!$AD$9,Tableau_Data[Annee],ASBL!$F$3,Tableau_Data[Mois],ASBL!J$4)","v":0},null,0,{"$f":"SUMIFS(Tableau_Data[Masculin],Tableau_Data[ASBL],ASBL!$C16,Tableau_Data[Thèmes],ASBL!$AI$9,Tableau_Data[Annee],ASBL!$F$3,Tableau_Data[Mois],ASBL!J$4)","v":0},null,{"$f":"SUMIFS(Tableau_Data[Féminin],Tableau_Data[ASBL],ASBL!$C16,Tableau_Data[Thèmes],ASBL!$AI$9,Tableau_Data[Annee],ASBL!$F$3,Tableau_Data[Mois],ASBL!J$4)","v":0},null,0,null,{"$f":"SUMIFS(Tableau_Data[Masculin],Tableau_Data[ASBL],ASBL!$C16,Tableau_Data[Thèmes],ASBL!$AO$9,Tableau_Data[Annee],ASBL!$F$3,Tableau_Data[Mois],ASBL!J$4)","v":0},null,{"$f":"SUMIFS(Tableau_Data[Féminin],Tableau_Data[ASBL],ASBL!$C16,Tableau_Data[Thèmes],ASBL!$AO$9,Tableau_Data[Annee],ASBL!$F$3,Tableau_Data[Mois],ASBL!J$4)","v":0},null,0,null,{"$f":"SUMIFS(Tableau_Data[Masculin],Tableau_Data[ASBL],ASBL!$C16,Tableau_Data[Thèmes],ASBL!$AU$9,Tableau_Data[Annee],ASBL!$F$3,Tableau_Data[Mois],ASBL!J$4)","v":0},null,{"$f":"SUMIFS(Tableau_Data[Féminin],Tableau_Data[ASBL],ASBL!$C16,Tableau_Data[Thèmes],ASBL!$AU$9,Tableau_Data[Annee],ASBL!$F$3,Tableau_Data[Mois],ASBL!J$4)","v":0},null,0,null,{"$f":"SUMIFS(Tableau_Data[Masculin],Tableau_Data[ASBL],ASBL!$C16,Tableau_Data[Thèmes],ASBL!$BA$9,Tableau_Data[Annee],ASBL!$F$3,Tableau_Data[Mois],ASBL!J$4)","v":0},null,{"$f":"SUMIFS(Tableau_Data[Féminin],Tableau_Data[ASBL],ASBL!$C16,Tableau_Data[Thèmes],ASBL!$BA$9,Tableau_Data[Annee],ASBL!$F$3,Tableau_Data[Mois],ASBL!$J$4)","v":0},null,0,null,{"$f":"SUMIFS(Tableau_Data[Masculin],Tableau_Data[ASBL],ASBL!$C16,Tableau_Data[Thèmes],ASBL!$BG$9,Tableau_Data[Annee],ASBL!$F$3,Tableau_Data[Mois],ASBL!$J$4)","v":0},null,{"$f":"SUMIFS(Tableau_Data[Féminin],Tableau_Data[ASBL],ASBL!$C16,Tableau_Data[Thèmes],ASBL!$BG$9,Tableau_Data[Annee],ASBL!$F$3,Tableau_Data[Mois],ASBL!$J$4)","v":0},null,0,null,{"$f":"SUMIFS(Tableau_Data[Masculin],Tableau_Data[ASBL],ASBL!$C16,Tableau_Data[Thèmes],ASBL!$BM$9,Tableau_Data[Annee],ASBL!$F$3,Tableau_Data[Mois],ASBL!$J$4)","v":0},null,{"$f":"SUMIFS(Tableau_Data[Féminin],Tableau_Data[ASBL],ASBL!$C16,Tableau_Data[Thèmes],ASBL!$BM$9,Tableau_Data[Annee],ASBL!$F$3,Tableau_Data[Mois],ASBL!$J$4)","v":0},null,0]
[null,{"$f":"IF(ASBL!B16=\"\",\"\",1+B16)","v":6},{"$f":"Paramètres!D26","v":"RCBIF"},null,{"$f":"SUMIFS(Tableau_Data[Masculin],Tableau_Data[ASBL],ASBL!$C17,Tableau_Data[Annee],ASBL!$F$3,Tableau_Data[Mois],ASBL!J$4)","v":0},null,{"$f":"SUMIFS(Tableau_Data[Féminin],Tableau_Data[ASBL],ASBL!$C17,Tableau_Data[Annee],ASBL!$F$3,Tableau_Data[Mois],ASBL!J$4)","v":0},null,0,null,null,{"$f":"SUMIFS(Tableau_Data[Masculin],Tableau_Data[ASBL],ASBL!$C17,Tableau_Data[Lieu d''intervention],ASBL!$L$9,Tableau_Data[Annee],ASBL!$F$3,Tableau_Data[Mois],ASBL!J$4)","v":0},null,{"$f":"SUMIFS(Tableau_Data[Féminin],Tableau_Data[ASBL],ASBL!$C17,Tableau_Data[Lieu d''intervention],ASBL!$L$9,Tableau_Data[Annee],ASBL!$F$3,Tableau_Data[Mois],ASBL!J$4)","v":0},null,0,null,{"$f":"SUMIFS(Tableau_Data[Masculin],Tableau_Data[ASBL],ASBL!$C17,Tableau_Data[Lieu d''intervention],ASBL!$R$9,Tableau_Data[Annee],ASBL!$F$3,Tableau_Data[Mois],ASBL!J$4)","v":0},null,{"$f":"SUMIFS(Tableau_Data[Féminin],Tableau_Data[ASBL],ASBL!$C17,Tableau_Data[Lieu d''intervention],ASBL!$R$9,Tableau_Data[Annee],ASBL!$F$3,Tableau_Data[Mois],ASBL!J$4)","v":0},null,0,null,{"$f":"SUMIFS(Tableau_Data[Masculin],Tableau_Data[ASBL],ASBL!$C17,Tableau_Data[Lieu d''intervention],ASBL!$X$9,Tableau_Data[Annee],ASBL!$F$3,Tableau_Data[Mois],ASBL!J$4)","v":0},null,{"$f":"SUMIFS(Tableau_Data[Féminin],Tableau_Data[ASBL],ASBL!$C17,Tableau_Data[Lieu d''intervention],ASBL!$X$9,Tableau_Data[Annee],ASBL!$F$3,Tableau_Data[Mois],ASBL!J$4)","v":0},null,0,null,{"$f":"SUMIFS(Tableau_Data[Masculin],Tableau_Data[ASBL],ASBL!$C17,Tableau_Data[Lieu d''intervention],ASBL!$AD$9,Tableau_Data[Annee],ASBL!$F$3,Tableau_Data[Mois],ASBL!J$4)","v":0},null,{"$f":"SUMIFS(Tableau_Data[Féminin],Tableau_Data[ASBL],ASBL!$C17,Tableau_Data[Lieu d''intervention],ASBL!$AD$9,Tableau_Data[Annee],ASBL!$F$3,Tableau_Data[Mois],ASBL!J$4)","v":0},null,0,{"$f":"SUMIFS(Tableau_Data[Masculin],Tableau_Data[ASBL],ASBL!$C17,Tableau_Data[Thèmes],ASBL!$AI$9,Tableau_Data[Annee],ASBL!$F$3,Tableau_Data[Mois],ASBL!J$4)","v":0},null,{"$f":"SUMIFS(Tableau_Data[Féminin],Tableau_Data[ASBL],ASBL!$C17,Tableau_Data[Thèmes],ASBL!$AI$9,Tableau_Data[Annee],ASBL!$F$3,Tableau_Data[Mois],ASBL!J$4)","v":0},null,0,null,{"$f":"SUMIFS(Tableau_Data[Masculin],Tableau_Data[ASBL],ASBL!$C17,Tableau_Data[Thèmes],ASBL!$AO$9,Tableau_Data[Annee],ASBL!$F$3,Tableau_Data[Mois],ASBL!J$4)","v":0},null,{"$f":"SUMIFS(Tableau_Data[Féminin],Tableau_Data[ASBL],ASBL!$C17,Tableau_Data[Thèmes],ASBL!$AO$9,Tableau_Data[Annee],ASBL!$F$3,Tableau_Data[Mois],ASBL!J$4)","v":0},null,0,null,{"$f":"SUMIFS(Tableau_Data[Masculin],Tableau_Data[ASBL],ASBL!$C17,Tableau_Data[Thèmes],ASBL!$AU$9,Tableau_Data[Annee],ASBL!$F$3,Tableau_Data[Mois],ASBL!J$4)","v":0},null,{"$f":"SUMIFS(Tableau_Data[Féminin],Tableau_Data[ASBL],ASBL!$C17,Tableau_Data[Thèmes],ASBL!$AU$9,Tableau_Data[Annee],ASBL!$F$3,Tableau_Data[Mois],ASBL!J$4)","v":0},null,0,null,{"$f":"SUMIFS(Tableau_Data[Masculin],Tableau_Data[ASBL],ASBL!$C17,Tableau_Data[Thèmes],ASBL!$BA$9,Tableau_Data[Annee],ASBL!$F$3,Tableau_Data[Mois],ASBL!J$4)","v":0},null,{"$f":"SUMIFS(Tableau_Data[Féminin],Tableau_Data[ASBL],ASBL!$C17,Tableau_Data[Thèmes],ASBL!$BA$9,Tableau_Data[Annee],ASBL!$F$3,Tableau_Data[Mois],ASBL!$J$4)","v":0},null,0,null,{"$f":"SUMIFS(Tableau_Data[Masculin],Tableau_Data[ASBL],ASBL!$C17,Tableau_Data[Thèmes],ASBL!$BG$9,Tableau_Data[Annee],ASBL!$F$3,Tableau_Data[Mois],ASBL!$J$4)","v":0},null,{"$f":"SUMIFS(Tableau_Data[Féminin],Tableau_Data[ASBL],ASBL!$C17,Tableau_Data[Thèmes],ASBL!$BG$9,Tableau_Data[Annee],ASBL!$F$3,Tableau_Data[Mois],ASBL!$J$4)","v":0},null,0,null,{"$f":"SUMIFS(Tableau_Data[Masculin],Tableau_Data[ASBL],ASBL!$C17,Tableau_Data[Thèmes],ASBL!$BM$9,Tableau_Data[Annee],ASBL!$F$3,Tableau_Data[Mois],ASBL!$J$4)","v":0},null,{"$f":"SUMIFS(Tableau_Data[Féminin],Tableau_Data[ASBL],ASBL!$C17,Tableau_Data[Thèmes],ASBL!$BM$9,Tableau_Data[Annee],ASBL!$F$3,Tableau_Data[Mois],ASBL!$J$4)","v":0},null,0]
[null,{"$f":"IF(ASBL!B17=\"\",\"\",1+B17)","v":7},{"$f":"Paramètres!D27","v":"NTURENGAHO"},null,{"$f":"SUMIFS(Tableau_Data[Masculin],Tableau_Data[ASBL],ASBL!$C18,Tableau_Data[Annee],ASBL!$F$3,Tableau_Data[Mois],ASBL!J$4)","v":0},null,{"$f":"SUMIFS(Tableau_Data[Féminin],Tableau_Data[ASBL],ASBL!$C18,Tableau_Data[Annee],ASBL!$F$3,Tableau_Data[Mois],ASBL!J$4)","v":0},null,0,null,null,{"$f":"SUMIFS(Tableau_Data[Masculin],Tableau_Data[ASBL],ASBL!$C18,Tableau_Data[Lieu d''intervention],ASBL!$L$9,Tableau_Data[Annee],ASBL!$F$3,Tableau_Data[Mois],ASBL!J$4)","v":0},null,{"$f":"SUMIFS(Tableau_Data[Féminin],Tableau_Data[ASBL],ASBL!$C18,Tableau_Data[Lieu d''intervention],ASBL!$L$9,Tableau_Data[Annee],ASBL!$F$3,Tableau_Data[Mois],ASBL!J$4)","v":0},null,0,null,{"$f":"SUMIFS(Tableau_Data[Masculin],Tableau_Data[ASBL],ASBL!$C18,Tableau_Data[Lieu d''intervention],ASBL!$R$9,Tableau_Data[Annee],ASBL!$F$3,Tableau_Data[Mois],ASBL!J$4)","v":0},null,{"$f":"SUMIFS(Tableau_Data[Féminin],Tableau_Data[ASBL],ASBL!$C18,Tableau_Data[Lieu d''intervention],ASBL!$R$9,Tableau_Data[Annee],ASBL!$F$3,Tableau_Data[Mois],ASBL!J$4)","v":0},null,0,null,{"$f":"SUMIFS(Tableau_Data[Masculin],Tableau_Data[ASBL],ASBL!$C18,Tableau_Data[Lieu d''intervention],ASBL!$X$9,Tableau_Data[Annee],ASBL!$F$3,Tableau_Data[Mois],ASBL!J$4)","v":0},null,{"$f":"SUMIFS(Tableau_Data[Féminin],Tableau_Data[ASBL],ASBL!$C18,Tableau_Data[Lieu d''intervention],ASBL!$X$9,Tableau_Data[Annee],ASBL!$F$3,Tableau_Data[Mois],ASBL!J$4)","v":0},null,0,null,{"$f":"SUMIFS(Tableau_Data[Masculin],Tableau_Data[ASBL],ASBL!$C18,Tableau_Data[Lieu d''intervention],ASBL!$AD$9,Tableau_Data[Annee],ASBL!$F$3,Tableau_Data[Mois],ASBL!J$4)","v":0},null,{"$f":"SUMIFS(Tableau_Data[Féminin],Tableau_Data[ASBL],ASBL!$C18,Tableau_Data[Lieu d''intervention],ASBL!$AD$9,Tableau_Data[Annee],ASBL!$F$3,Tableau_Data[Mois],ASBL!J$4)","v":0},null,0,{"$f":"SUMIFS(Tableau_Data[Masculin],Tableau_Data[ASBL],ASBL!$C18,Tableau_Data[Thèmes],ASBL!$AI$9,Tableau_Data[Annee],ASBL!$F$3,Tableau_Data[Mois],ASBL!J$4)","v":0},null,{"$f":"SUMIFS(Tableau_Data[Féminin],Tableau_Data[ASBL],ASBL!$C18,Tableau_Data[Thèmes],ASBL!$AI$9,Tableau_Data[Annee],ASBL!$F$3,Tableau_Data[Mois],ASBL!J$4)","v":0},null,0,null,{"$f":"SUMIFS(Tableau_Data[Masculin],Tableau_Data[ASBL],ASBL!$C18,Tableau_Data[Thèmes],ASBL!$AO$9,Tableau_Data[Annee],ASBL!$F$3,Tableau_Data[Mois],ASBL!J$4)","v":0},null,{"$f":"SUMIFS(Tableau_Data[Féminin],Tableau_Data[ASBL],ASBL!$C18,Tableau_Data[Thèmes],ASBL!$AO$9,Tableau_Data[Annee],ASBL!$F$3,Tableau_Data[Mois],ASBL!J$4)","v":0},null,0,null,{"$f":"SUMIFS(Tableau_Data[Masculin],Tableau_Data[ASBL],ASBL!$C18,Tableau_Data[Thèmes],ASBL!$AU$9,Tableau_Data[Annee],ASBL!$F$3,Tableau_Data[Mois],ASBL!J$4)","v":0},null,{"$f":"SUMIFS(Tableau_Data[Féminin],Tableau_Data[ASBL],ASBL!$C18,Tableau_Data[Thèmes],ASBL!$AU$9,Tableau_Data[Annee],ASBL!$F$3,Tableau_Data[Mois],ASBL!J$4)","v":0},null,0,null,{"$f":"SUMIFS(Tableau_Data[Masculin],Tableau_Data[ASBL],ASBL!$C18,Tableau_Data[Thèmes],ASBL!$BA$9,Tableau_Data[Annee],ASBL!$F$3,Tableau_Data[Mois],ASBL!J$4)","v":0},null,{"$f":"SUMIFS(Tableau_Data[Féminin],Tableau_Data[ASBL],ASBL!$C18,Tableau_Data[Thèmes],ASBL!$BA$9,Tableau_Data[Annee],ASBL!$F$3,Tableau_Data[Mois],ASBL!$J$4)","v":0},null,0,null,{"$f":"SUMIFS(Tableau_Data[Masculin],Tableau_Data[ASBL],ASBL!$C18,Tableau_Data[Thèmes],ASBL!$BG$9,Tableau_Data[Annee],ASBL!$F$3,Tableau_Data[Mois],ASBL!$J$4)","v":0},null,{"$f":"SUMIFS(Tableau_Data[Féminin],Tableau_Data[ASBL],ASBL!$C18,Tableau_Data[Thèmes],ASBL!$BG$9,Tableau_Data[Annee],ASBL!$F$3,Tableau_Data[Mois],ASBL!$J$4)","v":0},null,0,null,{"$f":"SUMIFS(Tableau_Data[Masculin],Tableau_Data[ASBL],ASBL!$C18,Tableau_Data[Thèmes],ASBL!$BM$9,Tableau_Data[Annee],ASBL!$F$3,Tableau_Data[Mois],ASBL!$J$4)","v":0},null,{"$f":"SUMIFS(Tableau_Data[Féminin],Tableau_Data[ASBL],ASBL!$C18,Tableau_Data[Thèmes],ASBL!$BM$9,Tableau_Data[Annee],ASBL!$F$3,Tableau_Data[Mois],ASBL!$J$4)","v":0},null,0]
[null,null,"Total",null,{"$f":"SUM(E12:E15)","v":0},null,{"$f":"SUM(G12:G15)","v":0},null,{"$f":"SUM(I12:I15)","v":0},null,null,{"$f":"SUM(L12:L15)","v":0},null,{"$f":"SUM(N12:N15)","v":0},null,{"$f":"SUM(P12:P15)","v":0},null,{"$f":"SUM(R12:R15)","v":0},null,{"$f":"SUM(T12:T15)","v":0},null,{"$f":"SUM(V12:V15)","v":0},null,{"$f":"SUM(X12:X15)","v":0},null,{"$f":"SUM(Z12:Z15)","v":0},null,{"$f":"SUM(AB12:AB15)","v":0},null,{"$f":"SUM(AD12:AD15)","v":0},null,{"$f":"SUM(AF12:AF15)","v":0},null,{"$f":"SUM(AH12:AH15)","v":0},{"$f":"SUM(AI12:AI15)","v":0},null,{"$f":"SUM(AK12:AK15)","v":0},null,{"$f":"SUM(AM12:AM15)","v":0},null,{"$f":"SUM(AO12:AO15)","v":0},null,{"$f":"SUM(AQ12:AQ15)","v":0},null,{"$f":"SUM(AS12:AS15)","v":0},null,{"$f":"SUM(AU12:AU15)","v":0},null,{"$f":"SUM(AW12:AW15)","v":0},null,{"$f":"SUM(AY12:AY15)","v":0},null,{"$f":"SUM(BA12:BA15)","v":0},null,{"$f":"SUM(BC12:BC15)","v":0},null,{"$f":"SUM(BE12:BE15)","v":0},null,{"$f":"SUM(BG12:BG15)","v":0},null,{"$f":"SUM(BI12:BI15)","v":0},null,{"$f":"SUM(BK12:BK15)","v":0},null,{"$f":"SUM(BM12:BM15)","v":0},null,{"$f":"SUM(BO12:BO15)","v":0},null,{"$f":"SUM(BQ12:BQ15)","v":0}]
[null,null,null,null,null,null,null,null,null,null,null,null,null,null,null,null,null,null,null,null,null,null,null,null,null,null,null,null,null,null,null,null,null,null,null,null,null,null,null,null,null,null,null,null,null,null,null,null,null,null,null,null,null,null,null,null,null,null,null,null,null,null,null,null,null,null,null,null,null,null,null,null,null,"Janvier",1]
[null,null,null,null,null,null,null,null,null,null,null,null,null,null,null,null,null,null,null,null,null,null,null,null,null,null,null,null,null,null,null,null,null,null,null,null,null,null,null,null,null,null,null,null,null,null,null,null,null,null,null,null,null,null,null,null,null,null,null,null,null,null,null,null,null,null,null,null,null,null,null,null,null,"Février",2]
[null,null,null,null,null,null,null,null,null,null,null,null,null,null,null,null,null,null,null,null,null,null,null,null,null,null,null,null,null,null,null,null,null,null,null,null,null,null,null,null,null,null,null,null,null,null,null,null,null,null,null,null,null,null,null,null,null,null,null,null,null,null,null,null,null,null,null,null,null,null,null,null,null,"Mars",3]
[null,null,null,null,null,null,null,null,null,null,null,null,null,null,null,null,null,null,null,null,null,null,null,null,null,null,null,null,null,null,null,null,null,null,null,null,null,null,null,null,null,null,null,null,null,null,null,null,null,null,null,null,null,null,null,null,null,null,null,null,null,null,null,null,null,null,null,null,null,null,null,null,null,"Avril",4]
[null,null,null,null,null,null,null,null,null,null,null,null,null,null,null,null,null,null,null,null,null,null,null,null,null,null,null,null,null,null,null,null,null,null,null,null,null,null,null,null,null,null,null,null,null,null,null,null,null,null,null,null,null,null,null,null,null,null,null,null,null,null,null,null,null,null,null,null,null,null,null,null,null,"Mai",5]
[null,null,null,null,null,null,null,null,null,null,null,null,null,null,null,null,null,null,null,null,null,null,null,null,null,null,null,null,null,null,null,null,null,null,null,null,null,null,null,null,null,null,null,null,null,null,null,null,null,null,null,null,null,null,null,null,null,null,null,null,null,null,null,null,null,null,null,null,null,null,null,null,null,"Juin",6]
[null,null,null,null,null,null,null,null,null,null,null,null,null,null,null,null,null,null,null,null,null,null,null,null,null,null,null,null,null,null,null,null,null,null,null,null,null,null,null,null,null,null,null,null,null,null,null,null,null,null,null,null,null,null,null,null,null,null,null,null,null,null,null,null,null,null,null,null,null,null,null,null,null,"Juillet",7]
[null,null,null,null,null,null,null,null,null,null,null,null,null,null,null,null,null,null,null,null,null,null,null,null,null,null,null,null,null,null,null,null,null,null,null,null,null,null,null,null,null,null,null,null,null,null,null,null,null,null,null,null,null,null,null,null,null,null,null,null,null,null,null,null,null,null,null,null,null,null,null,null,null,"Aout",8]
[null,null,null,null,null,null,null,null,null,null,null,null,null,null,null,null,null,null,null,null,null,null,null,null,null,null,null,null,null,null,null,null,null,null,null,null,null,null,null,null,null,null,null,null,null,null,null,null,null,null,null,null,null,null,null,null,null,null,null,null,null,null,null,null,null,null,null,null,null,null,null,null,null,"Septembre",9]
[null,null,null,null,null,null,null,null,null,null,null,null,null,null,null,null,null,null,null,null,null,null,null,null,null,null,null,null,null,null,null,null,null,null,null,null,null,null,null,null,null,null,null,null,null,null,null,null,null,null,null,null,null,null,null,null,null,null,null,null,null,null,null,null,null,null,null,null,null,null,null,null,null,"Octobre",10]
[null,null,null,null,null,null,null,null,null,null,null,null,null,null,null,null,null,null,null,null,null,null,null,null,null,null,null,null,null,null,null,null,null,null,null,null,null,null,null,null,null,null,null,null,null,null,null,null,null,null,null,null,null,null,null,null,null,null,null,null,null,null,null,null,null,null,null,null,null,null,null,null,null,"Novembre",11]
[null,null,null,null,null,null,null,null,null,null,null,null,null,null,null,null,null,null,null,null,null,null,null,null,null,null,null,null,null,null,null,null,null,null,null,null,null,null,null,null,null,null,null,null,null,null,null,null,null,null,null,null,null,null,null,null,null,null,null,null,null,null,null,null,null,null,null,null,null,null,null,null,null,"Décembre",12]

{"sheet":"PS","index":8,"n_rows":28,"n_cols":75,"rows_kept":28,"cut":false,"hidden":false,"merged":[[5,1,5,2],[5,4,5,8],[8,46,8,50],[8,52,8,56],[8,58,8,62],[6,34,6,38],[8,64,8,68],[6,64,6,68],[8,40,8,44],[8,11,8,15],[8,17,8,21],[8,23,8,27],[8,29,8,33],[8,34,8,38],[6,40,6,44],[6,46,6,50],[6,52,6,56],[6,58,6,62],[6,11,6,15],[6,17,6,21],[6,23,6,27],[6,29,6,33],[3,7,3,8],[5,11,5,38],[5,40,5,68],[0,4,0,5],[0,7,0,8],[0,10,0,14],[1,4,1,5],[1,7,1,8]]}
[null,null,null,null,"TOTAL MASCULIN",null,null,"TOTAL FEMININ",null,null,{"$f":"TODAY()","v":"2023-03-21"}]
[null,null,"Selectionnez l'année",null,{"$f":"SUMIFS(Tableau_Data[Masculin],Tableau_Data[Annee],PS!C$3)","v":0},null,null,{"$f":"SUMIFS(Tableau_Data[Féminin],Tableau_Data[Annee],PS!C$3)","v":0},null,null,null,{"$f":"SUMIFS(Tableau_Data[Masculin],Tableau_Data[Lieu d''intervention],$L$9,Tableau_Data[Annee],$F$3)","v":0},null,{"$f":"SUMIFS(Tableau_Data[Féminin],Tableau_Data[Lieu d''intervention],$L$9,Tableau_Data[Annee],$F$3)","v":0},null,{"$f":"SUM(L2:N2)","v":0},null,{"$f":"SUMIFS(Tableau_Data[Masculin],Tableau_Data[Lieu d''intervention],$R$9,Tableau_Data[Annee],$F$3)","v":0},null,{"$f":"SUMIFS(Tableau_Data[Féminin],Tableau_Data[Lieu d''intervention],$R$9,Tableau_Data[Annee],$F$3)","v":0},null,{"$f":"SUM(R2:T2)","v":0},null,{"$f":"SUMIFS(Tableau_Data[Masculin],Tableau_Data[Lieu d''intervention],$X$9,Tableau_Data[Annee],$F$3)","v":0},null,{"$f":"SUMIFS(Tableau_Data[Féminin],Tableau_Data[Lieu d''intervention],$X$9,Tableau_Data[Annee],$F$3)","v":0},null,{"$f":"SUM(X2:Z2)","v":0},null,{"$f":"SUMIFS(Tableau_Data[Masculin],Tableau_Data[Lieu d''intervention],$AD$9,Tableau_Data[Annee],$F$3)","v":0},null,{"$f":"SUMIFS(Tableau_Data[Féminin],Tableau_Data[Lieu d''intervention],$AD$9,Tableau_Data[Annee],$F$3)","v":0},null,{"$f":"SUM(AD2:AF2)","v":0},{"$f":"SUMIFS(Tableau_Data[Masculin],Tableau_Data[Thèmes],$AI$9,Tableau_Data[Annee],$F$3)","v":0},null,{"$f":"SUMIFS(Tableau_Data[Féminin],Tableau_Data[Thèmes],$AI$9,Tableau_Data[Annee],$F$3)","v":0},null,{"$f":"SUM(AI2:AK2)","v":0},null,{"$f":"SUMIFS(Tableau_Data[Masculin],Tableau_Data[Thèmes],$AO$9,Tableau_Data[Annee],$F$3)","v":0},null,{"$f":"SUMIFS(Tableau_Data[Féminin],Tableau_Data[Thèmes],$AO$9,Tableau_Data[Annee],$F$3)","v":0},null,{"$f":"SUM(AO2:AQ2)","v":0},null,{"$f":"SUMIFS(Tableau_Data[Masculin],Tableau_Data[Thèmes],$AU$9,Tableau_Data[Annee],$F$3)","v":0},null,{"$f":"SUMIFS(Tableau_Data[Féminin],Tableau_Data[Thèmes],$AU$9,Tableau_Data[Annee],$F$3)","v":0},null,{"$f":"SUM(AU2:AW2)","v":0},null,{"$f":"SUMIFS(Tableau_Data[Masculin],Tableau_Data[Thèmes],$BA$9,Tableau_Data[Annee],$F$3)","v":0},null,{"$f":"SUMIFS(Tableau_Data[Féminin],Tableau_Data[Thèmes],$BA$9,Tableau_Data[Annee],$F$3)","v":0},null,{"$f":"SUM(BA2:BC2)","v":0},null,{"$f":"SUMIFS(Tableau_Data[Masculin],Tableau_Data[Thèmes],$BG$9,Tableau_Data[Annee],$F$3)","v":0},null,{"$f":"SUMIFS(Tableau_Data[Féminin],Tableau_Data[Thèmes],$BG$9,Tableau_Data[Annee],$F$3)","v":0},null,{"$f":"SUM(BG2:BI2)","v":0},null,{"$f":"SUMIFS(Tableau_Data[Masculin],Tableau_Data[Thèmes],$BM$9,Tableau_Data[Annee],$F$3)","v":0},null,{"$f":"SUMIFS(Tableau_Data[Féminin],Tableau_Data[Thèmes],$BM$9,Tableau_Data[Annee],$F$3)","v":0},null,{"$f":"SUM(BM2:BO2)","v":0}]
[null,null,2019,null,null,{"$f":"C3","v":2019}]
[null,null,null,null,null,null,null,"Novembre",null,{"$f":"VLOOKUP(H4,PS!$BV$17:$BW$28,2,0)","v":11}]
[]
[null,"Variales",null,null,"SEXE",null,null,null,null,null,null,"LIEU D'INTERVENTION",null,null,null,null,null,null,null,null,null,null,null,null,null,null,null,null,null,null,null,null,null,null,null,null,null,null,null,null,"THEMES TRAITES"]
[null,null,null,null,{"$f":"E10","v":"MASCULIN"},null,{"$f":"G10","v":"FEMININ"},null,null,null,null,{"$f":"L9","v":"ECOLE"},null,null,null,null,null,{"$f":"R9","v":"CENTRE DE SANTE"},null,null,null,null,null,{"$f":"X9","v":"COMMUNAUTE"},null,null,null,null,null,{"$f":"AD9","v":"CENTRE PVH"},null,null,null,null,{"$f":"AI9","v":"EGLISE"},null,null,null,null,null,{"$f":"AO9","v":"IST/VIH-SIDA"},null,null,null,null,null,{"$f":"AU9","v":"VSBG"},null,null,null,null,null,{"$f":"BA9","v":"PF"},null,null,null,null,null,{"$f":"BG9","v":"Autres thèmes SSRAJ"},null,null,null,null,null,{"$f":"BM9","v":0}]
[null,null,null,null,{"$f":"E16","v":0},null,{"$f":"G16","v":0},null,{"$f":"I16","v":0},null,null,{"$f":"L16","v":0},null,{"$f":"N16","v":0},null,{"$f":"P16","v":0},null,{"$f":"R16","v":0},null,0,null,0,null,0,0,0,0,0,null,0,null,0,null,{"$f":"AH16","v":0},{"$f":"AI16","v":0},null,{"$f":"AK16","v":0},null,{"$f":"AM16","v":0},null,{"$f":"AO16","v":0},null,{"$f":"AQ16","v":0},null,{"$f":"AS16","v":0},null,{"$f":"AU16","v":0},null,{"$f":"AW16","v":0},null,{"$f":"AY16","v":0},null,{"$f":"BA16","v":0},null,{"$f":"BC16","v":0},null,{"$f":"BE16","v":0},null,{"$f":"BG16","v":0},null,{"$f":"BI16","v":0},null,{"$f":"BK16","v":0},null,{"$f":"BM16","v":0},null,{"$f":"BO16","v":0},null,{"$f":"BQ16","v":0}]
[null,null,null,null,null,null,null,null,null,null,null,{"$f":"Paramètres!B7","v":"ECOLE"},null,null,null,null,null,{"$f":"Paramètres!B8","v":"CENTRE DE SANTE"},null,null,null,null,null,{"$f":"Paramètres!B9","v":"COMMUNAUTE"},null,null,null,null,null,{"$f":"Paramètres!B10","v":"CENTRE PVH"},null,null,null,null,{"$f":"Paramètres!B11","v":"EGLISE"},null,null,null,null,null,{"$f":"Paramètres!F7","v":"IST/VIH-SIDA"},null,null,null,null,null,{"$f":"Paramètres!F8","v":"VSBG"},null,null,null,null,null,{"$f":"Paramètres!F9","v":"PF"},null,null,null,null,null,{"$f":"Paramètres!F10","v":"Autres thèmes SSRAJ"},null,null,null,null,null,{"$f":"Paramètres!F11","v":0}]
[null,null,null,null,"MASCULIN",null,"FEMININ",null,null,null,null,"M",null,"F",null,null,null,"M",null,"F",null,null,null,"M",null,"F",null,null,null,"M",null,"F",null,null,"M",null,"F",null,null,null,"M",null,"F",null,null,null,"M",null,"F",null,null,null,"M",null,"F",null,null,null,"M",null,"F",null,null,null,"M",null,"F"]
[]
[null,1,{"$f":"Paramètres!B21","v":"Muramvya"},null,{"$f":"SUMIFS(Tableau_Data[Masculin],Tableau_Data[Province sanitaire],PS!$C12,Tableau_Data[Annee],PS!$F$3,Tableau_Data[Mois],PS!J$4)","v":0},null,{"$f":"SUMIFS(Tableau_Data[Féminin],Tableau_Data[Province sanitaire],PS!$C12,Tableau_Data[Annee],PS!$F$3,Tableau_Data[Mois],PS!J$4)","v":0},null,{"$f":"SUM(E12:G12)","v":0},null,null,{"$f":"SUMIFS(Tableau_Data[Masculin],Tableau_Data[Province sanitaire],PS!$C12,Tableau_Data[Lieu d''intervention],PS!$L$9,Tableau_Data[Annee],PS!$F$3,Tableau_Data[Mois],PS!J$4)","v":0},null,{"$f":"SUMIFS(Tableau_Data[Féminin],Tableau_Data[Province sanitaire],PS!$C12,Tableau_Data[Lieu d''intervention],PS!$L$9,Tableau_Data[Annee],PS!$F$3,Tableau_Data[Mois],PS!J$4)","v":0},null,{"$f":"SUM(L12:N12)","v":0},null,{"$f":"SUMIFS(Tableau_Data[Masculin],Tableau_Data[Province sanitaire],PS!$C12,Tableau_Data[Lieu d''intervention],PS!$R$9,Tableau_Data[Annee],PS!$F$3,Tableau_Data[Mois],PS!J$4)","v":0},null,{"$f":"SUMIFS(Tableau_Data[Féminin],Tableau_Data[Province sanitaire],PS!$C12,Tableau_Data[Lieu d''intervention],PS!$R$9,Tableau_Data[Annee],PS!$F$3,Tableau_Data[Mois],PS!J$4)","v":0},null,{"$f":"SUM(R12:T12)","v":0},null,{"$f":"SUMIFS(Tableau_Data[Masculin],Tableau_Data[Province sanitaire],PS!$C12,Tableau_Data[Lieu d''intervention],PS!$X$9,Tableau_Data[Annee],PS!$F$3,Tableau_Data[Mois],PS!J$4)","v":0},null,{"$f":"SUMIFS(Tableau_Data[Féminin],Tableau_Data[Province sanitaire],PS!$C12,Tableau_Data[Lieu d''intervention],PS!$X$9,Tableau_Data[Annee],PS!$F$3,Tableau_Data[Mois],PS!J$4)","v":0},null,{"$f":"SUM(X12:Z12)","v":0},null,{"$f":"SUMIFS(Tableau_Data[Masculin],Tableau_Data[Province sanitaire],PS!$C12,Tableau_Data[Lieu d''intervention],PS!$AD$9,Tableau_Data[Annee],PS!$F$3,Tableau_Data[Mois],PS!J$4)","v":0},null,{"$f":"SUMIFS(Tableau_Data[Féminin],Tableau_Data[Province sanitaire],PS!$C12,Tableau_Data[Lieu d''intervention],PS!$AD$9,Tableau_Data[Annee],PS!$F$3,Tableau_Data[Mois],PS!J$4)","v":0},null,{"$f":"SUM(AD12:AF12)","v":0},{"$f":"SUMIFS(Tableau_Data[Masculin],Tableau_Data[Province sanitaire],PS!$C12,Tableau_Data[Thèmes],PS!$AI$9,Tableau_Data[Annee],PS!$F$3,Tableau_Data[Mois],PS!J$4)","v":0},null,{"$f":"SUMIFS(Tableau_Data[Féminin],Tableau_Data[Province sanitaire],PS!$C12,Tableau_Data[Thèmes],PS!$AI$9,Tableau_Data[Annee],PS!$F$3,Tableau_Data[Mois],PS!J$4)","v":0},null,{"$f":"SUM(AI12:AK12)","v":0},null,{"$f":"SUMIFS(Tableau_Data[Masculin],Tableau_Data[Province sanitaire],PS!$C12,Tableau_Data[Thèmes],PS!$AO$9,Tableau_Data[Annee],PS!$F$3,Tableau_Data[Mois],PS!J$4)","v":0},null,{"$f":"SUMIFS(Tableau_Data[Féminin],Tableau_Data[Province sanitaire],PS!$C12,Tableau_Data[Thèmes],PS!$AO$9,Tableau_Data[Annee],PS!$F$3,Tableau_Data[Mois],PS!J$4)","v":0},null,{"$f":"SUM(AO12:AQ12)","v":0},null,{"$f":"SUMIFS(Tableau_Data[Masculin],Tableau_Data[Province sanitaire],PS!$C12,Tableau_Data[Thèmes],PS!$AU$9,Tableau_Data[Annee],PS!$F$3,Tableau_Data[Mois],PS!J$4)","v":0},null,{"$f":"SUMIFS(Tableau_Data[Féminin],Tableau_Data[Province sanitaire],PS!$C12,Tableau_Data[Thèmes],PS!$AU$9,Tableau_Data[Annee],PS!$F$3,Tableau_Data[Mois],PS!J$4)","v":0},null,{"$f":"SUM(AU12:AW12)","v":0},null,{"$f":"SUMIFS(Tableau_Data[Masculin],Tableau_Data[Province sanitaire],PS!$C12,Tableau_Data[Thèmes],PS!$BA$9,Tableau_Data[Annee],PS!$F$3,Tableau_Data[Mois],PS!J$4)","v":0},null,{"$f":"SUMIFS(Tableau_Data[Féminin],Tableau_Data[Province sanitaire],PS!$C12,Tableau_Data[Thèmes],PS!$BA$9,Tableau_Data[Annee],PS!$F$3,Tableau_Data[Mois],PS!$J$4)","v":0},null,{"$f":"SUM(BA12:BC12)","v":0},null,{"$f":"SUMIFS(Tableau_Data[Masculin],Tableau_Data[Province sanitaire],PS!$C12,Tableau_Data[Thèmes],PS!$BG$9,Tableau_Data[Annee],PS!$F$3,Tableau_Data[Mois],PS!$J$4)","v":0},null,{"$f":"SUMIFS(Tableau_Data[Féminin],Tableau_Data[Province sanitaire],PS!$C12,Tableau_Data[Thèmes],PS!$BG$9,Tableau_Data[Annee],PS!$F$3,Tableau_Data[Mois],PS!$J$4)","v":0},null,{"$f":"SUM(BG12:BI12)","v":0},null,{"$f":"SUMIFS(Tableau_Data[Masculin],Tableau_Data[Province sanitaire],PS!$C12,Tableau_Data[Thèmes],PS!$BM$9,Tableau_Data[Annee],PS!$F$3,Tableau_Data[Mois],PS!$J$4)","v":0},null,{"$f":"SUMIFS(Tableau_Data[Féminin],Tableau_Data[Province sanitaire],PS!$C12,Tableau_Data[Thèmes],PS!$BM$9,Tableau_Data[Annee],PS!$F$3,Tableau_Data[Mois],PS!$J$4)","v":0},null,{"$f":"SUM(BM12:BO12)","v":0}]
[null,{"$f":"IF(PS!B12=\"\",\"\",1+B12)","v":2},{"$f":"Paramètres!B22","v":"Mwaro"},null,{"$f":"SUMIFS(Tableau_Data[Masculin],Tableau_Data[Province sanitaire],PS!$C13,Tableau_Data[Annee],PS!$F$3,Tableau_Data[Mois],PS!J$4)","v":0},null,{"$f":"SUMIFS(Tableau_Data[Féminin],Tableau_Data[Province sanitaire],PS!$C13,Tableau_Data[Annee],PS!$F$3,Tableau_Data[Mois],PS!J$4)","v":0},null,{"$f":"SUM(E13:G13)","v":0},null,null,{"$f":"SUMIFS(Tableau_Data[Masculin],Tableau_Data[Province sanitaire],PS!$C13,Tableau_Data[Lieu d''intervention],PS!$L$9,Tableau_Data[Annee],PS!$F$3,Tableau_Data[Mois],PS!J$4)","v":0},null,{"$f":"SUMIFS(Tableau_Data[Féminin],Tableau_Data[Province sanitaire],PS!$C13,Tableau_Data[Lieu d''intervention],PS!$L$9,Tableau_Data[Annee],PS!$F$3,Tableau_Data[Mois],PS!J$4)","v":0},null,{"$f":"SUM(L13:N13)","v":0},null,{"$f":"SUMIFS(Tableau_Data[Masculin],Tableau_Data[Province sanitaire],PS!$C13,Tableau_Data[Lieu d''intervention],PS!$R$9,Tableau_Data[Annee],PS!$F$3,Tableau_Data[Mois],PS!J$4)","v":0},null,{"$f":"SUMIFS(Tableau_Data[Féminin],Tableau_Data[Province sanitaire],PS!$C13,Tableau_Data[Lieu d''intervention],PS!$R$9,Tableau_Data[Annee],PS!$F$3,Tableau_Data[Mois],PS!J$4)","v":0},null,{"$f":"SUM(R13:T13)","v":0},null,{"$f":"SUMIFS(Tableau_Data[Masculin],Tableau_Data[Province sanitaire],PS!$C13,Tableau_Data[Lieu d''intervention],PS!$X$9,Tableau_Data[Annee],PS!$F$3,Tableau_Data[Mois],PS!J$4)","v":0},null,{"$f":"SUMIFS(Tableau_Data[Féminin],Tableau_Data[Province sanitaire],PS!$C13,Tableau_Data[Lieu d''intervention],PS!$X$9,Tableau_Data[Annee],PS!$F$3,Tableau_Data[Mois],PS!J$4)","v":0},null,{"$f":"SUM(X13:Z13)","v":0},null,{"$f":"SUMIFS(Tableau_Data[Masculin],Tableau_Data[Province sanitaire],PS!$C13,Tableau_Data[Lieu d''intervention],PS!$AD$9,Tableau_Data[Annee],PS!$F$3,Tableau_Data[Mois],PS!J$4)","v":0},null,{"$f":"SUMIFS(Tableau_Data[Féminin],Tableau_Data[Province sanitaire],PS!$C13,Tableau_Data[Lieu d''intervention],PS!$AD$9,Tableau_Data[Annee],PS!$F$3,Tableau_Data[Mois],PS!J$4)","v":0},null,{"$f":"SUM(AD13:AF13)","v":0},{"$f":"SUMIFS(Tableau_Data[Masculin],Tableau_Data[Province sanitaire],PS!$C13,Tableau_Data[Thèmes],PS!$AI$9,Tableau_Data[Annee],PS!$F$3,Tableau_Data[Mois],PS!J$4)","v":0},null,{"$f":"SUMIFS(Tableau_Data[Féminin],Tableau_Data[Province sanitaire],PS!$C13,Tableau_Data[Thèmes],PS!$AI$9,Tableau_Data[Annee],PS!$F$3,Tableau_Data[Mois],PS!J$4)","v":0},null,{"$f":"SUM(AI13:AK13)","v":0},null,{"$f":"SUMIFS(Tableau_Data[Masculin],Tableau_Data[Province sanitaire],PS!$C13,Tableau_Data[Thèmes],PS!$AO$9,Tableau_Data[Annee],PS!$F$3,Tableau_Data[Mois],PS!J$4)","v":0},null,{"$f":"SUMIFS(Tableau_Data[Féminin],Tableau_Data[Province sanitaire],PS!$C13,Tableau_Data[Thèmes],PS!$AO$9,Tableau_Data[Annee],PS!$F$3,Tableau_Data[Mois],PS!J$4)","v":0},null,{"$f":"SUM(AO13:AQ13)","v":0},null,{"$f":"SUMIFS(Tableau_Data[Masculin],Tableau_Data[Province sanitaire],PS!$C13,Tableau_Data[Thèmes],PS!$AU$9,Tableau_Data[Annee],PS!$F$3,Tableau_Data[Mois],PS!J$4)","v":0},null,{"$f":"SUMIFS(Tableau_Data[Féminin],Tableau_Data[Province sanitaire],PS!$C13,Tableau_Data[Thèmes],PS!$AU$9,Tableau_Data[Annee],PS!$F$3,Tableau_Data[Mois],PS!J$4)","v":0},null,{"$f":"SUM(AU13:AW13)","v":0},null,{"$f":"SUMIFS(Tableau_Data[Masculin],Tableau_Data[Province sanitaire],PS!$C13,Tableau_Data[Thèmes],PS!$BA$9,Tableau_Data[Annee],PS!$F$3,Tableau_Data[Mois],PS!J$4)","v":0},null,{"$f":"SUMIFS(Tableau_Data[Féminin],Tableau_Data[Province sanitaire],PS!$C13,Tableau_Data[Thèmes],PS!$BA$9,Tableau_Data[Annee],PS!$F$3,Tableau_Data[Mois],PS!$J$4)","v":0},null,{"$f":"SUM(BA13:BC13)","v":0},null,{"$f":"SUMIFS(Tableau_Data[Masculin],Tableau_Data[Province sanitaire],PS!$C13,Tableau_Data[Thèmes],PS!$BG$9,Tableau_Data[Annee],PS!$F$3,Tableau_Data[Mois],PS!$J$4)","v":0},null,{"$f":"SUMIFS(Tableau_Data[Féminin],Tableau_Data[Province sanitaire],PS!$C13,Tableau_Data[Thèmes],PS!$BG$9,Tableau_Data[Annee],PS!$F$3,Tableau_Data[Mois],PS!$J$4)","v":0},null,{"$f":"SUM(BG13:BI13)","v":0},null,{"$f":"SUMIFS(Tableau_Data[Masculin],Tableau_Data[Province sanitaire],PS!$C13,Tableau_Data[Thèmes],PS!$BM$9,Tableau_Data[Annee],PS!$F$3,Tableau_Data[Mois],PS!$J$4)","v":0},null,{"$f":"SUMIFS(Tableau_Data[Féminin],Tableau_Data[Province sanitaire],PS!$C13,Tableau_Data[Thèmes],PS!$BM$9,Tableau_Data[Annee],PS!$F$3,Tableau_Data[Mois],PS!$J$4)","v":0},null,{"$f":"SUM(BM13:BO13)","v":0}]
[null,{"$f":"IF(PS!B13=\"\",\"\",1+B13)","v":3},{"$f":"Paramètres!B23","v":"Gitega"},null,{"$f":"SUMIFS(Tableau_Data[Masculin],Tableau_Data[Province sanitaire],PS!$C14,Tableau_Data[Annee],PS!$F$3,Tableau_Data[Mois],PS!J$4)","v":0},null,{"$f":"SUMIFS(Tableau_Data[Féminin],Tableau_Data[Province sanitaire],PS!$C14,Tableau_Data[Annee],PS!$F$3,Tableau_Data[Mois],PS!J$4)","v":0},null,{"$f":"SUM(E14:G14)","v":0},null,null,{"$f":"SUMIFS(Tableau_Data[Masculin],Tableau_Data[Province sanitaire],PS!$C14,Tableau_Data[Lieu d''intervention],PS!$L$9,Tableau_Data[Annee],PS!$F$3,Tableau_Data[Mois],PS!J$4)","v":0},null,{"$f":"SUMIFS(Tableau_Data[Féminin],Tableau_Data[Province sanitaire],PS!$C14,Tableau_Data[Lieu d''intervention],PS!$L$9,Tableau_Data[Annee],PS!$F$3,Tableau_Data[Mois],PS!J$4)","v":0},null,{"$f":"SUM(L14:N14)","v":0},null,{"$f":"SUMIFS(Tableau_Data[Masculin],Tableau_Data[Province sanitaire],PS!$C14,Tableau_Data[Lieu d''intervention],PS!$R$9,Tableau_Data[Annee],PS!$F$3,Tableau_Data[Mois],PS!J$4)","v":0},null,{"$f":"SUMIFS(Tableau_Data[Féminin],Tableau_Data[Province sanitaire],PS!$C14,Tableau_Data[Lieu d''intervention],PS!$R$9,Tableau_Data[Annee],PS!$F$3,Tableau_Data[Mois],PS!J$4)","v":0},null,{"$f":"SUM(R14:T14)","v":0},null,{"$f":"SUMIFS(Tableau_Data[Masculin],Tableau_Data[Province sanitaire],PS!$C14,Tableau_Data[Lieu d''intervention],PS!$X$9,Tableau_Data[Annee],PS!$F$3,Tableau_Data[Mois],PS!J$4)","v":0},null,{"$f":"SUMIFS(Tableau_Data[Féminin],Tableau_Data[Province sanitaire],PS!$C14,Tableau_Data[Lieu d''intervention],PS!$X$9,Tableau_Data[Annee],PS!$F$3,Tableau_Data[Mois],PS!J$4)","v":0},null,{"$f":"SUM(X14:Z14)","v":0},null,{"$f":"SUMIFS(Tableau_Data[Masculin],Tableau_Data[Province sanitaire],PS!$C14,Tableau_Data[Lieu d''intervention],PS!$AD$9,Tableau_Data[Annee],PS!$F$3,Tableau_Data[Mois],PS!J$4)","v":0},null,{"$f":"SUMIFS(Tableau_Data[Féminin],Tableau_Data[Province sanitaire],PS!$C14,Tableau_Data[Lieu d''intervention],PS!$AD$9,Tableau_Data[Annee],PS!$F$3,Tableau_Data[Mois],PS!J$4)","v":0},null,{"$f":"SUM(AD14:AF14)","v":0},{"$f":"SUMIFS(Tableau_Data[Masculin],Tableau_Data[Province sanitaire],PS!$C14,Tableau_Data[Thèmes],PS!$AI$9,Tableau_Data[Annee],PS!$F$3,Tableau_Data[Mois],PS!J$4)","v":0},null,{"$f":"SUMIFS(Tableau_Data[Féminin],Tableau_Data[Province sanitaire],PS!$C14,Tableau_Data[Thèmes],PS!$AI$9,Tableau_Data[Annee],PS!$F$3,Tableau_Data[Mois],PS!J$4)","v":0},null,{"$f":"SUM(AI14:AK14)","v":0},null,{"$f":"SUMIFS(Tableau_Data[Masculin],Tableau_Data[Province sanitaire],PS!$C14,Tableau_Data[Thèmes],PS!$AO$9,Tableau_Data[Annee],PS!$F$3,Tableau_Data[Mois],PS!J$4)","v":0},null,{"$f":"SUMIFS(Tableau_Data[Féminin],Tableau_Data[Province sanitaire],PS!$C14,Tableau_Data[Thèmes],PS!$AO$9,Tableau_Data[Annee],PS!$F$3,Tableau_Data[Mois],PS!J$4)","v":0},null,{"$f":"SUM(AO14:AQ14)","v":0},null,{"$f":"SUMIFS(Tableau_Data[Masculin],Tableau_Data[Province sanitaire],PS!$C14,Tableau_Data[Thèmes],PS!$AU$9,Tableau_Data[Annee],PS!$F$3,Tableau_Data[Mois],PS!J$4)","v":0},null,{"$f":"SUMIFS(Tableau_Data[Féminin],Tableau_Data[Province sanitaire],PS!$C14,Tableau_Data[Thèmes],PS!$AU$9,Tableau_Data[Annee],PS!$F$3,Tableau_Data[Mois],PS!J$4)","v":0},null,{"$f":"SUM(AU14:AW14)","v":0},null,{"$f":"SUMIFS(Tableau_Data[Masculin],Tableau_Data[Province sanitaire],PS!$C14,Tableau_Data[Thèmes],PS!$BA$9,Tableau_Data[Annee],PS!$F$3,Tableau_Data[Mois],PS!J$4)","v":0},null,{"$f":"SUMIFS(Tableau_Data[Féminin],Tableau_Data[Province sanitaire],PS!$C14,Tableau_Data[Thèmes],PS!$BA$9,Tableau_Data[Annee],PS!$F$3,Tableau_Data[Mois],PS!$J$4)","v":0},null,{"$f":"SUM(BA14:BC14)","v":0},null,{"$f":"SUMIFS(Tableau_Data[Masculin],Tableau_Data[Province sanitaire],PS!$C14,Tableau_Data[Thèmes],PS!$BG$9,Tableau_Data[Annee],PS!$F$3,Tableau_Data[Mois],PS!$J$4)","v":0},null,{"$f":"SUMIFS(Tableau_Data[Féminin],Tableau_Data[Province sanitaire],PS!$C14,Tableau_Data[Thèmes],PS!$BG$9,Tableau_Data[Annee],PS!$F$3,Tableau_Data[Mois],PS!$J$4)","v":0},null,{"$f":"SUM(BG14:BI14)","v":0},null,{"$f":"SUMIFS(Tableau_Data[Masculin],Tableau_Data[Province sanitaire],PS!$C14,Tableau_Data[Thèmes],PS!$BM$9,Tableau_Data[Annee],PS!$F$3,Tableau_Data[Mois],PS!$J$4)","v":0},null,{"$f":"SUMIFS(Tableau_Data[Féminin],Tableau_Data[Province sanitaire],PS!$C14,Tableau_Data[Thèmes],PS!$BM$9,Tableau_Data[Annee],PS!$F$3,Tableau_Data[Mois],PS!$J$4)","v":0},null,{"$f":"SUM(BM14:BO14)","v":0}]
[]
[null,null,"Total",null,{"$f":"SUM(E12:E14)","v":0},null,{"$f":"SUM(G12:G14)","v":0},null,{"$f":"SUM(I12:I14)","v":0},null,null,{"$f":"SUM(L12:L14)","v":0},null,{"$f":"SUM(N12:N14)","v":0},null,{"$f":"SUM(P12:P14)","v":0},null,{"$f":"SUM(R12:R14)","v":0},null,{"$f":"SUM(T12:T14)","v":0},null,{"$f":"SUM(V12:V14)","v":0},null,{"$f":"SUM(X12:X14)","v":0},null,{"$f":"SUM(Z12:Z14)","v":0},null,{"$f":"SUM(AB12:AB14)","v":0},null,{"$f":"SUM(AD12:AD14)","v":0},null,{"$f":"SUM(AF12:AF14)","v":0},null,{"$f":"SUM(AH12:AH14)","v":0},{"$f":"SUM(AI12:AI14)","v":0},null,{"$f":"SUM(AK12:AK14)","v":0},null,{"$f":"SUM(AM12:AM14)","v":0},null,{"$f":"SUM(AO12:AO14)","v":0},null,{"$f":"SUM(AQ12:AQ14)","v":0},null,{"$f":"SUM(AS12:AS14)","v":0},null,{"$f":"SUM(AU12:AU14)","v":0},null,{"$f":"SUM(AW12:AW14)","v":0},null,{"$f":"SUM(AY12:AY14)","v":0},null,{"$f":"SUM(BA12:BA14)","v":0},null,{"$f":"SUM(BC12:BC14)","v":0},null,{"$f":"SUM(BE12:BE14)","v":0},null,{"$f":"SUM(BG12:BG14)","v":0},null,{"$f":"SUM(BI12:BI14)","v":0},null,{"$f":"SUM(BK12:BK14)","v":0},null,{"$f":"SUM(BM12:BM14)","v":0},null,{"$f":"SUM(BO12:BO14)","v":0},null,{"$f":"SUM(BQ12:BQ14)","v":0}]
[null,null,null,null,null,null,null,null,null,null,null,null,null,null,null,null,null,null,null,null,null,null,null,null,null,null,null,null,null,null,null,null,null,null,null,null,null,null,null,null,null,null,null,null,null,null,null,null,null,null,null,null,null,null,null,null,null,null,null,null,null,null,null,null,null,null,null,null,null,null,null,null,null,"Janvier",1]
[null,null,null,null,null,null,null,null,null,null,null,null,null,null,null,null,null,null,null,null,null,null,null,null,null,null,null,null,null,null,null,null,null,null,null,null,null,null,null,null,null,null,null,null,null,null,null,null,null,null,null,null,null,null,null,null,null,null,null,null,null,null,null,null,null,null,null,null,null,null,null,null,null,"Février",2]
[null,null,null,null,null,null,null,null,null,null,null,null,null,null,null,null,null,null,null,null,null,null,null,null,null,null,null,null,null,null,null,null,null,null,null,null,null,null,null,null,null,null,null,null,null,null,null,null,null,null,null,null,null,null,null,null,null,null,null,null,null,null,null,null,null,null,null,null,null,null,null,null,null,"Mars",3]
[null,null,null,null,null,null,null,null,null,null,null,null,null,null,null,null,null,null,null,null,null,null,null,null,null,null,null,null,null,null,null,null,null,null,null,null,null,null,null,null,null,null,null,null,null,null,null,null,null,null,null,null,null,null,null,null,null,null,null,null,null,null,null,null,null,null,null,null,null,null,null,null,null,"Avril",4]
[null,null,null,null,null,null,null,null,null,null,null,null,null,null,null,null,null,null,null,null,null,null,null,null,null,null,null,null,null,null,null,null,null,null,null,null,null,null,null,null,null,null,null,null,null,null,null,null,null,null,null,null,null,null,null,null,null,null,null,null,null,null,null,null,null,null,null,null,null,null,null,null,null,"Mai",5]
[null,null,null,null,null,null,null,null,null,null,null,null,null,null,null,null,null,null,null,null,null,null,null,null,null,null,null,null,null,null,null,null,null,null,null,null,null,null,null,null,null,null,null,null,null,null,null,null,null,null,null,null,null,null,null,null,null,null,null,null,null,null,null,null,null,null,null,null,null,null,null,null,null,"Juin",6]
[null,null,null,null,null,null,null,null,null,null,null,null,null,null,null,null,null,null,null,null,null,null,null,null,null,null,null,null,null,null,null,null,null,null,null,null,null,null,null,null,null,null,null,null,null,null,null,null,null,null,null,null,null,null,null,null,null,null,null,null,null,null,null,null,null,null,null,null,null,null,null,null,null,"Juillet",7]
[null,null,null,null,null,null,null,null,null,null,null,null,null,null,null,null,null,null,null,null,null,null,null,null,null,null,null,null,null,null,null,null,null,null,null,null,null,null,null,null,null,null,null,null,null,null,null,null,null,null,null,null,null,null,null,null,null,null,null,null,null,null,null,null,null,null,null,null,null,null,null,null,null,"Aout",8]
[null,null,null,null,null,null,null,null,null,null,null,null,null,null,null,null,null,null,null,null,null,null,null,null,null,null,null,null,null,null,null,null,null,null,null,null,null,null,null,null,null,null,null,null,null,null,null,null,null,null,null,null,null,null,null,null,null,null,null,null,null,null,null,null,null,null,null,null,null,null,null,null,null,"Septembre",9]
[null,null,null,null,null,null,null,null,null,null,null,null,null,null,null,null,null,null,null,null,null,null,null,null,null,null,null,null,null,null,null,null,null,null,null,null,null,null,null,null,null,null,null,null,null,null,null,null,null,null,null,null,null,null,null,null,null,null,null,null,null,null,null,null,null,null,null,null,null,null,null,null,null,"Octobre",10]
[null,null,null,null,null,null,null,null,null,null,null,null,null,null,null,null,null,null,null,null,null,null,null,null,null,null,null,null,null,null,null,null,null,null,null,null,null,null,null,null,null,null,null,null,null,null,null,null,null,null,null,null,null,null,null,null,null,null,null,null,null,null,null,null,null,null,null,null,null,null,null,null,null,"Novembre",11]
[null,null,null,null,null,null,null,null,null,null,null,null,null,null,null,null,null,null,null,null,null,null,null,null,null,null,null,null,null,null,null,null,null,null,null,null,null,null,null,null,null,null,null,null,null,null,null,null,null,null,null,null,null,null,null,null,null,null,null,null,null,null,null,null,null,null,null,null,null,null,null,null,null,"Décembre",12]

{"sheet":"RecapGlobal","index":9,"n_rows":58,"n_cols":29,"rows_kept":58,"cut":false,"hidden":false,"merged":[[57,12,57,13],[57,14,57,15],[6,3,6,4],[6,5,6,6],[24,13,24,15],[25,12,26,12],[25,13,26,17],[32,4,33,8],[1,21,1,26],[41,1,41,2],[41,3,41,4],[51,13,51,15],[32,2,33,2],[0,1,0,4],[0,7,0,8],[2,3,2,5],[3,3,3,5],[5,3,5,4],[5,5,5,6]]}
[]
[null,null,null,null,null,null,null,null,null,null,null,null,null,null,{"$f":"Paramètres!B7","v":"ECOLE"},{"$f":"Paramètres!B8","v":"CENTRE DE SANTE"},{"$f":"Paramètres!B9","v":"COMMUNAUTE"},{"$f":"Paramètres!B10","v":"CENTRE PVH"},{"$f":"Paramètres!B11","v":"EGLISE"},null,null,"Analyse axée sur les cibles"]
[null,null,"RAPPORT",2019,null,null,null,null,null,null,null,null,null,"Masculin",{"$f":"SUMIFS(Tableau_Data[Masculin],Tableau_Data[Lieu d''intervention],$O$2,Tableau_Data[Annee],$D$3)","v":0},{"$f":"SUMIFS(Tableau_Data[Masculin],Tableau_Data[Lieu d''intervention],$P$2,Tableau_Data[Annee],$D$3)","v":0},{"$f":"SUMIFS(Tableau_Data[Masculin],Tableau_Data[Lieu d''intervention],$Q$2,Tableau_Data[Annee],$D$3)","v":0},{"$f":"SUMIFS(Tableau_Data[Masculin],Tableau_Data[Lieu d''intervention],$R$2,Tableau_Data[Annee],$D$3)","v":0},{"$f":"SUMIFS(Tableau_Data[Masculin],Tableau_Data[Lieu d''intervention],$S$2,Tableau_Data[Annee],$D$3)","v":0},null,"J-ADO-S","H","F","M","J-ADO-NS","B","P-H"]
[null,null,null,"Sélectinnez l'année",null,null,null,null,null,null,null,null,null,"Féminin",{"$f":"SUMIFS(Tableau_Data[Féminin],Tableau_Data[Lieu d''intervention],$O$2,Tableau_Data[Annee],$D$3)","v":0},{"$f":"SUMIFS(Tableau_Data[Féminin],Tableau_Data[Lieu d''intervention],$P$2,Tableau_Data[Annee],$D$3)","v":0},{"$f":"SUMIFS(Tableau_Data[Féminin],Tableau_Data[Lieu d''intervention],$Q$2,Tableau_Data[Annee],$D$3)","v":0},{"$f":"SUMIFS(Tableau_Data[Féminin],Tableau_Data[Lieu d''intervention],$R$2,Tableau_Data[Annee],$D$3)","v":0},{"$f":"SUMIFS(Tableau_Data[Féminin],Tableau_Data[Lieu d''intervention],$S$2,Tableau_Data[Annee],$D$3)","v":0},null,{"$f":"Paramètres!K7","v":"Jeunes et Adolescents scolarisés"},{"$f":"Paramètres!K8","v":"Hommes"},{"$f":"Paramètres!K9","v":"Femmes"},{"$f":"Paramètres!K10","v":"Mixte"},{"$f":"Paramètres!K11","v":"Jeunes et Adolescents non scolarisés"},{"$f":"Paramètres!K12","v":"Batwa"},{"$f":"Paramètres!K13","v":"Personnes avec Handicap"},null,"TOTAL FICHES"]
[null,null,null,null,null,null,null,null,null,null,null,null,null,"Total",{"$f":"SUM(O3:O4)","v":0},{"$f":"SUM(P3:P4)","v":0},{"$f":"SUM(Q3:Q4)","v":0},{"$f":"SUM(R3:R4)","v":0},{"$f":"SUM(S3:S4)","v":0},null,{"$f":"COUNTIFS(Tableau_Data[Cible],$U$4,Tableau_Data[Annee],$D$3)","v":0},{"$f":"COUNTIFS(Tableau_Data[Cible],$V$4,Tableau_Data[Annee],$D$3)","v":0},{"$f":"COUNTIFS(Tableau_Data[Cible],$W$4,Tableau_Data[Annee],$D$3)","v":0},{"$f":"COUNTIFS(Tableau_Data[Cible],$X$4,Tableau_Data[Annee],$D$3)","v":0},{"$f":"COUNTIFS(Tableau_Data[Tranche d''age],$Y$4,Tableau_Data[Date],$D$3)","v":0},{"$f":"COUNTIFS(Tableau_Data[Tranche d''age],$Z$4,Tableau_Data[Date],$D$3)","v":0},{"$f":"COUNTIFS(Tableau_Data[Tranche d''age],$AA$4,Tableau_Data[Date],$D$3)","v":0},null,{"$f":"COUNTIFS(Tableau_Data[Annee],$D$3)","v":0}]
[null,null,null,"Total Masculin",null,"Total Féminin",null,null,"TOTAL",null,null,null,null,null,null,null,null,null,null,null,{"$f":"U5/AC5","v":{"$error":"#DIV/0!"}},{"$f":"V5/AC5","v":{"$error":"#DIV/0!"}},{"$f":"W5/AC5","v":{"$error":"#DIV/0!"}},{"$f":"X5/AC5","v":{"$error":"#DIV/0!"}},{"$f":"Y5/AC5","v":{"$error":"#DIV/0!"}},{"$f":"Z5/AC5","v":{"$error":"#DIV/0!"}},{"$f":"AA5/AC5","v":{"$error":"#DIV/0!"}}]
[null,null,null,{"$f":"SUMIFS(Tableau_Data[Masculin],Tableau_Data[Annee],$D$3)","v":0},null,{"$f":"SUMIFS(Tableau_Data[Féminin],Tableau_Data[Annee],$D$3)","v":0},null,null,{"$f":"SUM(D7:F7)","v":0}]
[]
[]
[]
[]
[]
[]
[]
[]
[]
[]
[]
[]
[]
[]
[]
[]
[]
[null,null,null,null,null,null,null,null,null,null,null,null,{"$f":"D3","v":2019},"Synthèse : Lieu d'Intervention"]
[null,null,null,null,null,null,null,null,null,null,null,null,null,{"$f":"B1","v":0}]
[null,null,null,null,null,null,null,null,null,null,null,null,null,null,null,null,null,null,null,null,"DEMO. PRESERVATIF",null,null,"TEMOIGNAGE",null,null,null,"TOTAL FICHES"]
[null,null,null,null,null,null,null,null,null,null,null,null,null,null,null,null,null,null,null,null,null,null,null,null,null,null,null,{"$f":"COUNTIFS(Tableau_Data[Annee],$D$3)","v":0}]
[null,null,null,null,null,null,null,null,null,null,null,null,"A","B","C","D",null,null,null,null,"OUI","NON",null,"OUI","NON"]
[null,null,null,null,null,null,null,null,null,null,null,null,{"$f":"Paramètres!F7","v":"IST/VIH-SIDA"},{"$f":"Paramètres!F8","v":"VSBG"},{"$f":"Paramètres!F9","v":"PF"},{"$f":"Paramètres!F10","v":"Autres thèmes SSRAJ"},null,null,null,null,{"$f":"COUNTIFS(Tableau_Data[Démo Preservatif],$U$29,Tableau_Data[Annee],$D$3)","v":0},{"$f":"COUNTIFS(Tableau_Data[Démo Preservatif],$V$29,Tableau_Data[Annee],$D$3)","v":0},null,{"$f":"COUNTIFS(Tableau_Data[Témoignage],$X$29,Tableau_Data[Annee],$D$3)","v":0},{"$f":"COUNTIFS(Tableau_Data[Témoignage],$Y$29,Tableau_Data[Annee],$D$3)","v":0}]
[null,null,null,null,null,null,null,null,null,null,null,"Masculin",{"$f":"SUMIFS(Tableau_Data[Masculin],Tableau_Data[Thèmes],$M$30,Tableau_Data[Annee],$D$3)","v":0},{"$f":"SUMIFS(Tableau_Data[Masculin],Tableau_Data[Thèmes],$N$30,Tableau_Data[Annee],$D$3)","v":0},{"$f":"SUMIFS(Tableau_Data[Masculin],Tableau_Data[Thèmes],$O$30,Tableau_Data[Annee],$D$3)","v":0},{"$f":"SUMIFS(Tableau_Data[Masculin],Tableau_Data[Thèmes],$P$30,Tableau_Data[Annee],$D$3)","v":0},null,null,null,null,{"$f":"U30/AB28","v":{"$error":"#DIV/0!"}},{"$f":"V30/AB28","v":{"$error":"#DIV/0!"}},null,{"$f":"X30/AB28","v":{"$error":"#DIV/0!"}},{"$f":"Y30/AB28","v":{"$error":"#DIV/0!"}}]
[null,null,null,null,null,null,null,null,null,null,null,"Féminin",{"$f":"SUMIFS(Tableau_Data[Féminin],Tableau_Data[Thèmes],$M$30,Tableau_Data[Annee],$D$3)","v":0},{"$f":"SUMIFS(Tableau_Data[Féminin],Tableau_Data[Thèmes],$N$30,Tableau_Data[Annee],$D$3)","v":0},{"$f":"SUMIFS(Tableau_Data[Féminin],Tableau_Data[Thèmes],$O$30,Tableau_Data[Annee],$D$3)","v":0},{"$f":"SUMIFS(Tableau_Data[Féminin],Tableau_Data[Thèmes],$P$30,Tableau_Data[Annee],$D$3)","v":0}]
[null,null,null,null,null,null,null,null,null,null,null,"Total",{"$f":"SUM(M31:M32)","v":0},{"$f":"SUM(N31:N32)","v":0},{"$f":"SUM(O31:O32)","v":0},{"$f":"SUM(P31:P32)","v":0}]
[]
[]
[]
[]
[]
[]
[]
[]
[null,"Rapport de :",null,{"$f":"Paramètres!I18","v":"GIZ"},null,null,"Imprimé le :",null,{"$f":"TODAY()","v":"2023-03-21"}]
[]
[]
[]
[]
[]
[]
[]
[]
[]
[null,null,null,null,null,null,null,null,null,null,null,null,{"$f":"D3","v":2019},"Synthèse : Thèmes traités"]
[]
[]
[]
[]
[]
[null,null,null,null,null,null,null,null,null,null,null,null,"Rapport de :",null,{"$f":"Paramètres!I18","v":"GIZ"},null,null,"Imprimé le :",{"$f":"TODAY()","v":"2023-03-21"}]

{"sheet":"Reseaux-mois","index":10,"n_rows":58,"n_cols":29,"rows_kept":58,"cut":false,"hidden":false,"merged":[[1,21,1,26],[57,18,57,19],[25,12,26,12],[41,1,41,2],[41,3,41,4],[3,3,3,5],[25,13,26,17],[24,13,24,15],[51,13,51,15],[57,12,57,13],[57,14,57,15],[2,7,2,8],[0,1,0,4],[32,4,33,8],[0,7,0,8],[32,2,33,2],[2,3,2,5],[5,3,5,4],[5,5,5,6],[6,3,6,4],[6,5,6,6]]}
[null,"CDS Kanka",null,null,null,null,null,"Réseaux"]
[null,null,null,null,null,null,null,null,null,null,null,null,null,null,{"$f":"Paramètres!B7","v":"ECOLE"},{"$f":"Paramètres!B8","v":"CENTRE DE SANTE"},{"$f":"Paramètres!B9","v":"COMMUNAUTE"},{"$f":"Paramètres!B10","v":"CENTRE PVH"},{"$f":"Paramètres!B11","v":"EGLISE"},null,null,"Analyse axée sur les cibles"]
[null,null,"RAPPORT",2019,null,null,null,"Novembre",null,{"$f":"VLOOKUP(H3,Paramètres!$V$7:$W$18,2,0)","v":11},null,null,null,"Masculin",{"$f":"SUMIFS(Tableau_Data[Masculin],Tableau_Data[Nom du CDS],$B1,Tableau_Data[Lieu d''intervention],$O$2,Tableau_Data[Annee],$D$3,Tableau_Data[Mois],J$3)","v":0},{"$f":"SUMIFS(Tableau_Data[Masculin],Tableau_Data[Nom du CDS],$B1,Tableau_Data[Lieu d''intervention],$P$2,Tableau_Data[Annee],$D$3,Tableau_Data[Mois],J$3)","v":0},{"$f":"SUMIFS(Tableau_Data[Masculin],Tableau_Data[Nom du CDS],$B1,Tableau_Data[Lieu d''intervention],$Q$2,Tableau_Data[Annee],$D$3,Tableau_Data[Mois],J$3)","v":0},{"$f":"SUMIFS(Tableau_Data[Masculin],Tableau_Data[Nom du CDS],$B1,Tableau_Data[Lieu d''intervention],$R$2,Tableau_Data[Annee],$D$3,Tableau_Data[Mois],J$3)","v":0},{"$f":"SUMIFS(Tableau_Data[Masculin],Tableau_Data[Nom du CDS],$B1,Tableau_Data[Lieu d''intervention],$S$2,Tableau_Data[Annee],$D$3,Tableau_Data[Mois],K$3)","v":0},null,"J-ADO-S","H","F","M","J-ADO-NS","B","P-H"]
[null,null,null,"Sélectinnez l'année",null,null,null,null,null,null,null,null,null,"Féminin",{"$f":"SUMIFS(Tableau_Data[Féminin],Tableau_Data[Nom du CDS],$B1,Tableau_Data[Lieu d''intervention],$O$2,Tableau_Data[Annee],$D$3,Tableau_Data[Mois],J$3)","v":0},{"$f":"SUMIFS(Tableau_Data[Féminin],Tableau_Data[Nom du CDS],$B1,Tableau_Data[Lieu d''intervention],$P$2,Tableau_Data[Annee],$D$3,Tableau_Data[Mois],J$3)","v":0},{"$f":"SUMIFS(Tableau_Data[Féminin],Tableau_Data[Nom du CDS],$B1,Tableau_Data[Lieu d''intervention],$Q$2,Tableau_Data[Annee],$D$3,Tableau_Data[Mois],J$3)","v":0},{"$f":"SUMIFS(Tableau_Data[Féminin],Tableau_Data[Nom du CDS],$B1,Tableau_Data[Lieu d''intervention],$R$2,Tableau_Data[Annee],$D$3,Tableau_Data[Mois],J$3)","v":0},{"$f":"SUMIFS(Tableau_Data[Féminin],Tableau_Data[Nom du CDS],$B1,Tableau_Data[Lieu d''intervention],$S$2,Tableau_Data[Annee],$D$3,Tableau_Data[Mois],K$3)","v":0},null,{"$f":"Paramètres!K7","v":"Jeunes et Adolescents scolarisés"},{"$f":"Paramètres!K8","v":"Hommes"},{"$f":"Paramètres!K9","v":"Femmes"},{"$f":"Paramètres!K10","v":"Mixte"},{"$f":"Paramètres!K11","v":"Jeunes et Adolescents non scolarisés"},{"$f":"Paramètres!K12","v":"Batwa"},{"$f":"Paramètres!K13","v":"Personnes avec Handicap"},null,"TOTAL FICHES"]
[null,null,null,null,null,null,null,null,null,null,null,null,null,"Total",{"$f":"SUM(O3:O4)","v":0},{"$f":"SUM(P3:P4)","v":0},{"$f":"SUM(Q3:Q4)","v":0},{"$f":"SUM(R3:R4)","v":0},{"$f":"SUM(S3:S4)","v":0},null,{"$f":"COUNTIFS(Tableau_Data[Cible],$U$4,Tableau_Data[Nom du CDS],$B$1,Tableau_Data[Annee],$D$3,Tableau_Data[Mois],$J$3)","v":0},{"$f":"COUNTIFS(Tableau_Data[Cible],$V$4,Tableau_Data[Nom du CDS],$B$1,Tableau_Data[Annee],$D$3,Tableau_Data[Mois],$J$3)","v":0},{"$f":"COUNTIFS(Tableau_Data[Cible],$W$4,Tableau_Data[Nom du CDS],$B$1,Tableau_Data[Annee],$D$3,Tableau_Data[Mois],$J$3)","v":0},{"$f":"COUNTIFS(Tableau_Data[Cible],$X$4,Tableau_Data[Nom du CDS],$B$1,Tableau_Data[Annee],$D$3,Tableau_Data[Mois],$J$3)","v":0},{"$f":"COUNTIFS(Tableau_Data[Tranche d''age],$Y$4,Tableau_Data[Province sanitaire],$B$1,Tableau_Data[Date],$D$3,Tableau_Data[Code fiche],$J$3)","v":0},{"$f":"COUNTIFS(Tableau_Data[Tranche d''age],$Z$4,Tableau_Data[Province sanitaire],$B$1,Tableau_Data[Date],$D$3,Tableau_Data[Code fiche],$J$3)","v":0},{"$f":"COUNTIFS(Tableau_Data[Tranche d''age],$AA$4,Tableau_Data[Province sanitaire],$B$1,Tableau_Data[Date],$D$3,Tableau_Data[Code fiche],$J$3)","v":0},null,{"$f":"COUNTIFS(Tableau_Data[Nom du CDS],$B$1,Tableau_Data[Annee],$D$3,Tableau_Data[Mois],$J$3)","v":0}]
[null,null,null,"Total Masculin",null,"Total Féminin",null,null,"TOTAL",null,null,null,null,null,null,null,null,null,null,null,{"$f":"U5/AC5","v":{"$error":"#DIV/0!"}},{"$f":"V5/AC5","v":{"$error":"#DIV/0!"}},{"$f":"W5/AC5","v":{"$error":"#DIV/0!"}},{"$f":"X5/AC5","v":{"$error":"#DIV/0!"}},{"$f":"Y5/AC5","v":{"$error":"#DIV/0!"}},{"$f":"Z5/AC5","v":{"$error":"#DIV/0!"}},{"$f":"AA5/AC5","v":{"$error":"#DIV/0!"}}]
[null,null,null,{"$f":"SUMIFS(Tableau_Data[Masculin],Tableau_Data[Nom du CDS],$B1,Tableau_Data[Annee],$D$3,Tableau_Data[Mois],J$3)","v":0},null,{"$f":"SUMIFS(Tableau_Data[Féminin],Tableau_Data[Nom du CDS],$B1,Tableau_Data[Annee],$D$3,Tableau_Data[Mois],J$3)","v":0},null,null,{"$f":"SUM(D7:F7)","v":0}]
[]
[]
[]
[]
[]
[]
[]
[]
[]
[]
[]
[]
[]
[]
[]
[]
[]
[null,null,null,null,null,null,null,null,null,null,null,null,null,"Synthèse : Lieu d'Intervention"]
[null,null,null,null,null,null,null,null,null,null,null,null,"Réseau",{"$f":"B1","v":"CDS Kanka"}]
[]
[]
[null,null,null,null,null,null,null,null,null,null,null,null,"A","B","C","D"]
[null,null,null,null,null,null,null,null,null,null,null,null,{"$f":"Paramètres!F7","v":"IST/VIH-SIDA"},{"$f":"Paramètres!F8","v":"VSBG"},{"$f":"Paramètres!F9","v":"PF"},{"$f":"Paramètres!F10","v":"Autres thèmes SSRAJ"}]
[null,null,null,null,null,null,null,null,null,null,null,"Masculin",{"$f":"SUMIFS(Tableau_Data[Masculin],Tableau_Data[Nom du CDS],$B1,Tableau_Data[Thèmes],$M$30,Tableau_Data[Annee],$D$3,Tableau_Data[Mois],J$3)","v":0},{"$f":"SUMIFS(Tableau_Data[Masculin],Tableau_Data[Nom du CDS],$B1,Tableau_Data[Thèmes],$N$30,Tableau_Data[Annee],$D$3,Tableau_Data[Mois],J$3)","v":0},{"$f":"SUMIFS(Tableau_Data[Masculin],Tableau_Data[Nom du CDS],$B1,Tableau_Data[Thèmes],$O$30,Tableau_Data[Annee],$D$3,Tableau_Data[Mois],J$3)","v":0},{"$f":"SUMIFS(Tableau_Data[Masculin],Tableau_Data[Nom du CDS],$B1,Tableau_Data[Thèmes],$P$30,Tableau_Data[Annee],$D$3,Tableau_Data[Mois],J$3)","v":0}]
[null,null,null,null,null,null,null,null,null,null,null,"Féminin",{"$f":"SUMIFS(Tableau_Data[Féminin],Tableau_Data[Nom du CDS],$B1,Tableau_Data[Thèmes],$M$30,Tableau_Data[Annee],$D$3,Tableau_Data[Mois],J$3)","v":0},{"$f":"SUMIFS(Tableau_Data[Féminin],Tableau_Data[Nom du CDS],$B1,Tableau_Data[Thèmes],$N$30,Tableau_Data[Annee],$D$3,Tableau_Data[Mois],J$3)","v":0},{"$f":"SUMIFS(Tableau_Data[Féminin],Tableau_Data[Nom du CDS],$B1,Tableau_Data[Thèmes],$O$30,Tableau_Data[Annee],$D$3,Tableau_Data[Mois],J$3)","v":0},{"$f":"SUMIFS(Tableau_Data[Féminin],Tableau_Data[Nom du CDS],$B1,Tableau_Data[Thèmes],$P$30,Tableau_Data[Annee],$D$3,Tableau_Data[Mois],J$3)","v":0}]
[null,null,"Réseau",null,{"$f":"B1","v":"CDS Kanka"},null,null,null,null,null,null,"Total",{"$f":"SUM(M31:M32)","v":0},{"$f":"SUM(N31:N32)","v":0},{"$f":"SUM(O31:O32)","v":0},{"$f":"SUM(P31:P32)","v":0}]
[]
[]
[]
[]
[]
[null,null,null,null,null,null,null,null,null,null,null,null,null,null,null,null,null,null,null,null,"DEMO. PRESERVATIF",null,null,"TEMOIGNAGE",null,null,null,"TOTAL FICHES"]
[null,null,null,null,null,null,null,null,null,null,null,null,null,null,null,null,null,null,null,null,null,null,null,null,null,null,null,{"$f":"COUNTIFS(Tableau_Data[Nom du CDS],$B$1,Tableau_Data[Annee],$D$3,Tableau_Data[Mois],$J$3)","v":0}]
[null,null,null,null,null,null,null,null,null,null,null,null,null,null,null,null,null,null,null,null,"OUI","NON",null,"OUI","NON"]
[null,"Rapport de :",null,{"$f":"Paramètres!I18","v":"GIZ"},null,null,"Imprimé le :",null,{"$f":"TODAY()","v":"2023-03-21"},null,null,null,null,null,null,null,null,null,null,null,{"$f":"COUNTIFS(Tableau_Data[Démo Preservatif],$U$41,Tableau_Data[Nom du CDS],$B$1,Tableau_Data[Annee],$D$3,Tableau_Data[Mois],$J$3)","v":0},{"$f":"COUNTIFS(Tableau_Data[Démo Preservatif],$V$41,Tableau_Data[Nom du CDS],$B$1,Tableau_Data[Annee],$D$3,Tableau_Data[Mois],$J$3)","v":0},null,{"$f":"COUNTIFS(Tableau_Data[Témoignage],$X$41,Tableau_Data[Nom du CDS],$B$1,Tableau_Data[Annee],$D$3,Tableau_Data[Mois],$J$3)","v":0},{"$f":"COUNTIFS(Tableau_Data[Témoignage],$Y$41,Tableau_Data[Nom du CDS],$B$1,Tableau_Data[Annee],$D$3,Tableau_Data[Mois],$J$3)","v":0}]
[null,null,null,null,null,null,null,null,null,null,null,null,null,null,null,null,null,null,null,null,{"$f":"U42/AB40","v":{"$error":"#DIV/0!"}},{"$f":"V42/AB40","v":{"$error":"#DIV/0!"}},null,{"$f":"X42/AB40","v":{"$error":"#DIV/0!"}},{"$f":"Y42/AB40","v":{"$error":"#DIV/0!"}}]
[]
[]
[]
[]
[]
[]
[]
[]
[null,null,null,null,null,null,null,null,null,null,null,null,null,"Synthèse : Thèmes traités"]
[]
[]
[]
[]
[]
[null,null,null,null,null,null,null,null,null,null,null,null,"Rapport de :",null,{"$f":"Paramètres!I18","v":"GIZ"},null,null,"Imprimé le :",{"$f":"TODAY()","v":"2023-03-21"}]

{"sheet":"DS-mois","index":11,"n_rows":58,"n_cols":29,"rows_kept":58,"cut":false,"hidden":false,"merged":[[57,18,57,19],[0,7,0,8],[25,12,26,12],[2,7,2,8],[24,13,24,15],[25,13,26,17],[32,4,33,8],[51,13,51,15],[57,12,57,13],[57,14,57,15],[0,21,0,26],[41,1,41,2],[41,3,41,4],[32,2,33,2],[0,1,0,4],[2,3,2,5],[3,3,3,5],[5,3,5,4],[5,5,5,6],[6,3,6,4],[6,5,6,6]]}
[null,"Kibumbu",null,null,null,null,null,"District Sanitaire",null,null,null,null,null,null,null,null,null,null,null,null,null,"Analyse axée sur les cibles"]
[null,null,null,null,null,null,null,null,null,null,null,null,null,null,{"$f":"Paramètres!B7","v":"ECOLE"},{"$f":"Paramètres!B8","v":"CENTRE DE SANTE"},{"$f":"Paramètres!B9","v":"COMMUNAUTE"},{"$f":"Paramètres!B10","v":"CENTRE PVH"},{"$f":"Paramètres!B11","v":"EGLISE"},null,"J-ADO-S","H","F","M","J-ADO-NS","B","P-H"]
[null,null,"RAPPORT",2019,null,null,null,"Novembre",null,{"$f":"VLOOKUP(H3,Paramètres!$V$7:$W$18,2,0)","v":11},null,null,null,"Masculin",{"$f":"SUMIFS(Tableau_Data[Masculin],Tableau_Data[District sanitaire],$B1,Tableau_Data[Lieu d''intervention],$O$2,Tableau_Data[Annee],$D$3,Tableau_Data[Mois],J$3)","v":0},{"$f":"SUMIFS(Tableau_Data[Masculin],Tableau_Data[District sanitaire],$B1,Tableau_Data[Lieu d''intervention],$P$2,Tableau_Data[Annee],$D$3,Tableau_Data[Mois],J$3)","v":0},{"$f":"SUMIFS(Tableau_Data[Masculin],Tableau_Data[District sanitaire],$B1,Tableau_Data[Lieu d''intervention],$Q$2,Tableau_Data[Annee],$D$3,Tableau_Data[Mois],J$3)","v":0},{"$f":"SUMIFS(Tableau_Data[Masculin],Tableau_Data[District sanitaire],$B1,Tableau_Data[Lieu d''intervention],$R$2,Tableau_Data[Annee],$D$3,Tableau_Data[Mois],J$3)","v":0},{"$f":"SUMIFS(Tableau_Data[Masculin],Tableau_Data[District sanitaire],$B1,Tableau_Data[Lieu d''intervention],$S$2,Tableau_Data[Annee],$D$3,Tableau_Data[Mois],K$3)","v":0},null,{"$f":"Paramètres!K7","v":"Jeunes et Adolescents scolarisés"},{"$f":"Paramètres!K8","v":"Hommes"},{"$f":"Paramètres!K9","v":"Femmes"},{"$f":"Paramètres!K10","v":"Mixte"},{"$f":"Paramètres!K11","v":"Jeunes et Adolescents non scolarisés"},{"$f":"Paramètres!K12","v":"Batwa"},{"$f":"Paramètres!K13","v":"Personnes avec Handicap"},null,"TOTAL FICHES"]
[null,null,null,"Sélectinnez l'année",null,null,null,null,null,null,null,null,null,"Féminin",{"$f":"SUMIFS(Tableau_Data[Féminin],Tableau_Data[District sanitaire],$B1,Tableau_Data[Lieu d''intervention],$O$2,Tableau_Data[Annee],$D$3,Tableau_Data[Mois],J$3)","v":0},{"$f":"SUMIFS(Tableau_Data[Féminin],Tableau_Data[District sanitaire],$B1,Tableau_Data[Lieu d''intervention],$P$2,Tableau_Data[Annee],$D$3,Tableau_Data[Mois],J$3)","v":0},{"$f":"SUMIFS(Tableau_Data[Féminin],Tableau_Data[District sanitaire],$B1,Tableau_Data[Lieu d''intervention],$Q$2,Tableau_Data[Annee],$D$3,Tableau_Data[Mois],J$3)","v":0},{"$f":"SUMIFS(Tableau_Data[Féminin],Tableau_Data[District sanitaire],$B1,Tableau_Data[Lieu d''intervention],$R$2,Tableau_Data[Annee],$D$3,Tableau_Data[Mois],J$3)","v":0},{"$f":"SUMIFS(Tableau_Data[Féminin],Tableau_Data[District sanitaire],$B1,Tableau_Data[Lieu d''intervention],$S$2,Tableau_Data[Annee],$D$3,Tableau_Data[Mois],K$3)","v":0},null,{"$f":"COUNTIFS(Tableau_Data[Cible],$U$3,Tableau_Data[District sanitaire],$B$1,Tableau_Data[Annee],$D$3,Tableau_Data[Mois],$J$3)","v":0},{"$f":"COUNTIFS(Tableau_Data[Cible],$V$3,Tableau_Data[District sanitaire],$B$1,Tableau_Data[Annee],$D$3,Tableau_Data[Mois],$J$3)","v":0},{"$f":"COUNTIFS(Tableau_Data[Cible],$W$3,Tableau_Data[District sanitaire],$B$1,Tableau_Data[Annee],$D$3,Tableau_Data[Mois],$J$3)","v":0},{"$f":"COUNTIFS(Tableau_Data[Cible],$X$3,Tableau_Data[District sanitaire],$B$1,Tableau_Data[Annee],$D$3,Tableau_Data[Mois],$J$3)","v":0},{"$f":"COUNTIFS(Tableau_Data[Tranche d''age],$Y$3,Tableau_Data[ASBL],$B$1,Tableau_Data[Date],$D$3,Tableau_Data[Code fiche],$J$3)","v":0},{"$f":"COUNTIFS(Tableau_Data[Tranche d''age],$Z$3,Tableau_Data[ASBL],$B$1,Tableau_Data[Date],$D$3,Tableau_Data[Code fiche],$J$3)","v":0},{"$f":"COUNTIFS(Tableau_Data[Tranche d''age],$AA$3,Tableau_Data[ASBL],$B$1,Tableau_Data[Date],$D$3,Tableau_Data[Code fiche],$J$3)","v":0},null,{"$f":"COUNTIFS(Tableau_Data[District sanitaire],$B$1,Tableau_Data[Annee],$D$3,Tableau_Data[Mois],$J$3)","v":0}]
[null,null,null,null,null,null,null,null,null,null,null,null,null,"Total",{"$f":"SUM(O3:O4)","v":0},{"$f":"SUM(P3:P4)","v":0},{"$f":"SUM(Q3:Q4)","v":0},{"$f":"SUM(R3:R4)","v":0},{"$f":"SUM(S3:S4)","v":0},null,{"$f":"U4/AC4","v":{"$error":"#DIV/0!"}},{"$f":"V4/AC4","v":{"$error":"#DIV/0!"}},{"$f":"W4/AC4","v":{"$error":"#DIV/0!"}},{"$f":"X4/AC4","v":{"$error":"#DIV/0!"}},{"$f":"Y4/AC4","v":{"$error":"#DIV/0!"}},{"$f":"Z4/AC4","v":{"$error":"#DIV/0!"}},{"$f":"AA4/AC4","v":{"$error":"#DIV/0!"}}]
[null,null,null,"Total Masculin",null,"Total Féminin",null,null,"TOTAL"]
[null,null,null,{"$f":"SUMIFS(Tableau_Data[Masculin],Tableau_Data[District sanitaire],$B1,Tableau_Data[Annee],$D$3,Tableau_Data[Mois],J$3)","v":0},null,{"$f":"SUMIFS(Tableau_Data[Féminin],Tableau_Data[District sanitaire],$B1,Tableau_Data[Annee],$D$3,Tableau_Data[Mois],J$3)","v":0},null,null,{"$f":"SUM(D7:F7)","v":0}]
[]
[]
[]
[]
[]
[]
[]
[]
[]
[]
[]
[]
[]
[]
[]
[]
[]
[null,null,null,null,null,null,null,null,null,null,null,null,null,"Synthèse : Lieu d'Intervention",null,null,null,null,null,null,"DEMO. PRESERVATIF",null,null,"TEMOIGNAGE",null,null,null,"TOTAL FICHES"]
[null,null,null,null,null,null,null,null,null,null,null,null,"DS",{"$f":"B1","v":"Kibumbu"},null,null,null,null,null,null,null,null,null,null,null,null,null,{"$f":"COUNTIFS(Tableau_Data[District sanitaire],$B$1,Tableau_Data[Annee],$D$3,Tableau_Data[Mois],$J$3)","v":0}]
[null,null,null,null,null,null,null,null,null,null,null,null,null,null,null,null,null,null,null,null,"OUI","NON",null,"OUI","NON"]
[null,null,null,null,null,null,null,null,null,null,null,null,null,null,null,null,null,null,null,null,{"$f":"COUNTIFS(Tableau_Data[Démo Preservatif],$U$27,Tableau_Data[District sanitaire],$B$1,Tableau_Data[Annee],$D$3,Tableau_Data[Mois],$J$3)","v":0},{"$f":"COUNTIFS(Tableau_Data[Démo Preservatif],$V$27,Tableau_Data[District sanitaire],$B$1,Tableau_Data[Annee],$D$3,Tableau_Data[Mois],$J$3)","v":0},null,{"$f":"COUNTIFS(Tableau_Data[Témoignage],$X$27,Tableau_Data[District sanitaire],$B$1,Tableau_Data[Annee],$D$3,Tableau_Data[Mois],$J$3)","v":0},{"$f":"COUNTIFS(Tableau_Data[Témoignage],$Y$27,Tableau_Data[District sanitaire],$B$1,Tableau_Data[Annee],$D$3,Tableau_Data[Mois],$J$3)","v":0}]
[null,null,null,null,null,null,null,null,null,null,null,null,"A","B","C","D",null,null,null,null,{"$f":"U28/AB26","v":{"$error":"#DIV/0!"}},{"$f":"V28/AB26","v":{"$error":"#DIV/0!"}},null,{"$f":"X28/AB26","v":{"$error":"#DIV/0!"}},{"$f":"Y28/AB26","v":{"$error":"#DIV/0!"}}]
[null,null,null,null,null,null,null,null,null,null,null,null,{"$f":"Paramètres!F7","v":"IST/VIH-SIDA"},{"$f":"Paramètres!F8","v":"VSBG"},{"$f":"Paramètres!F9","v":"PF"},{"$f":"Paramètres!F10","v":"Autres thèmes SSRAJ"}]
[null,null,null,null,null,null,null,null,null,null,null,"Masculin",{"$f":"SUMIFS(Tableau_Data[Masculin],Tableau_Data[District sanitaire],$B1,Tableau_Data[Thèmes],$M$30,Tableau_Data[Annee],$D$3,Tableau_Data[Mois],J$3)","v":0},{"$f":"SUMIFS(Tableau_Data[Masculin],Tableau_Data[District sanitaire],$B1,Tableau_Data[Thèmes],$N$30,Tableau_Data[Annee],$D$3,Tableau_Data[Mois],J$3)","v":0},{"$f":"SUMIFS(Tableau_Data[Masculin],Tableau_Data[District sanitaire],$B1,Tableau_Data[Thèmes],$O$30,Tableau_Data[Annee],$D$3,Tableau_Data[Mois],J$3)","v":0},{"$f":"SUMIFS(Tableau_Data[Masculin],Tableau_Data[District sanitaire],$B1,Tableau_Data[Thèmes],$P$30,Tableau_Data[Annee],$D$3,Tableau_Data[Mois],J$3)","v":0}]
[null,null,null,null,null,null,null,null,null,null,null,"Féminin",{"$f":"SUMIFS(Tableau_Data[Féminin],Tableau_Data[District sanitaire],$B1,Tableau_Data[Thèmes],$M$30,Tableau_Data[Annee],$D$3,Tableau_Data[Mois],J$3)","v":0},{"$f":"SUMIFS(Tableau_Data[Féminin],Tableau_Data[District sanitaire],$B1,Tableau_Data[Thèmes],$N$30,Tableau_Data[Annee],$D$3,Tableau_Data[Mois],J$3)","v":0},{"$f":"SUMIFS(Tableau_Data[Féminin],Tableau_Data[District sanitaire],$B1,Tableau_Data[Thèmes],$O$30,Tableau_Data[Annee],$D$3,Tableau_Data[Mois],J$3)","v":0},{"$f":"SUMIFS(Tableau_Data[Féminin],Tableau_Data[District sanitaire],$B1,Tableau_Data[Thèmes],$P$30,Tableau_Data[Annee],$D$3,Tableau_Data[Mois],J$3)","v":0}]
[null,null,"DS",null,{"$f":"B1","v":"Kibumbu"},null,null,null,null,null,null,"Total",{"$f":"SUM(M31:M32)","v":0},{"$f":"SUM(N31:N32)","v":0},{"$f":"SUM(O31:O32)","v":0},{"$f":"SUM(P31:P32)","v":0}]
[]
[]
[]
[]
[]
[]
[]
[]
[null,"Rapport de :",null,{"$f":"Paramètres!I18","v":"GIZ"},null,null,"Imprimé le :",null,{"$f":"TODAY()","v":"2023-03-21"}]
[]
[]
[]
[]
[]
[]
[]
[]
[]
[null,null,null,null,null,null,null,null,null,null,null,null,null,"Synthèse : Thèmes traités"]
[]
[]
[]
[]
[]
[null,null,null,null,null,null,null,null,null,null,null,null,"Rapport de :",null,{"$f":"Paramètres!I18","v":"GIZ"},null,null,"Imprimé le :",{"$f":"TODAY()","v":"2023-03-21"}]

{"sheet":"PS-mois","index":12,"n_rows":58,"n_cols":29,"rows_kept":58,"cut":false,"hidden":false,"merged":[[32,2,33,2],[41,1,41,2],[41,3,41,4],[51,13,51,15],[57,12,57,13],[57,14,57,15],[57,18,57,19],[6,3,6,4],[6,5,6,6],[24,13,24,15],[25,12,26,12],[25,13,26,17],[32,4,33,8],[0,21,0,26],[5,3,5,4],[5,5,5,6],[0,1,0,4],[0,7,0,8],[2,3,2,5],[2,7,2,8],[3,3,3,5]]}
[null,"Mwaro",null,null,null,null,null,"Province Sanitaire",null,null,null,null,null,null,null,null,null,null,null,null,null,"Analyse axée sur les cibles"]
[null,null,null,null,null,null,null,null,null,null,null,null,null,null,{"$f":"Paramètres!B7","v":"ECOLE"},{"$f":"Paramètres!B8","v":"CENTRE DE SANTE"},{"$f":"Paramètres!B9","v":"COMMUNAUTE"},{"$f":"Paramètres!B10","v":"CENTRE PVH"},{"$f":"Paramètres!B11","v":"EGLISE"},null,"J-ADO-S","H","F","M","J-ADO-NS","B","P-H"]
[null,null,"RAPPORT",2019,null,null,null,"Septembre",null,{"$f":"VLOOKUP(H3,Paramètres!$V$7:$W$18,2,0)","v":9},null,null,null,"Masculin",{"$f":"SUMIFS(Tableau_Data[Masculin],Tableau_Data[Province sanitaire],$B1,Tableau_Data[Lieu d''intervention],$O$2,Tableau_Data[Annee],$D$3,Tableau_Data[Mois],J$3)","v":0},{"$f":"SUMIFS(Tableau_Data[Masculin],Tableau_Data[Province sanitaire],$B1,Tableau_Data[Lieu d''intervention],$P$2,Tableau_Data[Annee],$D$3,Tableau_Data[Mois],J$3)","v":0},{"$f":"SUMIFS(Tableau_Data[Masculin],Tableau_Data[Province sanitaire],$B1,Tableau_Data[Lieu d''intervention],$Q$2,Tableau_Data[Annee],$D$3,Tableau_Data[Mois],J$3)","v":0},{"$f":"SUMIFS(Tableau_Data[Masculin],Tableau_Data[Province sanitaire],$B1,Tableau_Data[Lieu d''intervention],$R$2,Tableau_Data[Annee],$D$3,Tableau_Data[Mois],J$3)","v":0},{"$f":"SUMIFS(Tableau_Data[Masculin],Tableau_Data[Province sanitaire],$B1,Tableau_Data[Lieu d''intervention],$S$2,Tableau_Data[Annee],$D$3,Tableau_Data[Mois],K$3)","v":0},null,{"$f":"Paramètres!K7","v":"Jeunes et Adolescents scolarisés"},{"$f":"Paramètres!K8","v":"Hommes"},{"$f":"Paramètres!K9","v":"Femmes"},{"$f":"Paramètres!K10","v":"Mixte"},{"$f":"Paramètres!K11","v":"Jeunes et Adolescents non scolarisés"},{"$f":"Paramètres!K12","v":"Batwa"},{"$f":"Paramètres!K13","v":"Personnes avec Handicap"},null,"TOTAL FICHES"]
[null,null,null,"Sélectinnez l'année",null,null,null,null,null,null,null,null,null,"Féminin",{"$f":"SUMIFS(Tableau_Data[Féminin],Tableau_Data[Province sanitaire],$B1,Tableau_Data[Lieu d''intervention],$O$2,Tableau_Data[Annee],$D$3,Tableau_Data[Mois],J$3)","v":0},{"$f":"SUMIFS(Tableau_Data[Féminin],Tableau_Data[Province sanitaire],$B1,Tableau_Data[Lieu d''intervention],$P$2,Tableau_Data[Annee],$D$3,Tableau_Data[Mois],J$3)","v":0},{"$f":"SUMIFS(Tableau_Data[Féminin],Tableau_Data[Province sanitaire],$B1,Tableau_Data[Lieu d''intervention],$Q$2,Tableau_Data[Annee],$D$3,Tableau_Data[Mois],J$3)","v":0},{"$f":"SUMIFS(Tableau_Data[Féminin],Tableau_Data[Province sanitaire],$B1,Tableau_Data[Lieu d''intervention],$R$2,Tableau_Data[Annee],$D$3,Tableau_Data[Mois],J$3)","v":0},{"$f":"SUMIFS(Tableau_Data[Féminin],Tableau_Data[Province sanitaire],$B1,Tableau_Data[Lieu d''intervention],$S$2,Tableau_Data[Annee],$D$3,Tableau_Data[Mois],K$3)","v":0},null,{"$f":"COUNTIFS(Tableau_Data[Cible],$U$3,Tableau_Data[Province sanitaire],$B$1,Tableau_Data[Annee],$D$3,Tableau_Data[Mois],$J$3)","v":0},{"$f":"COUNTIFS(Tableau_Data[Cible],$V$3,Tableau_Data[Province sanitaire],$B$1,Tableau_Data[Annee],$D$3,Tableau_Data[Mois],$J$3)","v":0},{"$f":"COUNTIFS(Tableau_Data[Cible],$W$3,Tableau_Data[Province sanitaire],$B$1,Tableau_Data[Annee],$D$3,Tableau_Data[Mois],$J$3)","v":0},{"$f":"COUNTIFS(Tableau_Data[Cible],$X$3,Tableau_Data[Province sanitaire],$B$1,Tableau_Data[Annee],$D$3,Tableau_Data[Mois],$J$3)","v":0},{"$f":"COUNTIFS(Tableau_Data[Tranche d''age],$Y$3,Tableau_Data[District sanitaire],$B$1,Tableau_Data[Date],$D$3,Tableau_Data[Code fiche],$J$3)","v":0},{"$f":"COUNTIFS(Tableau_Data[Tranche d''age],$Z$3,Tableau_Data[District sanitaire],$B$1,Tableau_Data[Date],$D$3,Tableau_Data[Code fiche],$J$3)","v":0},{"$f":"COUNTIFS(Tableau_Data[Tranche d''age],$AA$3,Tableau_Data[District sanitaire],$B$1,Tableau_Data[Date],$D$3,Tableau_Data[Code fiche],$J$3)","v":0},null,{"$f":"COUNTIFS(Tableau_Data[Province sanitaire],$B$1,Tableau_Data[Annee],$D$3,Tableau_Data[Mois],$J$3)","v":0}]
[null,null,null,null,null,null,null,null,null,null,null,null,null,"Total",{"$f":"SUM(O3:O4)","v":0},{"$f":"SUM(P3:P4)","v":0},{"$f":"SUM(Q3:Q4)","v":0},{"$f":"SUM(R3:R4)","v":0},{"$f":"SUM(S3:S4)","v":0},null,{"$f":"U4/AC4","v":{"$error":"#DIV/0!"}},{"$f":"V4/AC4","v":{"$error":"#DIV/0!"}},{"$f":"W4/AC4","v":{"$error":"#DIV/0!"}},{"$f":"X4/AC4","v":{"$error":"#DIV/0!"}},{"$f":"Y4/AC4","v":{"$error":"#DIV/0!"}},{"$f":"Z4/AC4","v":{"$error":"#DIV/0!"}},{"$f":"AA4/AC4","v":{"$error":"#DIV/0!"}}]
[null,null,null,"Total Masculin",null,"Total Féminin",null,null,"TOTAL"]
[null,null,null,{"$f":"SUMIFS(Tableau_Data[Masculin],Tableau_Data[Province sanitaire],$B1,Tableau_Data[Annee],$D$3,Tableau_Data[Mois],J$3)","v":0},null,{"$f":"SUMIFS(Tableau_Data[Féminin],Tableau_Data[Province sanitaire],$B1,Tableau_Data[Annee],$D$3,Tableau_Data[Mois],J$3)","v":0},null,null,{"$f":"SUM(D7:F7)","v":0}]
[]
[]
[]
[]
[]
[]
[]
[]
[]
[]
[]
[]
[]
[]
[]
[]
[]
[null,null,null,null,null,null,null,null,null,null,null,null,null,"Synthèse : Lieu d'Intervention",null,null,null,null,null,null,"DEMO. PRESERVATIF",null,null,"TEMOIGNAGE",null,null,null,"TOTAL FICHES"]
[null,null,null,null,null,null,null,null,null,null,null,null,"PS",{"$f":"B1","v":"Mwaro"},null,null,null,null,null,null,null,null,null,null,null,null,null,{"$f":"COUNTIFS(Tableau_Data[Province sanitaire],$B$1,Tableau_Data[Annee],$D$3,Tableau_Data[Mois],$J$3)","v":0}]
[null,null,null,null,null,null,null,null,null,null,null,null,null,null,null,null,null,null,null,null,"OUI","NON",null,"OUI","NON"]
[null,null,null,null,null,null,null,null,null,null,null,null,null,null,null,null,null,null,null,null,{"$f":"COUNTIFS(Tableau_Data[Démo Preservatif],$U$27,Tableau_Data[Province sanitaire],$B$1,Tableau_Data[Annee],$D$3,Tableau_Data[Mois],$J$3)","v":0},{"$f":"COUNTIFS(Tableau_Data[Démo Preservatif],$V$27,Tableau_Data[Province sanitaire],$B$1,Tableau_Data[Annee],$D$3,Tableau_Data[Mois],$J$3)","v":0},null,{"$f":"COUNTIFS(Tableau_Data[Témoignage],$X$27,Tableau_Data[Province sanitaire],$B$1,Tableau_Data[Annee],$D$3,Tableau_Data[Mois],$J$3)","v":0},{"$f":"COUNTIFS(Tableau_Data[Témoignage],$Y$27,Tableau_Data[Province sanitaire],$B$1,Tableau_Data[Annee],$D$3,Tableau_Data[Mois],$J$3)","v":0}]
[null,null,null,null,null,null,null,null,null,null,null,null,"A","B","C","D",null,null,null,null,{"$f":"U28/AB26","v":{"$error":"#DIV/0!"}},{"$f":"V28/AB26","v":{"$error":"#DIV/0!"}},null,{"$f":"X28/AB26","v":{"$error":"#DIV/0!"}},{"$f":"Y28/AB26","v":{"$error":"#DIV/0!"}}]
[null,null,null,null,null,null,null,null,null,null,null,null,{"$f":"Paramètres!F7","v":"IST/VIH-SIDA"},{"$f":"Paramètres!F8","v":"VSBG"},{"$f":"Paramètres!F9","v":"PF"},{"$f":"Paramètres!F10","v":"Autres thèmes SSRAJ"}]
[null,null,null,null,null,null,null,null,null,null,null,"Masculin",{"$f":"SUMIFS(Tableau_Data[Masculin],Tableau_Data[Province sanitaire],$B1,Tableau_Data[Thèmes],$M$30,Tableau_Data[Annee],$D$3,Tableau_Data[Mois],J$3)","v":0},{"$f":"SUMIFS(Tableau_Data[Masculin],Tableau_Data[Province sanitaire],$B1,Tableau_Data[Thèmes],$N$30,Tableau_Data[Annee],$D$3,Tableau_Data[Mois],J$3)","v":0},{"$f":"SUMIFS(Tableau_Data[Masculin],Tableau_Data[Province sanitaire],$B1,Tableau_Data[Thèmes],$O$30,Tableau_Data[Annee],$D$3,Tableau_Data[Mois],J$3)","v":0},{"$f":"SUMIFS(Tableau_Data[Masculin],Tableau_Data[Province sanitaire],$B1,Tableau_Data[Thèmes],$P$30,Tableau_Data[Annee],$D$3,Tableau_Data[Mois],J$3)","v":0}]
[null,null,null,null,null,null,null,null,null,null,null,"Féminin",{"$f":"SUMIFS(Tableau_Data[Féminin],Tableau_Data[Province sanitaire],$B1,Tableau_Data[Thèmes],$M$30,Tableau_Data[Annee],$D$3,Tableau_Data[Mois],J$3)","v":0},{"$f":"SUMIFS(Tableau_Data[Féminin],Tableau_Data[Province sanitaire],$B1,Tableau_Data[Thèmes],$N$30,Tableau_Data[Annee],$D$3,Tableau_Data[Mois],J$3)","v":0},{"$f":"SUMIFS(Tableau_Data[Féminin],Tableau_Data[Province sanitaire],$B1,Tableau_Data[Thèmes],$O$30,Tableau_Data[Annee],$D$3,Tableau_Data[Mois],J$3)","v":0},{"$f":"SUMIFS(Tableau_Data[Féminin],Tableau_Data[Province sanitaire],$B1,Tableau_Data[Thèmes],$P$30,Tableau_Data[Annee],$D$3,Tableau_Data[Mois],J$3)","v":0}]
[null,null,"PS",null,{"$f":"B1","v":"Mwaro"},null,null,null,null,null,null,"Total",{"$f":"SUM(M31:M32)","v":0},{"$f":"SUM(N31:N32)","v":0},{"$f":"SUM(O31:O32)","v":0},{"$f":"SUM(P31:P32)","v":0}]
[]
[]
[]
[]
[]
[]
[]
[]
[null,"Rapport de :",null,{"$f":"Paramètres!I18","v":"GIZ"},null,null,"Imprimé le :",null,{"$f":"TODAY()","v":"2023-03-21"}]
[]
[]
[]
[]
[]
[]
[]
[]
[]
[null,null,null,null,null,null,null,null,null,null,null,null,null,"Synthèse : Thèmes traités"]
[]
[]
[]
[]
[]
[null,null,null,null,null,null,null,null,null,null,null,null,"Rapport de :",null,{"$f":"Paramètres!I18","v":"GIZ"},null,null,"Imprimé le :",{"$f":"TODAY()","v":"2023-03-21"}]

{"sheet":"ASBL-mois","index":13,"n_rows":58,"n_cols":29,"rows_kept":58,"cut":false,"hidden":false,"merged":[[41,1,41,2],[41,3,41,4],[51,13,51,15],[57,12,57,13],[57,14,57,15],[57,18,57,19],[6,3,6,4],[6,5,6,6],[24,13,24,15],[25,12,26,12],[25,13,26,17],[0,21,0,26],[32,2,33,2],[32,4,33,8],[0,1,0,4],[0,7,0,8],[2,3,2,5],[2,7,2,8],[3,3,3,5],[5,3,5,4],[5,5,5,6]]}
[null,"NTURENGAHO",null,null,null,null,null,"ASBL",null,null,null,null,null,null,null,null,null,null,null,null,null,"Analyse axée sur les cibles"]
[null,null,null,null,null,null,null,null,null,null,null,null,null,null,{"$f":"Paramètres!B7","v":"ECOLE"},{"$f":"Paramètres!B8","v":"CENTRE DE SANTE"},{"$f":"Paramètres!B9","v":"COMMUNAUTE"},{"$f":"Paramètres!B10","v":"CENTRE PVH"},{"$f":"Paramètres!B11","v":"EGLISE"},null,"J-ADO-S","H","F","M","J-ADO-NS","B","P-H"]
[null,null,"RAPPORT",2019,null,null,null,"Novembre",null,{"$f":"VLOOKUP(H3,Paramètres!$V$7:$W$18,2,0)","v":11},null,null,null,"Masculin",{"$f":"SUMIFS(Tableau_Data[Masculin],Tableau_Data[ASBL],$B1,Tableau_Data[Lieu d''intervention],$O$2,Tableau_Data[Annee],$D$3,Tableau_Data[Mois],J$3)","v":0},{"$f":"SUMIFS(Tableau_Data[Masculin],Tableau_Data[ASBL],$B1,Tableau_Data[Lieu d''intervention],$P$2,Tableau_Data[Annee],$D$3,Tableau_Data[Mois],J$3)","v":0},{"$f":"SUMIFS(Tableau_Data[Masculin],Tableau_Data[ASBL],$B1,Tableau_Data[Lieu d''intervention],$Q$2,Tableau_Data[Annee],$D$3,Tableau_Data[Mois],J$3)","v":0},{"$f":"SUMIFS(Tableau_Data[Masculin],Tableau_Data[ASBL],$B1,Tableau_Data[Lieu d''intervention],$R$2,Tableau_Data[Annee],$D$3,Tableau_Data[Mois],J$3)","v":0},{"$f":"SUMIFS(Tableau_Data[Masculin],Tableau_Data[ASBL],$B1,Tableau_Data[Lieu d''intervention],$S$2,Tableau_Data[Annee],$D$3,Tableau_Data[Mois],K$3)","v":0},null,{"$f":"Paramètres!K7","v":"Jeunes et Adolescents scolarisés"},{"$f":"Paramètres!K8","v":"Hommes"},{"$f":"Paramètres!K9","v":"Femmes"},{"$f":"Paramètres!K10","v":"Mixte"},{"$f":"Paramètres!K11","v":"Jeunes et Adolescents non scolarisés"},{"$f":"Paramètres!K12","v":"Batwa"},{"$f":"Paramètres!K13","v":"Personnes avec Handicap"},null,"TOTAL FICHES"]
[null,null,null,"Sélectinnez l'année",null,null,null,null,null,null,null,null,null,"Féminin",{"$f":"SUMIFS(Tableau_Data[Féminin],Tableau_Data[ASBL],$B1,Tableau_Data[Lieu d''intervention],$O$2,Tableau_Data[Annee],$D$3,Tableau_Data[Mois],J$3)","v":0},{"$f":"SUMIFS(Tableau_Data[Féminin],Tableau_Data[ASBL],$B1,Tableau_Data[Lieu d''intervention],$P$2,Tableau_Data[Annee],$D$3,Tableau_Data[Mois],J$3)","v":0},{"$f":"SUMIFS(Tableau_Data[Féminin],Tableau_Data[ASBL],$B1,Tableau_Data[Lieu d''intervention],$Q$2,Tableau_Data[Annee],$D$3,Tableau_Data[Mois],J$3)","v":0},{"$f":"SUMIFS(Tableau_Data[Féminin],Tableau_Data[ASBL],$B1,Tableau_Data[Lieu d''intervention],$R$2,Tableau_Data[Annee],$D$3,Tableau_Data[Mois],J$3)","v":0},{"$f":"SUMIFS(Tableau_Data[Féminin],Tableau_Data[ASBL],$B1,Tableau_Data[Lieu d''intervention],$S$2,Tableau_Data[Annee],$D$3,Tableau_Data[Mois],K$3)","v":0},null,{"$f":"COUNTIFS(Tableau_Data[Cible],$U$3,Tableau_Data[ASBL],$B$1,Tableau_Data[Annee],$D$3,Tableau_Data[Mois],$J$3)","v":0},{"$f":"COUNTIFS(Tableau_Data[Cible],$V$3,Tableau_Data[ASBL],$B$1,Tableau_Data[Annee],$D$3,Tableau_Data[Mois],$J$3)","v":0},{"$f":"COUNTIFS(Tableau_Data[Cible],$W$3,Tableau_Data[ASBL],$B$1,Tableau_Data[Annee],$D$3,Tableau_Data[Mois],$J$3)","v":0},{"$f":"COUNTIFS(Tableau_Data[Cible],$X$3,Tableau_Data[ASBL],$B$1,Tableau_Data[Annee],$D$3,Tableau_Data[Mois],$J$3)","v":0},{"$f":"COUNTIFS(Tableau_Data[Cible],$Y$3,Tableau_Data[ASBL],$B$1,Tableau_Data[Annee],$D$3,Tableau_Data[Mois],$J$3)","v":0},{"$f":"COUNTIFS(Tableau_Data[Cible],$Z$3,Tableau_Data[ASBL],$B$1,Tableau_Data[Annee],$D$3,Tableau_Data[Mois],$J$3)","v":0},{"$f":"COUNTIFS(Tableau_Data[Cible],$AA$3,Tableau_Data[ASBL],$B$1,Tableau_Data[Annee],$D$3,Tableau_Data[Mois],$J$3)","v":0},null,{"$f":"COUNTIFS(Tableau_Data[ASBL],$B$1,Tableau_Data[Annee],$D$3,Tableau_Data[Mois],$J$3)","v":0}]
[null,null,null,null,null,null,null,null,null,null,null,null,null,"Total",{"$f":"SUM(O3:O4)","v":0},{"$f":"SUM(P3:P4)","v":0},{"$f":"SUM(Q3:Q4)","v":0},{"$f":"SUM(R3:R4)","v":0},{"$f":"SUM(S3:S4)","v":0},null,{"$f":"U4/AC4","v":{"$error":"#DIV/0!"}},{"$f":"V4/AC4","v":{"$error":"#DIV/0!"}},{"$f":"W4/AC4","v":{"$error":"#DIV/0!"}},{"$f":"X4/AC4","v":{"$error":"#DIV/0!"}},{"$f":"Y4/AC4","v":{"$error":"#DIV/0!"}},{"$f":"Z4/AC4","v":{"$error":"#DIV/0!"}},{"$f":"AA4/AC4","v":{"$error":"#DIV/0!"}}]
[null,null,null,"Total Masculin",null,"Total Féminin",null,null,"TOTAL"]
[null,null,null,{"$f":"SUMIFS(Tableau_Data[Masculin],Tableau_Data[ASBL],$B1,Tableau_Data[Annee],$D$3,Tableau_Data[Mois],J$3)","v":0},null,{"$f":"SUMIFS(Tableau_Data[Féminin],Tableau_Data[ASBL],$B1,Tableau_Data[Annee],$D$3,Tableau_Data[Mois],J$3)","v":0},null,null,{"$f":"SUM(D7:F7)","v":0}]
[]
[]
[]
[]
[]
[]
[]
[]
[]
[]
[]
[]
[]
[]
[]
[]
[]
[null,null,null,null,null,null,null,null,null,null,null,null,null,"Synthèse : Lieu d'Intervention"]
[null,null,null,null,null,null,null,null,null,null,null,null,"ASBL",{"$f":"B1","v":"NTURENGAHO"},null,null,null,null,null,null,"DEMO. PRESERVATIF",null,null,"TEMOIGNAGE"]
[]
[null,null,null,null,null,null,null,null,null,null,null,null,null,null,null,null,null,null,null,null,"OUI","NON",null,"OUI","NON",null,"TOTAL FICHES"]
[null,null,null,null,null,null,null,null,null,null,null,null,"A","B","C","D",null,null,null,null,{"$f":"COUNTIFS(Tableau_Data[Démo Preservatif],$U$28,Tableau_Data[ASBL],$B$1,Tableau_Data[Annee],$D$3,Tableau_Data[Mois],$J$3)","v":0},{"$f":"COUNTIFS(Tableau_Data[Démo Preservatif],$V$28,Tableau_Data[ASBL],$B$1,Tableau_Data[Annee],$D$3,Tableau_Data[Mois],$J$3)","v":0},null,{"$f":"COUNTIFS(Tableau_Data[Témoignage],$X$28,Tableau_Data[ASBL],$B$1,Tableau_Data[Annee],$D$3,Tableau_Data[Mois],$J$3)","v":0},{"$f":"COUNTIFS(Tableau_Data[Témoignage],$Y$28,Tableau_Data[ASBL],$B$1,Tableau_Data[Annee],$D$3,Tableau_Data[Mois],$J$3)","v":0},null,{"$f":"COUNTIFS(Tableau_Data[ASBL],$B$1,Tableau_Data[Annee],$D$3,Tableau_Data[Mois],$J$3)","v":0}]
[null,null,null,null,null,null,null,null,null,null,null,null,{"$f":"Paramètres!F7","v":"IST/VIH-SIDA"},{"$f":"Paramètres!F8","v":"VSBG"},{"$f":"Paramètres!F9","v":"PF"},{"$f":"Paramètres!F10","v":"Autres thèmes SSRAJ"},null,null,null,null,{"$f":"U29/AA29","v":{"$error":"#DIV/0!"}},{"$f":"V29/AA29","v":{"$error":"#DIV/0!"}},null,{"$f":"X29/AA29","v":{"$error":"#DIV/0!"}},{"$f":"Y29/AA29","v":{"$error":"#DIV/0!"}}]
[null,null,null,null,null,null,null,null,null,null,null,"Masculin",{"$f":"SUMIFS(Tableau_Data[Masculin],Tableau_Data[ASBL],$B1,Tableau_Data[Thèmes],$M$30,Tableau_Data[Annee],$D$3,Tableau_Data[Mois],J$3)","v":0},{"$f":"SUMIFS(Tableau_Data[Masculin],Tableau_Data[ASBL],$B1,Tableau_Data[Thèmes],$N$30,Tableau_Data[Annee],$D$3,Tableau_Data[Mois],J$3)","v":0},{"$f":"SUMIFS(Tableau_Data[Masculin],Tableau_Data[ASBL],$B1,Tableau_Data[Thèmes],$O$30,Tableau_Data[Annee],$D$3,Tableau_Data[Mois],J$3)","v":0},{"$f":"SUMIFS(Tableau_Data[Masculin],Tableau_Data[ASBL],$B1,Tableau_Data[Thèmes],$P$30,Tableau_Data[Annee],$D$3,Tableau_Data[Mois],J$3)","v":0}]
[null,null,null,null,null,null,null,null,null,null,null,"Féminin",{"$f":"SUMIFS(Tableau_Data[Féminin],Tableau_Data[ASBL],$B1,Tableau_Data[Thèmes],$M$30,Tableau_Data[Annee],$D$3,Tableau_Data[Mois],J$3)","v":0},{"$f":"SUMIFS(Tableau_Data[Féminin],Tableau_Data[ASBL],$B1,Tableau_Data[Thèmes],$N$30,Tableau_Data[Annee],$D$3,Tableau_Data[Mois],J$3)","v":0},{"$f":"SUMIFS(Tableau_Data[Féminin],Tableau_Data[ASBL],$B1,Tableau_Data[Thèmes],$O$30,Tableau_Data[Annee],$D$3,Tableau_Data[Mois],J$3)","v":0},{"$f":"SUMIFS(Tableau_Data[Féminin],Tableau_Data[ASBL],$B1,Tableau_Data[Thèmes],$P$30,Tableau_Data[Annee],$D$3,Tableau_Data[Mois],J$3)","v":0}]
[null,null,"ASBL",null,{"$f":"B1","v":"NTURENGAHO"},null,null,null,null,null,null,"Total",{"$f":"SUM(M31:M32)","v":0},{"$f":"SUM(N31:N32)","v":0},{"$f":"SUM(O31:O32)","v":0},{"$f":"SUM(P31:P32)","v":0}]
[]
[]
[]
[]
[]
[]
[]
[]
[null,"Rapport de :",null,{"$f":"Paramètres!I18","v":"GIZ"},null,null,"Imprimé le :",null,{"$f":"TODAY()","v":"2023-03-21"}]
[]
[]
[]
[]
[]
[]
[]
[]
[]
[null,null,null,null,null,null,null,null,null,null,null,null,null,"Synthèse : Thèmes traités"]
[]
[]
[]
[]
[]
[null,null,null,null,null,null,null,null,null,null,null,null,"Rapport de :",null,{"$f":"Paramètres!I18","v":"GIZ"},null,null,"Imprimé le :",{"$f":"TODAY()","v":"2023-03-21"}]

{"sheet":"Reseaux-Période","index":14,"n_rows":58,"n_cols":29,"rows_kept":58,"cut":false,"hidden":false,"merged":[[0,1,0,4],[0,7,0,8],[3,3,3,5],[1,6,1,7],[0,21,0,26],[32,2,33,2],[32,4,33,8],[41,1,41,2],[41,3,41,4],[25,12,26,12],[25,13,26,17],[57,12,57,13],[57,14,57,15],[57,18,57,19],[2,6,2,7],[51,13,51,15],[5,3,5,4],[5,5,5,6],[6,3,6,4],[6,5,6,6],[24,13,24,15]]}
[null,"CDS Nyabihanga",null,null,null,null,null,"Réseaux -Période",null,null,null,null,null,null,null,null,null,null,null,null,null,"Analyse axée sur les cibles"]
[null,null,null,{"$f":"VLOOKUP(D3,Paramètres!$I$21:$J$35,2,0)","v":2019},null,{"$f":"VLOOKUP(F3,Paramètres!$I$21:$J$35,2,0)","v":2020},"DE",null,null,"A",null,null,null,null,{"$f":"Paramètres!B7","v":"ECOLE"},{"$f":"Paramètres!B8","v":"CENTRE DE SANTE"},{"$f":"Paramètres!B9","v":"COMMUNAUTE"},{"$f":"Paramètres!B10","v":"CENTRE PVH"},{"$f":"Paramètres!B11","v":"EGLISE"},null,"J-ADO-S","H","F","M","J-ADO-NS","B","P-H"]
[null,null,"RAPPORT",2019,null,2020,"Juillet",null,{"$f":"VLOOKUP(G3,Paramètres!$Y$7:$Z$18,2,0)","v":">6"},"Mars",{"$f":"VLOOKUP(J3,Paramètres!$AB$7:$AC$18,2,0)","v":"<4"},null,null,"Masculin",{"$f":"(SUMIFS(Tableau_Data[Masculin],Tableau_Data[Nom du CDS],$B$1,Tableau_Data[Annee],$D$3,Tableau_Data[Lieu d''intervention],$O$2,Tableau_Data[Mois],I3)+SUMIFS(Tableau_Data[Masculin],Tableau_Data[Nom du CDS],$B1,Tableau_Data[Lieu d''intervention],$O$2,Tableau_Data[Annee],$F$3,Tableau_Data[Mois],K3)+SUMIFS(Tableau_Data[Masculin],Tableau_Data[Nom du CDS],$B$1,Tableau_Data[Lieu d''intervention],$O$2,Tableau_Data[Annee],\">\"&D2,Tableau_Data[Annee],\"<\"&F2))","v":0},{"$f":"(SUMIFS(Tableau_Data[Masculin],Tableau_Data[Nom du CDS],$B$1,Tableau_Data[Annee],$D$3,Tableau_Data[Lieu d''intervention],$P$2,Tableau_Data[Mois],I3)+SUMIFS(Tableau_Data[Masculin],Tableau_Data[Nom du CDS],$B1,Tableau_Data[Lieu d''intervention],$P$2,Tableau_Data[Annee],$F$3,Tableau_Data[Mois],K3)+SUMIFS(Tableau_Data[Masculin],Tableau_Data[Nom du CDS],$B$1,Tableau_Data[Lieu d''intervention],$P$2,Tableau_Data[Annee],\">\"&D2,Tableau_Data[Annee],\"<\"&F2))","v":0},{"$f":"(SUMIFS(Tableau_Data[Masculin],Tableau_Data[Nom du CDS],$B$1,Tableau_Data[Annee],$D$3,Tableau_Data[Lieu d''intervention],$Q$2,Tableau_Data[Mois],I3)+SUMIFS(Tableau_Data[Masculin],Tableau_Data[Nom du CDS],$B1,Tableau_Data[Lieu d''intervention],$Q$2,Tableau_Data[Annee],$F$3,Tableau_Data[Mois],K3)+SUMIFS(Tableau_Data[Masculin],Tableau_Data[Nom du CDS],$B$1,Tableau_Data[Lieu d''intervention],$Q$2,Tableau_Data[Annee],\">\"&D2,Tableau_Data[Annee],\"<\"&F2))","v":0},{"$f":"(SUMIFS(Tableau_Data[Masculin],Tableau_Data[Nom du CDS],$B$1,Tableau_Data[Annee],$D$3,Tableau_Data[Lieu d''intervention],$R$2,Tableau_Data[Mois],I3)+SUMIFS(Tableau_Data[Masculin],Tableau_Data[Nom du CDS],$B1,Tableau_Data[Lieu d''intervention],$R$2,Tableau_Data[Annee],$F$3,Tableau_Data[Mois],K3)+SUMIFS(Tableau_Data[Masculin],Tableau_Data[Nom du CDS],$B$1,Tableau_Data[Lieu d''intervention],$R$2,Tableau_Data[Annee],\">\"&D2,Tableau_Data[Annee],\"<\"&F2))","v":0},{"$f":"(SUMIFS(Tableau_Data[Masculin],Tableau_Data[Nom du CDS],$B$1,Tableau_Data[Annee],$D$3,Tableau_Data[Lieu d''intervention],$S$2,Tableau_Data[Mois],J3)+SUMIFS(Tableau_Data[Masculin],Tableau_Data[Nom du CDS],$B1,Tableau_Data[Lieu d''intervention],$S$2,Tableau_Data[Annee],$F$3,Tableau_Data[Mois],L3)+SUMIFS(Tableau_Data[Masculin],Tableau_Data[Nom du CDS],$B$1,Tableau_Data[Lieu d''intervention],$S$2,Tableau_Data[Annee],\">\"&E2,Tableau_Data[Annee],\"<\"&G2))","v":0},null,{"$f":"Paramètres!K7","v":"Jeunes et Adolescents scolarisés"},{"$f":"Paramètres!K8","v":"Hommes"},{"$f":"Paramètres!K9","v":"Femmes"},{"$f":"Paramètres!K10","v":"Mixte"},{"$f":"Paramètres!K11","v":"Jeunes et Adolescents non scolarisés"},{"$f":"Paramètres!K12","v":"Batwa"},{"$f":"Paramètres!K13","v":"Personnes avec Handicap"},null,"TOTAL FICHES"]
[null,null,null,"Sélectinnez l'année",null,null,null,null,null,null,null,null,null,"Féminin",{"$f":"(SUMIFS(Tableau_Data[Féminin],Tableau_Data[Nom du CDS],$B$1,Tableau_Data[Annee],$D$3,Tableau_Data[Lieu d''intervention],$O$2,Tableau_Data[Mois],I3)+SUMIFS(Tableau_Data[Féminin],Tableau_Data[Nom du CDS],$B1,Tableau_Data[Lieu d''intervention],$O$2,Tableau_Data[Annee],$F$3,Tableau_Data[Mois],K3)+SUMIFS(Tableau_Data[Féminin],Tableau_Data[Nom du CDS],$B$1,Tableau_Data[Lieu d''intervention],$O$2,Tableau_Data[Annee],\">\"&D2,Tableau_Data[Annee],\"<\"&F2))","v":0},{"$f":"(SUMIFS(Tableau_Data[Féminin],Tableau_Data[Nom du CDS],$B$1,Tableau_Data[Annee],$D$3,Tableau_Data[Lieu d''intervention],$P$2,Tableau_Data[Mois],I3)+SUMIFS(Tableau_Data[Féminin],Tableau_Data[Nom du CDS],$B1,Tableau_Data[Lieu d''intervention],$P$2,Tableau_Data[Annee],$F$3,Tableau_Data[Mois],K3)+SUMIFS(Tableau_Data[Féminin],Tableau_Data[Nom du CDS],$B$1,Tableau_Data[Lieu d''intervention],$P$2,Tableau_Data[Annee],\">\"&D2,Tableau_Data[Annee],\"<\"&F2))","v":0},{"$f":"(SUMIFS(Tableau_Data[Féminin],Tableau_Data[Nom du CDS],$B$1,Tableau_Data[Annee],$D$3,Tableau_Data[Lieu d''intervention],$Q$2,Tableau_Data[Mois],I3)+SUMIFS(Tableau_Data[Féminin],Tableau_Data[Nom du CDS],$B1,Tableau_Data[Lieu d''intervention],$Q$2,Tableau_Data[Annee],$F$3,Tableau_Data[Mois],K3)+SUMIFS(Tableau_Data[Féminin],Tableau_Data[Nom du CDS],$B$1,Tableau_Data[Lieu d''intervention],$Q$2,Tableau_Data[Annee],\">\"&D2,Tableau_Data[Annee],\"<\"&F2))","v":0},{"$f":"(SUMIFS(Tableau_Data[Féminin],Tableau_Data[Nom du CDS],$B$1,Tableau_Data[Annee],$D$3,Tableau_Data[Lieu d''intervention],$R$2,Tableau_Data[Mois],I3)+SUMIFS(Tableau_Data[Féminin],Tableau_Data[Nom du CDS],$B1,Tableau_Data[Lieu d''intervention],$R$2,Tableau_Data[Annee],$F$3,Tableau_Data[Mois],K3)+SUMIFS(Tableau_Data[Féminin],Tableau_Data[Nom du CDS],$B$1,Tableau_Data[Lieu d''intervention],$R$2,Tableau_Data[Annee],\">\"&D2,Tableau_Data[Annee],\"<\"&F2))","v":0},{"$f":"(SUMIFS(Tableau_Data[Féminin],Tableau_Data[Nom du CDS],$B$1,Tableau_Data[Annee],$D$3,Tableau_Data[Lieu d''intervention],$S$2,Tableau_Data[Mois],J3)+SUMIFS(Tableau_Data[Féminin],Tableau_Data[Nom du CDS],$B1,Tableau_Data[Lieu d''intervention],$S$2,Tableau_Data[Annee],$F$3,Tableau_Data[Mois],L3)+SUMIFS(Tableau_Data[Féminin],Tableau_Data[Nom du CDS],$B$1,Tableau_Data[Lieu d''intervention],$S$2,Tableau_Data[Annee],\">\"&E2,Tableau_Data[Annee],\"<\"&G2))","v":0},null,{"$f":"COUNTIFS(Tableau_Data[Cible],$U$3,Tableau_Data[Nom du CDS],$B$1,Tableau_Data[Annee],$D$3,Tableau_Data[Mois],I3)+ COUNTIFS(Tableau_Data[Cible],$U$3,Tableau_Data[Nom du CDS],$B$1,Tableau_Data[Annee],$F$3,Tableau_Data[Mois],K3)+ COUNTIFS(Tableau_Data[Cible],$U$3,Tableau_Data[Nom du CDS],$B$1,Tableau_Data[Annee], \">\"&D2,Tableau_Data[Annee],\"<\"&F2)","v":0},{"$f":"COUNTIFS(Tableau_Data[Cible],$V$3,Tableau_Data[Nom du CDS],$B$1,Tableau_Data[Annee],$D$3,Tableau_Data[Mois],I3)+ COUNTIFS(Tableau_Data[Cible],$V$3,Tableau_Data[Nom du CDS],$B$1,Tableau_Data[Annee],$F$3,Tableau_Data[Mois],K3)+ COUNTIFS(Tableau_Data[Cible],$V$3,Tableau_Data[Nom du CDS],$B$1,Tableau_Data[Annee], \">\"&D2,Tableau_Data[Annee],\"<\"&F2)","v":0},{"$f":"COUNTIFS(Tableau_Data[Cible],$W$3,Tableau_Data[Nom du CDS],$B$1,Tableau_Data[Annee],$D$3,Tableau_Data[Mois],I3)+ COUNTIFS(Tableau_Data[Cible],$W$3,Tableau_Data[Nom du CDS],$B$1,Tableau_Data[Annee],$F$3,Tableau_Data[Mois],K3)+ COUNTIFS(Tableau_Data[Cible],$W$3,Tableau_Data[Nom du CDS],$B$1,Tableau_Data[Annee], \">\"&D2,Tableau_Data[Annee],\"<\"&F2)","v":0},{"$f":"COUNTIFS(Tableau_Data[Cible],$X$3,Tableau_Data[Nom du CDS],$B$1,Tableau_Data[Annee],$D$3,Tableau_Data[Mois],I3)+ COUNTIFS(Tableau_Data[Cible],$X$3,Tableau_Data[Nom du CDS],$B$1,Tableau_Data[Annee],$F$3,Tableau_Data[Mois],K3)+ COUNTIFS(Tableau_Data[Cible],$X$3,Tableau_Data[Nom du CDS],$B$1,Tableau_Data[Annee], \">\"&D2,Tableau_Data[Annee],\"<\"&F2)","v":0},{"$f":"COUNTIFS(Tableau_Data[Cible],$Y$3,Tableau_Data[Nom du CDS],$B$1,Tableau_Data[Annee],$D$3,Tableau_Data[Mois],I3)+ COUNTIFS(Tableau_Data[Cible],$Y$3,Tableau_Data[Nom du CDS],$B$1,Tableau_Data[Annee],$F$3,Tableau_Data[Mois],K3)+ COUNTIFS(Tableau_Data[Cible],$Y$3,Tableau_Data[Nom du CDS],$B$1,Tableau_Data[Annee], \">\"&D2,Tableau_Data[Annee],\"<\"&F2)","v":0},{"$f":"COUNTIFS(Tableau_Data[Cible],$Z$3,Tableau_Data[Nom du CDS],$B$1,Tableau_Data[Annee],$D$3,Tableau_Data[Mois],I3)+ COUNTIFS(Tableau_Data[Cible],$Z$3,Tableau_Data[Nom du CDS],$B$1,Tableau_Data[Annee],$F$3,Tableau_Data[Mois],K3)+ COUNTIFS(Tableau_Data[Cible],$Z$3,Tableau_Data[Nom du CDS],$B$1,Tableau_Data[Annee], \">\"&D2,Tableau_Data[Annee],\"<\"&F2)","v":0},{"$f":"COUNTIFS(Tableau_Data[Cible],$AA$3,Tableau_Data[Nom du CDS],$B$1,Tableau_Data[Annee],$D$3,Tableau_Data[Mois],I3)+ COUNTIFS(Tableau_Data[Cible],$AA$3,Tableau_Data[Nom du CDS],$B$1,Tableau_Data[Annee],$F$3,Tableau_Data[Mois],K3)+ COUNTIFS(Tableau_Data[Cible],$AA$3,Tableau_Data[Nom du CDS],$B$1,Tableau_Data[Annee], \">\"&D2,Tableau_Data[Annee],\"<\"&F2)","v":0},null,{"$f":"COUNTIFS(Tableau_Data[Nom du CDS],$B$1,Tableau_Data[Annee],$D$3,Tableau_Data[Mois],I3)+ COUNTIFS(Tableau_Data[Nom du CDS],$B$1,Tableau_Data[Annee],$F$3,Tableau_Data[Mois],K3)+ COUNTIFS(Tableau_Data[Nom du CDS],$B$1,Tableau_Data[Annee],\">\"&D2,Tableau_Data[Annee],\"<\"&F2)","v":0}]
[null,null,null,null,null,null,null,null,null,null,null,null,null,"Total",{"$f":"SUM(O3:O4)","v":0},{"$f":"SUM(P3:P4)","v":0},{"$f":"SUM(Q3:Q4)","v":0},{"$f":"SUM(R3:R4)","v":0},{"$f":"SUM(S3:S4)","v":0},null,{"$f":"U4/AC4","v":{"$error":"#DIV/0!"}},{"$f":"V4/AC4","v":{"$error":"#DIV/0!"}},{"$f":"W4/AC4","v":{"$error":"#DIV/0!"}},{"$f":"X4/AC4","v":{"$error":"#DIV/0!"}},{"$f":"Y4/AC4","v":{"$error":"#DIV/0!"}},{"$f":"Z4/AC4","v":{"$error":"#DIV/0!"}},{"$f":"AA4/AC4","v":{"$error":"#DIV/0!"}}]
[null,null,null,"Total Masculin",null,"Total Féminin",null,null,"TOTAL"]
[null,null,null,{"$f":"(SUMIFS(Tableau_Data[Masculin],Tableau_Data[Nom du CDS],$B$1,Tableau_Data[Annee],$D$3,Tableau_Data[Mois],I3)+SUMIFS(Tableau_Data[Masculin],Tableau_Data[Nom du CDS],$B1,Tableau_Data[Annee],$F$3,Tableau_Data[Mois],K3)+SUMIFS(Tableau_Data[Masculin],Tableau_Data[Nom du CDS],$B$1,Tableau_Data[Annee],\">\"&D2,Tableau_Data[Annee],\"<\"&F2))","v":0},null,{"$f":"(SUMIFS(Tableau_Data[Féminin],Tableau_Data[Nom du CDS],$B$1,Tableau_Data[Annee],$D$3,Tableau_Data[Mois],I3)+SUMIFS(Tableau_Data[Féminin],Tableau_Data[Nom du CDS],$B1,Tableau_Data[Annee],$F$3,Tableau_Data[Mois],K3)+SUMIFS(Tableau_Data[Féminin],Tableau_Data[Nom du CDS],$B$1,Tableau_Data[Annee],\">\"&D2,Tableau_Data[Annee],\"<\"&F2))","v":0},null,null,{"$f":"SUM(D7:F7)","v":0}]
[]
[]
[]
[]
[]
[]
[]
[]
[]
[]
[]
[]
[]
[]
[]
[]
[]
[null,null,null,null,null,null,null,null,null,null,null,null,null,"Synthèse : Lieu d'Intervention"]
[null,null,null,null,null,null,null,null,null,null,null,null,"Réseau",{"$f":"B1","v":"CDS Nyabihanga"}]
[]
[]
[null,null,null,null,null,null,null,null,null,null,null,null,"A","B","C","D"]
[null,null,null,null,null,null,null,null,null,null,null,null,{"$f":"Paramètres!F7","v":"IST/VIH-SIDA"},{"$f":"Paramètres!F8","v":"VSBG"},{"$f":"Paramètres!F9","v":"PF"},{"$f":"Paramètres!F10","v":"Autres thèmes SSRAJ"}]
[null,null,null,null,null,null,null,null,null,null,null,"Masculin",{"$f":"(SUMIFS(Tableau_Data[Masculin],Tableau_Data[Nom du CDS],$B1,Tableau_Data[Thèmes],$M$30,Tableau_Data[Annee],$D$3,Tableau_Data[Mois],I3)+ SUMIFS(Tableau_Data[Masculin],Tableau_Data[Nom du CDS],$B1,Tableau_Data[Thèmes],$M$30,Tableau_Data[Annee],$F$3,Tableau_Data[Mois],K3)+SUMIFS(Tableau_Data[Masculin],Tableau_Data[Nom du CDS],$B1,Tableau_Data[Thèmes],$M$30,Tableau_Data[Annee],\">\"&D2,Tableau_Data[Annee],\"<\"&F2))","v":0},{"$f":"(SUMIFS(Tableau_Data[Masculin],Tableau_Data[Nom du CDS],$B1,Tableau_Data[Thèmes],$N$30,Tableau_Data[Annee],$D$3,Tableau_Data[Mois],I3)+ SUMIFS(Tableau_Data[Masculin],Tableau_Data[Nom du CDS],$B1,Tableau_Data[Thèmes],$N$30,Tableau_Data[Annee],$F$3,Tableau_Data[Mois],K3)+SUMIFS(Tableau_Data[Masculin],Tableau_Data[Nom du CDS],$B1,Tableau_Data[Thèmes],$N$30,Tableau_Data[Annee],\">\"&D2,Tableau_Data[Annee],\"<\"&F2))","v":0},{"$f":"(SUMIFS(Tableau_Data[Masculin],Tableau_Data[Nom du CDS],$B1,Tableau_Data[Thèmes],$O$30,Tableau_Data[Annee],$D$3,Tableau_Data[Mois],I3)+ SUMIFS(Tableau_Data[Masculin],Tableau_Data[Nom du CDS],$B1,Tableau_Data[Thèmes],$O$30,Tableau_Data[Annee],$F$3,Tableau_Data[Mois],K3)+SUMIFS(Tableau_Data[Masculin],Tableau_Data[Nom du CDS],$B1,Tableau_Data[Thèmes],$O$30,Tableau_Data[Annee],\">\"&D2,Tableau_Data[Annee],\"<\"&F2))","v":0},{"$f":"(SUMIFS(Tableau_Data[Masculin],Tableau_Data[Nom du CDS],$B1,Tableau_Data[Thèmes],$P$30,Tableau_Data[Annee],$D$3,Tableau_Data[Mois],I3)+ SUMIFS(Tableau_Data[Masculin],Tableau_Data[Nom du CDS],$B1,Tableau_Data[Thèmes],$P$30,Tableau_Data[Annee],$F$3,Tableau_Data[Mois],K3)+SUMIFS(Tableau_Data[Masculin],Tableau_Data[Nom du CDS],$B1,Tableau_Data[Thèmes],$P$30,Tableau_Data[Annee],\">\"&D2,Tableau_Data[Annee],\"<\"&F2))","v":0}]
[null,null,null,null,null,null,null,null,null,null,null,"Féminin",{"$f":"(SUMIFS(Tableau_Data[Féminin],Tableau_Data[Nom du CDS],$B1,Tableau_Data[Thèmes],$M$30,Tableau_Data[Annee],$D$3,Tableau_Data[Mois],I3)+ SUMIFS(Tableau_Data[Féminin],Tableau_Data[Nom du CDS],$B1,Tableau_Data[Thèmes],$M$30,Tableau_Data[Annee],$F$3,Tableau_Data[Mois],K3)+SUMIFS(Tableau_Data[Féminin],Tableau_Data[Nom du CDS],$B1,Tableau_Data[Thèmes],$M$30,Tableau_Data[Annee],\">\"&D2,Tableau_Data[Annee],\"<\"&F2))","v":0},{"$f":"(SUMIFS(Tableau_Data[Féminin],Tableau_Data[Nom du CDS],$B1,Tableau_Data[Thèmes],$N$30,Tableau_Data[Annee],$D$3,Tableau_Data[Mois],I3)+ SUMIFS(Tableau_Data[Féminin],Tableau_Data[Nom du CDS],$B1,Tableau_Data[Thèmes],$N$30,Tableau_Data[Annee],$F$3,Tableau_Data[Mois],K3)+SUMIFS(Tableau_Data[Féminin],Tableau_Data[Nom du CDS],$B1,Tableau_Data[Thèmes],$N$30,Tableau_Data[Annee],\">\"&D2,Tableau_Data[Annee],\"<\"&F2))","v":0},{"$f":"(SUMIFS(Tableau_Data[Féminin],Tableau_Data[Nom du CDS],$B1,Tableau_Data[Thèmes],$O$30,Tableau_Data[Annee],$D$3,Tableau_Data[Mois],I3)+ SUMIFS(Tableau_Data[Féminin],Tableau_Data[Nom du CDS],$B1,Tableau_Data[Thèmes],$O$30,Tableau_Data[Annee],$F$3,Tableau_Data[Mois],K3)+SUMIFS(Tableau_Data[Féminin],Tableau_Data[Nom du CDS],$B1,Tableau_Data[Thèmes],$O$30,Tableau_Data[Annee],\">\"&D2,Tableau_Data[Annee],\"<\"&F2))","v":0},{"$f":"(SUMIFS(Tableau_Data[Féminin],Tableau_Data[Nom du CDS],$B1,Tableau_Data[Thèmes],$P$30,Tableau_Data[Annee],$D$3,Tableau_Data[Mois],I3)+ SUMIFS(Tableau_Data[Féminin],Tableau_Data[Nom du CDS],$B1,Tableau_Data[Thèmes],$P$30,Tableau_Data[Annee],$F$3,Tableau_Data[Mois],K3)+SUMIFS(Tableau_Data[Féminin],Tableau_Data[Nom du CDS],$B1,Tableau_Data[Thèmes],$P$30,Tableau_Data[Annee],\">\"&D2,Tableau_Data[Annee],\"<\"&F2))","v":0},null,null,null,null,"DEMO. PRESERVATIF",null,null,"TEMOIGNAGE"]
[null,null,"Réseau",null,{"$f":"B1","v":"CDS Nyabihanga"},null,null,null,null,null,null,"Total",{"$f":"SUM(M31:M32)","v":0},{"$f":"SUM(N31:N32)","v":0},{"$f":"SUM(O31:O32)","v":0},{"$f":"SUM(P31:P32)","v":0}]
[null,null,null,null,null,null,null,null,null,null,null,null,null,null,null,null,null,null,null,null,"OUI","NON",null,"OUI","NON"]
[null,null,null,null,null,null,null,null,null,null,null,null,null,null,null,null,null,null,null,null,{"$f":"COUNTIFS(Tableau_Data[Démo Preservatif],$U$34,Tableau_Data[Nom du CDS],$B$1,Tableau_Data[Annee],$D$3,Tableau_Data[Mois],I3)+ COUNTIFS(Tableau_Data[Démo Preservatif],$U$34,Tableau_Data[Nom du CDS],$B$1,Tableau_Data[Annee],$F$3,Tableau_Data[Mois],K3)+ COUNTIFS(Tableau_Data[Démo Preservatif],$U$34,Tableau_Data[Nom du CDS],$B$1,Tableau_Data[Annee],\">\"&D2,Tableau_Data[Annee],\"<\"&F2)","v":0},{"$f":"COUNTIFS(Tableau_Data[Démo Preservatif],$V$34,Tableau_Data[Nom du CDS],$B$1,Tableau_Data[Annee],$D$3,Tableau_Data[Mois],I3)+ COUNTIFS(Tableau_Data[Démo Preservatif],$V$34,Tableau_Data[Nom du CDS],$B$1,Tableau_Data[Annee],$F$3,Tableau_Data[Mois],K3)+ COUNTIFS(Tableau_Data[Démo Preservatif],$V$34,Tableau_Data[Nom du CDS],$B$1,Tableau_Data[Annee],\">\"&D2,Tableau_Data[Annee],\"<\"&F2)","v":0},null,{"$f":"COUNTIFS(Tableau_Data[Témoignage],$X$34,Tableau_Data[Nom du CDS],$B$1,Tableau_Data[Annee],$D$3,Tableau_Data[Mois],I3)+ COUNTIFS(Tableau_Data[Témoignage],$X$34,Tableau_Data[Nom du CDS],$B$1,Tableau_Data[Annee],$F$3,Tableau_Data[Mois],K3)+ COUNTIFS(Tableau_Data[Témoignage],$X$34,Tableau_Data[Nom du CDS],$B$1,Tableau_Data[Annee], \">\"&D2,Tableau_Data[Annee],\"<\"&F2)","v":0},{"$f":"COUNTIFS(Tableau_Data[Témoignage],$Y$34,Tableau_Data[Nom du CDS],$B$1,Tableau_Data[Annee],$D$3,Tableau_Data[Mois],I3)+ COUNTIFS(Tableau_Data[Témoignage],$Y$34,Tableau_Data[Nom du CDS],$B$1,Tableau_Data[Annee],$F$3,Tableau_Data[Mois],K3)+ COUNTIFS(Tableau_Data[Témoignage],$Y$34,Tableau_Data[Nom du CDS],$B$1,Tableau_Data[Annee], \">\"&D2,Tableau_Data[Annee],\"<\"&F2)","v":0},null,"TOTAL FICHES"]
[null,null,null,null,null,null,null,null,null,null,null,null,null,null,null,null,null,null,null,null,{"$f":"U35/AA36","v":{"$error":"#DIV/0!"}},{"$f":"V35/AA36","v":{"$error":"#DIV/0!"}},null,{"$f":"X35/AA36","v":{"$error":"#DIV/0!"}},{"$f":"Y35/AA36","v":{"$error":"#DIV/0!"}},null,{"$f":"COUNTIFS(Tableau_Data[Nom du CDS],$B$1,Tableau_Data[Annee],$D$3,Tableau_Data[Mois],I3)+ COUNTIFS(Tableau_Data[Nom du CDS],$B$1,Tableau_Data[Annee],$F$3,Tableau_Data[Mois],K3)+ COUNTIFS(Tableau_Data[Nom du CDS],$B$1,Tableau_Data[Annee], \">\"&D2,Tableau_Data[Annee],\"<\"&F2)","v":0}]
[]
[]
[]
[]
[]
[null,"Rapport de :",null,{"$f":"Paramètres!I18","v":"GIZ"},null,null,"Imprimé le :",null,{"$f":"TODAY()","v":"2023-03-21"}]
[]
[]
[]
[]
[]
[]
[]
[]
[]
[null,null,null,null,null,null,null,null,null,null,null,null,null,"Synthèse : Thèmes traités"]
[]
[]
[]
[]
[]
[null,null,null,null,null,null,null,null,null,null,null,null,"Rapport de :",null,{"$f":"Paramètres!I18","v":"GIZ"},null,null,"Imprimé le :",{"$f":"TODAY()","v":"2023-03-21"}]

{"sheet":"DS-Période","index":15,"n_rows":58,"n_cols":29,"rows_kept":58,"cut":false,"hidden":false,"merged":[[0,1,0,4],[0,7,0,8],[3,3,3,5],[0,21,0,26],[25,13,26,17],[5,3,5,4],[6,3,6,4],[32,2,33,2],[32,4,33,8],[41,1,41,2],[41,3,41,4],[25,12,26,12],[57,12,57,13],[57,14,57,15],[57,18,57,19],[1,6,1,7],[2,6,2,7],[51,13,51,15],[5,5,5,6],[6,5,6,6],[24,13,24,15]]}
[null,"Kibumbu",null,null,null,null,null,"District Sanitaire -Période",null,null,null,null,null,null,null,null,null,null,null,null,null,"Analyse axée sur les cibles"]
[null,null,null,{"$f":"VLOOKUP(D3,Paramètres!$I$21:$J$35,2,0)","v":2019},null,{"$f":"VLOOKUP(F3,Paramètres!$I$21:$J$35,2,0)","v":2020},"DE",null,null,"A",null,null,null,null,{"$f":"Paramètres!B7","v":"ECOLE"},{"$f":"Paramètres!B8","v":"CENTRE DE SANTE"},{"$f":"Paramètres!B9","v":"COMMUNAUTE"},{"$f":"Paramètres!B10","v":"CENTRE PVH"},{"$f":"Paramètres!B11","v":"EGLISE"},null,"J-ADO-S","H","F","M","J-ADO-NS","B","P-H"]
[null,null,"RAPPORT",2019,null,2020,"Juillet",null,{"$f":"VLOOKUP(G3,Paramètres!$Y$7:$Z$18,2,0)","v":">6"},"Mars",{"$f":"VLOOKUP(J3,Paramètres!$AB$7:$AC$18,2,0)","v":"<4"},null,null,"Masculin",{"$f":"(SUMIFS(Tableau_Data[Masculin],Tableau_Data[District sanitaire],$B$1,Tableau_Data[Annee],$D$3,Tableau_Data[Lieu d''intervention],$O$2,Tableau_Data[Mois],I3)+SUMIFS(Tableau_Data[Masculin],Tableau_Data[District sanitaire],$B1,Tableau_Data[Lieu d''intervention],$O$2,Tableau_Data[Annee],$F$3,Tableau_Data[Mois],K3)+SUMIFS(Tableau_Data[Masculin],Tableau_Data[District sanitaire],$B$1,Tableau_Data[Lieu d''intervention],$O$2,Tableau_Data[Annee],\">\"&D2,Tableau_Data[Annee],\"<\"&F2))","v":0},{"$f":"(SUMIFS(Tableau_Data[Masculin],Tableau_Data[District sanitaire],$B$1,Tableau_Data[Annee],$D$3,Tableau_Data[Lieu d''intervention],$P$2,Tableau_Data[Mois],I3)+SUMIFS(Tableau_Data[Masculin],Tableau_Data[District sanitaire],$B1,Tableau_Data[Lieu d''intervention],$P$2,Tableau_Data[Annee],$F$3,Tableau_Data[Mois],K3)+SUMIFS(Tableau_Data[Masculin],Tableau_Data[District sanitaire],$B$1,Tableau_Data[Lieu d''intervention],$P$2,Tableau_Data[Annee],\">\"&D2,Tableau_Data[Annee],\"<\"&F2))","v":0},{"$f":"(SUMIFS(Tableau_Data[Masculin],Tableau_Data[District sanitaire],$B$1,Tableau_Data[Annee],$D$3,Tableau_Data[Lieu d''intervention],$Q$2,Tableau_Data[Mois],I3)+SUMIFS(Tableau_Data[Masculin],Tableau_Data[District sanitaire],$B1,Tableau_Data[Lieu d''intervention],$Q$2,Tableau_Data[Annee],$F$3,Tableau_Data[Mois],K3)+SUMIFS(Tableau_Data[Masculin],Tableau_Data[District sanitaire],$B$1,Tableau_Data[Lieu d''intervention],$Q$2,Tableau_Data[Annee],\">\"&D2,Tableau_Data[Annee],\"<\"&F2))","v":0},{"$f":"(SUMIFS(Tableau_Data[Masculin],Tableau_Data[District sanitaire],$B$1,Tableau_Data[Annee],$D$3,Tableau_Data[Lieu d''intervention],$R$2,Tableau_Data[Mois],I3)+SUMIFS(Tableau_Data[Masculin],Tableau_Data[District sanitaire],$B1,Tableau_Data[Lieu d''intervention],$R$2,Tableau_Data[Annee],$F$3,Tableau_Data[Mois],K3)+SUMIFS(Tableau_Data[Masculin],Tableau_Data[District sanitaire],$B$1,Tableau_Data[Lieu d''intervention],$R$2,Tableau_Data[Annee],\">\"&D2,Tableau_Data[Annee],\"<\"&F2))","v":0},{"$f":"(SUMIFS(Tableau_Data[Masculin],Tableau_Data[District sanitaire],$B$1,Tableau_Data[Annee],$D$3,Tableau_Data[Lieu d''intervention],$S$2,Tableau_Data[Mois],J3)+SUMIFS(Tableau_Data[Masculin],Tableau_Data[District sanitaire],$B1,Tableau_Data[Lieu d''intervention],$S$2,Tableau_Data[Annee],$F$3,Tableau_Data[Mois],L3)+SUMIFS(Tableau_Data[Masculin],Tableau_Data[District sanitaire],$B$1,Tableau_Data[Lieu d''intervention],$S$2,Tableau_Data[Annee],\">\"&E2,Tableau_Data[Annee],\"<\"&G2))","v":0},null,{"$f":"Paramètres!K7","v":"Jeunes et Adolescents scolarisés"},{"$f":"Paramètres!K8","v":"Hommes"},{"$f":"Paramètres!K9","v":"Femmes"},{"$f":"Paramètres!K10","v":"Mixte"},{"$f":"Paramètres!K11","v":"Jeunes et Adolescents non scolarisés"},{"$f":"Paramètres!K12","v":"Batwa"},{"$f":"Paramètres!K13","v":"Personnes avec Handicap"},null,"TOTAL FICHES"]
[null,null,null,"Sélectinnez l'année",null,null,null,null,null,null,null,null,null,"Féminin",{"$f":"(SUMIFS(Tableau_Data[Féminin],Tableau_Data[District sanitaire],$B$1,Tableau_Data[Annee],$D$3,Tableau_Data[Lieu d''intervention],$O$2,Tableau_Data[Mois],I3)+SUMIFS(Tableau_Data[Féminin],Tableau_Data[District sanitaire],$B1,Tableau_Data[Lieu d''intervention],$O$2,Tableau_Data[Annee],$F$3,Tableau_Data[Mois],K3)+SUMIFS(Tableau_Data[Féminin],Tableau_Data[District sanitaire],$B$1,Tableau_Data[Lieu d''intervention],$O$2,Tableau_Data[Annee],\">\"&D2,Tableau_Data[Annee],\"<\"&F2))","v":0},{"$f":"(SUMIFS(Tableau_Data[Féminin],Tableau_Data[District sanitaire],$B$1,Tableau_Data[Annee],$D$3,Tableau_Data[Lieu d''intervention],$P$2,Tableau_Data[Mois],I3)+SUMIFS(Tableau_Data[Féminin],Tableau_Data[District sanitaire],$B1,Tableau_Data[Lieu d''intervention],$P$2,Tableau_Data[Annee],$F$3,Tableau_Data[Mois],K3)+SUMIFS(Tableau_Data[Féminin],Tableau_Data[District sanitaire],$B$1,Tableau_Data[Lieu d''intervention],$P$2,Tableau_Data[Annee],\">\"&D2,Tableau_Data[Annee],\"<\"&F2))","v":0},{"$f":"(SUMIFS(Tableau_Data[Féminin],Tableau_Data[District sanitaire],$B$1,Tableau_Data[Annee],$D$3,Tableau_Data[Lieu d''intervention],$Q$2,Tableau_Data[Mois],I3)+SUMIFS(Tableau_Data[Féminin],Tableau_Data[District sanitaire],$B1,Tableau_Data[Lieu d''intervention],$Q$2,Tableau_Data[Annee],$F$3,Tableau_Data[Mois],K3)+SUMIFS(Tableau_Data[Féminin],Tableau_Data[District sanitaire],$B$1,Tableau_Data[Lieu d''intervention],$Q$2,Tableau_Data[Annee],\">\"&D2,Tableau_Data[Annee],\"<\"&F2))","v":0},{"$f":"(SUMIFS(Tableau_Data[Féminin],Tableau_Data[District sanitaire],$B$1,Tableau_Data[Annee],$D$3,Tableau_Data[Lieu d''intervention],$R$2,Tableau_Data[Mois],I3)+SUMIFS(Tableau_Data[Féminin],Tableau_Data[District sanitaire],$B1,Tableau_Data[Lieu d''intervention],$R$2,Tableau_Data[Annee],$F$3,Tableau_Data[Mois],K3)+SUMIFS(Tableau_Data[Féminin],Tableau_Data[District sanitaire],$B$1,Tableau_Data[Lieu d''intervention],$R$2,Tableau_Data[Annee],\">\"&D2,Tableau_Data[Annee],\"<\"&F2))","v":0},{"$f":"(SUMIFS(Tableau_Data[Féminin],Tableau_Data[District sanitaire],$B$1,Tableau_Data[Annee],$D$3,Tableau_Data[Lieu d''intervention],$S$2,Tableau_Data[Mois],J3)+SUMIFS(Tableau_Data[Féminin],Tableau_Data[District sanitaire],$B1,Tableau_Data[Lieu d''intervention],$S$2,Tableau_Data[Annee],$F$3,Tableau_Data[Mois],L3)+SUMIFS(Tableau_Data[Féminin],Tableau_Data[District sanitaire],$B$1,Tableau_Data[Lieu d''intervention],$S$2,Tableau_Data[Annee],\">\"&E2,Tableau_Data[Annee],\"<\"&G2))","v":0},null,{"$f":"COUNTIFS(Tableau_Data[Cible],$U$3,Tableau_Data[District sanitaire],$B$1,Tableau_Data[Annee],$D$3,Tableau_Data[Mois],I3)+ COUNTIFS(Tableau_Data[Cible],$U$3,Tableau_Data[District sanitaire],$B$1,Tableau_Data[Annee],$F$3,Tableau_Data[Mois],K3)+ COUNTIFS(Tableau_Data[Cible],$U$3,Tableau_Data[District sanitaire],$B$1,Tableau_Data[Annee], \">\"&D2,Tableau_Data[Annee],\"<\"&F2)","v":0},{"$f":"COUNTIFS(Tableau_Data[Cible],$V$3,Tableau_Data[District sanitaire],$B$1,Tableau_Data[Annee],$D$3,Tableau_Data[Mois],I3)+ COUNTIFS(Tableau_Data[Cible],$V$3,Tableau_Data[District sanitaire],$B$1,Tableau_Data[Annee],$F$3,Tableau_Data[Mois],K3)+ COUNTIFS(Tableau_Data[Cible],$V$3,Tableau_Data[District sanitaire],$B$1,Tableau_Data[Annee], \">\"&D2,Tableau_Data[Annee],\"<\"&F2)","v":0},{"$f":"COUNTIFS(Tableau_Data[Cible],$W$3,Tableau_Data[District sanitaire],$B$1,Tableau_Data[Annee],$D$3,Tableau_Data[Mois],I3)+ COUNTIFS(Tableau_Data[Cible],$W$3,Tableau_Data[District sanitaire],$B$1,Tableau_Data[Annee],$F$3,Tableau_Data[Mois],K3)+ COUNTIFS(Tableau_Data[Cible],$W$3,Tableau_Data[District sanitaire],$B$1,Tableau_Data[Annee], \">\"&D2,Tableau_Data[Annee],\"<\"&F2)","v":0},{"$f":"COUNTIFS(Tableau_Data[Cible],$X$3,Tableau_Data[District sanitaire],$B$1,Tableau_Data[Annee],$D$3,Tableau_Data[Mois],I3)+ COUNTIFS(Tableau_Data[Cible],$X$3,Tableau_Data[District sanitaire],$B$1,Tableau_Data[Annee],$F$3,Tableau_Data[Mois],K3)+ COUNTIFS(Tableau_Data[Cible],$X$3,Tableau_Data[District sanitaire],$B$1,Tableau_Data[Annee], \">\"&D2,Tableau_Data[Annee],\"<\"&F2)","v":0},{"$f":"COUNTIFS(Tableau_Data[Cible],$Y$3,Tableau_Data[District sanitaire],$B$1,Tableau_Data[Annee],$D$3,Tableau_Data[Mois],I3)+ COUNTIFS(Tableau_Data[Cible],$Y$3,Tableau_Data[District sanitaire],$B$1,Tableau_Data[Annee],$F$3,Tableau_Data[Mois],K3)+ COUNTIFS(Tableau_Data[Cible],$Y$3,Tableau_Data[District sanitaire],$B$1,Tableau_Data[Annee], \">\"&D2,Tableau_Data[Annee],\"<\"&F2)","v":0},{"$f":"COUNTIFS(Tableau_Data[Cible],$Z$3,Tableau_Data[District sanitaire],$B$1,Tableau_Data[Annee],$D$3,Tableau_Data[Mois],I3)+ COUNTIFS(Tableau_Data[Cible],$Z$3,Tableau_Data[District sanitaire],$B$1,Tableau_Data[Annee],$F$3,Tableau_Data[Mois],K3)+ COUNTIFS(Tableau_Data[Cible],$Z$3,Tableau_Data[District sanitaire],$B$1,Tableau_Data[Annee], \">\"&D2,Tableau_Data[Annee],\"<\"&F2)","v":0},{"$f":"COUNTIFS(Tableau_Data[Cible],$AA$3,Tableau_Data[District sanitaire],$B$1,Tableau_Data[Annee],$D$3,Tableau_Data[Mois],I3)+ COUNTIFS(Tableau_Data[Cible],$AA$3,Tableau_Data[District sanitaire],$B$1,Tableau_Data[Annee],$F$3,Tableau_Data[Mois],K3)+ COUNTIFS(Tableau_Data[Cible],$AA$3,Tableau_Data[District sanitaire],$B$1,Tableau_Data[Annee], \">\"&D2,Tableau_Data[Annee],\"<\"&F2)","v":0},null,{"$f":"COUNTIFS(Tableau_Data[District sanitaire],$B$1,Tableau_Data[Annee],$D$3,Tableau_Data[Mois],I3)+ COUNTIFS(Tableau_Data[District sanitaire],$B$1,Tableau_Data[Annee],$F$3,Tableau_Data[Mois],K3)+ COUNTIFS(Tableau_Data[District sanitaire],$B$1,Tableau_Data[Annee], \">\"&D2,Tableau_Data[Annee],\"<\"&F2)","v":0}]
[null,null,null,null,null,null,null,null,null,null,null,null,null,"Total",{"$f":"SUM(O3:O4)","v":0},{"$f":"SUM(P3:P4)","v":0},{"$f":"SUM(Q3:Q4)","v":0},{"$f":"SUM(R3:R4)","v":0},{"$f":"SUM(S3:S4)","v":0},null,{"$f":"U4/AC4","v":{"$error":"#DIV/0!"}},{"$f":"V4/AC4","v":{"$error":"#DIV/0!"}},{"$f":"W4/AC4","v":{"$error":"#DIV/0!"}},{"$f":"X4/AC4","v":{"$error":"#DIV/0!"}},{"$f":"Y4/AC4","v":{"$error":"#DIV/0!"}},{"$f":"Z4/AC4","v":{"$error":"#DIV/0!"}},{"$f":"AA4/AC4","v":{"$error":"#DIV/0!"}}]
[null,null,null,"Total Masculin",null,"Total Féminin",null,null,"TOTAL"]
[null,null,null,{"$f":"(SUMIFS(Tableau_Data[Masculin],Tableau_Data[District sanitaire],$B$1,Tableau_Data[Annee],$D$3,Tableau_Data[Mois],I3)+SUMIFS(Tableau_Data[Masculin],Tableau_Data[District sanitaire],$B1,Tableau_Data[Annee],$F$3,Tableau_Data[Mois],K3)+SUMIFS(Tableau_Data[Masculin],Tableau_Data[District sanitaire],$B$1,Tableau_Data[Annee],\">\"&D2,Tableau_Data[Annee],\"<\"&F2))","v":0},null,{"$f":"(SUMIFS(Tableau_Data[Féminin],Tableau_Data[District sanitaire],$B$1,Tableau_Data[Annee],$D$3,Tableau_Data[Mois],I3)+SUMIFS(Tableau_Data[Féminin],Tableau_Data[District sanitaire],$B1,Tableau_Data[Annee],$F$3,Tableau_Data[Mois],K3)+SUMIFS(Tableau_Data[Féminin],Tableau_Data[District sanitaire],$B$1,Tableau_Data[Annee],\">\"&D2,Tableau_Data[Annee],\"<\"&F2))","v":0},null,null,{"$f":"SUM(D7:F7)","v":0}]
[]
[]
[]
[]
[]
[]
[]
[]
[]
[]
[]
[]
[]
[]
[]
[]
[null,null,null,null,null,null,null,null,null,null,null,null,null,null,null,null,null,null,null,null,"DEMO. PRESERVATIF",null,null,"TEMOIGNAGE"]
[null,null,null,null,null,null,null,null,null,null,null,null,null,"Synthèse : Lieu d'Intervention"]
[null,null,null,null,null,null,null,null,null,null,null,null,"DS",{"$f":"B1","v":"Kibumbu"},null,null,null,null,null,null,"OUI","NON",null,"OUI","NON"]
[null,null,null,null,null,null,null,null,null,null,null,null,null,null,null,null,null,null,null,null,{"$f":"COUNTIFS(Tableau_Data[Démo Preservatif],$U$26,Tableau_Data[District sanitaire],$B$1,Tableau_Data[Annee],$D$3,Tableau_Data[Mois],I3)+ COUNTIFS(Tableau_Data[Démo Preservatif],$U$26,Tableau_Data[District sanitaire],$B$1,Tableau_Data[Annee],$F$3,Tableau_Data[Mois],K3)+ COUNTIFS(Tableau_Data[Démo Preservatif],$U$26,Tableau_Data[District sanitaire],$B$1,Tableau_Data[Annee],\">\"&D2,Tableau_Data[Annee],\"<\"&F2)","v":0},{"$f":"COUNTIFS(Tableau_Data[Démo Preservatif],$V$26,Tableau_Data[District sanitaire],$B$1,Tableau_Data[Annee],$D$3,Tableau_Data[Mois],I3)+ COUNTIFS(Tableau_Data[Démo Preservatif],$V$26,Tableau_Data[District sanitaire],$B$1,Tableau_Data[Annee],$F$3,Tableau_Data[Mois],K3)+ COUNTIFS(Tableau_Data[Démo Preservatif],$V$26,Tableau_Data[District sanitaire],$B$1,Tableau_Data[Annee],\">\"&D2,Tableau_Data[Annee],\"<\"&F2)","v":0},null,{"$f":"COUNTIFS(Tableau_Data[Témoignage],$X$26,Tableau_Data[District sanitaire],$B$1,Tableau_Data[Annee],$D$3,Tableau_Data[Mois],I3)+ COUNTIFS(Tableau_Data[Témoignage],$X$26,Tableau_Data[District sanitaire],$B$1,Tableau_Data[Annee],$F$3,Tableau_Data[Mois],K3)+ COUNTIFS(Tableau_Data[Témoignage],$X$26,Tableau_Data[District sanitaire],$B$1,Tableau_Data[Annee], \">\"&D2,Tableau_Data[Annee],\"<\"&F2)","v":0},{"$f":"COUNTIFS(Tableau_Data[Témoignage],$Y$26,Tableau_Data[District sanitaire],$B$1,Tableau_Data[Annee],$D$3,Tableau_Data[Mois],I3)+ COUNTIFS(Tableau_Data[Témoignage],$Y$26,Tableau_Data[District sanitaire],$B$1,Tableau_Data[Annee],$F$3,Tableau_Data[Mois],K3)+ COUNTIFS(Tableau_Data[Témoignage],$Y$26,Tableau_Data[District sanitaire],$B$1,Tableau_Data[Annee], \">\"&D2,Tableau_Data[Annee],\"<\"&F2)","v":0},null,null,"TOTAL FICHES"]
[null,null,null,null,null,null,null,null,null,null,null,null,null,null,null,null,null,null,null,null,{"$f":"U27/AB28","v":{"$error":"#DIV/0!"}},{"$f":"V27/AB28","v":{"$error":"#DIV/0!"}},null,{"$f":"X27/AB28","v":{"$error":"#DIV/0!"}},{"$f":"Y27/AB28","v":{"$error":"#DIV/0!"}},null,null,{"$f":"COUNTIFS(Tableau_Data[District sanitaire],$B$1,Tableau_Data[Annee],$D$3,Tableau_Data[Mois],I3)+ COUNTIFS(Tableau_Data[District sanitaire],$B$1,Tableau_Data[Annee],$F$3,Tableau_Data[Mois],K3)+ COUNTIFS(Tableau_Data[District sanitaire],$B$1,Tableau_Data[Annee], \">\"&D2,Tableau_Data[Annee],\"<\"&F2)","v":0}]
[null,null,null,null,null,null,null,null,null,null,null,null,"A","B","C","D"]
[null,null,null,null,null,null,null,null,null,null,null,null,{"$f":"Paramètres!F7","v":"IST/VIH-SIDA"},{"$f":"Paramètres!F8","v":"VSBG"},{"$f":"Paramètres!F9","v":"PF"},{"$f":"Paramètres!F10","v":"Autres thèmes SSRAJ"}]
[null,null,null,null,null,null,null,null,null,null,null,"Masculin",{"$f":"(SUMIFS(Tableau_Data[Masculin],Tableau_Data[District sanitaire],$B1,Tableau_Data[Thèmes],$M$30,Tableau_Data[Annee],$D$3,Tableau_Data[Mois],I3)+ SUMIFS(Tableau_Data[Masculin],Tableau_Data[District sanitaire],$B1,Tableau_Data[Thèmes],$M$30,Tableau_Data[Annee],$F$3,Tableau_Data[Mois],K3)+SUMIFS(Tableau_Data[Masculin],Tableau_Data[District sanitaire],$B1,Tableau_Data[Thèmes],$M$30,Tableau_Data[Annee],\">\"&D2,Tableau_Data[Annee],\"<\"&F2))","v":0},{"$f":"(SUMIFS(Tableau_Data[Masculin],Tableau_Data[District sanitaire],$B1,Tableau_Data[Thèmes],$N$30,Tableau_Data[Annee],$D$3,Tableau_Data[Mois],I3)+ SUMIFS(Tableau_Data[Masculin],Tableau_Data[District sanitaire],$B1,Tableau_Data[Thèmes],$N$30,Tableau_Data[Annee],$F$3,Tableau_Data[Mois],K3)+SUMIFS(Tableau_Data[Masculin],Tableau_Data[District sanitaire],$B1,Tableau_Data[Thèmes],$N$30,Tableau_Data[Annee],\">\"&D2,Tableau_Data[Annee],\"<\"&F2))","v":0},{"$f":"(SUMIFS(Tableau_Data[Masculin],Tableau_Data[District sanitaire],$B1,Tableau_Data[Thèmes],$O$30,Tableau_Data[Annee],$D$3,Tableau_Data[Mois],I3)+ SUMIFS(Tableau_Data[Masculin],Tableau_Data[District sanitaire],$B1,Tableau_Data[Thèmes],$O$30,Tableau_Data[Annee],$F$3,Tableau_Data[Mois],K3)+SUMIFS(Tableau_Data[Masculin],Tableau_Data[District sanitaire],$B1,Tableau_Data[Thèmes],$O$30,Tableau_Data[Annee],\">\"&D2,Tableau_Data[Annee],\"<\"&F2))","v":0},{"$f":"(SUMIFS(Tableau_Data[Masculin],Tableau_Data[District sanitaire],$B1,Tableau_Data[Thèmes],$P$30,Tableau_Data[Annee],$D$3,Tableau_Data[Mois],I3)+ SUMIFS(Tableau_Data[Masculin],Tableau_Data[District sanitaire],$B1,Tableau_Data[Thèmes],$P$30,Tableau_Data[Annee],$F$3,Tableau_Data[Mois],K3)+SUMIFS(Tableau_Data[Masculin],Tableau_Data[District sanitaire],$B1,Tableau_Data[Thèmes],$P$30,Tableau_Data[Annee],\">\"&D2,Tableau_Data[Annee],\"<\"&F2))","v":0}]
[null,null,null,null,null,null,null,null,null,null,null,"Féminin",{"$f":"(SUMIFS(Tableau_Data[Féminin],Tableau_Data[District sanitaire],$B1,Tableau_Data[Thèmes],$M$30,Tableau_Data[Annee],$D$3,Tableau_Data[Mois],I3)+ SUMIFS(Tableau_Data[Féminin],Tableau_Data[District sanitaire],$B1,Tableau_Data[Thèmes],$M$30,Tableau_Data[Annee],$F$3,Tableau_Data[Mois],K3)+SUMIFS(Tableau_Data[Féminin],Tableau_Data[District sanitaire],$B1,Tableau_Data[Thèmes],$M$30,Tableau_Data[Annee],\">\"&D2,Tableau_Data[Annee],\"<\"&F2))","v":0},{"$f":"(SUMIFS(Tableau_Data[Féminin],Tableau_Data[District sanitaire],$B1,Tableau_Data[Thèmes],$N$30,Tableau_Data[Annee],$D$3,Tableau_Data[Mois],I3)+ SUMIFS(Tableau_Data[Féminin],Tableau_Data[District sanitaire],$B1,Tableau_Data[Thèmes],$N$30,Tableau_Data[Annee],$F$3,Tableau_Data[Mois],K3)+SUMIFS(Tableau_Data[Féminin],Tableau_Data[District sanitaire],$B1,Tableau_Data[Thèmes],$N$30,Tableau_Data[Annee],\">\"&D2,Tableau_Data[Annee],\"<\"&F2))","v":0},{"$f":"(SUMIFS(Tableau_Data[Féminin],Tableau_Data[District sanitaire],$B1,Tableau_Data[Thèmes],$O$30,Tableau_Data[Annee],$D$3,Tableau_Data[Mois],I3)+ SUMIFS(Tableau_Data[Féminin],Tableau_Data[District sanitaire],$B1,Tableau_Data[Thèmes],$O$30,Tableau_Data[Annee],$F$3,Tableau_Data[Mois],K3)+SUMIFS(Tableau_Data[Féminin],Tableau_Data[District sanitaire],$B1,Tableau_Data[Thèmes],$O$30,Tableau_Data[Annee],\">\"&D2,Tableau_Data[Annee],\"<\"&F2))","v":0},{"$f":"(SUMIFS(Tableau_Data[Féminin],Tableau_Data[District sanitaire],$B1,Tableau_Data[Thèmes],$P$30,Tableau_Data[Annee],$D$3,Tableau_Data[Mois],I3)+ SUMIFS(Tableau_Data[Féminin],Tableau_Data[District sanitaire],$B1,Tableau_Data[Thèmes],$P$30,Tableau_Data[Annee],$F$3,Tableau_Data[Mois],K3)+SUMIFS(Tableau_Data[Féminin],Tableau_Data[District sanitaire],$B1,Tableau_Data[Thèmes],$P$30,Tableau_Data[Annee],\">\"&D2,Tableau_Data[Annee],\"<\"&F2))","v":0}]
[null,null,"DS",null,{"$f":"B1","v":"Kibumbu"},null,null,null,null,null,null,"Total",{"$f":"SUM(M31:M32)","v":0},{"$f":"SUM(N31:N32)","v":0},{"$f":"SUM(O31:O32)","v":0},{"$f":"SUM(P31:P32)","v":0}]
[]
[]
[]
[]
[]
[]
[]
[]
[null,"Rapport de :",null,{"$f":"Paramètres!I18","v":"GIZ"},null,null,"Imprimé le :",null,{"$f":"TODAY()","v":"2023-03-21"}]
[]
[]
[]
[]
[]
[]
[]
[]
[]
[null,null,null,null,null,null,null,null,null,null,null,null,null,"Synthèse : Thèmes traités"]
[]
[]
[]
[]
[]
[null,null,null,null,null,null,null,null,null,null,null,null,"Rapport de :",null,{"$f":"Paramètres!I18","v":"GIZ"},null,null,"Imprimé le :",{"$f":"TODAY()","v":"2023-03-21"}]

{"sheet":"PS-Période","index":16,"n_rows":58,"n_cols":29,"rows_kept":58,"cut":false,"hidden":false,"merged":[[0,1,0,4],[0,7,0,8],[3,3,3,5],[0,21,0,26],[25,13,26,17],[5,3,5,4],[6,3,6,4],[32,2,33,2],[32,4,33,8],[41,1,41,2],[41,3,41,4],[25,12,26,12],[57,12,57,13],[57,14,57,15],[57,18,57,19],[1,6,1,7],[2,6,2,7],[51,13,51,15],[5,5,5,6],[6,5,6,6],[24,13,24,15]]}
[null,"Gitega",null,null,null,null,null,"Province Sanitaire -",null,"Période",null,null,null,null,null,null,null,null,null,null,null,"Analyse axée sur les cibles"]
[null,null,null,{"$f":"VLOOKUP(D3,Paramètres!$I$21:$J$35,2,0)","v":2019},null,{"$f":"VLOOKUP(F3,Paramètres!$I$21:$J$35,2,0)","v":2021},"DE",null,null,"A",null,null,null,null,{"$f":"Paramètres!B7","v":"ECOLE"},{"$f":"Paramètres!B8","v":"CENTRE DE SANTE"},{"$f":"Paramètres!B9","v":"COMMUNAUTE"},{"$f":"Paramètres!B10","v":"CENTRE PVH"},{"$f":"Paramètres!B11","v":"EGLISE"},null,"J-ADO-S","H","F","M","J-ADO-NS","B","P-H"]
[null,null,"RAPPORT",2019,null,2021,"Juillet",null,{"$f":"VLOOKUP(G3,Paramètres!$Y$7:$Z$18,2,0)","v":">6"},"Mai",{"$f":"VLOOKUP(J3,Paramètres!$AB$7:$AC$18,2,0)","v":"<6"},null,null,"Masculin",{"$f":"(SUMIFS(Tableau_Data[Masculin],Tableau_Data[Province sanitaire],$B$1,Tableau_Data[Annee],$D$3,Tableau_Data[Lieu d''intervention],$O$2,Tableau_Data[Mois],I3)+SUMIFS(Tableau_Data[Masculin],Tableau_Data[Province sanitaire],$B1,Tableau_Data[Lieu d''intervention],$O$2,Tableau_Data[Annee],$F$3,Tableau_Data[Mois],K3)+SUMIFS(Tableau_Data[Masculin],Tableau_Data[Province sanitaire],$B$1,Tableau_Data[Lieu d''intervention],$O$2,Tableau_Data[Annee],\">\"&D2,Tableau_Data[Annee],\"<\"&F2))","v":0},{"$f":"(SUMIFS(Tableau_Data[Masculin],Tableau_Data[Province sanitaire],$B$1,Tableau_Data[Annee],$D$3,Tableau_Data[Lieu d''intervention],$P$2,Tableau_Data[Mois],I3)+SUMIFS(Tableau_Data[Masculin],Tableau_Data[Province sanitaire],$B1,Tableau_Data[Lieu d''intervention],$P$2,Tableau_Data[Annee],$F$3,Tableau_Data[Mois],K3)+SUMIFS(Tableau_Data[Masculin],Tableau_Data[Province sanitaire],$B$1,Tableau_Data[Lieu d''intervention],$P$2,Tableau_Data[Annee],\">\"&D2,Tableau_Data[Annee],\"<\"&F2))","v":0},{"$f":"(SUMIFS(Tableau_Data[Masculin],Tableau_Data[Province sanitaire],$B$1,Tableau_Data[Annee],$D$3,Tableau_Data[Lieu d''intervention],$Q$2,Tableau_Data[Mois],I3)+SUMIFS(Tableau_Data[Masculin],Tableau_Data[Province sanitaire],$B1,Tableau_Data[Lieu d''intervention],$Q$2,Tableau_Data[Annee],$F$3,Tableau_Data[Mois],K3)+SUMIFS(Tableau_Data[Masculin],Tableau_Data[Province sanitaire],$B$1,Tableau_Data[Lieu d''intervention],$Q$2,Tableau_Data[Annee],\">\"&D2,Tableau_Data[Annee],\"<\"&F2))","v":0},{"$f":"(SUMIFS(Tableau_Data[Masculin],Tableau_Data[Province sanitaire],$B$1,Tableau_Data[Annee],$D$3,Tableau_Data[Lieu d''intervention],$R$2,Tableau_Data[Mois],I3)+SUMIFS(Tableau_Data[Masculin],Tableau_Data[Province sanitaire],$B1,Tableau_Data[Lieu d''intervention],$R$2,Tableau_Data[Annee],$F$3,Tableau_Data[Mois],K3)+SUMIFS(Tableau_Data[Masculin],Tableau_Data[Province sanitaire],$B$1,Tableau_Data[Lieu d''intervention],$R$2,Tableau_Data[Annee],\">\"&D2,Tableau_Data[Annee],\"<\"&F2))","v":0},{"$f":"(SUMIFS(Tableau_Data[Masculin],Tableau_Data[Province sanitaire],$B$1,Tableau_Data[Annee],$D$3,Tableau_Data[Lieu d''intervention],$S$2,Tableau_Data[Mois],J3)+SUMIFS(Tableau_Data[Masculin],Tableau_Data[Province sanitaire],$B1,Tableau_Data[Lieu d''intervention],$S$2,Tableau_Data[Annee],$F$3,Tableau_Data[Mois],L3)+SUMIFS(Tableau_Data[Masculin],Tableau_Data[Province sanitaire],$B$1,Tableau_Data[Lieu d''intervention],$S$2,Tableau_Data[Annee],\">\"&E2,Tableau_Data[Annee],\"<\"&G2))","v":0},null,{"$f":"Paramètres!K7","v":"Jeunes et Adolescents scolarisés"},{"$f":"Paramètres!K8","v":"Hommes"},{"$f":"Paramètres!K9","v":"Femmes"},{"$f":"Paramètres!K10","v":"Mixte"},{"$f":"Paramètres!K11","v":"Jeunes et Adolescents non scolarisés"},{"$f":"Paramètres!K12","v":"Batwa"},{"$f":"Paramètres!K13","v":"Personnes avec Handicap"},null,"TOTAL FICHES"]
[null,null,null,"Sélectinnez l'année",null,null,null,null,null,null,null,null,null,"Féminin",{"$f":"(SUMIFS(Tableau_Data[Féminin],Tableau_Data[Province sanitaire],$B$1,Tableau_Data[Annee],$D$3,Tableau_Data[Lieu d''intervention],$O$2,Tableau_Data[Mois],I3)+SUMIFS(Tableau_Data[Féminin],Tableau_Data[Province sanitaire],$B1,Tableau_Data[Lieu d''intervention],$O$2,Tableau_Data[Annee],$F$3,Tableau_Data[Mois],K3)+SUMIFS(Tableau_Data[Féminin],Tableau_Data[Province sanitaire],$B$1,Tableau_Data[Lieu d''intervention],$O$2,Tableau_Data[Annee],\">\"&D2,Tableau_Data[Annee],\"<\"&F2))","v":0},{"$f":"(SUMIFS(Tableau_Data[Féminin],Tableau_Data[Province sanitaire],$B$1,Tableau_Data[Annee],$D$3,Tableau_Data[Lieu d''intervention],$P$2,Tableau_Data[Mois],I3)+SUMIFS(Tableau_Data[Féminin],Tableau_Data[Province sanitaire],$B1,Tableau_Data[Lieu d''intervention],$P$2,Tableau_Data[Annee],$F$3,Tableau_Data[Mois],K3)+SUMIFS(Tableau_Data[Féminin],Tableau_Data[Province sanitaire],$B$1,Tableau_Data[Lieu d''intervention],$P$2,Tableau_Data[Annee],\">\"&D2,Tableau_Data[Annee],\"<\"&F2))","v":0},{"$f":"(SUMIFS(Tableau_Data[Féminin],Tableau_Data[Province sanitaire],$B$1,Tableau_Data[Annee],$D$3,Tableau_Data[Lieu d''intervention],$Q$2,Tableau_Data[Mois],I3)+SUMIFS(Tableau_Data[Féminin],Tableau_Data[Province sanitaire],$B1,Tableau_Data[Lieu d''intervention],$Q$2,Tableau_Data[Annee],$F$3,Tableau_Data[Mois],K3)+SUMIFS(Tableau_Data[Féminin],Tableau_Data[Province sanitaire],$B$1,Tableau_Data[Lieu d''intervention],$Q$2,Tableau_Data[Annee],\">\"&D2,Tableau_Data[Annee],\"<\"&F2))","v":0},{"$f":"(SUMIFS(Tableau_Data[Féminin],Tableau_Data[Province sanitaire],$B$1,Tableau_Data[Annee],$D$3,Tableau_Data[Lieu d''intervention],$R$2,Tableau_Data[Mois],I3)+SUMIFS(Tableau_Data[Féminin],Tableau_Data[Province sanitaire],$B1,Tableau_Data[Lieu d''intervention],$R$2,Tableau_Data[Annee],$F$3,Tableau_Data[Mois],K3)+SUMIFS(Tableau_Data[Féminin],Tableau_Data[Province sanitaire],$B$1,Tableau_Data[Lieu d''intervention],$R$2,Tableau_Data[Annee],\">\"&D2,Tableau_Data[Annee],\"<\"&F2))","v":0},{"$f":"(SUMIFS(Tableau_Data[Féminin],Tableau_Data[Province sanitaire],$B$1,Tableau_Data[Annee],$D$3,Tableau_Data[Lieu d''intervention],$S$2,Tableau_Data[Mois],J3)+SUMIFS(Tableau_Data[Féminin],Tableau_Data[Province sanitaire],$B1,Tableau_Data[Lieu d''intervention],$S$2,Tableau_Data[Annee],$F$3,Tableau_Data[Mois],L3)+SUMIFS(Tableau_Data[Féminin],Tableau_Data[Province sanitaire],$B$1,Tableau_Data[Lieu d''intervention],$S$2,Tableau_Data[Annee],\">\"&E2,Tableau_Data[Annee],\"<\"&G2))","v":0},null,{"$f":"COUNTIFS(Tableau_Data[Cible],$U$3,Tableau_Data[Province sanitaire],$B$1,Tableau_Data[Annee],$D$3,Tableau_Data[Mois],I3)+ COUNTIFS(Tableau_Data[Cible],$U$3,Tableau_Data[Province sanitaire],$B$1,Tableau_Data[Annee],$F$3,Tableau_Data[Mois],K3)+ COUNTIFS(Tableau_Data[Cible],$U$3,Tableau_Data[Province sanitaire],$B$1,Tableau_Data[Annee], \">\"&D2,Tableau_Data[Annee],\"<\"&F2)","v":0},{"$f":"COUNTIFS(Tableau_Data[Cible],$V$3,Tableau_Data[Province sanitaire],$B$1,Tableau_Data[Annee],$D$3,Tableau_Data[Mois],I3)+ COUNTIFS(Tableau_Data[Cible],$V$3,Tableau_Data[Province sanitaire],$B$1,Tableau_Data[Annee],$F$3,Tableau_Data[Mois],K3)+ COUNTIFS(Tableau_Data[Cible],$V$3,Tableau_Data[Province sanitaire],$B$1,Tableau_Data[Annee], \">\"&D2,Tableau_Data[Annee],\"<\"&F2)","v":0},{"$f":"COUNTIFS(Tableau_Data[Cible],$W$3,Tableau_Data[Province sanitaire],$B$1,Tableau_Data[Annee],$D$3,Tableau_Data[Mois],I3)+ COUNTIFS(Tableau_Data[Cible],$W$3,Tableau_Data[Province sanitaire],$B$1,Tableau_Data[Annee],$F$3,Tableau_Data[Mois],K3)+ COUNTIFS(Tableau_Data[Cible],$W$3,Tableau_Data[Province sanitaire],$B$1,Tableau_Data[Annee], \">\"&D2,Tableau_Data[Annee],\"<\"&F2)","v":0},{"$f":"COUNTIFS(Tableau_Data[Cible],$X$3,Tableau_Data[Province sanitaire],$B$1,Tableau_Data[Annee],$D$3,Tableau_Data[Mois],I3)+ COUNTIFS(Tableau_Data[Cible],$X$3,Tableau_Data[Province sanitaire],$B$1,Tableau_Data[Annee],$F$3,Tableau_Data[Mois],K3)+ COUNTIFS(Tableau_Data[Cible],$X$3,Tableau_Data[Province sanitaire],$B$1,Tableau_Data[Annee], \">\"&D2,Tableau_Data[Annee],\"<\"&F2)","v":0},{"$f":"COUNTIFS(Tableau_Data[Cible],$Y$3,Tableau_Data[Province sanitaire],$B$1,Tableau_Data[Annee],$D$3,Tableau_Data[Mois],I3)+ COUNTIFS(Tableau_Data[Cible],$Y$3,Tableau_Data[Province sanitaire],$B$1,Tableau_Data[Annee],$F$3,Tableau_Data[Mois],K3)+ COUNTIFS(Tableau_Data[Cible],$Y$3,Tableau_Data[Province sanitaire],$B$1,Tableau_Data[Annee], \">\"&D2,Tableau_Data[Annee],\"<\"&F2)","v":0},{"$f":"COUNTIFS(Tableau_Data[Cible],$Z$3,Tableau_Data[Province sanitaire],$B$1,Tableau_Data[Annee],$D$3,Tableau_Data[Mois],I3)+ COUNTIFS(Tableau_Data[Cible],$Z$3,Tableau_Data[Province sanitaire],$B$1,Tableau_Data[Annee],$F$3,Tableau_Data[Mois],K3)+ COUNTIFS(Tableau_Data[Cible],$Z$3,Tableau_Data[Province sanitaire],$B$1,Tableau_Data[Annee], \">\"&D2,Tableau_Data[Annee],\"<\"&F2)","v":0},{"$f":"COUNTIFS(Tableau_Data[Cible],$Z$3,Tableau_Data[Province sanitaire],$B$1,Tableau_Data[Annee],$D$3,Tableau_Data[Mois],I3)+ COUNTIFS(Tableau_Data[Cible],$Z$3,Tableau_Data[Province sanitaire],$B$1,Tableau_Data[Annee],$F$3,Tableau_Data[Mois],K3)+ COUNTIFS(Tableau_Data[Cible],$Z$3,Tableau_Data[Province sanitaire],$B$1,Tableau_Data[Annee], \">\"&D2,Tableau_Data[Annee],\"<\"&F2)","v":0},null,{"$f":"COUNTIFS(Tableau_Data[Province sanitaire],$B$1,Tableau_Data[Annee],$D$3,Tableau_Data[Mois],I3)+ COUNTIFS(Tableau_Data[Province sanitaire],$B$1,Tableau_Data[Annee],$F$3,Tableau_Data[Mois],K3)+ COUNTIFS(Tableau_Data[Province sanitaire],$B$1,Tableau_Data[Annee], \">\"&D2,Tableau_Data[Annee],\"<\"&F2)","v":0}]
[null,null,null,null,null,null,null,null,null,null,null,null,null,"Total",{"$f":"SUM(O3:O4)","v":0},{"$f":"SUM(P3:P4)","v":0},{"$f":"SUM(Q3:Q4)","v":0},{"$f":"SUM(R3:R4)","v":0},{"$f":"SUM(S3:S4)","v":0},null,{"$f":"U4/AC4","v":{"$error":"#DIV/0!"}},{"$f":"V4/AC4","v":{"$error":"#DIV/0!"}},{"$f":"W4/AC4","v":{"$error":"#DIV/0!"}},{"$f":"X4/AC4","v":{"$error":"#DIV/0!"}},{"$f":"Y4/AC4","v":{"$error":"#DIV/0!"}},{"$f":"Z4/AC4","v":{"$error":"#DIV/0!"}},{"$f":"AA4/AC4","v":{"$error":"#DIV/0!"}}]
[null,null,null,"Total Masculin",null,"Total Féminin",null,null,"TOTAL"]
[null,null,null,{"$f":"(SUMIFS(Tableau_Data[Féminin],Tableau_Data[Province sanitaire],$B$1,Tableau_Data[Annee],$D$3,Tableau_Data[Mois],I3)+SUMIFS(Tableau_Data[Féminin],Tableau_Data[Province sanitaire],$B1,Tableau_Data[Annee],$F$3,Tableau_Data[Mois],K3)+SUMIFS(Tableau_Data[Féminin],Tableau_Data[Province sanitaire],$B$1,Tableau_Data[Annee],\">\"&D2,Tableau_Data[Annee],\"<\"&F2))","v":0},null,{"$f":"(SUMIFS(Tableau_Data[Masculin],Tableau_Data[Province sanitaire],$B$1,Tableau_Data[Annee],$D$3,Tableau_Data[Mois],I3)+SUMIFS(Tableau_Data[Masculin],Tableau_Data[Province sanitaire],$B1,Tableau_Data[Annee],$F$3,Tableau_Data[Mois],K3)+SUMIFS(Tableau_Data[Masculin],Tableau_Data[Province sanitaire],$B$1,Tableau_Data[Annee],\">\"&D2,Tableau_Data[Annee],\"<\"&F2))","v":0},null,null,{"$f":"SUM(D7:F7)","v":0}]
[]
[]
[]
[]
[]
[]
[]
[]
[]
[]
[]
[]
[]
[]
[]
[]
[]
[null,null,null,null,null,null,null,null,null,null,null,null,null,"Synthèse : Lieu d'Intervention"]
[null,null,null,null,null,null,null,null,null,null,null,null,"PS",{"$f":"B1","v":"Gitega"},null,null,null,null,null,null,"DEMO. PRESERVATIF",null,null,"TEMOIGNAGE"]
[]
[null,null,null,null,null,null,null,null,null,null,null,null,null,null,null,null,null,null,null,null,"OUI","NON",null,"OUI","NON"]
[null,null,null,null,null,null,null,null,null,null,null,null,"A","B","C","D",null,null,null,null,{"$f":"COUNTIFS(Tableau_Data[Démo Preservatif],$U$28,Tableau_Data[Province sanitaire],$B$1,Tableau_Data[Annee],$D$3,Tableau_Data[Mois],I3)+ COUNTIFS(Tableau_Data[Démo Preservatif],$U$28,Tableau_Data[Province sanitaire],$B$1,Tableau_Data[Annee],$F$3,Tableau_Data[Mois],K3)+ COUNTIFS(Tableau_Data[Démo Preservatif],$U$28,Tableau_Data[Province sanitaire],$B$1,Tableau_Data[Annee],\">\"&D2,Tableau_Data[Annee],\"<\"&F2)","v":0},{"$f":"COUNTIFS(Tableau_Data[Démo Preservatif],$V$28,Tableau_Data[Province sanitaire],$B$1,Tableau_Data[Annee],$D$3,Tableau_Data[Mois],I3)+ COUNTIFS(Tableau_Data[Démo Preservatif],$V$28,Tableau_Data[Province sanitaire],$B$1,Tableau_Data[Annee],$F$3,Tableau_Data[Mois],K3)+ COUNTIFS(Tableau_Data[Démo Preservatif],$V$28,Tableau_Data[Province sanitaire],$B$1,Tableau_Data[Annee],\">\"&D2,Tableau_Data[Annee],\"<\"&F2)","v":0},null,{"$f":"COUNTIFS(Tableau_Data[Témoignage],$X$28,Tableau_Data[Province sanitaire],$B$1,Tableau_Data[Annee],$D$3,Tableau_Data[Mois],I3)+ COUNTIFS(Tableau_Data[Témoignage],$X$28,Tableau_Data[Province sanitaire],$B$1,Tableau_Data[Annee],$F$3,Tableau_Data[Mois],K3)+ COUNTIFS(Tableau_Data[Témoignage],$X$28,Tableau_Data[Province sanitaire],$B$1,Tableau_Data[Annee], \">\"&D2,Tableau_Data[Annee],\"<\"&F2)","v":0},{"$f":"COUNTIFS(Tableau_Data[Témoignage],$Y$28,Tableau_Data[Province sanitaire],$B$1,Tableau_Data[Annee],$D$3,Tableau_Data[Mois],I3)+ COUNTIFS(Tableau_Data[Témoignage],$Y$28,Tableau_Data[Province sanitaire],$B$1,Tableau_Data[Annee],$F$3,Tableau_Data[Mois],K3)+ COUNTIFS(Tableau_Data[Témoignage],$Y$28,Tableau_Data[Province sanitaire],$B$1,Tableau_Data[Annee], \">\"&D2,Tableau_Data[Annee],\"<\"&F2)","v":0},null,null,"TOTAL FICHES"]
[null,null,null,null,null,null,null,null,null,null,null,null,{"$f":"Paramètres!F7","v":"IST/VIH-SIDA"},{"$f":"Paramètres!F8","v":"VSBG"},{"$f":"Paramètres!F9","v":"PF"},{"$f":"Paramètres!F10","v":"Autres thèmes SSRAJ"},null,null,null,null,{"$f":"U29/AB30","v":{"$error":"#DIV/0!"}},{"$f":"V29/AB30","v":{"$error":"#DIV/0!"}},null,{"$f":"X29/AB30","v":{"$error":"#DIV/0!"}},{"$f":"Y29/AB30","v":{"$error":"#DIV/0!"}},null,null,{"$f":"COUNTIFS(Tableau_Data[Province sanitaire],$B$1,Tableau_Data[Annee],$D$3,Tableau_Data[Mois],I3)+ COUNTIFS(Tableau_Data[Province sanitaire],$B$1,Tableau_Data[Annee],$F$3,Tableau_Data[Mois],K3)+ COUNTIFS(Tableau_Data[Province sanitaire],$B$1,Tableau_Data[Annee], \">\"&D2,Tableau_Data[Annee],\"<\"&F2)","v":0}]
[null,null,null,null,null,null,null,null,null,null,null,"Masculin",{"$f":"(SUMIFS(Tableau_Data[Masculin],Tableau_Data[Province sanitaire],$B1,Tableau_Data[Thèmes],$M$30,Tableau_Data[Annee],$D$3,Tableau_Data[Mois],I3)+ SUMIFS(Tableau_Data[Masculin],Tableau_Data[Province sanitaire],$B1,Tableau_Data[Thèmes],$M$30,Tableau_Data[Annee],$F$3,Tableau_Data[Mois],K3)+SUMIFS(Tableau_Data[Masculin],Tableau_Data[Province sanitaire],$B1,Tableau_Data[Thèmes],$M$30,Tableau_Data[Annee],\">\"&D2,Tableau_Data[Annee],\"<\"&F2))","v":0},{"$f":"(SUMIFS(Tableau_Data[Masculin],Tableau_Data[Province sanitaire],$B1,Tableau_Data[Thèmes],$N$30,Tableau_Data[Annee],$D$3,Tableau_Data[Mois],I3)+ SUMIFS(Tableau_Data[Masculin],Tableau_Data[Province sanitaire],$B1,Tableau_Data[Thèmes],$N$30,Tableau_Data[Annee],$F$3,Tableau_Data[Mois],K3)+SUMIFS(Tableau_Data[Masculin],Tableau_Data[Province sanitaire],$B1,Tableau_Data[Thèmes],$N$30,Tableau_Data[Annee],\">\"&D2,Tableau_Data[Annee],\"<\"&F2))","v":0},{"$f":"(SUMIFS(Tableau_Data[Masculin],Tableau_Data[Province sanitaire],$B1,Tableau_Data[Thèmes],$O$30,Tableau_Data[Annee],$D$3,Tableau_Data[Mois],I3)+ SUMIFS(Tableau_Data[Masculin],Tableau_Data[Province sanitaire],$B1,Tableau_Data[Thèmes],$O$30,Tableau_Data[Annee],$F$3,Tableau_Data[Mois],K3)+SUMIFS(Tableau_Data[Masculin],Tableau_Data[Province sanitaire],$B1,Tableau_Data[Thèmes],$O$30,Tableau_Data[Annee],\">\"&D2,Tableau_Data[Annee],\"<\"&F2))","v":0},{"$f":"(SUMIFS(Tableau_Data[Masculin],Tableau_Data[Province sanitaire],$B1,Tableau_Data[Thèmes],$P$30,Tableau_Data[Annee],$D$3,Tableau_Data[Mois],I3)+ SUMIFS(Tableau_Data[Masculin],Tableau_Data[Province sanitaire],$B1,Tableau_Data[Thèmes],$P$30,Tableau_Data[Annee],$F$3,Tableau_Data[Mois],K3)+SUMIFS(Tableau_Data[Masculin],Tableau_Data[Province sanitaire],$B1,Tableau_Data[Thèmes],$P$30,Tableau_Data[Annee],\">\"&D2,Tableau_Data[Annee],\"<\"&F2))","v":0}]
[null,null,null,null,null,null,null,null,null,null,null,"Féminin",{"$f":"(SUMIFS(Tableau_Data[Féminin],Tableau_Data[Province sanitaire],$B1,Tableau_Data[Thèmes],$M$30,Tableau_Data[Annee],$D$3,Tableau_Data[Mois],I3)+ SUMIFS(Tableau_Data[Féminin],Tableau_Data[Province sanitaire],$B1,Tableau_Data[Thèmes],$M$30,Tableau_Data[Annee],$F$3,Tableau_Data[Mois],K3)+SUMIFS(Tableau_Data[Féminin],Tableau_Data[Province sanitaire],$B1,Tableau_Data[Thèmes],$M$30,Tableau_Data[Annee],\">\"&D2,Tableau_Data[Annee],\"<\"&F2))","v":0},{"$f":"(SUMIFS(Tableau_Data[Féminin],Tableau_Data[Province sanitaire],$B1,Tableau_Data[Thèmes],$N$30,Tableau_Data[Annee],$D$3,Tableau_Data[Mois],I3)+ SUMIFS(Tableau_Data[Féminin],Tableau_Data[Province sanitaire],$B1,Tableau_Data[Thèmes],$N$30,Tableau_Data[Annee],$F$3,Tableau_Data[Mois],K3)+SUMIFS(Tableau_Data[Féminin],Tableau_Data[Province sanitaire],$B1,Tableau_Data[Thèmes],$N$30,Tableau_Data[Annee],\">\"&D2,Tableau_Data[Annee],\"<\"&F2))","v":0},{"$f":"(SUMIFS(Tableau_Data[Féminin],Tableau_Data[Province sanitaire],$B1,Tableau_Data[Thèmes],$O$30,Tableau_Data[Annee],$D$3,Tableau_Data[Mois],I3)+ SUMIFS(Tableau_Data[Féminin],Tableau_Data[Province sanitaire],$B1,Tableau_Data[Thèmes],$O$30,Tableau_Data[Annee],$F$3,Tableau_Data[Mois],K3)+SUMIFS(Tableau_Data[Féminin],Tableau_Data[Province sanitaire],$B1,Tableau_Data[Thèmes],$O$30,Tableau_Data[Annee],\">\"&D2,Tableau_Data[Annee],\"<\"&F2))","v":0},{"$f":"(SUMIFS(Tableau_Data[Féminin],Tableau_Data[Province sanitaire],$B1,Tableau_Data[Thèmes],$P$30,Tableau_Data[Annee],$D$3,Tableau_Data[Mois],I3)+ SUMIFS(Tableau_Data[Féminin],Tableau_Data[Province sanitaire],$B1,Tableau_Data[Thèmes],$P$30,Tableau_Data[Annee],$F$3,Tableau_Data[Mois],K3)+SUMIFS(Tableau_Data[Féminin],Tableau_Data[Province sanitaire],$B1,Tableau_Data[Thèmes],$P$30,Tableau_Data[Annee],\">\"&D2,Tableau_Data[Annee],\"<\"&F2))","v":0}]
[null,null,"PS",null,{"$f":"B1","v":"Gitega"},null,null,null,null,null,null,"Total",{"$f":"SUM(M31:M32)","v":0},{"$f":"SUM(N31:N32)","v":0},{"$f":"SUM(O31:O32)","v":0},{"$f":"SUM(P31:P32)","v":0}]
[]
[]
[]
[]
[]
[]
[]
[]
[null,"Rapport de :",null,{"$f":"Paramètres!I18","v":"GIZ"},null,null,"Imprimé le :",null,{"$f":"TODAY()","v":"2023-03-21"}]
[]
[]
[]
[]
[]
[]
[]
[]
[]
[null,null,null,null,null,null,null,null,null,null,null,null,null,"Synthèse : Thèmes traités"]
[]
[]
[]
[]
[]
[null,null,null,null,null,null,null,null,null,null,null,null,"Rapport de :",null,{"$f":"Paramètres!I18","v":"GIZ"},null,null,"Imprimé le :",{"$f":"TODAY()","v":"2023-03-21"}]

{"sheet":"ASBL-Période","index":17,"n_rows":58,"n_cols":29,"rows_kept":58,"cut":false,"hidden":false,"merged":[[0,1,0,4],[0,7,0,8],[3,3,3,5],[0,21,0,26],[25,13,26,17],[5,3,5,4],[6,3,6,4],[32,2,33,2],[32,4,33,8],[41,1,41,2],[41,3,41,4],[25,12,26,12],[57,12,57,13],[57,14,57,15],[57,18,57,19],[1,6,1,7],[2,6,2,7],[51,13,51,15],[5,5,5,6],[6,5,6,6],[24,13,24,15]]}
[null,"FVS AMADE",null,null,null,null,null,"ASBL - Période",null,null,null,null,null,null,null,null,null,null,null,null,null,"Analyse axée sur les cibles"]
[null,null,null,{"$f":"VLOOKUP(D3,Paramètres!$I$21:$J$35,2,0)","v":2019},null,{"$f":"VLOOKUP(F3,Paramètres!$I$21:$J$35,2,0)","v":2021},"DE",null,null,"A",null,null,null,null,{"$f":"Paramètres!B7","v":"ECOLE"},{"$f":"Paramètres!B8","v":"CENTRE DE SANTE"},{"$f":"Paramètres!B9","v":"COMMUNAUTE"},{"$f":"Paramètres!B10","v":"CENTRE PVH"},{"$f":"Paramètres!B11","v":"EGLISE"},null,"J-ADO-S","H","F","M","J-ADO-NS","B","P-H"]
[null,null,"RAPPORT",2019,null,2021,"Janvier",null,{"$f":"VLOOKUP(G3,Paramètres!$Y$7:$Z$18,2,0)","v":">0"},"Mars",{"$f":"VLOOKUP(J3,Paramètres!$AB$7:$AC$18,2,0)","v":"<4"},null,null,"Masculin",{"$f":"(SUMIFS(Tableau_Data[Masculin],Tableau_Data[ASBL],$B$1,Tableau_Data[Annee],$D$3,Tableau_Data[Lieu d''intervention],$O$2,Tableau_Data[Mois],I3)+SUMIFS(Tableau_Data[Masculin],Tableau_Data[ASBL],$B1,Tableau_Data[Lieu d''intervention],$O$2,Tableau_Data[Annee],$F$3,Tableau_Data[Mois],K3)+SUMIFS(Tableau_Data[Masculin],Tableau_Data[ASBL],$B$1,Tableau_Data[Lieu d''intervention],$O$2,Tableau_Data[Annee],\">\"&D2,Tableau_Data[Annee],\"<\"&F2))","v":0},{"$f":"(SUMIFS(Tableau_Data[Masculin],Tableau_Data[ASBL],$B$1,Tableau_Data[Annee],$D$3,Tableau_Data[Lieu d''intervention],$P$2,Tableau_Data[Mois],I3)+SUMIFS(Tableau_Data[Masculin],Tableau_Data[ASBL],$B1,Tableau_Data[Lieu d''intervention],$P$2,Tableau_Data[Annee],$F$3,Tableau_Data[Mois],K3)+SUMIFS(Tableau_Data[Masculin],Tableau_Data[ASBL],$B$1,Tableau_Data[Lieu d''intervention],$P$2,Tableau_Data[Annee],\">\"&D2,Tableau_Data[Annee],\"<\"&F2))","v":0},{"$f":"(SUMIFS(Tableau_Data[Masculin],Tableau_Data[ASBL],$B$1,Tableau_Data[Annee],$D$3,Tableau_Data[Lieu d''intervention],$Q$2,Tableau_Data[Mois],I3)+SUMIFS(Tableau_Data[Masculin],Tableau_Data[ASBL],$B1,Tableau_Data[Lieu d''intervention],$Q$2,Tableau_Data[Annee],$F$3,Tableau_Data[Mois],K3)+SUMIFS(Tableau_Data[Masculin],Tableau_Data[ASBL],$B$1,Tableau_Data[Lieu d''intervention],$Q$2,Tableau_Data[Annee],\">\"&D2,Tableau_Data[Annee],\"<\"&F2))","v":0},{"$f":"(SUMIFS(Tableau_Data[Masculin],Tableau_Data[ASBL],$B$1,Tableau_Data[Annee],$D$3,Tableau_Data[Lieu d''intervention],$R$2,Tableau_Data[Mois],I3)+SUMIFS(Tableau_Data[Masculin],Tableau_Data[ASBL],$B1,Tableau_Data[Lieu d''intervention],$R$2,Tableau_Data[Annee],$F$3,Tableau_Data[Mois],K3)+SUMIFS(Tableau_Data[Masculin],Tableau_Data[ASBL],$B$1,Tableau_Data[Lieu d''intervention],$R$2,Tableau_Data[Annee],\">\"&D2,Tableau_Data[Annee],\"<\"&F2))","v":0},{"$f":"(SUMIFS(Tableau_Data[Masculin],Tableau_Data[ASBL],$B$1,Tableau_Data[Annee],$D$3,Tableau_Data[Lieu d''intervention],$S$2,Tableau_Data[Mois],J3)+SUMIFS(Tableau_Data[Masculin],Tableau_Data[ASBL],$B1,Tableau_Data[Lieu d''intervention],$S$2,Tableau_Data[Annee],$F$3,Tableau_Data[Mois],L3)+SUMIFS(Tableau_Data[Masculin],Tableau_Data[ASBL],$B$1,Tableau_Data[Lieu d''intervention],$S$2,Tableau_Data[Annee],\">\"&E2,Tableau_Data[Annee],\"<\"&G2))","v":0},null,{"$f":"Paramètres!K7","v":"Jeunes et Adolescents scolarisés"},{"$f":"Paramètres!K8","v":"Hommes"},{"$f":"Paramètres!K9","v":"Femmes"},{"$f":"Paramètres!K10","v":"Mixte"},{"$f":"Paramètres!K11","v":"Jeunes et Adolescents non scolarisés"},{"$f":"Paramètres!K12","v":"Batwa"},{"$f":"Paramètres!K13","v":"Personnes avec Handicap"},null,"TOTAL FICHES"]
[null,null,null,"Sélectinnez l'année",null,null,null,null,null,null,null,null,null,"Féminin",{"$f":"(SUMIFS(Tableau_Data[Féminin],Tableau_Data[ASBL],$B$1,Tableau_Data[Annee],$D$3,Tableau_Data[Lieu d''intervention],$O$2,Tableau_Data[Mois],I3)+SUMIFS(Tableau_Data[Féminin],Tableau_Data[ASBL],$B1,Tableau_Data[Lieu d''intervention],$O$2,Tableau_Data[Annee],$F$3,Tableau_Data[Mois],K3)+SUMIFS(Tableau_Data[Féminin],Tableau_Data[ASBL],$B$1,Tableau_Data[Lieu d''intervention],$O$2,Tableau_Data[Annee],\">\"&D2,Tableau_Data[Annee],\"<\"&F2))","v":0},{"$f":"(SUMIFS(Tableau_Data[Féminin],Tableau_Data[ASBL],$B$1,Tableau_Data[Annee],$D$3,Tableau_Data[Lieu d''intervention],$P$2,Tableau_Data[Mois],I3)+SUMIFS(Tableau_Data[Féminin],Tableau_Data[ASBL],$B1,Tableau_Data[Lieu d''intervention],$P$2,Tableau_Data[Annee],$F$3,Tableau_Data[Mois],K3)+SUMIFS(Tableau_Data[Féminin],Tableau_Data[ASBL],$B$1,Tableau_Data[Lieu d''intervention],$P$2,Tableau_Data[Annee],\">\"&D2,Tableau_Data[Annee],\"<\"&F2))","v":0},{"$f":"(SUMIFS(Tableau_Data[Féminin],Tableau_Data[ASBL],$B$1,Tableau_Data[Annee],$D$3,Tableau_Data[Lieu d''intervention],$Q$2,Tableau_Data[Mois],I3)+SUMIFS(Tableau_Data[Féminin],Tableau_Data[ASBL],$B1,Tableau_Data[Lieu d''intervention],$Q$2,Tableau_Data[Annee],$F$3,Tableau_Data[Mois],K3)+SUMIFS(Tableau_Data[Féminin],Tableau_Data[ASBL],$B$1,Tableau_Data[Lieu d''intervention],$Q$2,Tableau_Data[Annee],\">\"&D2,Tableau_Data[Annee],\"<\"&F2))","v":0},{"$f":"(SUMIFS(Tableau_Data[Féminin],Tableau_Data[ASBL],$B$1,Tableau_Data[Annee],$D$3,Tableau_Data[Lieu d''intervention],$R$2,Tableau_Data[Mois],I3)+SUMIFS(Tableau_Data[Féminin],Tableau_Data[ASBL],$B1,Tableau_Data[Lieu d''intervention],$R$2,Tableau_Data[Annee],$F$3,Tableau_Data[Mois],K3)+SUMIFS(Tableau_Data[Féminin],Tableau_Data[ASBL],$B$1,Tableau_Data[Lieu d''intervention],$R$2,Tableau_Data[Annee],\">\"&D2,Tableau_Data[Annee],\"<\"&F2))","v":0},{"$f":"(SUMIFS(Tableau_Data[Féminin],Tableau_Data[ASBL],$B$1,Tableau_Data[Annee],$D$3,Tableau_Data[Lieu d''intervention],$S$2,Tableau_Data[Mois],J3)+SUMIFS(Tableau_Data[Féminin],Tableau_Data[ASBL],$B1,Tableau_Data[Lieu d''intervention],$S$2,Tableau_Data[Annee],$F$3,Tableau_Data[Mois],L3)+SUMIFS(Tableau_Data[Féminin],Tableau_Data[ASBL],$B$1,Tableau_Data[Lieu d''intervention],$S$2,Tableau_Data[Annee],\">\"&E2,Tableau_Data[Annee],\"<\"&G2))","v":0},null,{"$f":"COUNTIFS(Tableau_Data[Cible],$U$3,Tableau_Data[ASBL],$B$1,Tableau_Data[Annee],$D$3,Tableau_Data[Mois],I3)+ COUNTIFS(Tableau_Data[Cible],$U$3,Tableau_Data[ASBL],$B$1,Tableau_Data[Annee],$F$3,Tableau_Data[Mois],K3)+ COUNTIFS(Tableau_Data[Cible],$U$3,Tableau_Data[ASBL],$B$1,Tableau_Data[Annee], \">\"&D2,Tableau_Data[Annee],\"<\"&F2)","v":0},{"$f":"COUNTIFS(Tableau_Data[Cible],$V$3,Tableau_Data[ASBL],$B$1,Tableau_Data[Annee],$D$3,Tableau_Data[Mois],I3)+ COUNTIFS(Tableau_Data[Cible],$V$3,Tableau_Data[ASBL],$B$1,Tableau_Data[Annee],$F$3,Tableau_Data[Mois],K3)+ COUNTIFS(Tableau_Data[Cible],$V$3,Tableau_Data[ASBL],$B$1,Tableau_Data[Annee], \">\"&D2,Tableau_Data[Annee],\"<\"&F2)","v":0},{"$f":"COUNTIFS(Tableau_Data[Cible],$W$3,Tableau_Data[ASBL],$B$1,Tableau_Data[Annee],$D$3,Tableau_Data[Mois],I3)+ COUNTIFS(Tableau_Data[Cible],$W$3,Tableau_Data[ASBL],$B$1,Tableau_Data[Annee],$F$3,Tableau_Data[Mois],K3)+ COUNTIFS(Tableau_Data[Cible],$W$3,Tableau_Data[ASBL],$B$1,Tableau_Data[Annee], \">\"&D2,Tableau_Data[Annee],\"<\"&F2)","v":0},{"$f":"COUNTIFS(Tableau_Data[Cible],$X$3,Tableau_Data[ASBL],$B$1,Tableau_Data[Annee],$D$3,Tableau_Data[Mois],I3)+ COUNTIFS(Tableau_Data[Cible],$X$3,Tableau_Data[ASBL],$B$1,Tableau_Data[Annee],$F$3,Tableau_Data[Mois],K3)+ COUNTIFS(Tableau_Data[Cible],$X$3,Tableau_Data[ASBL],$B$1,Tableau_Data[Annee], \">\"&D2,Tableau_Data[Annee],\"<\"&F2)","v":0},{"$f":"COUNTIFS(Tableau_Data[Cible],$Y$3,Tableau_Data[ASBL],$B$1,Tableau_Data[Annee],$D$3,Tableau_Data[Mois],I3)+ COUNTIFS(Tableau_Data[Cible],$Y$3,Tableau_Data[ASBL],$B$1,Tableau_Data[Annee],$F$3,Tableau_Data[Mois],K3)+ COUNTIFS(Tableau_Data[Cible],$Y$3,Tableau_Data[ASBL],$B$1,Tableau_Data[Annee], \">\"&D2,Tableau_Data[Annee],\"<\"&F2)","v":0},{"$f":"COUNTIFS(Tableau_Data[Cible],$Z$3,Tableau_Data[ASBL],$B$1,Tableau_Data[Annee],$D$3,Tableau_Data[Mois],I3)+ COUNTIFS(Tableau_Data[Cible],$Z$3,Tableau_Data[ASBL],$B$1,Tableau_Data[Annee],$F$3,Tableau_Data[Mois],K3)+ COUNTIFS(Tableau_Data[Cible],$Z$3,Tableau_Data[ASBL],$B$1,Tableau_Data[Annee], \">\"&D2,Tableau_Data[Annee],\"<\"&F2)","v":0},{"$f":"COUNTIFS(Tableau_Data[Cible],$AA$3,Tableau_Data[ASBL],$B$1,Tableau_Data[Annee],$D$3,Tableau_Data[Mois],I3)+ COUNTIFS(Tableau_Data[Cible],$AA$3,Tableau_Data[ASBL],$B$1,Tableau_Data[Annee],$F$3,Tableau_Data[Mois],K3)+ COUNTIFS(Tableau_Data[Cible],$AA$3,Tableau_Data[ASBL],$B$1,Tableau_Data[Annee], \">\"&D2,Tableau_Data[Annee],\"<\"&F2)","v":0},null,{"$f":"COUNTIFS(Tableau_Data[ASBL],$B$1,Tableau_Data[Annee],$D$3,Tableau_Data[Mois],I3)+COUNTIFS(Tableau_Data[ASBL],$B$1,Tableau_Data[Annee],$F$3,Tableau_Data[Mois],K3)+COUNTIFS(Tableau_Data[ASBL],$B$1,Tableau_Data[Annee],\">\"&D2,Tableau_Data[Annee],\"<\"&F2)","v":0}]
[null,null,null,null,null,null,null,null,null,null,null,null,null,"Total",{"$f":"SUM(O3:O4)","v":0},{"$f":"SUM(P3:P4)","v":0},{"$f":"SUM(Q3:Q4)","v":0},{"$f":"SUM(R3:R4)","v":0},{"$f":"SUM(S3:S4)","v":0},null,{"$f":"U4/AC4","v":{"$error":"#DIV/0!"}},{"$f":"V4/AC4","v":{"$error":"#DIV/0!"}},{"$f":"W4/AC4","v":{"$error":"#DIV/0!"}},{"$f":"X4/AC4","v":{"$error":"#DIV/0!"}},{"$f":"Y4/AC4","v":{"$error":"#DIV/0!"}},{"$f":"Z4/AC4","v":{"$error":"#DIV/0!"}},{"$f":"AA4/AC4","v":{"$error":"#DIV/0!"}}]
[null,null,null,"Total Masculin",null,"Total Féminin",null,null,"TOTAL"]
[null,null,null,{"$f":"(SUMIFS(Tableau_Data[Masculin],Tableau_Data[ASBL],$B$1,Tableau_Data[Annee],$D$3,Tableau_Data[Mois],I3)+SUMIFS(Tableau_Data[Masculin],Tableau_Data[ASBL],$B1,Tableau_Data[Annee],$F$3,Tableau_Data[Mois],K3)+SUMIFS(Tableau_Data[Masculin],Tableau_Data[ASBL],$B$1,Tableau_Data[Annee],\">\"&D2,Tableau_Data[Annee],\"<\"&F2))","v":0},null,{"$f":"(SUMIFS(Tableau_Data[Féminin],Tableau_Data[ASBL],$B$1,Tableau_Data[Annee],$D$3,Tableau_Data[Mois],I3)+SUMIFS(Tableau_Data[Féminin],Tableau_Data[ASBL],$B1,Tableau_Data[Annee],$F$3,Tableau_Data[Mois],K3)+SUMIFS(Tableau_Data[Féminin],Tableau_Data[ASBL],$B$1,Tableau_Data[Annee],\">\"&D2,Tableau_Data[Annee],\"<\"&F2))","v":0},null,null,{"$f":"SUM(D7:F7)","v":0}]
[]
[]
[]
[]
[]
[]
[]
[]
[]
[]
[]
[]
[]
[]
[]
[]
[]
[null,null,null,null,null,null,null,null,null,null,null,null,null,"Synthèse : Lieu d'Intervention",null,null,null,null,null,null,"DEMO. PRESERVATIF",null,null,"TEMOIGNAGE"]
[null,null,null,null,null,null,null,null,null,null,null,null,"ASBL",{"$f":"B1","v":"FVS AMADE"},null,null,null,null,null,null,null,null,null,null,null,null,"TOTAL FICHES"]
[null,null,null,null,null,null,null,null,null,null,null,null,null,null,null,null,null,null,null,null,"OUI","NON",null,"OUI","NON",null,{"$f":"COUNTIFS(Tableau_Data[ASBL],$B$1,Tableau_Data[Annee],$D$3,Tableau_Data[Mois],I3)+COUNTIFS(Tableau_Data[ASBL],$B$1,Tableau_Data[Annee],$F$3,Tableau_Data[Mois],K3)+COUNTIFS(Tableau_Data[ASBL],$B$1,Tableau_Data[Annee],\">\"&D2,Tableau_Data[Annee],\"<\"&F2)","v":0}]
[null,null,null,null,null,null,null,null,null,null,null,null,null,null,null,null,null,null,null,null,{"$f":"COUNTIFS(Tableau_Data[Démo Preservatif],$U$27,Tableau_Data[ASBL],$B$1,Tableau_Data[Annee],$D$3,Tableau_Data[Mois],I3)+ COUNTIFS(Tableau_Data[Démo Preservatif],$U$27,Tableau_Data[ASBL],$B$1,Tableau_Data[Annee],$F$3,Tableau_Data[Mois],K3)+ COUNTIFS(Tableau_Data[Démo Preservatif],$U$27,Tableau_Data[ASBL],$B$1,Tableau_Data[Annee],\">\"&D2,Tableau_Data[Annee],\"<\"&F2)","v":0},{"$f":"COUNTIFS(Tableau_Data[Démo Preservatif],$V$27,Tableau_Data[ASBL],$B$1,Tableau_Data[Annee],$D$3,Tableau_Data[Mois],I3)+ COUNTIFS(Tableau_Data[Démo Preservatif],$V$27,Tableau_Data[ASBL],$B$1,Tableau_Data[Annee],$F$3,Tableau_Data[Mois],K3)+ COUNTIFS(Tableau_Data[Démo Preservatif],$V$27,Tableau_Data[ASBL],$B$1,Tableau_Data[Annee],\">\"&D2,Tableau_Data[Annee],\"<\"&F2)","v":0},null,{"$f":"COUNTIFS(Tableau_Data[Témoignage],$X$27,Tableau_Data[ASBL],$B$1,Tableau_Data[Annee],$D$3,Tableau_Data[Mois],I3)+ COUNTIFS(Tableau_Data[Témoignage],$X$27,Tableau_Data[ASBL],$B$1,Tableau_Data[Annee],$F$3,Tableau_Data[Mois],K3)+ COUNTIFS(Tableau_Data[Témoignage],$X$27,Tableau_Data[ASBL],$B$1,Tableau_Data[Annee], \">\"&D2,Tableau_Data[Annee],\"<\"&F2)","v":0},{"$f":"COUNTIFS(Tableau_Data[Témoignage],$Y$27,Tableau_Data[ASBL],$B$1,Tableau_Data[Annee],$D$3,Tableau_Data[Mois],I3)+ COUNTIFS(Tableau_Data[Témoignage],$Y$27,Tableau_Data[ASBL],$B$1,Tableau_Data[Annee],$F$3,Tableau_Data[Mois],K3)+ COUNTIFS(Tableau_Data[Témoignage],$Y$27,Tableau_Data[ASBL],$B$1,Tableau_Data[Annee], \">\"&D2,Tableau_Data[Annee],\"<\"&F2)","v":0}]
[null,null,null,null,null,null,null,null,null,null,null,null,"A","B","C","D",null,null,null,null,{"$f":"U28/AA27","v":{"$error":"#DIV/0!"}},{"$f":"V28/AA27","v":{"$error":"#DIV/0!"}},null,{"$f":"X28/AA27","v":{"$error":"#DIV/0!"}},{"$f":"Y28/AA27","v":{"$error":"#DIV/0!"}}]
[null,null,null,null,null,null,null,null,null,null,null,null,{"$f":"Paramètres!F7","v":"IST/VIH-SIDA"},{"$f":"Paramètres!F8","v":"VSBG"},{"$f":"Paramètres!F9","v":"PF"},{"$f":"Paramètres!F10","v":"Autres thèmes SSRAJ"}]
[null,null,null,null,null,null,null,null,null,null,null,"Masculin",{"$f":"(SUMIFS(Tableau_Data[Masculin],Tableau_Data[ASBL],$B1,Tableau_Data[Thèmes],$M$30,Tableau_Data[Annee],$D$3,Tableau_Data[Mois],I3)+ SUMIFS(Tableau_Data[Masculin],Tableau_Data[ASBL],$B1,Tableau_Data[Thèmes],$M$30,Tableau_Data[Annee],$F$3,Tableau_Data[Mois],K3)+SUMIFS(Tableau_Data[Masculin],Tableau_Data[ASBL],$B1,Tableau_Data[Thèmes],$M$30,Tableau_Data[Annee],\">\"&D2,Tableau_Data[Annee],\"<\"&F2))","v":0},{"$f":"(SUMIFS(Tableau_Data[Masculin],Tableau_Data[ASBL],$B1,Tableau_Data[Thèmes],$N$30,Tableau_Data[Annee],$D$3,Tableau_Data[Mois],I3)+ SUMIFS(Tableau_Data[Masculin],Tableau_Data[ASBL],$B1,Tableau_Data[Thèmes],$N$30,Tableau_Data[Annee],$F$3,Tableau_Data[Mois],K3)+SUMIFS(Tableau_Data[Masculin],Tableau_Data[ASBL],$B1,Tableau_Data[Thèmes],$N$30,Tableau_Data[Annee],\">\"&D2,Tableau_Data[Annee],\"<\"&F2))","v":0},{"$f":"(SUMIFS(Tableau_Data[Masculin],Tableau_Data[ASBL],$B1,Tableau_Data[Thèmes],$O$30,Tableau_Data[Annee],$D$3,Tableau_Data[Mois],I3)+ SUMIFS(Tableau_Data[Masculin],Tableau_Data[ASBL],$B1,Tableau_Data[Thèmes],$O$30,Tableau_Data[Annee],$F$3,Tableau_Data[Mois],K3)+SUMIFS(Tableau_Data[Masculin],Tableau_Data[ASBL],$B1,Tableau_Data[Thèmes],$O$30,Tableau_Data[Annee],\">\"&D2,Tableau_Data[Annee],\"<\"&F2))","v":0},{"$f":"(SUMIFS(Tableau_Data[Masculin],Tableau_Data[ASBL],$B1,Tableau_Data[Thèmes],$P$30,Tableau_Data[Annee],$D$3,Tableau_Data[Mois],I3)+ SUMIFS(Tableau_Data[Masculin],Tableau_Data[ASBL],$B1,Tableau_Data[Thèmes],$P$30,Tableau_Data[Annee],$F$3,Tableau_Data[Mois],K3)+SUMIFS(Tableau_Data[Masculin],Tableau_Data[ASBL],$B1,Tableau_Data[Thèmes],$P$30,Tableau_Data[Annee],\">\"&D2,Tableau_Data[Annee],\"<\"&F2))","v":0}]
[null,null,null,null,null,null,null,null,null,null,null,"Féminin",{"$f":"(SUMIFS(Tableau_Data[Féminin],Tableau_Data[ASBL],$B1,Tableau_Data[Thèmes],$M$30,Tableau_Data[Annee],$D$3,Tableau_Data[Mois],I3)+ SUMIFS(Tableau_Data[Féminin],Tableau_Data[ASBL],$B1,Tableau_Data[Thèmes],$M$30,Tableau_Data[Annee],$F$3,Tableau_Data[Mois],K3)+SUMIFS(Tableau_Data[Féminin],Tableau_Data[ASBL],$B1,Tableau_Data[Thèmes],$M$30,Tableau_Data[Annee],\">\"&D2,Tableau_Data[Annee],\"<\"&F2))","v":0},{"$f":"(SUMIFS(Tableau_Data[Féminin],Tableau_Data[ASBL],$B1,Tableau_Data[Thèmes],$N$30,Tableau_Data[Annee],$D$3,Tableau_Data[Mois],I3)+ SUMIFS(Tableau_Data[Féminin],Tableau_Data[ASBL],$B1,Tableau_Data[Thèmes],$N$30,Tableau_Data[Annee],$F$3,Tableau_Data[Mois],K3)+SUMIFS(Tableau_Data[Féminin],Tableau_Data[ASBL],$B1,Tableau_Data[Thèmes],$N$30,Tableau_Data[Annee],\">\"&D2,Tableau_Data[Annee],\"<\"&F2))","v":0},{"$f":"(SUMIFS(Tableau_Data[Féminin],Tableau_Data[ASBL],$B1,Tableau_Data[Thèmes],$O$30,Tableau_Data[Annee],$D$3,Tableau_Data[Mois],I3)+ SUMIFS(Tableau_Data[Féminin],Tableau_Data[ASBL],$B1,Tableau_Data[Thèmes],$O$30,Tableau_Data[Annee],$F$3,Tableau_Data[Mois],K3)+SUMIFS(Tableau_Data[Féminin],Tableau_Data[ASBL],$B1,Tableau_Data[Thèmes],$O$30,Tableau_Data[Annee],\">\"&D2,Tableau_Data[Annee],\"<\"&F2))","v":0},{"$f":"(SUMIFS(Tableau_Data[Féminin],Tableau_Data[ASBL],$B1,Tableau_Data[Thèmes],$P$30,Tableau_Data[Annee],$D$3,Tableau_Data[Mois],I3)+ SUMIFS(Tableau_Data[Féminin],Tableau_Data[ASBL],$B1,Tableau_Data[Thèmes],$P$30,Tableau_Data[Annee],$F$3,Tableau_Data[Mois],K3)+SUMIFS(Tableau_Data[Féminin],Tableau_Data[ASBL],$B1,Tableau_Data[Thèmes],$P$30,Tableau_Data[Annee],\">\"&D2,Tableau_Data[Annee],\"<\"&F2))","v":0}]
[null,null,"ASBL",null,{"$f":"B1","v":"FVS AMADE"},null,null,null,null,null,null,"Total",{"$f":"SUM(M31:M32)","v":0},{"$f":"SUM(N31:N32)","v":0},{"$f":"SUM(O31:O32)","v":0},{"$f":"SUM(P31:P32)","v":0}]
[]
[]
[]
[]
[]
[]
[]
[]
[null,"Rapport de :",null,{"$f":"Paramètres!I18","v":"GIZ"},null,null,"Imprimé le :",null,{"$f":"TODAY()","v":"2023-03-21"}]
[]
[]
[]
[]
[]
[]
[]
[]
[]
[null,null,null,null,null,null,null,null,null,null,null,null,null,"Synthèse : Thèmes traités"]
[]
[]
[]
[]
[]
[null,null,null,null,null,null,null,null,null,null,null,null,"Rapport de :",null,{"$f":"Paramètres!I18","v":"GIZ"},null,null,"Imprimé le :",{"$f":"TODAY()","v":"2023-03-21"}]

{"sheet":"Reseaux-Tranche age","index":18,"n_rows":58,"n_cols":29,"rows_kept":58,"cut":false,"hidden":false,"merged":[[51,13,51,15],[57,12,57,13],[57,14,57,15],[57,18,57,19],[25,12,26,12],[25,13,26,17],[1,21,1,26],[24,13,24,15],[32,2,33,2],[32,4,33,8],[41,1,41,2],[41,3,41,4],[3,3,3,5],[5,3,5,4],[5,5,5,6],[6,3,6,4],[6,5,6,6],[0,1,0,4],[1,6,1,7],[2,6,2,7],[0,6,0,9],[0,14,0,17]]}
[null,"CDS Kanka",null,null,null,null,"Réseaux -Période/ Tranche d'age",null,null,null,null,null,null,null,{"$f":"J5","v":"10 - 14 ans"}]
[null,null,null,{"$f":"VLOOKUP(D3,Paramètres!$I$21:$J$35,2,0)","v":2019},null,{"$f":"VLOOKUP(F3,Paramètres!$I$21:$J$35,2,0)","v":2020},"DE",null,null,"A",null,null,null,null,{"$f":"Paramètres!B7","v":"ECOLE"},{"$f":"Paramètres!B8","v":"CENTRE DE SANTE"},{"$f":"Paramètres!B9","v":"COMMUNAUTE"},{"$f":"Paramètres!B10","v":"CENTRE PVH"},{"$f":"Paramètres!B11","v":"EGLISE"},null,null,"Analyse axée sur les cibles"]
[null,null,"RAPPORT",2019,null,2020,"Juillet",null,{"$f":"VLOOKUP(G3,Paramètres!$Y$7:$Z$18,2,0)","v":">6"},"Mars",{"$f":"VLOOKUP(J3,Paramètres!$AB$7:$AC$18,2,0)","v":"<4"},null,null,"Masculin",{"$f":"SUMIFS(Tableau_Data[Masculin],Tableau_Data[Nom du CDS],$B1,Tableau_Data[Lieu d''intervention],$O$2,Tableau_Data[Annee],$D$3,Tableau_Data[Mois],I3,Tableau_Data[Tranche d''age],J5)+SUMIFS(Tableau_Data[Masculin],Tableau_Data[Nom du CDS],$B1,Tableau_Data[Lieu d''intervention],$O$2,Tableau_Data[Annee],$F$3,Tableau_Data[Mois],K3,Tableau_Data[Tranche d''age],J5)+SUMIFS(Tableau_Data[Masculin],Tableau_Data[Nom du CDS],$B1,Tableau_Data[Lieu d''intervention],$O$2, Tableau_Data[Annee],\">\"&D2,Tableau_Data[Annee],\"<\"&F2,Tableau_Data[Tranche d''age],J5)","v":0},{"$f":"SUMIFS(Tableau_Data[Masculin],Tableau_Data[Nom du CDS],$B1,Tableau_Data[Lieu d''intervention],$P$2,Tableau_Data[Annee],$D$3,Tableau_Data[Mois],I3,Tableau_Data[Tranche d''age],J5)+SUMIFS(Tableau_Data[Masculin],Tableau_Data[Nom du CDS],$B1,Tableau_Data[Lieu d''intervention],$P$2,Tableau_Data[Annee],$F$3,Tableau_Data[Mois],K3,Tableau_Data[Tranche d''age],J5)+SUMIFS(Tableau_Data[Masculin],Tableau_Data[Nom du CDS],$B1,Tableau_Data[Lieu d''intervention],$P$2, Tableau_Data[Annee],\">\"&D2,Tableau_Data[Annee],\"<\"&F2,Tableau_Data[Tranche d''age],J5)","v":0},{"$f":"SUMIFS(Tableau_Data[Masculin],Tableau_Data[Nom du CDS],$B1,Tableau_Data[Lieu d''intervention],$Q$2,Tableau_Data[Annee],$D$3,Tableau_Data[Mois],I3,Tableau_Data[Tranche d''age],J5)+SUMIFS(Tableau_Data[Masculin],Tableau_Data[Nom du CDS],$B1,Tableau_Data[Lieu d''intervention],$Q$2,Tableau_Data[Annee],$F$3,Tableau_Data[Mois],K3,Tableau_Data[Tranche d''age],J5)+SUMIFS(Tableau_Data[Masculin],Tableau_Data[Nom du CDS],$B1,Tableau_Data[Lieu d''intervention],$Q$2, Tableau_Data[Annee],\">\"&D2,Tableau_Data[Annee],\"<\"&F2,Tableau_Data[Tranche d''age],J5)","v":0},{"$f":"SUMIFS(Tableau_Data[Masculin],Tableau_Data[Nom du CDS],$B1,Tableau_Data[Lieu d''intervention],$R$2,Tableau_Data[Annee],$D$3,Tableau_Data[Mois],I3,Tableau_Data[Tranche d''age],J5)+SUMIFS(Tableau_Data[Masculin],Tableau_Data[Nom du CDS],$B1,Tableau_Data[Lieu d''intervention],$R$2,Tableau_Data[Annee],$F$3,Tableau_Data[Mois],K3,Tableau_Data[Tranche d''age],J5)+SUMIFS(Tableau_Data[Masculin],Tableau_Data[Nom du CDS],$B1,Tableau_Data[Lieu d''intervention],$R$2, Tableau_Data[Annee],\">\"&D2,Tableau_Data[Annee],\"<\"&F2,Tableau_Data[Tranche d''age],J5)","v":0},{"$f":"SUMIFS(Tableau_Data[Masculin],Tableau_Data[Nom du CDS],$B1,Tableau_Data[Lieu d''intervention],$S$2,Tableau_Data[Annee],$D$3,Tableau_Data[Mois],J3,Tableau_Data[Tranche d''age],K5)+SUMIFS(Tableau_Data[Masculin],Tableau_Data[Nom du CDS],$B1,Tableau_Data[Lieu d''intervention],$S$2,Tableau_Data[Annee],$F$3,Tableau_Data[Mois],L3,Tableau_Data[Tranche d''age],K5)+SUMIFS(Tableau_Data[Masculin],Tableau_Data[Nom du CDS],$B1,Tableau_Data[Lieu d''intervention],$S$2, Tableau_Data[Annee],\">\"&E2,Tableau_Data[Annee],\"<\"&G2,Tableau_Data[Tranche d''age],K5)","v":0},null,"J-ADO-S","H","F","M","J-ADO-NS","B","P-H"]
[null,null,null,"Sélectinnez l'année",null,null,null,null,null,null,null,null,null,"Féminin",{"$f":"SUMIFS(Tableau_Data[Féminin],Tableau_Data[Nom du CDS],$B1,Tableau_Data[Lieu d''intervention],$O$2,Tableau_Data[Annee],$D$3,Tableau_Data[Mois],I3,Tableau_Data[Tranche d''age],J5)+SUMIFS(Tableau_Data[Féminin],Tableau_Data[Nom du CDS],$B1,Tableau_Data[Lieu d''intervention],$O$2,Tableau_Data[Annee],$F$3,Tableau_Data[Mois],K3,Tableau_Data[Tranche d''age],J5)+SUMIFS(Tableau_Data[Féminin],Tableau_Data[Nom du CDS],$B1,Tableau_Data[Lieu d''intervention],$O$2, Tableau_Data[Annee],\">\"&D2,Tableau_Data[Annee],\"<\"&F2,Tableau_Data[Tranche d''age],J5)","v":0},{"$f":"SUMIFS(Tableau_Data[Féminin],Tableau_Data[Nom du CDS],$B1,Tableau_Data[Lieu d''intervention],$P$2,Tableau_Data[Annee],$D$3,Tableau_Data[Mois],I3,Tableau_Data[Tranche d''age],J5)+SUMIFS(Tableau_Data[Féminin],Tableau_Data[Nom du CDS],$B1,Tableau_Data[Lieu d''intervention],$P$2,Tableau_Data[Annee],$F$3,Tableau_Data[Mois],K3,Tableau_Data[Tranche d''age],J5)+SUMIFS(Tableau_Data[Féminin],Tableau_Data[Nom du CDS],$B1,Tableau_Data[Lieu d''intervention],$P$2, Tableau_Data[Annee],\">\"&D2,Tableau_Data[Annee],\"<\"&F2,Tableau_Data[Tranche d''age],J5)","v":0},{"$f":"SUMIFS(Tableau_Data[Féminin],Tableau_Data[Nom du CDS],$B1,Tableau_Data[Lieu d''intervention],$Q$2,Tableau_Data[Annee],$D$3,Tableau_Data[Mois],I3,Tableau_Data[Tranche d''age],J5)+SUMIFS(Tableau_Data[Féminin],Tableau_Data[Nom du CDS],$B1,Tableau_Data[Lieu d''intervention],$Q$2,Tableau_Data[Annee],$F$3,Tableau_Data[Mois],K3,Tableau_Data[Tranche d''age],J5)+SUMIFS(Tableau_Data[Féminin],Tableau_Data[Nom du CDS],$B1,Tableau_Data[Lieu d''intervention],$Q$2, Tableau_Data[Annee],\">\"&D2,Tableau_Data[Annee],\"<\"&F2,Tableau_Data[Tranche d''age],J5)","v":0},{"$f":"SUMIFS(Tableau_Data[Féminin],Tableau_Data[Nom du CDS],$B1,Tableau_Data[Lieu d''intervention],$R$2,Tableau_Data[Annee],$D$3,Tableau_Data[Mois],I3,Tableau_Data[Tranche d''age],J5)+SUMIFS(Tableau_Data[Féminin],Tableau_Data[Nom du CDS],$B1,Tableau_Data[Lieu d''intervention],$R$2,Tableau_Data[Annee],$F$3,Tableau_Data[Mois],K3,Tableau_Data[Tranche d''age],J5)+SUMIFS(Tableau_Data[Féminin],Tableau_Data[Nom du CDS],$B1,Tableau_Data[Lieu d''intervention],$R$2, Tableau_Data[Annee],\">\"&D2,Tableau_Data[Annee],\"<\"&F2,Tableau_Data[Tranche d''age],J5)","v":0},{"$f":"SUMIFS(Tableau_Data[Féminin],Tableau_Data[Nom du CDS],$B1,Tableau_Data[Lieu d''intervention],$S$2,Tableau_Data[Annee],$D$3,Tableau_Data[Mois],J3,Tableau_Data[Tranche d''age],K5)+SUMIFS(Tableau_Data[Féminin],Tableau_Data[Nom du CDS],$B1,Tableau_Data[Lieu d''intervention],$S$2,Tableau_Data[Annee],$F$3,Tableau_Data[Mois],L3,Tableau_Data[Tranche d''age],K5)+SUMIFS(Tableau_Data[Féminin],Tableau_Data[Nom du CDS],$B1,Tableau_Data[Lieu d''intervention],$S$2, Tableau_Data[Annee],\">\"&E2,Tableau_Data[Annee],\"<\"&G2,Tableau_Data[Tranche d''age],K5)","v":0},null,{"$f":"Paramètres!K7","v":"Jeunes et Adolescents scolarisés"},{"$f":"Paramètres!K8","v":"Hommes"},{"$f":"Paramètres!K9","v":"Femmes"},{"$f":"Paramètres!K10","v":"Mixte"},{"$f":"Paramètres!K11","v":"Jeunes et Adolescents non scolarisés"},{"$f":"Paramètres!K12","v":"Batwa"},{"$f":"Paramètres!K13","v":"Personnes avec Handicap"},null,"TOTAL FICHES"]
[null,null,null,null,null,null,null,null,"Tranche Age","10 - 14 ans",null,null,null,"Total",{"$f":"SUM(O3:O4)","v":0},{"$f":"SUM(P3:P4)","v":0},{"$f":"SUM(Q3:Q4)","v":0},{"$f":"SUM(R3:R4)","v":0},{"$f":"SUM(S3:S4)","v":0},null,{"$f":"COUNTIFS(Tableau_Data[Cible],$U$4,Tableau_Data[Nom du CDS],$B$1,Tableau_Data[Annee],$D$3,Tableau_Data[Mois],I3,Tableau_Data[Tranche d''age],J5)+COUNTIFS(Tableau_Data[Cible],$U$4,Tableau_Data[Nom du CDS],$B$1,Tableau_Data[Annee],$F$3,Tableau_Data[Mois],K3,Tableau_Data[Tranche d''age],J5)+COUNTIFS(Tableau_Data[Cible],$U$4,Tableau_Data[Nom du CDS],$B$1, Tableau_Data[Annee],\">\"&D2,Tableau_Data[Annee],\"<\"&F2,Tableau_Data[Tranche d''age],J5)","v":0},{"$f":"COUNTIFS(Tableau_Data[Cible],$V$4,Tableau_Data[Nom du CDS],$B$1,Tableau_Data[Annee],$D$3,Tableau_Data[Mois],I3,Tableau_Data[Tranche d''age],J5)+COUNTIFS(Tableau_Data[Cible],$V$4,Tableau_Data[Nom du CDS],$B$1,Tableau_Data[Annee],$F$3,Tableau_Data[Mois],K3,Tableau_Data[Tranche d''age],J5)+COUNTIFS(Tableau_Data[Cible],$V$4,Tableau_Data[Nom du CDS],$B$1, Tableau_Data[Annee],\">\"&D2,Tableau_Data[Annee],\"<\"&F2,Tableau_Data[Tranche d''age],J5)","v":0},{"$f":"COUNTIFS(Tableau_Data[Cible],$W$4,Tableau_Data[Nom du CDS],$B$1,Tableau_Data[Annee],$D$3,Tableau_Data[Mois],I3,Tableau_Data[Tranche d''age],J5)+COUNTIFS(Tableau_Data[Cible],$W$4,Tableau_Data[Nom du CDS],$B$1,Tableau_Data[Annee],$F$3,Tableau_Data[Mois],K3,Tableau_Data[Tranche d''age],J5)+COUNTIFS(Tableau_Data[Cible],$W$4,Tableau_Data[Nom du CDS],$B$1, Tableau_Data[Annee],\">\"&D2,Tableau_Data[Annee],\"<\"&F2,Tableau_Data[Tranche d''age],J5)","v":0},{"$f":"COUNTIFS(Tableau_Data[Cible],$X$4,Tableau_Data[Nom du CDS],$B$1,Tableau_Data[Annee],$D$3,Tableau_Data[Mois],I3,Tableau_Data[Tranche d''age],J5)+COUNTIFS(Tableau_Data[Cible],$X$4,Tableau_Data[Nom du CDS],$B$1,Tableau_Data[Annee],$F$3,Tableau_Data[Mois],K3,Tableau_Data[Tranche d''age],J5)+COUNTIFS(Tableau_Data[Cible],$X$4,Tableau_Data[Nom du CDS],$B$1, Tableau_Data[Annee],\">\"&D2,Tableau_Data[Annee],\"<\"&F2,Tableau_Data[Tranche d''age],J5)","v":0},{"$f":"COUNTIFS(Tableau_Data[Cible],$Y$4,Tableau_Data[Nom du CDS],$B$1,Tableau_Data[Annee],$D$3,Tableau_Data[Mois],I3,Tableau_Data[Tranche d''age],J5)+COUNTIFS(Tableau_Data[Cible],$Y$4,Tableau_Data[Nom du CDS],$B$1,Tableau_Data[Annee],$F$3,Tableau_Data[Mois],K3,Tableau_Data[Tranche d''age],J5)+COUNTIFS(Tableau_Data[Cible],$Y$4,Tableau_Data[Nom du CDS],$B$1, Tableau_Data[Annee],\">\"&D2,Tableau_Data[Annee],\"<\"&F2,Tableau_Data[Tranche d''age],J5)","v":0},{"$f":"COUNTIFS(Tableau_Data[Cible],$Z$4,Tableau_Data[Nom du CDS],$B$1,Tableau_Data[Annee],$D$3,Tableau_Data[Mois],I3,Tableau_Data[Tranche d''age],J5)+COUNTIFS(Tableau_Data[Cible],$Z$4,Tableau_Data[Nom du CDS],$B$1,Tableau_Data[Annee],$F$3,Tableau_Data[Mois],K3,Tableau_Data[Tranche d''age],J5)+COUNTIFS(Tableau_Data[Cible],$Z$4,Tableau_Data[Nom du CDS],$B$1, Tableau_Data[Annee],\">\"&D2,Tableau_Data[Annee],\"<\"&F2,Tableau_Data[Tranche d''age],J5)","v":0},{"$f":"COUNTIFS(Tableau_Data[Cible],$AA$4,Tableau_Data[Nom du CDS],$B$1,Tableau_Data[Annee],$D$3,Tableau_Data[Mois],I3,Tableau_Data[Tranche d''age],J5)+COUNTIFS(Tableau_Data[Cible],$AA$4,Tableau_Data[Nom du CDS],$B$1,Tableau_Data[Annee],$F$3,Tableau_Data[Mois],K3,Tableau_Data[Tranche d''age],J5)+COUNTIFS(Tableau_Data[Cible],$AA$4,Tableau_Data[Nom du CDS],$B$1, Tableau_Data[Annee],\">\"&D2,Tableau_Data[Annee],\"<\"&F2,Tableau_Data[Tranche d''age],J5)","v":0},null,{"$f":"COUNTIFS(Tableau_Data[Nom du CDS],$B$1,Tableau_Data[Annee],$D$3,Tableau_Data[Mois],I3,Tableau_Data[Tranche d''age],J5)+COUNTIFS(Tableau_Data[Nom du CDS],$B$1,Tableau_Data[Annee],$F$3,Tableau_Data[Mois],K3,Tableau_Data[Tranche d''age],J5)+COUNTIFS(Tableau_Data[Nom du CDS],$B$1, Tableau_Data[Annee],\">\"&D2,Tableau_Data[Annee],\"<\"&F2,Tableau_Data[Tranche d''age],J5)","v":0}]
[null,null,null,"Total Masculin",null,"Total Féminin",null,null,"TOTAL",null,null,null,null,null,null,null,null,null,null,null,{"$f":"U5/AC5","v":{"$error":"#DIV/0!"}},{"$f":"V5/AC5","v":{"$error":"#DIV/0!"}},{"$f":"W5/AC5","v":{"$error":"#DIV/0!"}},{"$f":"X5/AC5","v":{"$error":"#DIV/0!"}},{"$f":"Y5/AC5","v":{"$error":"#DIV/0!"}},{"$f":"Z5/AC5","v":{"$error":"#DIV/0!"}},{"$f":"AA5/AC5","v":{"$error":"#DIV/0!"}}]
[null,null,null,{"$f":"(SUMIFS(Tableau_Data[Masculin],Tableau_Data[Nom du CDS],$B1,Tableau_Data[Annee],$D$3,Tableau_Data[Mois],I3,Tableau_Data[Tranche d''age],J5)+ SUMIFS(Tableau_Data[Masculin],Tableau_Data[Nom du CDS],$B1,Tableau_Data[Annee],$F$3,Tableau_Data[Mois],K3,Tableau_Data[Tranche d''age],J5)+ SUMIFS(Tableau_Data[Masculin],Tableau_Data[Nom du CDS],$B1,Tableau_Data[Tranche d''age],J5,Tableau_Data[Annee],\">\"&D2,Tableau_Data[Annee],\"<\"&F2))","v":0},null,{"$f":"(SUMIFS(Tableau_Data[Féminin],Tableau_Data[Nom du CDS],$B1,Tableau_Data[Annee],$D$3,Tableau_Data[Mois],I3,Tableau_Data[Tranche d''age],J5)+ SUMIFS(Tableau_Data[Féminin],Tableau_Data[Nom du CDS],$B1,Tableau_Data[Annee],$F$3,Tableau_Data[Mois],K3,Tableau_Data[Tranche d''age],J5)+ SUMIFS(Tableau_Data[Féminin],Tableau_Data[Nom du CDS],$B1,Tableau_Data[Tranche d''age],J5,Tableau_Data[Annee],\">\"&D2,Tableau_Data[Annee],\"<\"&F2))","v":0},null,null,{"$f":"SUM(D7:F7)","v":0}]
[]
[]
[]
[]
[]
[]
[]
[]
[]
[]
[]
[]
[]
[]
[]
[]
[]
[null,null,null,null,null,null,null,null,null,null,null,null,null,"Synthèse : Lieu d'Intervention"]
[null,null,null,null,null,null,null,null,null,null,null,null,"Réseau",{"$f":"B1","v":"CDS Kanka"},null,null,null,null,null,null,"DEMO. PRESERVATIF",null,null,"TEMOIGNAGE",null,null,null,"TOTAL FICHES"]
[null,null,null,null,null,null,null,null,null,null,null,null,null,null,null,null,null,null,null,null,null,null,null,null,null,null,null,{"$f":"COUNTIFS(Tableau_Data[Nom du CDS],$B$1,Tableau_Data[Annee],$D$3,Tableau_Data[Mois],I3,Tableau_Data[Tranche d''age],J5)+COUNTIFS(Tableau_Data[Nom du CDS],$B$1,Tableau_Data[Annee],$F$3,Tableau_Data[Mois],K3,Tableau_Data[Tranche d''age],J5)+COUNTIFS(Tableau_Data[Nom du CDS],$B$1, Tableau_Data[Annee],\">\"&D2,Tableau_Data[Annee],\"<\"&F2,Tableau_Data[Tranche d''age],J5)","v":0}]
[null,null,null,null,null,null,null,null,null,null,null,null,null,null,null,null,null,null,null,null,"OUI","NON",null,"OUI","NON"]
[null,null,null,null,null,null,null,null,null,null,null,null,"A","B","C","D",null,null,null,null,{"$f":"COUNTIFS(Tableau_Data[Démo Preservatif],$U$28,Tableau_Data[Nom du CDS],$B$1,Tableau_Data[Annee],$D$3,Tableau_Data[Mois],I3,Tableau_Data[Mois],K3,Tableau_Data[Tranche d''age],J5)+COUNTIFS(Tableau_Data[Démo Preservatif],$U$28,Tableau_Data[Nom du CDS],$B$1,Tableau_Data[Annee],$F$3,Tableau_Data[Mois],K3,Tableau_Data[Tranche d''age],J5)+COUNTIFS(Tableau_Data[Démo Preservatif],$U$28,Tableau_Data[Nom du CDS],$B$1, Tableau_Data[Annee],\">\"&D2,Tableau_Data[Annee],\"<\"&F2,Tableau_Data[Tranche d''age],J5)","v":0},{"$f":"COUNTIFS(Tableau_Data[Démo Preservatif],$V$28,Tableau_Data[Nom du CDS],$B$1,Tableau_Data[Annee],$D$3,Tableau_Data[Mois],I3,Tableau_Data[Mois],K3,Tableau_Data[Tranche d''age],J5)+COUNTIFS(Tableau_Data[Démo Preservatif],$V$28,Tableau_Data[Nom du CDS],$B$1,Tableau_Data[Annee],$F$3,Tableau_Data[Mois],K3,Tableau_Data[Tranche d''age],J5)+COUNTIFS(Tableau_Data[Démo Preservatif],$V$28,Tableau_Data[Nom du CDS],$B$1, Tableau_Data[Annee],\">\"&D2,Tableau_Data[Annee],\"<\"&F2,Tableau_Data[Tranche d''age],J5)","v":0},null,{"$f":"COUNTIFS(Tableau_Data[Témoignage],$X$28,Tableau_Data[Nom du CDS],$B$1,Tableau_Data[Annee],$D$3,Tableau_Data[Mois],I3,Tableau_Data[Tranche d''age],J5)+COUNTIFS(Tableau_Data[Témoignage],$X$28,Tableau_Data[Nom du CDS],$B$1,Tableau_Data[Annee],$F$3,Tableau_Data[Mois],K3,Tableau_Data[Tranche d''age],J5)+COUNTIFS(Tableau_Data[Témoignage],$X$28,Tableau_Data[Nom du CDS],$B$1, Tableau_Data[Annee],\">\"&D2,Tableau_Data[Annee],\"<\"&F2,Tableau_Data[Tranche d''age],J5)","v":0},{"$f":"COUNTIFS(Tableau_Data[Témoignage],$Y$28,Tableau_Data[Nom du CDS],$B$1,Tableau_Data[Annee],$D$3,Tableau_Data[Mois],I3,Tableau_Data[Tranche d''age],J5)+COUNTIFS(Tableau_Data[Témoignage],$Y$28,Tableau_Data[Nom du CDS],$B$1,Tableau_Data[Annee],$F$3,Tableau_Data[Mois],K3,Tableau_Data[Tranche d''age],J5)+COUNTIFS(Tableau_Data[Témoignage],$Y$28,Tableau_Data[Nom du CDS],$B$1, Tableau_Data[Annee],\">\"&D2,Tableau_Data[Annee],\"<\"&F2,Tableau_Data[Tranche d''age],J5)","v":0}]
[null,null,null,null,null,null,null,null,null,null,null,null,{"$f":"Paramètres!F7","v":"IST/VIH-SIDA"},{"$f":"Paramètres!F8","v":"VSBG"},{"$f":"Paramètres!F9","v":"PF"},{"$f":"Paramètres!F10","v":"Autres thèmes SSRAJ"},null,null,null,null,{"$f":"U29/AB27","v":{"$error":"#DIV/0!"}},{"$f":"V29/AB27","v":{"$error":"#DIV/0!"}},null,{"$f":"X29/AB27","v":{"$error":"#DIV/0!"}},{"$f":"Y29/AB27","v":{"$error":"#DIV/0!"}}]
[null,null,null,null,null,null,null,null,null,null,null,"Masculin",{"$f":"SUMIFS(Tableau_Data[Masculin],Tableau_Data[Nom du CDS],$B1,Tableau_Data[Thèmes],$M$30,Tableau_Data[Annee],$D$3,Tableau_Data[Mois],I3,Tableau_Data[Tranche d''age],J5)+SUMIFS(Tableau_Data[Masculin],Tableau_Data[Nom du CDS],$B1,Tableau_Data[Thèmes],$M$30,Tableau_Data[Annee],$F$3,Tableau_Data[Mois],K3,Tableau_Data[Tranche d''age],J5)+SUMIFS(Tableau_Data[Masculin],Tableau_Data[Nom du CDS],$B1,Tableau_Data[Thèmes],$M$30, Tableau_Data[Annee],\">\"&D2,Tableau_Data[Annee],\"<\"&F2,Tableau_Data[Tranche d''age],J5)","v":0},{"$f":"SUMIFS(Tableau_Data[Masculin],Tableau_Data[Nom du CDS],$B1,Tableau_Data[Thèmes],$N$30,Tableau_Data[Annee],$D$3,Tableau_Data[Mois],I3,Tableau_Data[Tranche d''age],J5)+SUMIFS(Tableau_Data[Masculin],Tableau_Data[Nom du CDS],$B1,Tableau_Data[Thèmes],$N$30,Tableau_Data[Annee],$F$3,Tableau_Data[Mois],K3,Tableau_Data[Tranche d''age],J5)+SUMIFS(Tableau_Data[Masculin],Tableau_Data[Nom du CDS],$B1,Tableau_Data[Thèmes],$N$30, Tableau_Data[Annee],\">\"&D2,Tableau_Data[Annee],\"<\"&F2,Tableau_Data[Tranche d''age],J5)","v":0},{"$f":"SUMIFS(Tableau_Data[Masculin],Tableau_Data[Nom du CDS],$B1,Tableau_Data[Thèmes],$O$30,Tableau_Data[Annee],$D$3,Tableau_Data[Mois],I3,Tableau_Data[Tranche d''age],J5)+SUMIFS(Tableau_Data[Masculin],Tableau_Data[Nom du CDS],$B1,Tableau_Data[Thèmes],$O$30,Tableau_Data[Annee],$F$3,Tableau_Data[Mois],K3,Tableau_Data[Tranche d''age],J5)+SUMIFS(Tableau_Data[Masculin],Tableau_Data[Nom du CDS],$B1,Tableau_Data[Thèmes],$O$30, Tableau_Data[Annee],\">\"&D2,Tableau_Data[Annee],\"<\"&F2,Tableau_Data[Tranche d''age],J5)","v":0},{"$f":"SUMIFS(Tableau_Data[Masculin],Tableau_Data[Nom du CDS],$B1,Tableau_Data[Thèmes],$P$30,Tableau_Data[Annee],$D$3,Tableau_Data[Mois],I3,Tableau_Data[Tranche d''age],J5)+SUMIFS(Tableau_Data[Masculin],Tableau_Data[Nom du CDS],$B1,Tableau_Data[Thèmes],$P$30,Tableau_Data[Annee],$F$3,Tableau_Data[Mois],K3,Tableau_Data[Tranche d''age],J5)+SUMIFS(Tableau_Data[Masculin],Tableau_Data[Nom du CDS],$B1,Tableau_Data[Thèmes],$P$30, Tableau_Data[Annee],\">\"&D2,Tableau_Data[Annee],\"<\"&F2,Tableau_Data[Tranche d''age],J5)","v":0}]
[null,null,null,null,null,null,null,null,null,null,null,"Féminin",{"$f":"SUMIFS(Tableau_Data[Féminin],Tableau_Data[Nom du CDS],$B1,Tableau_Data[Thèmes],$M$30,Tableau_Data[Annee],$D$3,Tableau_Data[Mois],I3,Tableau_Data[Tranche d''age],J5)+SUMIFS(Tableau_Data[Féminin],Tableau_Data[Nom du CDS],$B1,Tableau_Data[Thèmes],$M$30,Tableau_Data[Annee],$F$3,Tableau_Data[Mois],K3,Tableau_Data[Tranche d''age],J5)+SUMIFS(Tableau_Data[Féminin],Tableau_Data[Nom du CDS],$B1,Tableau_Data[Thèmes],$M$30, Tableau_Data[Annee],\">\"&D2,Tableau_Data[Annee],\"<\"&F2,Tableau_Data[Tranche d''age],J5)","v":0},{"$f":"SUMIFS(Tableau_Data[Féminin],Tableau_Data[Nom du CDS],$B1,Tableau_Data[Thèmes],$N$30,Tableau_Data[Annee],$D$3,Tableau_Data[Mois],I3,Tableau_Data[Tranche d''age],J5)+SUMIFS(Tableau_Data[Féminin],Tableau_Data[Nom du CDS],$B1,Tableau_Data[Thèmes],$N$30,Tableau_Data[Annee],$F$3,Tableau_Data[Mois],K3,Tableau_Data[Tranche d''age],J5)+SUMIFS(Tableau_Data[Féminin],Tableau_Data[Nom du CDS],$B1,Tableau_Data[Thèmes],$N$30, Tableau_Data[Annee],\">\"&D2,Tableau_Data[Annee],\"<\"&F2,Tableau_Data[Tranche d''age],J5)","v":0},{"$f":"SUMIFS(Tableau_Data[Féminin],Tableau_Data[Nom du CDS],$B1,Tableau_Data[Thèmes],$O$30,Tableau_Data[Annee],$D$3,Tableau_Data[Mois],I3,Tableau_Data[Tranche d''age],J5)+SUMIFS(Tableau_Data[Féminin],Tableau_Data[Nom du CDS],$B1,Tableau_Data[Thèmes],$O$30,Tableau_Data[Annee],$F$3,Tableau_Data[Mois],K3,Tableau_Data[Tranche d''age],J5)+SUMIFS(Tableau_Data[Féminin],Tableau_Data[Nom du CDS],$B1,Tableau_Data[Thèmes],$O$30, Tableau_Data[Annee],\">\"&D2,Tableau_Data[Annee],\"<\"&F2,Tableau_Data[Tranche d''age],J5)","v":0},{"$f":"SUMIFS(Tableau_Data[Féminin],Tableau_Data[Nom du CDS],$B1,Tableau_Data[Thèmes],$P$30,Tableau_Data[Annee],$D$3,Tableau_Data[Mois],I3,Tableau_Data[Tranche d''age],J5)+SUMIFS(Tableau_Data[Féminin],Tableau_Data[Nom du CDS],$B1,Tableau_Data[Thèmes],$P$30,Tableau_Data[Annee],$F$3,Tableau_Data[Mois],K3,Tableau_Data[Tranche d''age],J5)+SUMIFS(Tableau_Data[Féminin],Tableau_Data[Nom du CDS],$B1,Tableau_Data[Thèmes],$P$30, Tableau_Data[Annee],\">\"&D2,Tableau_Data[Annee],\"<\"&F2,Tableau_Data[Tranche d''age],J5)","v":0}]
[null,null,"Réseau",null,{"$f":"B1","v":"CDS Kanka"},null,null,null,null,null,null,"Total",{"$f":"SUM(M31:M32)","v":0},{"$f":"SUM(N31:N32)","v":0},{"$f":"SUM(O31:O32)","v":0},{"$f":"SUM(P31:P32)","v":0}]
[]
[]
[]
[]
[]
[]
[]
[]
[null,"Rapport de :",null,{"$f":"Paramètres!I18","v":"GIZ"},null,null,"Imprimé le :",null,{"$f":"TODAY()","v":"2023-03-21"}]
[]
[]
[]
[]
[]
[]
[]
[]
[]
[null,null,null,null,null,null,null,null,null,null,null,null,null,"Synthèse : Thèmes traités"]
[]
[]
[]
[]
[]
[null,null,null,null,null,null,null,null,null,null,null,null,"Rapport de :",null,{"$f":"Paramètres!I18","v":"GIZ"},null,null,"Imprimé le :",{"$f":"TODAY()","v":"2023-03-21"}]

{"sheet":"Feuil1","index":19,"n_rows":0,"n_cols":0,"rows_kept":0,"cut":false,"hidden":true,"merged":[]}

{"sheet":"Feuil2","index":20,"n_rows":0,"n_cols":0,"rows_kept":0,"cut":false,"hidden":true,"merged":[]}

{"sheet":"Feuil3","index":21,"n_rows":0,"n_cols":0,"rows_kept":0,"cut":false,"hidden":true,"merged":[]}

{"sheet":"Feuil4","index":22,"n_rows":0,"n_cols":0,"rows_kept":0,"cut":false,"hidden":true,"merged":[]}

{"sheet":"Feuil5","index":23,"n_rows":0,"n_cols":0,"rows_kept":0,"cut":false,"hidden":true,"merged":[]}

{"sheet":"DS-Tranche age","index":24,"n_rows":58,"n_cols":29,"rows_kept":58,"cut":false,"hidden":false,"merged":[[51,13,51,15],[57,12,57,13],[57,14,57,15],[57,18,57,19],[25,12,26,12],[25,13,26,17],[0,21,0,26],[24,13,24,15],[32,2,33,2],[32,4,33,8],[41,1,41,2],[41,3,41,4],[3,3,3,5],[5,3,5,4],[5,5,5,6],[6,3,6,4],[6,5,6,6],[0,1,0,4],[1,6,1,7],[2,6,2,7],[0,6,0,9],[0,14,0,17]]}
[null,"Kibumbu",null,null,null,null,"District Sanitaire -Période/Tranche d'age",null,null,null,null,null,null,null,{"$f":"J5","v":"10 - 14 ans"},null,null,null,null,null,null,"Analyse axée sur les cibles"]
[null,null,null,{"$f":"VLOOKUP(D3,Paramètres!$I$21:$J$35,2,0)","v":2019},null,{"$f":"VLOOKUP(F3,Paramètres!$I$21:$J$35,2,0)","v":2020},"DE",null,null,"A",null,null,null,null,{"$f":"Paramètres!B7","v":"ECOLE"},{"$f":"Paramètres!B8","v":"CENTRE DE SANTE"},{"$f":"Paramètres!B9","v":"COMMUNAUTE"},{"$f":"Paramètres!B10","v":"CENTRE PVH"},{"$f":"Paramètres!B11","v":"EGLISE"},null,"J-ADO-S","H","F","M","J-ADO-NS","B","P-H"]
[null,null,"RAPPORT",2019,null,2020,"Juin",null,{"$f":"VLOOKUP(G3,Paramètres!$Y$7:$Z$18,2,0)","v":">5"},"Mars",{"$f":"VLOOKUP(J3,Paramètres!$AB$7:$AC$18,2,0)","v":"<4"},null,null,"Masculin",{"$f":"SUMIFS(Tableau_Data[Masculin],Tableau_Data[District sanitaire],$B1,Tableau_Data[Lieu d''intervention],$O$2,Tableau_Data[Annee],$D$3,Tableau_Data[Mois],I3,Tableau_Data[Tranche d''age],J5)+SUMIFS(Tableau_Data[Masculin],Tableau_Data[District sanitaire],$B1,Tableau_Data[Lieu d''intervention],$O$2,Tableau_Data[Annee],$F$3,Tableau_Data[Mois],K3,Tableau_Data[Tranche d''age],J5)+SUMIFS(Tableau_Data[Masculin],Tableau_Data[District sanitaire],$B1,Tableau_Data[Lieu d''intervention],$O$2, Tableau_Data[Annee],\">\"&D2,Tableau_Data[Annee],\"<\"&F2,Tableau_Data[Tranche d''age],J5)","v":0},{"$f":"SUMIFS(Tableau_Data[Masculin],Tableau_Data[District sanitaire],$B1,Tableau_Data[Lieu d''intervention],$P$2,Tableau_Data[Annee],$D$3,Tableau_Data[Mois],I3,Tableau_Data[Tranche d''age],J5)+SUMIFS(Tableau_Data[Masculin],Tableau_Data[District sanitaire],$B1,Tableau_Data[Lieu d''intervention],$P$2,Tableau_Data[Annee],$F$3,Tableau_Data[Mois],K3,Tableau_Data[Tranche d''age],J5)+SUMIFS(Tableau_Data[Masculin],Tableau_Data[District sanitaire],$B1,Tableau_Data[Lieu d''intervention],$P$2, Tableau_Data[Annee],\">\"&D2,Tableau_Data[Annee],\"<\"&F2,Tableau_Data[Tranche d''age],J5)","v":0},{"$f":"SUMIFS(Tableau_Data[Masculin],Tableau_Data[District sanitaire],$B1,Tableau_Data[Lieu d''intervention],$Q$2,Tableau_Data[Annee],$D$3,Tableau_Data[Mois],I3,Tableau_Data[Tranche d''age],J5)+SUMIFS(Tableau_Data[Masculin],Tableau_Data[District sanitaire],$B1,Tableau_Data[Lieu d''intervention],$Q$2,Tableau_Data[Annee],$F$3,Tableau_Data[Mois],K3,Tableau_Data[Tranche d''age],J5)+SUMIFS(Tableau_Data[Masculin],Tableau_Data[District sanitaire],$B1,Tableau_Data[Lieu d''intervention],$Q$2, Tableau_Data[Annee],\">\"&D2,Tableau_Data[Annee],\"<\"&F2,Tableau_Data[Tranche d''age],J5)","v":0},{"$f":"SUMIFS(Tableau_Data[Masculin],Tableau_Data[District sanitaire],$B1,Tableau_Data[Lieu d''intervention],$R$2,Tableau_Data[Annee],$D$3,Tableau_Data[Mois],I3,Tableau_Data[Tranche d''age],J5)+SUMIFS(Tableau_Data[Masculin],Tableau_Data[District sanitaire],$B1,Tableau_Data[Lieu d''intervention],$R$2,Tableau_Data[Annee],$F$3,Tableau_Data[Mois],K3,Tableau_Data[Tranche d''age],J5)+SUMIFS(Tableau_Data[Masculin],Tableau_Data[District sanitaire],$B1,Tableau_Data[Lieu d''intervention],$R$2, Tableau_Data[Annee],\">\"&D2,Tableau_Data[Annee],\"<\"&F2,Tableau_Data[Tranche d''age],J5)","v":0},{"$f":"SUMIFS(Tableau_Data[Masculin],Tableau_Data[District sanitaire],$B1,Tableau_Data[Lieu d''intervention],$S$2,Tableau_Data[Annee],$D$3,Tableau_Data[Mois],J3,Tableau_Data[Tranche d''age],K5)+SUMIFS(Tableau_Data[Masculin],Tableau_Data[District sanitaire],$B1,Tableau_Data[Lieu d''intervention],$S$2,Tableau_Data[Annee],$F$3,Tableau_Data[Mois],L3,Tableau_Data[Tranche d''age],K5)+SUMIFS(Tableau_Data[Masculin],Tableau_Data[District sanitaire],$B1,Tableau_Data[Lieu d''intervention],$S$2, Tableau_Data[Annee],\">\"&E2,Tableau_Data[Annee],\"<\"&G2,Tableau_Data[Tranche d''age],K5)","v":0},null,{"$f":"Paramètres!K7","v":"Jeunes et Adolescents scolarisés"},{"$f":"Paramètres!K8","v":"Hommes"},{"$f":"Paramètres!K9","v":"Femmes"},{"$f":"Paramètres!K10","v":"Mixte"},{"$f":"Paramètres!K11","v":"Jeunes et Adolescents non scolarisés"},{"$f":"Paramètres!K12","v":"Batwa"},{"$f":"Paramètres!K13","v":"Personnes avec Handicap"},null,"TOTAL FICHES"]
[null,null,null,"Sélectinnez l'année",null,null,null,null,null,null,null,null,null,"Féminin",{"$f":"SUMIFS(Tableau_Data[Féminin],Tableau_Data[District sanitaire],$B1,Tableau_Data[Lieu d''intervention],$O$2,Tableau_Data[Annee],$D$3,Tableau_Data[Mois],I3,Tableau_Data[Tranche d''age],J5)+SUMIFS(Tableau_Data[Féminin],Tableau_Data[District sanitaire],$B1,Tableau_Data[Lieu d''intervention],$O$2,Tableau_Data[Annee],$F$3, Tableau_Data[Mois],K3,Tableau_Data[Tranche d''age],J5)+SUMIFS(Tableau_Data[Féminin],Tableau_Data[District sanitaire],$B1,Tableau_Data[Lieu d''intervention],$O$2, Tableau_Data[Annee],\">\"&D2,Tableau_Data[Annee],\"<\"&F2,Tableau_Data[Tranche d''age],J5)","v":0},{"$f":"SUMIFS(Tableau_Data[Féminin],Tableau_Data[District sanitaire],$B1,Tableau_Data[Lieu d''intervention],$P$2,Tableau_Data[Annee],$D$3,Tableau_Data[Mois],I3,Tableau_Data[Tranche d''age],J5)+SUMIFS(Tableau_Data[Féminin],Tableau_Data[District sanitaire],$B1,Tableau_Data[Lieu d''intervention],$P$2,Tableau_Data[Annee],$F$3, Tableau_Data[Mois],K3,Tableau_Data[Tranche d''age],J5)+SUMIFS(Tableau_Data[Féminin],Tableau_Data[District sanitaire],$B1,Tableau_Data[Lieu d''intervention],$P$2, Tableau_Data[Annee],\">\"&D2,Tableau_Data[Annee],\"<\"&F2,Tableau_Data[Tranche d''age],J5)","v":0},{"$f":"SUMIFS(Tableau_Data[Féminin],Tableau_Data[District sanitaire],$B1,Tableau_Data[Lieu d''intervention],$Q$2,Tableau_Data[Annee],$D$3,Tableau_Data[Mois],I3,Tableau_Data[Tranche d''age],J5)+SUMIFS(Tableau_Data[Féminin],Tableau_Data[District sanitaire],$B1,Tableau_Data[Lieu d''intervention],$Q$2,Tableau_Data[Annee],$F$3, Tableau_Data[Mois],K3,Tableau_Data[Tranche d''age],J5)+SUMIFS(Tableau_Data[Féminin],Tableau_Data[District sanitaire],$B1,Tableau_Data[Lieu d''intervention],$Q$2, Tableau_Data[Annee],\">\"&D2,Tableau_Data[Annee],\"<\"&F2,Tableau_Data[Tranche d''age],J5)","v":0},{"$f":"SUMIFS(Tableau_Data[Féminin],Tableau_Data[District sanitaire],$B1,Tableau_Data[Lieu d''intervention],$R$2,Tableau_Data[Annee],$D$3,Tableau_Data[Mois],I3,Tableau_Data[Tranche d''age],J5)+SUMIFS(Tableau_Data[Féminin],Tableau_Data[District sanitaire],$B1,Tableau_Data[Lieu d''intervention],$R$2,Tableau_Data[Annee],$F$3, Tableau_Data[Mois],K3,Tableau_Data[Tranche d''age],J5)+SUMIFS(Tableau_Data[Féminin],Tableau_Data[District sanitaire],$B1,Tableau_Data[Lieu d''intervention],$R$2, Tableau_Data[Annee],\">\"&D2,Tableau_Data[Annee],\"<\"&F2,Tableau_Data[Tranche d''age],J5)","v":0},{"$f":"SUMIFS(Tableau_Data[Féminin],Tableau_Data[District sanitaire],$B1,Tableau_Data[Lieu d''intervention],$S$2,Tableau_Data[Annee],$D$3,Tableau_Data[Mois],J3,Tableau_Data[Tranche d''age],K5)+SUMIFS(Tableau_Data[Féminin],Tableau_Data[District sanitaire],$B1,Tableau_Data[Lieu d''intervention],$S$2,Tableau_Data[Annee],$F$3, Tableau_Data[Mois],L3,Tableau_Data[Tranche d''age],K5)+SUMIFS(Tableau_Data[Féminin],Tableau_Data[District sanitaire],$B1,Tableau_Data[Lieu d''intervention],$S$2, Tableau_Data[Annee],\">\"&E2,Tableau_Data[Annee],\"<\"&G2,Tableau_Data[Tranche d''age],K5)","v":0},null,{"$f":"COUNTIFS(Tableau_Data[Cible],$U$3,Tableau_Data[District sanitaire],$B$1,Tableau_Data[Annee],$D$3,Tableau_Data[Mois],I3,Tableau_Data[Tranche d''age],J5)+COUNTIFS(Tableau_Data[Cible],$U$3,Tableau_Data[District sanitaire],$B$1,Tableau_Data[Annee],$F$3,Tableau_Data[Mois],K3,Tableau_Data[Tranche d''age],J5)+COUNTIFS(Tableau_Data[Cible],$U$3,Tableau_Data[District sanitaire],$B$1, Tableau_Data[Annee],\">\"&D2,Tableau_Data[Annee],\"<\"&F2,Tableau_Data[Tranche d''age],J5)","v":0},{"$f":"COUNTIFS(Tableau_Data[Cible],$V$3,Tableau_Data[District sanitaire],$B$1,Tableau_Data[Annee],$D$3,Tableau_Data[Mois],I3,Tableau_Data[Tranche d''age],J5)+COUNTIFS(Tableau_Data[Cible],$V$3,Tableau_Data[District sanitaire],$B$1,Tableau_Data[Annee],$F$3,Tableau_Data[Mois],K3,Tableau_Data[Tranche d''age],J5)+COUNTIFS(Tableau_Data[Cible],$V$3,Tableau_Data[District sanitaire],$B$1, Tableau_Data[Annee],\">\"&D2,Tableau_Data[Annee],\"<\"&F2,Tableau_Data[Tranche d''age],J5)","v":0},{"$f":"COUNTIFS(Tableau_Data[Cible],$W$3,Tableau_Data[District sanitaire],$B$1,Tableau_Data[Annee],$D$3,Tableau_Data[Mois],I3,Tableau_Data[Tranche d''age],J5)+COUNTIFS(Tableau_Data[Cible],$W$3,Tableau_Data[District sanitaire],$B$1,Tableau_Data[Annee],$F$3,Tableau_Data[Mois],K3,Tableau_Data[Tranche d''age],J5)+COUNTIFS(Tableau_Data[Cible],$W$3,Tableau_Data[District sanitaire],$B$1, Tableau_Data[Annee],\">\"&D2,Tableau_Data[Annee],\"<\"&F2,Tableau_Data[Tranche d''age],J5)","v":0},{"$f":"COUNTIFS(Tableau_Data[Cible],$X$3,Tableau_Data[District sanitaire],$B$1,Tableau_Data[Annee],$D$3,Tableau_Data[Mois],I3,Tableau_Data[Tranche d''age],J5)+COUNTIFS(Tableau_Data[Cible],$X$3,Tableau_Data[District sanitaire],$B$1,Tableau_Data[Annee],$F$3,Tableau_Data[Mois],K3,Tableau_Data[Tranche d''age],J5)+COUNTIFS(Tableau_Data[Cible],$X$3,Tableau_Data[District sanitaire],$B$1, Tableau_Data[Annee],\">\"&D2,Tableau_Data[Annee],\"<\"&F2,Tableau_Data[Tranche d''age],J5)","v":0},{"$f":"COUNTIFS(Tableau_Data[Cible],$Y$3,Tableau_Data[District sanitaire],$B$1,Tableau_Data[Annee],$D$3,Tableau_Data[Mois],I3,Tableau_Data[Tranche d''age],J5)+COUNTIFS(Tableau_Data[Cible],$Y$3,Tableau_Data[District sanitaire],$B$1,Tableau_Data[Annee],$F$3,Tableau_Data[Mois],K3,Tableau_Data[Tranche d''age],J5)+COUNTIFS(Tableau_Data[Cible],$Y$3,Tableau_Data[District sanitaire],$B$1, Tableau_Data[Annee],\">\"&D2,Tableau_Data[Annee],\"<\"&F2,Tableau_Data[Tranche d''age],J5)","v":0},{"$f":"COUNTIFS(Tableau_Data[Cible],$Z$3,Tableau_Data[District sanitaire],$B$1,Tableau_Data[Annee],$D$3,Tableau_Data[Mois],I3,Tableau_Data[Tranche d''age],J5)+COUNTIFS(Tableau_Data[Cible],$Z$3,Tableau_Data[District sanitaire],$B$1,Tableau_Data[Annee],$F$3,Tableau_Data[Mois],K3,Tableau_Data[Tranche d''age],J5)+COUNTIFS(Tableau_Data[Cible],$Z$3,Tableau_Data[District sanitaire],$B$1, Tableau_Data[Annee],\">\"&D2,Tableau_Data[Annee],\"<\"&F2,Tableau_Data[Tranche d''age],J5)","v":0},{"$f":"COUNTIFS(Tableau_Data[Cible],$AA$3,Tableau_Data[District sanitaire],$B$1,Tableau_Data[Annee],$D$3,Tableau_Data[Mois],I3,Tableau_Data[Tranche d''age],J5)+COUNTIFS(Tableau_Data[Cible],$AA$3,Tableau_Data[District sanitaire],$B$1,Tableau_Data[Annee],$F$3,Tableau_Data[Mois],K3,Tableau_Data[Tranche d''age],J5)+COUNTIFS(Tableau_Data[Cible],$AA$3,Tableau_Data[District sanitaire],$B$1, Tableau_Data[Annee],\">\"&D2,Tableau_Data[Annee],\"<\"&F2,Tableau_Data[Tranche d''age],J5)","v":0},null,{"$f":"COUNTIFS(Tableau_Data[District sanitaire],$B$1,Tableau_Data[Annee],$D$3,Tableau_Data[Mois],I3,Tableau_Data[Tranche d''age],J5)+COUNTIFS(Tableau_Data[District sanitaire],$B$1,Tableau_Data[Annee],$F$3, Tableau_Data[Mois],K3,Tableau_Data[Tranche d''age],J5)+COUNTIFS(Tableau_Data[District sanitaire],$B$1, Tableau_Data[Annee],\">\"&D2,Tableau_Data[Annee],\"<\"&F2,Tableau_Data[Tranche d''age],J5)","v":0}]
[null,null,null,null,null,null,null,null,"Tranche Age","10 - 14 ans",null,null,null,"Total",{"$f":"SUM(O3:O4)","v":0},{"$f":"SUM(P3:P4)","v":0},{"$f":"SUM(Q3:Q4)","v":0},{"$f":"SUM(R3:R4)","v":0},{"$f":"SUM(S3:S4)","v":0},null,{"$f":"U4/AC4","v":{"$error":"#DIV/0!"}},{"$f":"V4/AC4","v":{"$error":"#DIV/0!"}},{"$f":"W4/AC4","v":{"$error":"#DIV/0!"}},{"$f":"X4/AC4","v":{"$error":"#DIV/0!"}},{"$f":"Y4/AC4","v":{"$error":"#DIV/0!"}},{"$f":"Z4/AC4","v":{"$error":"#DIV/0!"}},{"$f":"AA4/AC4","v":{"$error":"#DIV/0!"}}]
[null,null,null,"Total Masculin",null,"Total Féminin",null,null,"TOTAL"]
[null,null,null,{"$f":"SUMIFS(Tableau_Data[Masculin],Tableau_Data[District sanitaire],$B1,Tableau_Data[Annee],$D$3,Tableau_Data[Mois],I3,Tableau_Data[Tranche d''age],J5)+SUMIFS(Tableau_Data[Masculin],Tableau_Data[District sanitaire],$B1,Tableau_Data[Annee],$F$3,Tableau_Data[Mois],K3,Tableau_Data[Tranche d''age],J5)+SUMIFS(Tableau_Data[Masculin],Tableau_Data[District sanitaire],$B1,Tableau_Data[Tranche d''age],J5,Tableau_Data[Annee],\">\"&D2,Tableau_Data[Annee],\"<\"&F2)","v":0},null,{"$f":"SUMIFS(Tableau_Data[Féminin],Tableau_Data[Province sanitaire],$B1,Tableau_Data[Annee],$D$3,Tableau_Data[Mois],I3,Tableau_Data[Tranche d''age],J5)+SUMIFS(Tableau_Data[Féminin],Tableau_Data[Province sanitaire],$B1,Tableau_Data[Annee],$F$3,Tableau_Data[Mois],K3,Tableau_Data[Tranche d''age],J5)+SUMIFS(Tableau_Data[Féminin],Tableau_Data[Province sanitaire],$B1,Tableau_Data[Tranche d''age],J5,Tableau_Data[Annee],\">\"&D2,Tableau_Data[Annee],\"<\"&F2)","v":0},null,null,{"$f":"SUM(D7:F7)","v":0}]
[]
[]
[]
[]
[]
[]
[]
[]
[]
[]
[]
[]
[]
[]
[]
[]
[]
[null,null,null,null,null,null,null,null,null,null,null,null,null,"Synthèse : Lieu d'Intervention",null,null,null,null,null,null,"DEMO. PRESERVATIF",null,null,"TEMOIGNAGE",null,null,null,"TOTAL FICHES"]
[null,null,null,null,null,null,null,null,null,null,null,null,"DS",{"$f":"B1","v":"Kibumbu"},null,null,null,null,null,null,null,null,null,null,null,null,null,{"$f":"COUNTIFS(Tableau_Data[District sanitaire],$B$1,Tableau_Data[Annee],$D$3,Tableau_Data[Mois],I3,Tableau_Data[Tranche d''age],J5)+COUNTIFS(Tableau_Data[District sanitaire],$B$1,Tableau_Data[Annee],$F$3, Tableau_Data[Mois],K3,Tableau_Data[Tranche d''age],J5)+COUNTIFS(Tableau_Data[District sanitaire],$B$1, Tableau_Data[Annee],\">\"&D2,Tableau_Data[Annee],\"<\"&F2,Tableau_Data[Tranche d''age],J5)","v":0}]
[null,null,null,null,null,null,null,null,null,null,null,null,null,null,null,null,null,null,null,null,"OUI","NON",null,"OUI","NON"]
[null,null,null,null,null,null,null,null,null,null,null,null,null,null,null,null,null,null,null,null,{"$f":"COUNTIFS(Tableau_Data[Démo Preservatif],$U$27,Tableau_Data[District sanitaire],$B$1,Tableau_Data[Annee],$D$3,Tableau_Data[Mois],I3,Tableau_Data[Tranche d''age],J5)+COUNTIFS(Tableau_Data[Démo Preservatif],$U$27,Tableau_Data[District sanitaire],$B$1,Tableau_Data[Annee],$F$3,Tableau_Data[Mois],K3,Tableau_Data[Tranche d''age],J5)+COUNTIFS(Tableau_Data[Démo Preservatif],$U$27,Tableau_Data[District sanitaire],$B$1, Tableau_Data[Annee],\">\"&D2,Tableau_Data[Annee],\"<\"&F2,Tableau_Data[Tranche d''age],J5)","v":0},{"$f":"COUNTIFS(Tableau_Data[Démo Preservatif],$V$27,Tableau_Data[District sanitaire],$B$1,Tableau_Data[Annee],$D$3,Tableau_Data[Mois],I3,Tableau_Data[Tranche d''age],J5)+COUNTIFS(Tableau_Data[Démo Preservatif],$V$27,Tableau_Data[District sanitaire],$B$1,Tableau_Data[Annee],$F$3,Tableau_Data[Mois],K3,Tableau_Data[Tranche d''age],J5)+COUNTIFS(Tableau_Data[Démo Preservatif],$V$27,Tableau_Data[District sanitaire],$B$1, Tableau_Data[Annee],\">\"&D2,Tableau_Data[Annee],\"<\"&F2,Tableau_Data[Tranche d''age],J5)","v":0},null,{"$f":"COUNTIFS(Tableau_Data[Témoignage],$X$27,Tableau_Data[District sanitaire],$B$1,Tableau_Data[Annee],$D$3,Tableau_Data[Mois],I3,Tableau_Data[Tranche d''age],J5)+COUNTIFS(Tableau_Data[Témoignage],$X$27,Tableau_Data[District sanitaire],$B$1,Tableau_Data[Annee],$F$3,Tableau_Data[Mois],K3,Tableau_Data[Tranche d''age],J5)+COUNTIFS(Tableau_Data[Témoignage],$X$27,Tableau_Data[District sanitaire],$B$1, Tableau_Data[Annee],\">\"&D2,Tableau_Data[Annee],\"<\"&F2,Tableau_Data[Tranche d''age],J5)","v":0},{"$f":"COUNTIFS(Tableau_Data[Témoignage],$Y$27,Tableau_Data[District sanitaire],$B$1,Tableau_Data[Annee],$D$3,Tableau_Data[Mois],I3,Tableau_Data[Tranche d''age],J5)+COUNTIFS(Tableau_Data[Témoignage],$Y$27,Tableau_Data[District sanitaire],$B$1,Tableau_Data[Annee],$F$3,Tableau_Data[Mois],K3,Tableau_Data[Tranche d''age],J5)+COUNTIFS(Tableau_Data[Témoignage],$Y$27,Tableau_Data[District sanitaire],$B$1, Tableau_Data[Annee],\">\"&D2,Tableau_Data[Annee],\"<\"&F2,Tableau_Data[Tranche d''age],J5)","v":0}]
[null,null,null,null,null,null,null,null,null,null,null,null,"A","B","C","D","E","F",null,null,{"$f":"U28/AB26","v":{"$error":"#DIV/0!"}},{"$f":"V28/AB26","v":{"$error":"#DIV/0!"}},null,{"$f":"X28/AB26","v":{"$error":"#DIV/0!"}},{"$f":"Y28/AB26","v":{"$error":"#DIV/0!"}}]
[null,null,null,null,null,null,null,null,null,null,null,null,{"$f":"Paramètres!F7","v":"IST/VIH-SIDA"},{"$f":"Paramètres!F8","v":"VSBG"},{"$f":"Paramètres!F9","v":"PF"},{"$f":"Paramètres!F10","v":"Autres thèmes SSRAJ"}]
[null,null,null,null,null,null,null,null,null,null,null,"Masculin",{"$f":"SUMIFS(Tableau_Data[Masculin],Tableau_Data[District sanitaire],$B1,Tableau_Data[Thèmes],$M$30,Tableau_Data[Annee],$D$3,Tableau_Data[Mois],I3,Tableau_Data[Tranche d''age],J5)+SUMIFS(Tableau_Data[Masculin],Tableau_Data[District sanitaire],$B1,Tableau_Data[Thèmes],$M$30,Tableau_Data[Annee],$F$3,Tableau_Data[Mois],K3,Tableau_Data[Tranche d''age],J5)+SUMIFS(Tableau_Data[Masculin],Tableau_Data[District sanitaire],$B1,Tableau_Data[Thèmes],$M$30, Tableau_Data[Annee],\">\"&D2,Tableau_Data[Annee],\"<\"&F2,Tableau_Data[Tranche d''age],J5)","v":0},{"$f":"SUMIFS(Tableau_Data[Masculin],Tableau_Data[District sanitaire],$B1,Tableau_Data[Thèmes],$N$30,Tableau_Data[Annee],$D$3,Tableau_Data[Mois],I3,Tableau_Data[Tranche d''age],J5)+SUMIFS(Tableau_Data[Masculin],Tableau_Data[District sanitaire],$B1,Tableau_Data[Thèmes],$N$30,Tableau_Data[Annee],$F$3,Tableau_Data[Mois],K3,Tableau_Data[Tranche d''age],J5)+SUMIFS(Tableau_Data[Masculin],Tableau_Data[District sanitaire],$B1,Tableau_Data[Thèmes],$N$30, Tableau_Data[Annee],\">\"&D2,Tableau_Data[Annee],\"<\"&F2,Tableau_Data[Tranche d''age],J5)","v":0},{"$f":"SUMIFS(Tableau_Data[Masculin],Tableau_Data[District sanitaire],$B1,Tableau_Data[Thèmes],$O$30,Tableau_Data[Annee],$D$3,Tableau_Data[Mois],I3,Tableau_Data[Tranche d''age],J5)+SUMIFS(Tableau_Data[Masculin],Tableau_Data[District sanitaire],$B1,Tableau_Data[Thèmes],$O$30,Tableau_Data[Annee],$F$3,Tableau_Data[Mois],K3,Tableau_Data[Tranche d''age],J5)+SUMIFS(Tableau_Data[Masculin],Tableau_Data[District sanitaire],$B1,Tableau_Data[Thèmes],$O$30, Tableau_Data[Annee],\">\"&D2,Tableau_Data[Annee],\"<\"&F2,Tableau_Data[Tranche d''age],J5)","v":0},{"$f":"SUMIFS(Tableau_Data[Masculin],Tableau_Data[District sanitaire],$B1,Tableau_Data[Thèmes],$P$30,Tableau_Data[Annee],$D$3,Tableau_Data[Mois],I3,Tableau_Data[Tranche d''age],J5)+SUMIFS(Tableau_Data[Masculin],Tableau_Data[District sanitaire],$B1,Tableau_Data[Thèmes],$P$30,Tableau_Data[Annee],$F$3,Tableau_Data[Mois],K3,Tableau_Data[Tranche d''age],J5)+SUMIFS(Tableau_Data[Masculin],Tableau_Data[District sanitaire],$B1,Tableau_Data[Thèmes],$P$30, Tableau_Data[Annee],\">\"&D2,Tableau_Data[Annee],\"<\"&F2,Tableau_Data[Tranche d''age],J5)","v":0}]
[null,null,null,null,null,null,null,null,null,null,null,"Féminin",{"$f":"SUMIFS(Tableau_Data[Féminin],Tableau_Data[District sanitaire],$B1,Tableau_Data[Thèmes],$M$30,Tableau_Data[Annee],$D$3,Tableau_Data[Mois],I3,Tableau_Data[Tranche d''age],J5)+SUMIFS(Tableau_Data[Féminin],Tableau_Data[District sanitaire],$B1,Tableau_Data[Thèmes],$M$30,Tableau_Data[Annee],$F$3,Tableau_Data[Mois],K3,Tableau_Data[Tranche d''age],J5)+SUMIFS(Tableau_Data[Féminin],Tableau_Data[District sanitaire],$B1,Tableau_Data[Thèmes],$M$30, Tableau_Data[Annee],\">\"&D2,Tableau_Data[Annee],\"<\"&F2,Tableau_Data[Tranche d''age],J5)","v":0},{"$f":"SUMIFS(Tableau_Data[Féminin],Tableau_Data[District sanitaire],$B1,Tableau_Data[Thèmes],$N$30,Tableau_Data[Annee],$D$3,Tableau_Data[Mois],I3,Tableau_Data[Tranche d''age],J5)+SUMIFS(Tableau_Data[Féminin],Tableau_Data[District sanitaire],$B1,Tableau_Data[Thèmes],$N$30,Tableau_Data[Annee],$F$3,Tableau_Data[Mois],K3,Tableau_Data[Tranche d''age],J5)+SUMIFS(Tableau_Data[Féminin],Tableau_Data[District sanitaire],$B1,Tableau_Data[Thèmes],$N$30, Tableau_Data[Annee],\">\"&D2,Tableau_Data[Annee],\"<\"&F2,Tableau_Data[Tranche d''age],J5)","v":0},{"$f":"SUMIFS(Tableau_Data[Féminin],Tableau_Data[District sanitaire],$B1,Tableau_Data[Thèmes],$O$30,Tableau_Data[Annee],$D$3,Tableau_Data[Mois],I3,Tableau_Data[Tranche d''age],J5)+SUMIFS(Tableau_Data[Féminin],Tableau_Data[District sanitaire],$B1,Tableau_Data[Thèmes],$O$30,Tableau_Data[Annee],$F$3,Tableau_Data[Mois],K3,Tableau_Data[Tranche d''age],J5)+SUMIFS(Tableau_Data[Féminin],Tableau_Data[District sanitaire],$B1,Tableau_Data[Thèmes],$O$30, Tableau_Data[Annee],\">\"&D2,Tableau_Data[Annee],\"<\"&F2,Tableau_Data[Tranche d''age],J5)","v":0},{"$f":"SUMIFS(Tableau_Data[Féminin],Tableau_Data[District sanitaire],$B1,Tableau_Data[Thèmes],$P$30,Tableau_Data[Annee],$D$3,Tableau_Data[Mois],I3,Tableau_Data[Tranche d''age],J5)+SUMIFS(Tableau_Data[Féminin],Tableau_Data[District sanitaire],$B1,Tableau_Data[Thèmes],$P$30,Tableau_Data[Annee],$F$3,Tableau_Data[Mois],K3,Tableau_Data[Tranche d''age],J5)+SUMIFS(Tableau_Data[Féminin],Tableau_Data[District sanitaire],$B1,Tableau_Data[Thèmes],$P$30, Tableau_Data[Annee],\">\"&D2,Tableau_Data[Annee],\"<\"&F2,Tableau_Data[Tranche d''age],J5)","v":0}]
[null,null,"DS",null,{"$f":"B1","v":"Kibumbu"},null,null,null,null,null,null,"Total",{"$f":"SUM(M31:M32)","v":0},{"$f":"SUM(N31:N32)","v":0},{"$f":"SUM(O31:O32)","v":0},{"$f":"SUM(P31:P32)","v":0}]
[]
[]
[]
[]
[]
[]
[]
[]
[null,"Rapport de :",null,{"$f":"Paramètres!I18","v":"GIZ"},null,null,"Imprimé le :",null,{"$f":"TODAY()","v":"2023-03-21"}]
[]
[]
[]
[]
[]
[]
[]
[]
[]
[null,null,null,null,null,null,null,null,null,null,null,null,null,"Synthèse : Thèmes traités"]
[]
[]
[]
[]
[]
[null,null,null,null,null,null,null,null,null,null,null,null,"Rapport de :",null,{"$f":"Paramètres!I18","v":"GIZ"},null,null,"Imprimé le :",{"$f":"TODAY()","v":"2023-03-21"}]

{"sheet":"PS-Tranche age","index":25,"n_rows":58,"n_cols":29,"rows_kept":58,"cut":false,"hidden":false,"merged":[[51,13,51,15],[57,12,57,13],[57,14,57,15],[57,18,57,19],[25,12,26,12],[25,13,26,17],[1,21,1,26],[24,13,24,15],[32,2,33,2],[32,4,33,8],[41,1,41,2],[41,3,41,4],[3,3,3,5],[5,3,5,4],[5,5,5,6],[6,3,6,4],[6,5,6,6],[0,1,0,4],[1,6,1,7],[2,6,2,7],[0,6,0,9],[0,14,0,17]]}
[null,"Mwaro",null,null,null,null,"Province Sanitaire - Période/Tranche d'age",null,null,null,null,null,null,null,{"$f":"J5","v":"25 ans et Plus"}]
[null,null,null,{"$f":"VLOOKUP(D3,Paramètres!$I$21:$J$35,2,0)","v":2019},null,{"$f":"VLOOKUP(F3,Paramètres!$I$21:$J$35,2,0)","v":2020},"DE",null,null,"A",null,null,null,null,{"$f":"Paramètres!B7","v":"ECOLE"},{"$f":"Paramètres!B8","v":"CENTRE DE SANTE"},{"$f":"Paramètres!B9","v":"COMMUNAUTE"},{"$f":"Paramètres!B10","v":"CENTRE PVH"},{"$f":"Paramètres!B11","v":"EGLISE"},null,null,"Analyse axée sur les cibles"]
[null,null,"RAPPORT",2019,null,2020,"Juillet",null,{"$f":"VLOOKUP(G3,Paramètres!$Y$7:$Z$18,2,0)","v":">6"},"Mars",{"$f":"VLOOKUP(J3,Paramètres!$AB$7:$AC$18,2,0)","v":"<4"},null,null,"Masculin",{"$f":"SUMIFS(Tableau_Data[Masculin],Tableau_Data[Province sanitaire],$B1,Tableau_Data[Lieu d''intervention],$O$2,Tableau_Data[Annee],$D$3,Tableau_Data[Mois],I3,Tableau_Data[Tranche d''age],J5)+SUMIFS(Tableau_Data[Masculin],Tableau_Data[Province sanitaire],$B1,Tableau_Data[Lieu d''intervention],$O$2,Tableau_Data[Annee],$F$3,Tableau_Data[Mois],K3,Tableau_Data[Tranche d''age],J5)+SUMIFS(Tableau_Data[Masculin],Tableau_Data[Province sanitaire],$B1,Tableau_Data[Lieu d''intervention],$O$2,Tableau_Data[Annee],\">\"&D2,Tableau_Data[Annee],\"<\"&F2,Tableau_Data[Tranche d''age],J5)","v":0},{"$f":"SUMIFS(Tableau_Data[Masculin],Tableau_Data[Province sanitaire],$B1,Tableau_Data[Lieu d''intervention],$P$2,Tableau_Data[Annee],$D$3,Tableau_Data[Mois],I3,Tableau_Data[Tranche d''age],J5)+SUMIFS(Tableau_Data[Masculin],Tableau_Data[Province sanitaire],$B1,Tableau_Data[Lieu d''intervention],$P$2,Tableau_Data[Annee],$F$3,Tableau_Data[Mois],K3,Tableau_Data[Tranche d''age],J5)+SUMIFS(Tableau_Data[Masculin],Tableau_Data[Province sanitaire],$B1,Tableau_Data[Lieu d''intervention],$P$2, Tableau_Data[Annee],\">\"&D2,Tableau_Data[Annee],\"<\"&F2,Tableau_Data[Tranche d''age],J5)","v":0},{"$f":"SUMIFS(Tableau_Data[Masculin],Tableau_Data[Province sanitaire],$B1,Tableau_Data[Lieu d''intervention],$Q$2,Tableau_Data[Annee],$D$3,Tableau_Data[Mois],I3,Tableau_Data[Tranche d''age],J5)+SUMIFS(Tableau_Data[Masculin],Tableau_Data[Province sanitaire],$B1,Tableau_Data[Lieu d''intervention],$Q$2,Tableau_Data[Annee],$F$3,Tableau_Data[Mois],K3,Tableau_Data[Tranche d''age],J5)+SUMIFS(Tableau_Data[Masculin],Tableau_Data[Province sanitaire],$B1,Tableau_Data[Lieu d''intervention],$Q$2, Tableau_Data[Annee],\">\"&D2,Tableau_Data[Annee],\"<\"&F2,Tableau_Data[Tranche d''age],J5)","v":0},{"$f":"SUMIFS(Tableau_Data[Masculin],Tableau_Data[Province sanitaire],$B1,Tableau_Data[Lieu d''intervention],$R$2,Tableau_Data[Annee],$D$3,Tableau_Data[Mois],I3,Tableau_Data[Tranche d''age],J5)+SUMIFS(Tableau_Data[Masculin],Tableau_Data[Province sanitaire],$B1,Tableau_Data[Lieu d''intervention],$R$2,Tableau_Data[Annee],$F$3,Tableau_Data[Mois],K3,Tableau_Data[Tranche d''age],J5)+SUMIFS(Tableau_Data[Masculin],Tableau_Data[Province sanitaire],$B1,Tableau_Data[Lieu d''intervention],$R$2, Tableau_Data[Annee],\">\"&D2,Tableau_Data[Annee],\"<\"&F2,Tableau_Data[Tranche d''age],J5)","v":0},{"$f":"SUMIFS(Tableau_Data[Masculin],Tableau_Data[Province sanitaire],$B1,Tableau_Data[Lieu d''intervention],$S$2,Tableau_Data[Annee],$D$3,Tableau_Data[Mois],J3,Tableau_Data[Tranche d''age],K5)+SUMIFS(Tableau_Data[Masculin],Tableau_Data[Province sanitaire],$B1,Tableau_Data[Lieu d''intervention],$S$2,Tableau_Data[Annee],$F$3,Tableau_Data[Mois],L3,Tableau_Data[Tranche d''age],K5)+SUMIFS(Tableau_Data[Masculin],Tableau_Data[Province sanitaire],$B1,Tableau_Data[Lieu d''intervention],$S$2, Tableau_Data[Annee],\">\"&E2,Tableau_Data[Annee],\"<\"&G2,Tableau_Data[Tranche d''age],K5)","v":0},null,"J-ADO-S","H","F","M","J-ADO-NS","B","P-H"]
[null,null,null,"Sélectinnez l'année",null,null,null,null,null,null,null,null,null,"Féminin",{"$f":"SUMIFS(Tableau_Data[Féminin],Tableau_Data[Province sanitaire],$B1,Tableau_Data[Lieu d''intervention],$O$2,Tableau_Data[Annee],$D$3,Tableau_Data[Mois],I3,Tableau_Data[Tranche d''age],J5)+SUMIFS(Tableau_Data[Féminin],Tableau_Data[Province sanitaire],$B1,Tableau_Data[Lieu d''intervention],$O$2,Tableau_Data[Annee],$F$3,Tableau_Data[Mois],K3,Tableau_Data[Tranche d''age],J5)+SUMIFS(Tableau_Data[Féminin],Tableau_Data[Province sanitaire],$B1,Tableau_Data[Lieu d''intervention],$O$2, Tableau_Data[Annee],\">\"&D2,Tableau_Data[Annee],\"<\"&F2,Tableau_Data[Tranche d''age],J5)","v":0},{"$f":"SUMIFS(Tableau_Data[Féminin],Tableau_Data[Province sanitaire],$B1,Tableau_Data[Lieu d''intervention],$P$2,Tableau_Data[Annee],$D$3,Tableau_Data[Mois],I3,Tableau_Data[Tranche d''age],J5)+SUMIFS(Tableau_Data[Féminin],Tableau_Data[Province sanitaire],$B1,Tableau_Data[Lieu d''intervention],$P$2,Tableau_Data[Annee],$F$3,Tableau_Data[Mois],K3,Tableau_Data[Tranche d''age],J5)+SUMIFS(Tableau_Data[Féminin],Tableau_Data[Province sanitaire],$B1,Tableau_Data[Lieu d''intervention],$P$2, Tableau_Data[Annee],\">\"&D2,Tableau_Data[Annee],\"<\"&F2,Tableau_Data[Tranche d''age],J5)","v":0},{"$f":"SUMIFS(Tableau_Data[Féminin],Tableau_Data[Province sanitaire],$B1,Tableau_Data[Lieu d''intervention],$Q$2,Tableau_Data[Annee],$D$3,Tableau_Data[Mois],I3,Tableau_Data[Tranche d''age],J5)+SUMIFS(Tableau_Data[Féminin],Tableau_Data[Province sanitaire],$B1,Tableau_Data[Lieu d''intervention],$Q$2,Tableau_Data[Annee],$F$3,Tableau_Data[Mois],K3,Tableau_Data[Tranche d''age],J5)+SUMIFS(Tableau_Data[Féminin],Tableau_Data[Province sanitaire],$B1,Tableau_Data[Lieu d''intervention],$Q$2, Tableau_Data[Annee],\">\"&D2,Tableau_Data[Annee],\"<\"&F2,Tableau_Data[Tranche d''age],J5)","v":0},{"$f":"SUMIFS(Tableau_Data[Féminin],Tableau_Data[Province sanitaire],$B1,Tableau_Data[Lieu d''intervention],$R$2,Tableau_Data[Annee],$D$3,Tableau_Data[Mois],I3,Tableau_Data[Tranche d''age],J5)+SUMIFS(Tableau_Data[Féminin],Tableau_Data[Province sanitaire],$B1,Tableau_Data[Lieu d''intervention],$R$2,Tableau_Data[Annee],$F$3,Tableau_Data[Mois],K3,Tableau_Data[Tranche d''age],J5)+SUMIFS(Tableau_Data[Féminin],Tableau_Data[Province sanitaire],$B1,Tableau_Data[Lieu d''intervention],$R$2, Tableau_Data[Annee],\">\"&D2,Tableau_Data[Annee],\"<\"&F2,Tableau_Data[Tranche d''age],J5)","v":0},{"$f":"SUMIFS(Tableau_Data[Féminin],Tableau_Data[Province sanitaire],$B1,Tableau_Data[Lieu d''intervention],$S$2,Tableau_Data[Annee],$D$3,Tableau_Data[Mois],J3,Tableau_Data[Tranche d''age],K5)+SUMIFS(Tableau_Data[Féminin],Tableau_Data[Province sanitaire],$B1,Tableau_Data[Lieu d''intervention],$S$2,Tableau_Data[Annee],$F$3,Tableau_Data[Mois],L3,Tableau_Data[Tranche d''age],K5)+SUMIFS(Tableau_Data[Féminin],Tableau_Data[Province sanitaire],$B1,Tableau_Data[Lieu d''intervention],$S$2, Tableau_Data[Annee],\">\"&E2,Tableau_Data[Annee],\"<\"&G2,Tableau_Data[Tranche d''age],K5)","v":0},null,{"$f":"Paramètres!K7","v":"Jeunes et Adolescents scolarisés"},{"$f":"Paramètres!K8","v":"Hommes"},{"$f":"Paramètres!K9","v":"Femmes"},{"$f":"Paramètres!K10","v":"Mixte"},{"$f":"Paramètres!K11","v":"Jeunes et Adolescents non scolarisés"},{"$f":"Paramètres!K12","v":"Batwa"},{"$f":"Paramètres!K13","v":"Personnes avec Handicap"},null,"TOTAL FICHES"]
[null,null,null,null,null,null,null,null,"Tranche Age","25 ans et Plus",null,null,null,"Total",{"$f":"SUM(O3:O4)","v":0},{"$f":"SUM(P3:P4)","v":0},{"$f":"SUM(Q3:Q4)","v":0},{"$f":"SUM(R3:R4)","v":0},{"$f":"SUM(S3:S4)","v":0},null,{"$f":"COUNTIFS(Tableau_Data[Cible],$U$4,Tableau_Data[Province sanitaire],$B$1,Tableau_Data[Annee],$D$3,Tableau_Data[Mois],I3,Tableau_Data[Tranche d''age],J5)+COUNTIFS(Tableau_Data[Cible],$U$4,Tableau_Data[Province sanitaire],$B$1,Tableau_Data[Annee],$F$3,Tableau_Data[Mois],K3,Tableau_Data[Tranche d''age],J5)+COUNTIFS(Tableau_Data[Cible],$U$4,Tableau_Data[Province sanitaire],$B$1, Tableau_Data[Annee],\">\"&D2,Tableau_Data[Annee],\"<\"&F2,Tableau_Data[Tranche d''age],J5)","v":0},{"$f":"COUNTIFS(Tableau_Data[Cible],$V$4,Tableau_Data[Province sanitaire],$B$1,Tableau_Data[Annee],$D$3,Tableau_Data[Mois],I3,Tableau_Data[Tranche d''age],J5)+COUNTIFS(Tableau_Data[Cible],$V$4,Tableau_Data[Province sanitaire],$B$1,Tableau_Data[Annee],$F$3,Tableau_Data[Mois],K3,Tableau_Data[Tranche d''age],J5)+COUNTIFS(Tableau_Data[Cible],$V$4,Tableau_Data[Province sanitaire],$B$1, Tableau_Data[Annee],\">\"&D2,Tableau_Data[Annee],\"<\"&F2,Tableau_Data[Tranche d''age],J5)","v":0},{"$f":"COUNTIFS(Tableau_Data[Cible],$W$4,Tableau_Data[Province sanitaire],$B$1,Tableau_Data[Annee],$D$3,Tableau_Data[Mois],I3,Tableau_Data[Tranche d''age],J5)+COUNTIFS(Tableau_Data[Cible],$W$4,Tableau_Data[Province sanitaire],$B$1,Tableau_Data[Annee],$F$3,Tableau_Data[Mois],K3,Tableau_Data[Tranche d''age],J5)+COUNTIFS(Tableau_Data[Cible],$W$4,Tableau_Data[Province sanitaire],$B$1, Tableau_Data[Annee],\">\"&D2,Tableau_Data[Annee],\"<\"&F2,Tableau_Data[Tranche d''age],J5)","v":0},{"$f":"COUNTIFS(Tableau_Data[Cible],$X$4,Tableau_Data[Province sanitaire],$B$1,Tableau_Data[Annee],$D$3,Tableau_Data[Mois],I3,Tableau_Data[Tranche d''age],J5)+COUNTIFS(Tableau_Data[Cible],$X$4,Tableau_Data[Province sanitaire],$B$1,Tableau_Data[Annee],$F$3,Tableau_Data[Mois],K3,Tableau_Data[Tranche d''age],J5)+COUNTIFS(Tableau_Data[Cible],$X$4,Tableau_Data[Province sanitaire],$B$1, Tableau_Data[Annee],\">\"&D2,Tableau_Data[Annee],\"<\"&F2,Tableau_Data[Tranche d''age],J5)","v":0},{"$f":"COUNTIFS(Tableau_Data[Cible],$Y$4,Tableau_Data[Province sanitaire],$B$1,Tableau_Data[Annee],$D$3,Tableau_Data[Mois],I3,Tableau_Data[Tranche d''age],J5)+COUNTIFS(Tableau_Data[Cible],$Y$4,Tableau_Data[Province sanitaire],$B$1,Tableau_Data[Annee],$F$3,Tableau_Data[Mois],K3,Tableau_Data[Tranche d''age],J5)+COUNTIFS(Tableau_Data[Cible],$Y$4,Tableau_Data[Province sanitaire],$B$1, Tableau_Data[Annee],\">\"&D2,Tableau_Data[Annee],\"<\"&F2,Tableau_Data[Tranche d''age],J5)","v":0},{"$f":"COUNTIFS(Tableau_Data[Cible],$Z$4,Tableau_Data[Province sanitaire],$B$1,Tableau_Data[Annee],$D$3,Tableau_Data[Mois],I3,Tableau_Data[Tranche d''age],J5)+COUNTIFS(Tableau_Data[Cible],$Z$4,Tableau_Data[Province sanitaire],$B$1,Tableau_Data[Annee],$F$3,Tableau_Data[Mois],K3,Tableau_Data[Tranche d''age],J5)+COUNTIFS(Tableau_Data[Cible],$Z$4,Tableau_Data[Province sanitaire],$B$1, Tableau_Data[Annee],\">\"&D2,Tableau_Data[Annee],\"<\"&F2,Tableau_Data[Tranche d''age],J5)","v":0},{"$f":"COUNTIFS(Tableau_Data[Cible],$AA$4,Tableau_Data[Province sanitaire],$B$1,Tableau_Data[Annee],$D$3,Tableau_Data[Mois],I3,Tableau_Data[Tranche d''age],J5)+COUNTIFS(Tableau_Data[Cible],$AA$4,Tableau_Data[Province sanitaire],$B$1,Tableau_Data[Annee],$F$3,Tableau_Data[Mois],K3,Tableau_Data[Tranche d''age],J5)+COUNTIFS(Tableau_Data[Cible],$AA$4,Tableau_Data[Province sanitaire],$B$1, Tableau_Data[Annee],\">\"&D2,Tableau_Data[Annee],\"<\"&F2,Tableau_Data[Tranche d''age],J5)","v":0},null,{"$f":"COUNTIFS(Tableau_Data[Province sanitaire],$B$1,Tableau_Data[Annee],$D$3,Tableau_Data[Mois],I3,Tableau_Data[Tranche d''age],J5)+COUNTIFS(Tableau_Data[Province sanitaire],$B$1,Tableau_Data[Annee],$F$3, Tableau_Data[Mois],K3,Tableau_Data[Tranche d''age],J5)+COUNTIFS(Tableau_Data[Province sanitaire],$B$1, Tableau_Data[Annee],\">\"&D2,Tableau_Data[Annee],\"<\"&F2,Tableau_Data[Tranche d''age],J5)","v":0}]
[null,null,null,"Total Masculin",null,"Total Féminin",null,null,"TOTAL",null,null,null,null,null,null,null,null,null,null,null,{"$f":"U5/AC5","v":{"$error":"#DIV/0!"}},{"$f":"V5/AC5","v":{"$error":"#DIV/0!"}},{"$f":"W5/AC5","v":{"$error":"#DIV/0!"}},{"$f":"X5/AC5","v":{"$error":"#DIV/0!"}},{"$f":"Y5/AC5","v":{"$error":"#DIV/0!"}},{"$f":"Z5/AC5","v":{"$error":"#DIV/0!"}},{"$f":"AA5/AC5","v":{"$error":"#DIV/0!"}}]
[null,null,null,{"$f":"SUMIFS(Tableau_Data[Masculin],Tableau_Data[Province sanitaire],$B1,Tableau_Data[Annee],$D$3,Tableau_Data[Mois],I3,Tableau_Data[Tranche d''age],J5)+SUMIFS(Tableau_Data[Masculin],Tableau_Data[Province sanitaire],$B1,Tableau_Data[Annee],$F$3,Tableau_Data[Mois],K3,Tableau_Data[Tranche d''age],J5)+SUMIFS(Tableau_Data[Masculin],Tableau_Data[Province sanitaire],$B1,Tableau_Data[Tranche d''age],J5,Tableau_Data[Annee],\">\"&D2,Tableau_Data[Annee],\"<\"&F2)","v":0},null,{"$f":"SUMIFS(Tableau_Data[Féminin],Tableau_Data[Province sanitaire],$B1,Tableau_Data[Annee],$D$3,Tableau_Data[Mois],I3,Tableau_Data[Tranche d''age],J5)+SUMIFS(Tableau_Data[Féminin],Tableau_Data[Province sanitaire],$B1,Tableau_Data[Annee],$F$3,Tableau_Data[Mois],K3,Tableau_Data[Tranche d''age],J5)+SUMIFS(Tableau_Data[Féminin],Tableau_Data[Province sanitaire],$B1,Tableau_Data[Tranche d''age],J5,Tableau_Data[Annee],\">\"&D2,Tableau_Data[Annee],\"<\"&F2)","v":0},null,null,{"$f":"SUM(D7:F7)","v":0}]
[]
[]
[]
[]
[]
[]
[]
[]
[]
[]
[]
[]
[]
[]
[]
[]
[]
[null,null,null,null,null,null,null,null,null,null,null,null,null,"Synthèse : Lieu d'Intervention"]
[null,null,null,null,null,null,null,null,null,null,null,null,"PS",{"$f":"B1","v":"Mwaro"},null,null,null,null,null,null,"DEMO. PRESERVATIF",null,null,"TEMOIGNAGE",null,null,null,"TOTAL FICHES"]
[null,null,null,null,null,null,null,null,null,null,null,null,null,null,null,null,null,null,null,null,null,null,null,null,null,null,null,{"$f":"COUNTIFS(Tableau_Data[Province sanitaire],$B$1,Tableau_Data[Annee],$D$3,Tableau_Data[Mois],I3,Tableau_Data[Tranche d''age],J5)+COUNTIFS(Tableau_Data[Province sanitaire],$B$1,Tableau_Data[Annee],$F$3, Tableau_Data[Mois],K3,Tableau_Data[Tranche d''age],J5)+COUNTIFS(Tableau_Data[Province sanitaire],$B$1, Tableau_Data[Annee],\">\"&D2,Tableau_Data[Annee],\"<\"&F2,Tableau_Data[Tranche d''age],J5)","v":0}]
[null,null,null,null,null,null,null,null,null,null,null,null,null,null,null,null,null,null,null,null,"OUI","NON",null,"OUI","NON"]
[null,null,null,null,null,null,null,null,null,null,null,null,"A","B","C","D",null,null,null,null,{"$f":"COUNTIFS(Tableau_Data[Démo Preservatif],$U$28,Tableau_Data[Province sanitaire],$B$1,Tableau_Data[Annee],$D$3,Tableau_Data[Mois],I3,Tableau_Data[Tranche d''age],J5)+COUNTIFS(Tableau_Data[Démo Preservatif],$U$28,Tableau_Data[Province sanitaire],$B$1,Tableau_Data[Annee],$F$3,Tableau_Data[Mois],K3,Tableau_Data[Tranche d''age],J5)+COUNTIFS(Tableau_Data[Démo Preservatif],$U$28,Tableau_Data[Province sanitaire],$B$1, Tableau_Data[Annee],\">\"&D2,Tableau_Data[Annee],\"<\"&F2,Tableau_Data[Tranche d''age],J5)","v":0},{"$f":"COUNTIFS(Tableau_Data[Démo Preservatif],$V$28,Tableau_Data[Province sanitaire],$B$1,Tableau_Data[Annee],$D$3,Tableau_Data[Mois],I3,Tableau_Data[Tranche d''age],J5)+COUNTIFS(Tableau_Data[Démo Preservatif],$V$28,Tableau_Data[Province sanitaire],$B$1,Tableau_Data[Annee],$F$3,Tableau_Data[Mois],K3,Tableau_Data[Tranche d''age],J5)+COUNTIFS(Tableau_Data[Démo Preservatif],$V$28,Tableau_Data[Province sanitaire],$B$1, Tableau_Data[Annee],\">\"&D2,Tableau_Data[Annee],\"<\"&F2,Tableau_Data[Tranche d''age],J5)","v":0},null,{"$f":"COUNTIFS(Tableau_Data[Témoignage],$X$28,Tableau_Data[Province sanitaire],$B$1,Tableau_Data[Annee],$D$3,Tableau_Data[Mois],I3,Tableau_Data[Tranche d''age],J5)+COUNTIFS(Tableau_Data[Témoignage],$X$28,Tableau_Data[Province sanitaire],$B$1,Tableau_Data[Annee],$F$3,Tableau_Data[Mois],K3,Tableau_Data[Tranche d''age],J5)+COUNTIFS(Tableau_Data[Témoignage],$X$28,Tableau_Data[Province sanitaire],$B$1, Tableau_Data[Annee],\">\"&D2,Tableau_Data[Annee],\"<\"&F2,Tableau_Data[Tranche d''age],J5)","v":0},{"$f":"COUNTIFS(Tableau_Data[Témoignage],$Y$28,Tableau_Data[Province sanitaire],$B$1,Tableau_Data[Annee],$D$3,Tableau_Data[Mois],I3,Tableau_Data[Tranche d''age],J5)+COUNTIFS(Tableau_Data[Témoignage],$Y$28,Tableau_Data[Province sanitaire],$B$1,Tableau_Data[Annee],$F$3,Tableau_Data[Mois],K3,Tableau_Data[Tranche d''age],J5)+COUNTIFS(Tableau_Data[Témoignage],$Y$28,Tableau_Data[Province sanitaire],$B$1, Tableau_Data[Annee],\">\"&D2,Tableau_Data[Annee],\"<\"&F2,Tableau_Data[Tranche d''age],J5)","v":0}]
[null,null,null,null,null,null,null,null,null,null,null,null,{"$f":"Paramètres!F7","v":"IST/VIH-SIDA"},{"$f":"Paramètres!F8","v":"VSBG"},{"$f":"Paramètres!F9","v":"PF"},{"$f":"Paramètres!F10","v":"Autres thèmes SSRAJ"},null,null,null,null,{"$f":"U29/AB27","v":{"$error":"#DIV/0!"}},{"$f":"V29/AB27","v":{"$error":"#DIV/0!"}},null,{"$f":"X29/AB27","v":{"$error":"#DIV/0!"}},{"$f":"Y29/AB27","v":{"$error":"#DIV/0!"}}]
[null,null,null,null,null,null,null,null,null,null,null,"Masculin",{"$f":"SUMIFS(Tableau_Data[Masculin],Tableau_Data[Province sanitaire],$B1,Tableau_Data[Thèmes],$M$30,Tableau_Data[Annee],$D$3,Tableau_Data[Mois],I3,Tableau_Data[Tranche d''age],J5)+SUMIFS(Tableau_Data[Masculin],Tableau_Data[Province sanitaire],$B1,Tableau_Data[Thèmes],$M$30,Tableau_Data[Annee],$F$3,Tableau_Data[Mois],K3,Tableau_Data[Tranche d''age],J5)+SUMIFS(Tableau_Data[Masculin],Tableau_Data[Province sanitaire],$B1,Tableau_Data[Thèmes],$M$30, Tableau_Data[Annee],\">\"&D2,Tableau_Data[Annee],\"<\"&F2,Tableau_Data[Tranche d''age],J5)","v":0},{"$f":"SUMIFS(Tableau_Data[Masculin],Tableau_Data[Province sanitaire],$B1,Tableau_Data[Thèmes],$N$30,Tableau_Data[Annee],$D$3,Tableau_Data[Mois],I3,Tableau_Data[Tranche d''age],J5)+SUMIFS(Tableau_Data[Masculin],Tableau_Data[Province sanitaire],$B1,Tableau_Data[Thèmes],$N$30,Tableau_Data[Annee],$F$3,Tableau_Data[Mois],K3,Tableau_Data[Tranche d''age],J5)+SUMIFS(Tableau_Data[Masculin],Tableau_Data[Province sanitaire],$B1,Tableau_Data[Thèmes],$N$30, Tableau_Data[Annee],\">\"&D2,Tableau_Data[Annee],\"<\"&F2,Tableau_Data[Tranche d''age],J5)","v":0},{"$f":"SUMIFS(Tableau_Data[Masculin],Tableau_Data[Province sanitaire],$B1,Tableau_Data[Thèmes],$O$30,Tableau_Data[Annee],$D$3,Tableau_Data[Mois],I3,Tableau_Data[Tranche d''age],J5)+SUMIFS(Tableau_Data[Masculin],Tableau_Data[Province sanitaire],$B1,Tableau_Data[Thèmes],$O$30,Tableau_Data[Annee],$F$3,Tableau_Data[Mois],K3,Tableau_Data[Tranche d''age],J5)+SUMIFS(Tableau_Data[Masculin],Tableau_Data[Province sanitaire],$B1,Tableau_Data[Thèmes],$O$30, Tableau_Data[Annee],\">\"&D2,Tableau_Data[Annee],\"<\"&F2,Tableau_Data[Tranche d''age],J5)","v":0},{"$f":"SUMIFS(Tableau_Data[Masculin],Tableau_Data[Province sanitaire],$B1,Tableau_Data[Thèmes],$P$30,Tableau_Data[Annee],$D$3,Tableau_Data[Mois],I3,Tableau_Data[Tranche d''age],J5)+SUMIFS(Tableau_Data[Masculin],Tableau_Data[Province sanitaire],$B1,Tableau_Data[Thèmes],$P$30,Tableau_Data[Annee],$F$3,Tableau_Data[Mois],K3,Tableau_Data[Tranche d''age],J5)+SUMIFS(Tableau_Data[Masculin],Tableau_Data[Province sanitaire],$B1,Tableau_Data[Thèmes],$P$30, Tableau_Data[Annee],\">\"&D2,Tableau_Data[Annee],\"<\"&F2,Tableau_Data[Tranche d''age],J5)","v":0}]
[null,null,null,null,null,null,null,null,null,null,null,"Féminin",{"$f":"SUMIFS(Tableau_Data[Féminin],Tableau_Data[Province sanitaire],$B1,Tableau_Data[Thèmes],$M$30,Tableau_Data[Annee],$D$3,Tableau_Data[Mois],I3,Tableau_Data[Tranche d''age],J5)+SUMIFS(Tableau_Data[Féminin],Tableau_Data[Province sanitaire],$B1,Tableau_Data[Thèmes],$M$30,Tableau_Data[Annee],$F$3,Tableau_Data[Mois],K3,Tableau_Data[Tranche d''age],J5)+SUMIFS(Tableau_Data[Féminin],Tableau_Data[Province sanitaire],$B1,Tableau_Data[Thèmes],$M$30, Tableau_Data[Annee],\">\"&D2,Tableau_Data[Annee],\"<\"&F2,Tableau_Data[Tranche d''age],J5)","v":0},{"$f":"SUMIFS(Tableau_Data[Féminin],Tableau_Data[Province sanitaire],$B1,Tableau_Data[Thèmes],$N$30,Tableau_Data[Annee],$D$3,Tableau_Data[Mois],I3,Tableau_Data[Tranche d''age],J5)+SUMIFS(Tableau_Data[Féminin],Tableau_Data[Province sanitaire],$B1,Tableau_Data[Thèmes],$N$30,Tableau_Data[Annee],$F$3,Tableau_Data[Mois],K3,Tableau_Data[Tranche d''age],J5)+SUMIFS(Tableau_Data[Féminin],Tableau_Data[Province sanitaire],$B1,Tableau_Data[Thèmes],$N$30, Tableau_Data[Annee],\">\"&D2,Tableau_Data[Annee],\"<\"&F2,Tableau_Data[Tranche d''age],J5)","v":0},{"$f":"SUMIFS(Tableau_Data[Féminin],Tableau_Data[Province sanitaire],$B1,Tableau_Data[Thèmes],$O$30,Tableau_Data[Annee],$D$3,Tableau_Data[Mois],I3,Tableau_Data[Tranche d''age],J5)+SUMIFS(Tableau_Data[Féminin],Tableau_Data[Province sanitaire],$B1,Tableau_Data[Thèmes],$O$30,Tableau_Data[Annee],$F$3,Tableau_Data[Mois],K3,Tableau_Data[Tranche d''age],J5)+SUMIFS(Tableau_Data[Féminin],Tableau_Data[Province sanitaire],$B1,Tableau_Data[Thèmes],$O$30, Tableau_Data[Annee],\">\"&D2,Tableau_Data[Annee],\"<\"&F2,Tableau_Data[Tranche d''age],J5)","v":0},{"$f":"SUMIFS(Tableau_Data[Féminin],Tableau_Data[Province sanitaire],$B1,Tableau_Data[Thèmes],$P$30,Tableau_Data[Annee],$D$3,Tableau_Data[Mois],I3,Tableau_Data[Tranche d''age],J5)+SUMIFS(Tableau_Data[Féminin],Tableau_Data[Province sanitaire],$B1,Tableau_Data[Thèmes],$P$30,Tableau_Data[Annee],$F$3,Tableau_Data[Mois],K3,Tableau_Data[Tranche d''age],J5)+SUMIFS(Tableau_Data[Féminin],Tableau_Data[Province sanitaire],$B1,Tableau_Data[Thèmes],$P$30, Tableau_Data[Annee],\">\"&D2,Tableau_Data[Annee],\"<\"&F2,Tableau_Data[Tranche d''age],J5)","v":0}]
[null,null,"PS",null,{"$f":"B1","v":"Mwaro"},null,null,null,null,null,null,"Total",{"$f":"SUM(M31:M32)","v":0},{"$f":"SUM(N31:N32)","v":0},{"$f":"SUM(O31:O32)","v":0},{"$f":"SUM(P31:P32)","v":0}]
[]
[]
[]
[]
[]
[]
[]
[]
[null,"Rapport de :",null,{"$f":"Paramètres!I18","v":"GIZ"},null,null,"Imprimé le :",null,{"$f":"TODAY()","v":"2023-03-21"}]
[]
[]
[]
[]
[]
[]
[]
[]
[]
[null,null,null,null,null,null,null,null,null,null,null,null,null,"Synthèse : Thèmes traités"]
[]
[]
[]
[]
[]
[null,null,null,null,null,null,null,null,null,null,null,null,"Rapport de :",null,{"$f":"Paramètres!I18","v":"GIZ"},null,null,"Imprimé le :",{"$f":"TODAY()","v":"2023-03-21"}]

{"sheet":"ASBL-Tranche age","index":26,"n_rows":58,"n_cols":29,"rows_kept":58,"cut":false,"hidden":false,"merged":[[51,13,51,15],[57,12,57,13],[57,14,57,15],[57,18,57,19],[25,12,26,12],[25,13,26,17],[24,13,24,15],[32,2,33,2],[32,4,33,8],[41,1,41,2],[41,3,41,4],[3,3,3,5],[5,3,5,4],[5,5,5,6],[6,3,6,4],[6,5,6,6],[0,1,0,4],[1,6,1,7],[2,6,2,7],[0,6,0,9],[0,14,0,17]]}
[null,"NTURENGAHO",null,null,null,null,"ASBL - Période/Tranche d'age",null,null,null,null,null,null,null,{"$f":"J5","v":"25 ans et Plus"}]
[null,null,null,null,null,null,"DE",null,null,"A",null,null,null,null,{"$f":"Paramètres!B7","v":"ECOLE"},{"$f":"Paramètres!B8","v":"CENTRE DE SANTE"},{"$f":"Paramètres!B9","v":"COMMUNAUTE"},{"$f":"Paramètres!B10","v":"CENTRE PVH"},{"$f":"Paramètres!B11","v":"EGLISE"},null,null,"Analyse axée sur les cibles"]
[null,null,"RAPPORT",2019,null,2020,"Juillet",null,{"$f":"VLOOKUP(G3,Paramètres!$Y$7:$Z$18,2,0)","v":">6"},"Mars",{"$f":"VLOOKUP(J3,Paramètres!$AB$7:$AC$18,2,0)","v":"<4"},null,null,"Masculin",{"$f":"SUMIFS(Tableau_Data[Masculin],Tableau_Data[ASBL],$B1,Tableau_Data[Lieu d''intervention],$O$2,Tableau_Data[Annee],$D$3,Tableau_Data[Mois],I3,Tableau_Data[Tranche d''age],J5)+SUMIFS(Tableau_Data[Masculin],Tableau_Data[ASBL],$B1,Tableau_Data[Lieu d''intervention],$O$2,Tableau_Data[Annee],$F$3,Tableau_Data[Mois],K3,Tableau_Data[Tranche d''age],J5)+SUMIFS(Tableau_Data[Masculin],Tableau_Data[ASBL],$B1,Tableau_Data[Lieu d''intervention],$O$2,Tableau_Data[Annee],\">\"&D2,Tableau_Data[Annee],\"<\"&F2,Tableau_Data[Tranche d''age],J5)","v":0},{"$f":"SUMIFS(Tableau_Data[Masculin],Tableau_Data[ASBL],$B1,Tableau_Data[Lieu d''intervention],$P$2,Tableau_Data[Annee],$D$3,Tableau_Data[Mois],I3,Tableau_Data[Tranche d''age],J5)+SUMIFS(Tableau_Data[Masculin],Tableau_Data[ASBL],$B1,Tableau_Data[Lieu d''intervention],$P$2,Tableau_Data[Annee],$F$3,Tableau_Data[Mois],K3,Tableau_Data[Tranche d''age],J5)+SUMIFS(Tableau_Data[Masculin],Tableau_Data[ASBL],$B1,Tableau_Data[Lieu d''intervention],$P$2,Tableau_Data[Annee],\">\"&D2,Tableau_Data[Annee],\"<\"&F2,Tableau_Data[Tranche d''age],J5)","v":0},{"$f":"SUMIFS(Tableau_Data[Masculin],Tableau_Data[ASBL],$B1,Tableau_Data[Lieu d''intervention],$Q$2,Tableau_Data[Annee],$D$3,Tableau_Data[Mois],I3,Tableau_Data[Tranche d''age],J5)+SUMIFS(Tableau_Data[Masculin],Tableau_Data[ASBL],$B1,Tableau_Data[Lieu d''intervention],$Q$2,Tableau_Data[Annee],$F$3,Tableau_Data[Mois],K3,Tableau_Data[Tranche d''age],J5)+SUMIFS(Tableau_Data[Masculin],Tableau_Data[ASBL],$B1,Tableau_Data[Lieu d''intervention],$Q$2,Tableau_Data[Annee],\">\"&D2,Tableau_Data[Annee],\"<\"&F2,Tableau_Data[Tranche d''age],J5)","v":0},{"$f":"SUMIFS(Tableau_Data[Masculin],Tableau_Data[ASBL],$B1,Tableau_Data[Lieu d''intervention],$R$2,Tableau_Data[Annee],$D$3,Tableau_Data[Mois],I3,Tableau_Data[Tranche d''age],J5)+SUMIFS(Tableau_Data[Masculin],Tableau_Data[ASBL],$B1,Tableau_Data[Lieu d''intervention],$R$2,Tableau_Data[Annee],$F$3,Tableau_Data[Mois],K3,Tableau_Data[Tranche d''age],J5)+SUMIFS(Tableau_Data[Masculin],Tableau_Data[ASBL],$B1,Tableau_Data[Lieu d''intervention],$R$2,Tableau_Data[Annee],\">\"&D2,Tableau_Data[Annee],\"<\"&F2,Tableau_Data[Tranche d''age],J5)","v":0},{"$f":"SUMIFS(Tableau_Data[Masculin],Tableau_Data[ASBL],$B1,Tableau_Data[Lieu d''intervention],$S$2,Tableau_Data[Annee],$D$3,Tableau_Data[Mois],J3,Tableau_Data[Tranche d''age],K5)+SUMIFS(Tableau_Data[Masculin],Tableau_Data[ASBL],$B1,Tableau_Data[Lieu d''intervention],$S$2,Tableau_Data[Annee],$F$3,Tableau_Data[Mois],L3,Tableau_Data[Tranche d''age],K5)+SUMIFS(Tableau_Data[Masculin],Tableau_Data[ASBL],$B1,Tableau_Data[Lieu d''intervention],$S$2,Tableau_Data[Annee],\">\"&E2,Tableau_Data[Annee],\"<\"&G2,Tableau_Data[Tranche d''age],K5)","v":0},null,"J-ADO-S","H","F","M","J-ADO-NS","B","P-H"]
[null,null,null,"Sélectinnez l'année",null,null,null,null,null,null,null,null,null,"Féminin",{"$f":"SUMIFS(Tableau_Data[Féminin],Tableau_Data[ASBL],$B1,Tableau_Data[Lieu d''intervention],$O$2,Tableau_Data[Annee],$D$3,Tableau_Data[Mois],I3,Tableau_Data[Tranche d''age],J5)+SUMIFS(Tableau_Data[Féminin],Tableau_Data[ASBL],$B1,Tableau_Data[Lieu d''intervention],$O$2,Tableau_Data[Annee],$F$3,Tableau_Data[Mois],K3,Tableau_Data[Tranche d''age],J5)+SUMIFS(Tableau_Data[Féminin],Tableau_Data[ASBL],$B1,Tableau_Data[Lieu d''intervention],$O$2,Tableau_Data[Annee],\">\"&D2,Tableau_Data[Annee],\"<\"&F2,Tableau_Data[Tranche d''age],J5)","v":0},{"$f":"SUMIFS(Tableau_Data[Féminin],Tableau_Data[ASBL],$B1,Tableau_Data[Lieu d''intervention],$P$2,Tableau_Data[Annee],$D$3,Tableau_Data[Mois],I3,Tableau_Data[Tranche d''age],J5)+SUMIFS(Tableau_Data[Féminin],Tableau_Data[ASBL],$B1,Tableau_Data[Lieu d''intervention],$P$2,Tableau_Data[Annee],$F$3,Tableau_Data[Mois],K3,Tableau_Data[Tranche d''age],J5)+SUMIFS(Tableau_Data[Féminin],Tableau_Data[ASBL],$B1,Tableau_Data[Lieu d''intervention],$P$2,Tableau_Data[Annee],\">\"&D2,Tableau_Data[Annee],\"<\"&F2,Tableau_Data[Tranche d''age],J5)","v":0},{"$f":"SUMIFS(Tableau_Data[Féminin],Tableau_Data[ASBL],$B1,Tableau_Data[Lieu d''intervention],$Q$2,Tableau_Data[Annee],$D$3,Tableau_Data[Mois],I3,Tableau_Data[Tranche d''age],J5)+SUMIFS(Tableau_Data[Féminin],Tableau_Data[ASBL],$B1,Tableau_Data[Lieu d''intervention],$Q$2,Tableau_Data[Annee],$F$3,Tableau_Data[Mois],K3,Tableau_Data[Tranche d''age],J5)+SUMIFS(Tableau_Data[Féminin],Tableau_Data[ASBL],$B1,Tableau_Data[Lieu d''intervention],$Q$2,Tableau_Data[Annee],\">\"&D2,Tableau_Data[Annee],\"<\"&F2,Tableau_Data[Tranche d''age],J5)","v":0},{"$f":"SUMIFS(Tableau_Data[Féminin],Tableau_Data[ASBL],$B1,Tableau_Data[Lieu d''intervention],$R$2,Tableau_Data[Annee],$D$3,Tableau_Data[Mois],I3,Tableau_Data[Tranche d''age],J5)+SUMIFS(Tableau_Data[Féminin],Tableau_Data[ASBL],$B1,Tableau_Data[Lieu d''intervention],$R$2,Tableau_Data[Annee],$F$3,Tableau_Data[Mois],K3,Tableau_Data[Tranche d''age],J5)+SUMIFS(Tableau_Data[Féminin],Tableau_Data[ASBL],$B1,Tableau_Data[Lieu d''intervention],$R$2,Tableau_Data[Annee],\">\"&D2,Tableau_Data[Annee],\"<\"&F2,Tableau_Data[Tranche d''age],J5)","v":0},{"$f":"SUMIFS(Tableau_Data[Féminin],Tableau_Data[ASBL],$B1,Tableau_Data[Lieu d''intervention],$S$2,Tableau_Data[Annee],$D$3,Tableau_Data[Mois],J3,Tableau_Data[Tranche d''age],K5)+SUMIFS(Tableau_Data[Féminin],Tableau_Data[ASBL],$B1,Tableau_Data[Lieu d''intervention],$S$2,Tableau_Data[Annee],$F$3,Tableau_Data[Mois],L3,Tableau_Data[Tranche d''age],K5)+SUMIFS(Tableau_Data[Féminin],Tableau_Data[ASBL],$B1,Tableau_Data[Lieu d''intervention],$S$2,Tableau_Data[Annee],\">\"&E2,Tableau_Data[Annee],\"<\"&G2,Tableau_Data[Tranche d''age],K5)","v":0},null,{"$f":"Paramètres!K7","v":"Jeunes et Adolescents scolarisés"},{"$f":"Paramètres!K8","v":"Hommes"},{"$f":"Paramètres!K9","v":"Femmes"},{"$f":"Paramètres!K10","v":"Mixte"},{"$f":"Paramètres!K11","v":"Jeunes et Adolescents non scolarisés"},{"$f":"Paramètres!K12","v":"Batwa"},{"$f":"Paramètres!K13","v":"Personnes avec Handicap"},null,"TOTAL FICHES"]
[null,null,null,null,null,null,null,null,"Tranche Age","25 ans et Plus",null,null,null,"Total",{"$f":"SUM(O3:O4)","v":0},{"$f":"SUM(P3:P4)","v":0},{"$f":"SUM(Q3:Q4)","v":0},{"$f":"SUM(R3:R4)","v":0},{"$f":"SUM(S3:S4)","v":0},null,{"$f":"COUNTIFS(Tableau_Data[Cible],$U$4,Tableau_Data[ASBL],$B$1,Tableau_Data[Annee],$D$3,Tableau_Data[Mois],I3,Tableau_Data[Tranche d''age],J5)+COUNTIFS(Tableau_Data[Cible],$U$4,Tableau_Data[ASBL],$B$1,Tableau_Data[Annee],$F$3,Tableau_Data[Mois],K3,Tableau_Data[Tranche d''age],J5)+COUNTIFS(Tableau_Data[Cible],$U$4,Tableau_Data[ASBL],$B$1, Tableau_Data[Annee],\">\"&D2,Tableau_Data[Annee],\"<\"&F2,Tableau_Data[Tranche d''age],J5)","v":0},{"$f":"COUNTIFS(Tableau_Data[Cible],$V$4,Tableau_Data[ASBL],$B$1,Tableau_Data[Annee],$D$3,Tableau_Data[Mois],I3,Tableau_Data[Tranche d''age],J5)+COUNTIFS(Tableau_Data[Cible],$V$4,Tableau_Data[ASBL],$B$1,Tableau_Data[Annee],$F$3,Tableau_Data[Mois],K3,Tableau_Data[Tranche d''age],J5)+COUNTIFS(Tableau_Data[Cible],$V$4,Tableau_Data[ASBL],$B$1, Tableau_Data[Annee],\">\"&D2,Tableau_Data[Annee],\"<\"&F2,Tableau_Data[Tranche d''age],J5)","v":0},{"$f":"COUNTIFS(Tableau_Data[Cible],$W$4,Tableau_Data[ASBL],$B$1,Tableau_Data[Annee],$D$3,Tableau_Data[Mois],I3,Tableau_Data[Tranche d''age],J5)+COUNTIFS(Tableau_Data[Cible],$W$4,Tableau_Data[ASBL],$B$1,Tableau_Data[Annee],$F$3,Tableau_Data[Mois],K3,Tableau_Data[Tranche d''age],J5)+COUNTIFS(Tableau_Data[Cible],$W$4,Tableau_Data[ASBL],$B$1, Tableau_Data[Annee],\">\"&D2,Tableau_Data[Annee],\"<\"&F2,Tableau_Data[Tranche d''age],J5)","v":0},{"$f":"COUNTIFS(Tableau_Data[Cible],$X$4,Tableau_Data[ASBL],$B$1,Tableau_Data[Annee],$D$3,Tableau_Data[Mois],I3,Tableau_Data[Tranche d''age],J5)+COUNTIFS(Tableau_Data[Cible],$X$4,Tableau_Data[ASBL],$B$1,Tableau_Data[Annee],$F$3,Tableau_Data[Mois],K3,Tableau_Data[Tranche d''age],J5)+COUNTIFS(Tableau_Data[Cible],$X$4,Tableau_Data[ASBL],$B$1, Tableau_Data[Annee],\">\"&D2,Tableau_Data[Annee],\"<\"&F2,Tableau_Data[Tranche d''age],J5)","v":0},{"$f":"COUNTIFS(Tableau_Data[Cible],$Y$4,Tableau_Data[ASBL],$B$1,Tableau_Data[Annee],$D$3,Tableau_Data[Mois],I3,Tableau_Data[Tranche d''age],J5)+COUNTIFS(Tableau_Data[Cible],$Y$4,Tableau_Data[ASBL],$B$1,Tableau_Data[Annee],$F$3,Tableau_Data[Mois],K3,Tableau_Data[Tranche d''age],J5)+COUNTIFS(Tableau_Data[Cible],$Y$4,Tableau_Data[ASBL],$B$1, Tableau_Data[Annee],\">\"&D2,Tableau_Data[Annee],\"<\"&F2,Tableau_Data[Tranche d''age],J5)","v":0},{"$f":"COUNTIFS(Tableau_Data[Cible],$Z$4,Tableau_Data[ASBL],$B$1,Tableau_Data[Annee],$D$3,Tableau_Data[Mois],I3,Tableau_Data[Tranche d''age],J5)+COUNTIFS(Tableau_Data[Cible],$Z$4,Tableau_Data[ASBL],$B$1,Tableau_Data[Annee],$F$3,Tableau_Data[Mois],K3,Tableau_Data[Tranche d''age],J5)+COUNTIFS(Tableau_Data[Cible],$Z$4,Tableau_Data[ASBL],$B$1, Tableau_Data[Annee],\">\"&D2,Tableau_Data[Annee],\"<\"&F2,Tableau_Data[Tranche d''age],J5)","v":0},{"$f":"COUNTIFS(Tableau_Data[Cible],$AA$4,Tableau_Data[ASBL],$B$1,Tableau_Data[Annee],$D$3,Tableau_Data[Mois],I3,Tableau_Data[Tranche d''age],J5)+COUNTIFS(Tableau_Data[Cible],$AA$4,Tableau_Data[ASBL],$B$1,Tableau_Data[Annee],$F$3,Tableau_Data[Mois],K3,Tableau_Data[Tranche d''age],J5)+COUNTIFS(Tableau_Data[Cible],$AA$4,Tableau_Data[ASBL],$B$1, Tableau_Data[Annee],\">\"&D2,Tableau_Data[Annee],\"<\"&F2,Tableau_Data[Tranche d''age],J5)","v":0},null,{"$f":"COUNTIFS(Tableau_Data[ASBL],$B$1,Tableau_Data[Annee],$D$3,Tableau_Data[Mois],I3,Tableau_Data[Tranche d''age],J5)+COUNTIFS(Tableau_Data[ASBL],$B$1,Tableau_Data[Annee],$F$3, Tableau_Data[Mois],K3,Tableau_Data[Tranche d''age],J5)+COUNTIFS(Tableau_Data[ASBL],$B$1, Tableau_Data[Annee],\">\"&D2,Tableau_Data[Annee],\"<\"&F2,Tableau_Data[Tranche d''age],J5)","v":0}]
[null,null,null,"Total Masculin",null,"Total Féminin",null,null,"TOTAL",null,null,null,null,null,null,null,null,null,null,null,{"$f":"U5/AC5","v":{"$error":"#DIV/0!"}},{"$f":"V5/AC5","v":{"$error":"#DIV/0!"}},{"$f":"W5/AC5","v":{"$error":"#DIV/0!"}},{"$f":"X5/AC5","v":{"$error":"#DIV/0!"}},{"$f":"Y5/AC5","v":{"$error":"#DIV/0!"}},{"$f":"Z5/AC5","v":{"$error":"#DIV/0!"}},{"$f":"AA5/AC5","v":{"$error":"#DIV/0!"}}]
[null,null,null,{"$f":"SUMIFS(Tableau_Data[Masculin],Tableau_Data[ASBL],$B1,Tableau_Data[Annee],$D$3,Tableau_Data[Mois],I3,Tableau_Data[Tranche d''age],J5)+SUMIFS(Tableau_Data[Masculin],Tableau_Data[ASBL],$B1,Tableau_Data[Annee],$F$3,Tableau_Data[Mois],K3,Tableau_Data[Tranche d''age],J5)+SUMIFS(Tableau_Data[Masculin],Tableau_Data[ASBL],$B1,Tableau_Data[Tranche d''age],J5,Tableau_Data[Annee],\">\"&D2,Tableau_Data[Annee],\"<\"&F2)","v":0},null,{"$f":"SUMIFS(Tableau_Data[Féminin],Tableau_Data[ASBL],$B1,Tableau_Data[Annee],$D$3,Tableau_Data[Mois],I3,Tableau_Data[Tranche d''age],J5)+SUMIFS(Tableau_Data[Féminin],Tableau_Data[ASBL],$B1,Tableau_Data[Annee],$F$3,Tableau_Data[Mois],K3,Tableau_Data[Tranche d''age],J5)+SUMIFS(Tableau_Data[Féminin],Tableau_Data[ASBL],$B1,Tableau_Data[Tranche d''age],J5,Tableau_Data[Annee],\">\"&D2,Tableau_Data[Annee],\"<\"&F2)","v":0},null,null,{"$f":"SUM(D7:F7)","v":0}]
[]
[]
[]
[]
[]
[]
[]
[]
[]
[]
[]
[]
[]
[]
[]
[]
[]
[null,null,null,null,null,null,null,null,null,null,null,null,null,"Synthèse : Lieu d'Intervention"]
[null,null,null,null,null,null,null,null,null,null,null,null,"ASBL",{"$f":"B1","v":"NTURENGAHO"},null,null,null,null,null,null,"DEMO. PRESERVATIF",null,null,"TEMOIGNAGE",null,null,null,"TOTAL FICHES"]
[null,null,null,null,null,null,null,null,null,null,null,null,null,null,null,null,null,null,null,null,null,null,null,null,null,null,null,{"$f":"COUNTIFS(Tableau_Data[ASBL],$B$1,Tableau_Data[Annee],$D$3,Tableau_Data[Mois],I3,Tableau_Data[Tranche d''age],J5)+COUNTIFS(Tableau_Data[ASBL],$B$1,Tableau_Data[Annee],$F$3, Tableau_Data[Mois],K3,Tableau_Data[Tranche d''age],J5)+COUNTIFS(Tableau_Data[ASBL],$B$1, Tableau_Data[Annee],\">\"&D2,Tableau_Data[Annee],\"<\"&F2,Tableau_Data[Tranche d''age],J5)","v":0}]
[null,null,null,null,null,null,null,null,null,null,null,null,null,null,null,null,null,null,null,null,"OUI","NON",null,"OUI","NON"]
[null,null,null,null,null,null,null,null,null,null,null,null,"A","B","C","D",null,null,null,null,{"$f":"COUNTIFS(Tableau_Data[Démo Preservatif],$U$28,Tableau_Data[ASBL],$B$1,Tableau_Data[Annee],$D$3,Tableau_Data[Mois],I3,Tableau_Data[Tranche d''age],J5)+COUNTIFS(Tableau_Data[Démo Preservatif],$U$28,Tableau_Data[ASBL],$B$1,Tableau_Data[Annee],$F$3,Tableau_Data[Mois],K3,Tableau_Data[Tranche d''age],J5)+COUNTIFS(Tableau_Data[Démo Preservatif],$U$28,Tableau_Data[ASBL],$B$1, Tableau_Data[Annee],\">\"&D2,Tableau_Data[Annee],\"<\"&F2,Tableau_Data[Tranche d''age],J5)","v":0},{"$f":"COUNTIFS(Tableau_Data[Démo Preservatif],$V$28,Tableau_Data[ASBL],$B$1,Tableau_Data[Annee],$D$3,Tableau_Data[Mois],I3,Tableau_Data[Tranche d''age],J5)+COUNTIFS(Tableau_Data[Démo Preservatif],$V$28,Tableau_Data[ASBL],$B$1,Tableau_Data[Annee],$F$3,Tableau_Data[Mois],K3,Tableau_Data[Tranche d''age],J5)+COUNTIFS(Tableau_Data[Démo Preservatif],$V$28,Tableau_Data[ASBL],$B$1, Tableau_Data[Annee],\">\"&D2,Tableau_Data[Annee],\"<\"&F2,Tableau_Data[Tranche d''age],J5)","v":0},null,{"$f":"COUNTIFS(Tableau_Data[Témoignage],$X$28,Tableau_Data[ASBL],$B$1,Tableau_Data[Annee],$D$3,Tableau_Data[Mois],I3,Tableau_Data[Tranche d''age],J5)+COUNTIFS(Tableau_Data[Témoignage],$X$28,Tableau_Data[ASBL],$B$1,Tableau_Data[Annee],$F$3,Tableau_Data[Mois],K3,Tableau_Data[Tranche d''age],J5)+COUNTIFS(Tableau_Data[Témoignage],$X$28,Tableau_Data[ASBL],$B$1, Tableau_Data[Annee],\">\"&D2,Tableau_Data[Annee],\"<\"&F2,Tableau_Data[Tranche d''age],J5)","v":0},{"$f":"COUNTIFS(Tableau_Data[Témoignage],$Y$28,Tableau_Data[ASBL],$B$1,Tableau_Data[Annee],$D$3,Tableau_Data[Mois],I3,Tableau_Data[Tranche d''age],J5)+COUNTIFS(Tableau_Data[Témoignage],$Y$28,Tableau_Data[ASBL],$B$1,Tableau_Data[Annee],$F$3,Tableau_Data[Mois],K3,Tableau_Data[Tranche d''age],J5)+COUNTIFS(Tableau_Data[Témoignage],$Y$28,Tableau_Data[ASBL],$B$1, Tableau_Data[Annee],\">\"&D2,Tableau_Data[Annee],\"<\"&F2,Tableau_Data[Tranche d''age],J5)","v":0}]
[null,null,null,null,null,null,null,null,null,null,null,null,{"$f":"Paramètres!F7","v":"IST/VIH-SIDA"},{"$f":"Paramètres!F8","v":"VSBG"},{"$f":"Paramètres!F9","v":"PF"},{"$f":"Paramètres!F10","v":"Autres thèmes SSRAJ"},null,null,null,null,{"$f":"U29/AB27","v":{"$error":"#DIV/0!"}},{"$f":"V29/AB27","v":{"$error":"#DIV/0!"}},null,{"$f":"X29/AB27","v":{"$error":"#DIV/0!"}},{"$f":"Y29/AB27","v":{"$error":"#DIV/0!"}}]
[null,null,null,null,null,null,null,null,null,null,null,"Masculin",{"$f":"SUMIFS(Tableau_Data[Masculin],Tableau_Data[ASBL],$B1,Tableau_Data[Thèmes],$M$30,Tableau_Data[Annee],$D$3,Tableau_Data[Mois],I3,Tableau_Data[Tranche d''age],J5)+SUMIFS(Tableau_Data[Masculin],Tableau_Data[ASBL],$B1,Tableau_Data[Thèmes],$M$30,Tableau_Data[Annee],$F$3,Tableau_Data[Mois],K3,Tableau_Data[Tranche d''age],J5)+SUMIFS(Tableau_Data[Masculin],Tableau_Data[ASBL],$B1,Tableau_Data[Thèmes],$M$30, Tableau_Data[Annee],\">\"&D2,Tableau_Data[Annee],\"<\"&F2,Tableau_Data[Tranche d''age],J5)","v":0},{"$f":"SUMIFS(Tableau_Data[Masculin],Tableau_Data[ASBL],$B1,Tableau_Data[Thèmes],$N$30,Tableau_Data[Annee],$D$3,Tableau_Data[Mois],I3,Tableau_Data[Tranche d''age],J5)+SUMIFS(Tableau_Data[Masculin],Tableau_Data[ASBL],$B1,Tableau_Data[Thèmes],$N$30,Tableau_Data[Annee],$F$3,Tableau_Data[Mois],K3,Tableau_Data[Tranche d''age],J5)+SUMIFS(Tableau_Data[Masculin],Tableau_Data[ASBL],$B1,Tableau_Data[Thèmes],$N$30, Tableau_Data[Annee],\">\"&D2,Tableau_Data[Annee],\"<\"&F2,Tableau_Data[Tranche d''age],J5)","v":0},{"$f":"SUMIFS(Tableau_Data[Masculin],Tableau_Data[ASBL],$B1,Tableau_Data[Thèmes],$O$30,Tableau_Data[Annee],$D$3,Tableau_Data[Mois],I3,Tableau_Data[Tranche d''age],J5)+SUMIFS(Tableau_Data[Masculin],Tableau_Data[ASBL],$B1,Tableau_Data[Thèmes],$O$30,Tableau_Data[Annee],$F$3,Tableau_Data[Mois],K3,Tableau_Data[Tranche d''age],J5)+SUMIFS(Tableau_Data[Masculin],Tableau_Data[ASBL],$B1,Tableau_Data[Thèmes],$O$30, Tableau_Data[Annee],\">\"&D2,Tableau_Data[Annee],\"<\"&F2,Tableau_Data[Tranche d''age],J5)","v":0},{"$f":"SUMIFS(Tableau_Data[Masculin],Tableau_Data[ASBL],$B1,Tableau_Data[Thèmes],$P$30,Tableau_Data[Annee],$D$3,Tableau_Data[Mois],I3,Tableau_Data[Tranche d''age],J5)+SUMIFS(Tableau_Data[Masculin],Tableau_Data[ASBL],$B1,Tableau_Data[Thèmes],$P$30,Tableau_Data[Annee],$F$3,Tableau_Data[Mois],K3,Tableau_Data[Tranche d''age],J5)+SUMIFS(Tableau_Data[Masculin],Tableau_Data[ASBL],$B1,Tableau_Data[Thèmes],$P$30, Tableau_Data[Annee],\">\"&D2,Tableau_Data[Annee],\"<\"&F2,Tableau_Data[Tranche d''age],J5)","v":0}]
[null,null,null,null,null,null,null,null,null,null,null,"Féminin",{"$f":"SUMIFS(Tableau_Data[Féminin],Tableau_Data[ASBL],$B1,Tableau_Data[Thèmes],$M$30,Tableau_Data[Annee],$D$3,Tableau_Data[Mois],I3,Tableau_Data[Tranche d''age],J5)+SUMIFS(Tableau_Data[Féminin],Tableau_Data[ASBL],$B1,Tableau_Data[Thèmes],$M$30,Tableau_Data[Annee],$F$3,Tableau_Data[Mois],K3,Tableau_Data[Tranche d''age],J5)+SUMIFS(Tableau_Data[Féminin],Tableau_Data[ASBL],$B1,Tableau_Data[Thèmes],$M$30, Tableau_Data[Annee],\">\"&D2,Tableau_Data[Annee],\"<\"&F2,Tableau_Data[Tranche d''age],J5)","v":0},{"$f":"SUMIFS(Tableau_Data[Féminin],Tableau_Data[ASBL],$B1,Tableau_Data[Thèmes],$N$30,Tableau_Data[Annee],$D$3,Tableau_Data[Mois],I3,Tableau_Data[Tranche d''age],J5)+SUMIFS(Tableau_Data[Féminin],Tableau_Data[ASBL],$B1,Tableau_Data[Thèmes],$N$30,Tableau_Data[Annee],$F$3,Tableau_Data[Mois],K3,Tableau_Data[Tranche d''age],J5)+SUMIFS(Tableau_Data[Féminin],Tableau_Data[ASBL],$B1,Tableau_Data[Thèmes],$N$30, Tableau_Data[Annee],\">\"&D2,Tableau_Data[Annee],\"<\"&F2,Tableau_Data[Tranche d''age],J5)","v":0},{"$f":"SUMIFS(Tableau_Data[Féminin],Tableau_Data[ASBL],$B1,Tableau_Data[Thèmes],$O$30,Tableau_Data[Annee],$D$3,Tableau_Data[Mois],I3,Tableau_Data[Tranche d''age],J5)+SUMIFS(Tableau_Data[Féminin],Tableau_Data[ASBL],$B1,Tableau_Data[Thèmes],$O$30,Tableau_Data[Annee],$F$3,Tableau_Data[Mois],K3,Tableau_Data[Tranche d''age],J5)+SUMIFS(Tableau_Data[Féminin],Tableau_Data[ASBL],$B1,Tableau_Data[Thèmes],$O$30, Tableau_Data[Annee],\">\"&D2,Tableau_Data[Annee],\"<\"&F2,Tableau_Data[Tranche d''age],J5)","v":0},{"$f":"SUMIFS(Tableau_Data[Féminin],Tableau_Data[ASBL],$B1,Tableau_Data[Thèmes],$P$30,Tableau_Data[Annee],$D$3,Tableau_Data[Mois],I3,Tableau_Data[Tranche d''age],J5)+SUMIFS(Tableau_Data[Féminin],Tableau_Data[ASBL],$B1,Tableau_Data[Thèmes],$P$30,Tableau_Data[Annee],$F$3,Tableau_Data[Mois],K3,Tableau_Data[Tranche d''age],J5)+SUMIFS(Tableau_Data[Féminin],Tableau_Data[ASBL],$B1,Tableau_Data[Thèmes],$P$30, Tableau_Data[Annee],\">\"&D2,Tableau_Data[Annee],\"<\"&F2,Tableau_Data[Tranche d''age],J5)","v":0}]
[null,null,"ASBL",null,"NTURENGAHO",null,null,null,null,null,null,"Total",{"$f":"SUM(M31:M32)","v":0},{"$f":"SUM(N31:N32)","v":0},{"$f":"SUM(O31:O32)","v":0},{"$f":"SUM(P31:P32)","v":0}]
[]
[]
[]
[]
[]
[]
[]
[]
[null,"Rapport de :",null,{"$f":"Paramètres!I18","v":"GIZ"},null,null,"Imprimé le :",null,{"$f":"TODAY()","v":"2023-03-21"}]
[]
[]
[]
[]
[]
[]
[]
[]
[]
[null,null,null,null,null,null,null,null,null,null,null,null,null,"Synthèse : Thèmes traités"]
[]
[]
[]
[]
[]
[null,null,null,null,null,null,null,null,null,null,null,null,"Rapport de :",null,{"$f":"Paramètres!I18","v":"GIZ"},null,null,"Imprimé le :",{"$f":"TODAY()","v":"2023-03-21"}]

{"sheet":"Reseaux-année","index":27,"n_rows":58,"n_cols":29,"rows_kept":58,"cut":false,"hidden":false,"merged":[[57,12,57,13],[57,14,57,15],[6,3,6,4],[6,5,6,6],[24,13,24,15],[25,12,26,12],[25,13,26,17],[32,4,33,8],[0,21,0,26],[41,1,41,2],[41,3,41,4],[51,13,51,15],[32,2,33,2],[0,1,0,4],[0,7,0,8],[2,3,2,5],[3,3,3,5],[5,3,5,4],[5,5,5,6]]}
[null,"CDS Croix Rouge",null,null,null,null,null,"Réseaux",null,null,null,null,null,null,null,null,null,null,null,null,null,"Analyse axée sur les cibles"]
[null,null,null,null,null,null,null,null,null,null,null,null,null,null,{"$f":"Paramètres!B7","v":"ECOLE"},{"$f":"Paramètres!B8","v":"CENTRE DE SANTE"},{"$f":"Paramètres!B9","v":"COMMUNAUTE"},{"$f":"Paramètres!B10","v":"CENTRE PVH"},{"$f":"Paramètres!B11","v":"EGLISE"},null,"J-ADO-S","H","F","M","J-ADO-NS","B","P-H"]
[null,null,"RAPPORT",2019,null,null,null,null,null,null,null,null,null,"Masculin",{"$f":"SUMIFS(Tableau_Data[Masculin],Tableau_Data[Nom du CDS],$B1,Tableau_Data[Lieu d''intervention],$O$2,Tableau_Data[Annee],$D$3)","v":0},{"$f":"SUMIFS(Tableau_Data[Masculin],Tableau_Data[Nom du CDS],$B1,Tableau_Data[Lieu d''intervention],$P$2,Tableau_Data[Annee],$D$3)","v":0},{"$f":"SUMIFS(Tableau_Data[Masculin],Tableau_Data[Nom du CDS],$B1,Tableau_Data[Lieu d''intervention],$Q$2,Tableau_Data[Annee],$D$3)","v":0},{"$f":"SUMIFS(Tableau_Data[Masculin],Tableau_Data[Nom du CDS],$B1,Tableau_Data[Lieu d''intervention],$R$2,Tableau_Data[Annee],$D$3)","v":0},{"$f":"SUMIFS(Tableau_Data[Masculin],Tableau_Data[Nom du CDS],$B1,Tableau_Data[Lieu d''intervention],$S$2,Tableau_Data[Annee],$D$3)","v":0},null,{"$f":"Paramètres!K7","v":"Jeunes et Adolescents scolarisés"},{"$f":"Paramètres!K8","v":"Hommes"},{"$f":"Paramètres!K9","v":"Femmes"},{"$f":"Paramètres!K10","v":"Mixte"},{"$f":"Paramètres!K11","v":"Jeunes et Adolescents non scolarisés"},{"$f":"Paramètres!K12","v":"Batwa"},{"$f":"Paramètres!K13","v":"Personnes avec Handicap"},null,"TOTAL FICHES"]
[null,null,null,"Sélectinnez l'année",null,null,null,null,null,null,null,null,null,"Féminin",{"$f":"SUMIFS(Tableau_Data[Féminin],Tableau_Data[Nom du CDS],$B1,Tableau_Data[Lieu d''intervention],$O$2,Tableau_Data[Annee],$D$3)","v":0},{"$f":"SUMIFS(Tableau_Data[Féminin],Tableau_Data[Nom du CDS],$B1,Tableau_Data[Lieu d''intervention],$P$2,Tableau_Data[Annee],$D$3)","v":0},{"$f":"SUMIFS(Tableau_Data[Féminin],Tableau_Data[Nom du CDS],$B1,Tableau_Data[Lieu d''intervention],$Q$2,Tableau_Data[Annee],$D$3)","v":0},{"$f":"SUMIFS(Tableau_Data[Féminin],Tableau_Data[Nom du CDS],$B1,Tableau_Data[Lieu d''intervention],$R$2,Tableau_Data[Annee],$D$3)","v":0},{"$f":"SUMIFS(Tableau_Data[Féminin],Tableau_Data[Nom du CDS],$B1,Tableau_Data[Lieu d''intervention],$S$2,Tableau_Data[Annee],$D$3)","v":0},null,{"$f":"COUNTIFS(Tableau_Data[Cible],$U$3,Tableau_Data[Nom du CDS],$B$1,Tableau_Data[Annee],$D$3)","v":0},{"$f":"COUNTIFS(Tableau_Data[Cible],$V$3,Tableau_Data[Nom du CDS],$B$1,Tableau_Data[Annee],$D$3)","v":0},{"$f":"COUNTIFS(Tableau_Data[Cible],$W$3,Tableau_Data[Nom du CDS],$B$1,Tableau_Data[Annee],$D$3)","v":0},{"$f":"COUNTIFS(Tableau_Data[Cible],$X$3,Tableau_Data[Nom du CDS],$B$1,Tableau_Data[Annee],$D$3)","v":0},{"$f":"COUNTIFS(Tableau_Data[Tranche d''age],$Y$3,Tableau_Data[Province sanitaire],$B$1,Tableau_Data[Date],$D$3)","v":0},{"$f":"COUNTIFS(Tableau_Data[Tranche d''age],$Z$3,Tableau_Data[Province sanitaire],$B$1,Tableau_Data[Date],$D$3)","v":0},{"$f":"COUNTIFS(Tableau_Data[Tranche d''age],$AA$3,Tableau_Data[Province sanitaire],$B$1,Tableau_Data[Date],$D$3)","v":0},null,{"$f":"COUNTIFS(Tableau_Data[Nom du CDS],$B$1,Tableau_Data[Annee],$D$3)","v":0}]
[null,null,null,null,null,null,null,null,null,null,null,null,null,"Total",{"$f":"SUM(O3:O4)","v":0},{"$f":"SUM(P3:P4)","v":0},{"$f":"SUM(Q3:Q4)","v":0},{"$f":"SUM(R3:R4)","v":0},{"$f":"SUM(S3:S4)","v":0},null,{"$f":"U4/AC4","v":{"$error":"#DIV/0!"}},{"$f":"V4/AC4","v":{"$error":"#DIV/0!"}},{"$f":"W4/AC4","v":{"$error":"#DIV/0!"}},{"$f":"X4/AC4","v":{"$error":"#DIV/0!"}},{"$f":"Y4/AC4","v":{"$error":"#DIV/0!"}},{"$f":"Z4/AC4","v":{"$error":"#DIV/0!"}},{"$f":"AA4/AC4","v":{"$error":"#DIV/0!"}}]
[null,null,null,"Total Masculin",null,"Total Féminin",null,null,"TOTAL"]
[null,null,null,{"$f":"SUMIFS(Tableau_Data[Masculin],Tableau_Data[Nom du CDS],$B1,Tableau_Data[Annee],$D$3)","v":0},null,{"$f":"SUMIFS(Tableau_Data[Féminin],Tableau_Data[Nom du CDS],$B1,Tableau_Data[Annee],$D$3)","v":0},null,null,{"$f":"SUM(D7:F7)","v":0}]
[]
[]
[]
[]
[]
[]
[]
[]
[]
[]
[]
[]
[]
[]
[]
[]
[]
[null,null,null,null,null,null,null,null,null,null,null,null,null,"Synthèse : Lieu d'Intervention"]
[null,null,null,null,null,null,null,null,null,null,null,null,"Réseau",{"$f":"B1","v":"CDS Croix Rouge"}]
[null,null,null,null,null,null,null,null,null,null,null,null,null,null,null,null,null,null,null,null,"DEMO. PRESERVATIF",null,null,"TEMOIGNAGE",null,null,null,"TOTAL FICHES"]
[null,null,null,null,null,null,null,null,null,null,null,null,null,null,null,null,null,null,null,null,null,null,null,null,null,null,null,{"$f":"COUNTIFS(Tableau_Data[Nom du CDS],$B$1,Tableau_Data[Annee],$D$3)","v":0}]
[null,null,null,null,null,null,null,null,null,null,null,null,"A","B","C","D",null,null,null,null,"OUI","NON",null,"OUI","NON"]
[null,null,null,null,null,null,null,null,null,null,null,null,{"$f":"Paramètres!F7","v":"IST/VIH-SIDA"},{"$f":"Paramètres!F8","v":"VSBG"},{"$f":"Paramètres!F9","v":"PF"},{"$f":"Paramètres!F10","v":"Autres thèmes SSRAJ"},null,null,null,null,{"$f":"COUNTIFS(Tableau_Data[Démo Preservatif],$U$29,Tableau_Data[Nom du CDS],$B$1,Tableau_Data[Annee],$D$3)","v":0},{"$f":"COUNTIFS(Tableau_Data[Démo Preservatif],$V$29,Tableau_Data[Nom du CDS],$B$1,Tableau_Data[Annee],$D$3)","v":0},null,{"$f":"COUNTIFS(Tableau_Data[Témoignage],$X$29,Tableau_Data[Nom du CDS],$B$1,Tableau_Data[Annee],$D$3)","v":0},{"$f":"COUNTIFS(Tableau_Data[Témoignage],$Y$29,Tableau_Data[Nom du CDS],$B$1,Tableau_Data[Annee],$D$3)","v":0}]
[null,null,null,null,null,null,null,null,null,null,null,"Masculin",{"$f":"SUMIFS(Tableau_Data[Masculin],Tableau_Data[Nom du CDS],$B1,Tableau_Data[Thèmes],$M$30,Tableau_Data[Annee],$D$3)","v":0},{"$f":"SUMIFS(Tableau_Data[Masculin],Tableau_Data[Nom du CDS],$B1,Tableau_Data[Thèmes],$N$30,Tableau_Data[Annee],$D$3)","v":0},{"$f":"SUMIFS(Tableau_Data[Masculin],Tableau_Data[Nom du CDS],$B1,Tableau_Data[Thèmes],$O$30,Tableau_Data[Annee],$D$3)","v":0},{"$f":"SUMIFS(Tableau_Data[Masculin],Tableau_Data[Nom du CDS],$B1,Tableau_Data[Thèmes],$P$30,Tableau_Data[Annee],$D$3)","v":0},null,null,null,null,{"$f":"U30/AB28","v":{"$error":"#DIV/0!"}},{"$f":"V30/AB28","v":{"$error":"#DIV/0!"}},null,{"$f":"X30/AB28","v":{"$error":"#DIV/0!"}},{"$f":"Y30/AB28","v":{"$error":"#DIV/0!"}}]
[null,null,null,null,null,null,null,null,null,null,null,"Féminin",{"$f":"SUMIFS(Tableau_Data[Féminin],Tableau_Data[Nom du CDS],$B1,Tableau_Data[Thèmes],$M$30,Tableau_Data[Annee],$D$3)","v":0},{"$f":"SUMIFS(Tableau_Data[Féminin],Tableau_Data[Nom du CDS],$B1,Tableau_Data[Thèmes],$N$30,Tableau_Data[Annee],$D$3)","v":0},{"$f":"SUMIFS(Tableau_Data[Féminin],Tableau_Data[Nom du CDS],$B1,Tableau_Data[Thèmes],$O$30,Tableau_Data[Annee],$D$3)","v":0},{"$f":"SUMIFS(Tableau_Data[Féminin],Tableau_Data[Nom du CDS],$B1,Tableau_Data[Thèmes],$P$30,Tableau_Data[Annee],$D$3)","v":0}]
[null,null,"Réseau",null,{"$f":"B1","v":"CDS Croix Rouge"},null,null,null,null,null,null,"Total",{"$f":"SUM(M31:M32)","v":0},{"$f":"SUM(N31:N32)","v":0},{"$f":"SUM(O31:O32)","v":0},{"$f":"SUM(P31:P32)","v":0}]
[]
[]
[]
[]
[]
[]
[]
[]
[null,"Rapport de :",null,{"$f":"Paramètres!I18","v":"GIZ"},null,null,"Imprimé le :",null,{"$f":"TODAY()","v":"2023-03-21"}]
[]
[]
[]
[]
[]
[]
[]
[]
[]
[null,null,null,null,null,null,null,null,null,null,null,null,null,"Synthèse : Thèmes traités"]
[]
[]
[]
[]
[]
[null,null,null,null,null,null,null,null,null,null,null,null,"Rapport de :",null,{"$f":"Paramètres!I18","v":"GIZ"},null,null,"Imprimé le :",{"$f":"TODAY()","v":"2023-03-21"}]

{"sheet":"DS-année","index":28,"n_rows":58,"n_cols":29,"rows_kept":58,"cut":false,"hidden":false,"merged":[[57,12,57,13],[57,14,57,15],[57,18,57,19],[6,3,6,4],[6,5,6,6],[24,13,24,15],[25,12,26,12],[25,13,26,17],[32,4,33,8],[0,21,0,26],[41,1,41,2],[41,3,41,4],[51,13,51,15],[32,2,33,2],[0,1,0,4],[0,7,0,8],[2,3,2,5],[3,3,3,5],[5,3,5,4],[5,5,5,6]]}
[null,"Kibumbu",null,null,null,null,null,"District Sanitaire",null,null,null,null,null,null,null,null,null,null,null,null,null,"Analyse axée sur les cibles"]
[null,null,null,null,null,null,null,null,null,null,null,null,null,null,{"$f":"Paramètres!B7","v":"ECOLE"},{"$f":"Paramètres!B8","v":"CENTRE DE SANTE"},{"$f":"Paramètres!B9","v":"COMMUNAUTE"},{"$f":"Paramètres!B10","v":"CENTRE PVH"},{"$f":"Paramètres!B11","v":"EGLISE"},null,"J-ADO-S","H","F","M","J-ADO-NS","B","P-H"]
[null,null,"RAPPORT",2019,null,null,null,null,null,null,null,null,null,"Masculin",{"$f":"SUMIFS(Tableau_Data[Masculin],Tableau_Data[District sanitaire],$B1,Tableau_Data[Lieu d''intervention],$O$2,Tableau_Data[Annee],$D$3)","v":0},{"$f":"SUMIFS(Tableau_Data[Masculin],Tableau_Data[District sanitaire],$B1,Tableau_Data[Lieu d''intervention],$P$2,Tableau_Data[Annee],$D$3)","v":0},{"$f":"SUMIFS(Tableau_Data[Masculin],Tableau_Data[District sanitaire],$B1,Tableau_Data[Lieu d''intervention],$Q$2,Tableau_Data[Annee],$D$3)","v":0},{"$f":"SUMIFS(Tableau_Data[Masculin],Tableau_Data[District sanitaire],$B1,Tableau_Data[Lieu d''intervention],$R$2,Tableau_Data[Annee],$D$3)","v":0},{"$f":"SUMIFS(Tableau_Data[Masculin],Tableau_Data[District sanitaire],$B1,Tableau_Data[Lieu d''intervention],$S$2,Tableau_Data[Annee],$D$3)","v":0},null,{"$f":"Paramètres!K7","v":"Jeunes et Adolescents scolarisés"},{"$f":"Paramètres!K8","v":"Hommes"},{"$f":"Paramètres!K9","v":"Femmes"},{"$f":"Paramètres!K10","v":"Mixte"},{"$f":"Paramètres!K11","v":"Jeunes et Adolescents non scolarisés"},{"$f":"Paramètres!K12","v":"Batwa"},{"$f":"Paramètres!K13","v":"Personnes avec Handicap"},null,"TOTAL FICHES"]
[null,null,null,"Sélectinnez l'année",null,null,null,null,null,null,null,null,null,"Féminin",{"$f":"SUMIFS(Tableau_Data[Féminin],Tableau_Data[District sanitaire],$B1,Tableau_Data[Lieu d''intervention],$O$2,Tableau_Data[Annee],$D$3)","v":0},{"$f":"SUMIFS(Tableau_Data[Féminin],Tableau_Data[District sanitaire],$B1,Tableau_Data[Lieu d''intervention],$P$2,Tableau_Data[Annee],$D$3)","v":0},{"$f":"SUMIFS(Tableau_Data[Féminin],Tableau_Data[District sanitaire],$B1,Tableau_Data[Lieu d''intervention],$Q$2,Tableau_Data[Annee],$D$3)","v":0},{"$f":"SUMIFS(Tableau_Data[Féminin],Tableau_Data[District sanitaire],$B1,Tableau_Data[Lieu d''intervention],$R$2,Tableau_Data[Annee],$D$3)","v":0},{"$f":"SUMIFS(Tableau_Data[Féminin],Tableau_Data[District sanitaire],$B1,Tableau_Data[Lieu d''intervention],$S$2,Tableau_Data[Annee],$D$3)","v":0},null,{"$f":"COUNTIFS(Tableau_Data[Cible],$U$3,Tableau_Data[District sanitaire],$B$1,Tableau_Data[Annee],$D$3)","v":0},{"$f":"COUNTIFS(Tableau_Data[Cible],$V$3,Tableau_Data[District sanitaire],$B$1,Tableau_Data[Annee],$D$3)","v":0},{"$f":"COUNTIFS(Tableau_Data[Cible],$W$3,Tableau_Data[District sanitaire],$B$1,Tableau_Data[Annee],$D$3)","v":0},{"$f":"COUNTIFS(Tableau_Data[Cible],$X$3,Tableau_Data[District sanitaire],$B$1,Tableau_Data[Annee],$D$3)","v":0},{"$f":"COUNTIFS(Tableau_Data[Tranche d''age],$Y$3,Tableau_Data[ASBL],$B$1,Tableau_Data[Date],$D$3)","v":0},{"$f":"COUNTIFS(Tableau_Data[Tranche d''age],$Z$3,Tableau_Data[ASBL],$B$1,Tableau_Data[Date],$D$3)","v":0},{"$f":"COUNTIFS(Tableau_Data[Tranche d''age],$AA$3,Tableau_Data[ASBL],$B$1,Tableau_Data[Date],$D$3)","v":0},null,{"$f":"COUNTIFS(Tableau_Data[District sanitaire],$B$1,Tableau_Data[Annee],$D$3)","v":0}]
[null,null,null,null,null,null,null,null,null,null,null,null,null,"Total",{"$f":"SUM(O3:O4)","v":0},{"$f":"SUM(P3:P4)","v":0},{"$f":"SUM(Q3:Q4)","v":0},{"$f":"SUM(R3:R4)","v":0},{"$f":"SUM(S3:S4)","v":0},null,{"$f":"U4/AC4","v":{"$error":"#DIV/0!"}},{"$f":"V4/AC4","v":{"$error":"#DIV/0!"}},{"$f":"W4/AC4","v":{"$error":"#DIV/0!"}},{"$f":"X4/AC4","v":{"$error":"#DIV/0!"}},{"$f":"Y4/AC4","v":{"$error":"#DIV/0!"}},{"$f":"Z4/AC4","v":{"$error":"#DIV/0!"}},{"$f":"AA4/AC4","v":{"$error":"#DIV/0!"}}]
[null,null,null,"Total Masculin",null,"Total Féminin",null,null,"TOTAL"]
[null,null,null,{"$f":"SUMIFS(Tableau_Data[Masculin],Tableau_Data[District sanitaire],$B1,Tableau_Data[Annee],$D$3)","v":0},null,{"$f":"SUMIFS(Tableau_Data[Féminin],Tableau_Data[District sanitaire],$B1,Tableau_Data[Annee],$D$3)","v":0},null,null,{"$f":"SUM(D7:F7)","v":0}]
[]
[]
[]
[]
[]
[]
[]
[]
[]
[]
[]
[]
[]
[]
[]
[]
[]
[null,null,null,null,null,null,null,null,null,null,null,null,null,"Synthèse : Lieu d'Intervention",null,null,null,null,null,null,"DEMO. PRESERVATIF",null,null,"TEMOIGNAGE",null,null,null,"TOTAL FICHES"]
[null,null,null,null,null,null,null,null,null,null,null,null,"DS",{"$f":"B1","v":"Kibumbu"},null,null,null,null,null,null,null,null,null,null,null,null,null,{"$f":"COUNTIFS(Tableau_Data[District sanitaire],$B$1,Tableau_Data[Annee],$D$3)","v":0}]
[null,null,null,null,null,null,null,null,null,null,null,null,null,null,null,null,null,null,null,null,"OUI","NON",null,"OUI","NON"]
[null,null,null,null,null,null,null,null,null,null,null,null,null,null,null,null,null,null,null,null,{"$f":"COUNTIFS(Tableau_Data[Démo Preservatif],$U$27,Tableau_Data[District sanitaire],$B$1,Tableau_Data[Annee],$D$3)","v":0},{"$f":"COUNTIFS(Tableau_Data[Démo Preservatif],$V$27,Tableau_Data[District sanitaire],$B$1,Tableau_Data[Annee],$D$3)","v":0},null,{"$f":"COUNTIFS(Tableau_Data[Témoignage],$X$27,Tableau_Data[District sanitaire],$B$1,Tableau_Data[Annee],$D$3)","v":0},{"$f":"COUNTIFS(Tableau_Data[Témoignage],$Y$27,Tableau_Data[District sanitaire],$B$1,Tableau_Data[Annee],$D$3)","v":0}]
[null,null,null,null,null,null,null,null,null,null,null,null,"A","B","C","D",null,null,null,null,{"$f":"U28/AB26","v":{"$error":"#DIV/0!"}},{"$f":"V28/AB26","v":{"$error":"#DIV/0!"}},null,{"$f":"X28/AB26","v":{"$error":"#DIV/0!"}},{"$f":"Y28/AB26","v":{"$error":"#DIV/0!"}}]
[null,null,null,null,null,null,null,null,null,null,null,null,{"$f":"Paramètres!F7","v":"IST/VIH-SIDA"},{"$f":"Paramètres!F8","v":"VSBG"},{"$f":"Paramètres!F9","v":"PF"},{"$f":"Paramètres!F10","v":"Autres thèmes SSRAJ"}]
[null,null,null,null,null,null,null,null,null,null,null,"Masculin",{"$f":"SUMIFS(Tableau_Data[Masculin],Tableau_Data[District sanitaire],$B1,Tableau_Data[Thèmes],$M$30,Tableau_Data[Annee],$D$3)","v":0},{"$f":"SUMIFS(Tableau_Data[Masculin],Tableau_Data[District sanitaire],$B1,Tableau_Data[Thèmes],$N$30,Tableau_Data[Annee],$D$3)","v":0},{"$f":"SUMIFS(Tableau_Data[Masculin],Tableau_Data[District sanitaire],$B1,Tableau_Data[Thèmes],$O$30,Tableau_Data[Annee],$D$3)","v":0},{"$f":"SUMIFS(Tableau_Data[Masculin],Tableau_Data[District sanitaire],$B1,Tableau_Data[Thèmes],$P$30,Tableau_Data[Annee],$D$3)","v":0}]
[null,null,null,null,null,null,null,null,null,null,null,"Féminin",{"$f":"SUMIFS(Tableau_Data[Féminin],Tableau_Data[District sanitaire],$B1,Tableau_Data[Thèmes],$M$30,Tableau_Data[Annee],$D$3)","v":0},{"$f":"SUMIFS(Tableau_Data[Féminin],Tableau_Data[District sanitaire],$B1,Tableau_Data[Thèmes],$N$30,Tableau_Data[Annee],$D$3)","v":0},{"$f":"SUMIFS(Tableau_Data[Féminin],Tableau_Data[District sanitaire],$B1,Tableau_Data[Thèmes],$O$30,Tableau_Data[Annee],$D$3)","v":0},{"$f":"SUMIFS(Tableau_Data[Féminin],Tableau_Data[District sanitaire],$B1,Tableau_Data[Thèmes],$P$30,Tableau_Data[Annee],$D$3)","v":0}]
[null,null,"DS",null,{"$f":"B1","v":"Kibumbu"},null,null,null,null,null,null,"Total",{"$f":"SUM(M31:M32)","v":0},{"$f":"SUM(N31:N32)","v":0},{"$f":"SUM(O31:O32)","v":0},{"$f":"SUM(P31:P32)","v":0}]
[]
[]
[]
[]
[]
[]
[]
[]
[null,"Rapport de :",null,{"$f":"Paramètres!I18","v":"GIZ"},null,null,"Imprimé le :",null,{"$f":"TODAY()","v":"2023-03-21"}]
[]
[]
[]
[]
[]
[]
[]
[]
[]
[null,null,null,null,null,null,null,null,null,null,null,null,null,"Synthèse : Thèmes traités"]
[]
[]
[]
[]
[]
[null,null,null,null,null,null,null,null,null,null,null,null,"Rapport de :",null,{"$f":"Paramètres!I18","v":"GIZ"},null,null,"Imprimé le :",{"$f":"TODAY()","v":"2023-03-21"}]

{"sheet":"PS-année","index":29,"n_rows":58,"n_cols":29,"rows_kept":58,"cut":false,"hidden":false,"merged":[[57,12,57,13],[57,14,57,15],[57,18,57,19],[6,3,6,4],[6,5,6,6],[24,13,24,15],[25,12,26,12],[25,13,26,17],[32,4,33,8],[0,21,0,26],[41,1,41,2],[41,3,41,4],[51,13,51,15],[32,2,33,2],[0,1,0,4],[0,7,0,8],[2,3,2,5],[3,3,3,5],[5,3,5,4],[5,5,5,6]]}
[null,"Gitega",null,null,null,null,null,"Province Sanitaire",null,null,null,null,null,null,null,null,null,null,null,null,null,"Analyse axée sur les cibles"]
[null,null,null,null,null,null,null,null,null,null,null,null,null,null,{"$f":"Paramètres!B7","v":"ECOLE"},{"$f":"Paramètres!B8","v":"CENTRE DE SANTE"},{"$f":"Paramètres!B9","v":"COMMUNAUTE"},{"$f":"Paramètres!B10","v":"CENTRE PVH"},{"$f":"Paramètres!B11","v":"EGLISE"},null,"J-ADO-S","H","F","M","J-ADO-NS","B","P-H"]
[null,null,"RAPPORT",2019,null,null,null,null,null,null,null,null,null,"Masculin",{"$f":"SUMIFS(Tableau_Data[Masculin],Tableau_Data[Province sanitaire],$B1,Tableau_Data[Lieu d''intervention],$O$2,Tableau_Data[Annee],$D$3)","v":0},{"$f":"SUMIFS(Tableau_Data[Masculin],Tableau_Data[Province sanitaire],$B1,Tableau_Data[Lieu d''intervention],$P$2,Tableau_Data[Annee],$D$3)","v":0},{"$f":"SUMIFS(Tableau_Data[Masculin],Tableau_Data[Province sanitaire],$B1,Tableau_Data[Lieu d''intervention],$Q$2,Tableau_Data[Annee],$D$3)","v":0},{"$f":"SUMIFS(Tableau_Data[Masculin],Tableau_Data[Province sanitaire],$B1,Tableau_Data[Lieu d''intervention],$R$2,Tableau_Data[Annee],$D$3)","v":0},{"$f":"SUMIFS(Tableau_Data[Masculin],Tableau_Data[Province sanitaire],$B1,Tableau_Data[Lieu d''intervention],$S$2,Tableau_Data[Annee],$D$3)","v":0},null,{"$f":"Paramètres!K7","v":"Jeunes et Adolescents scolarisés"},{"$f":"Paramètres!K8","v":"Hommes"},{"$f":"Paramètres!K9","v":"Femmes"},{"$f":"Paramètres!K10","v":"Mixte"},{"$f":"Paramètres!K11","v":"Jeunes et Adolescents non scolarisés"},{"$f":"Paramètres!K12","v":"Batwa"},{"$f":"Paramètres!K13","v":"Personnes avec Handicap"},null,"TOTAL FICHES"]
[null,null,null,"Sélectinnez l'année",null,null,null,null,null,null,null,null,null,"Féminin",{"$f":"SUMIFS(Tableau_Data[Féminin],Tableau_Data[Province sanitaire],$B1,Tableau_Data[Lieu d''intervention],$O$2,Tableau_Data[Annee],$D$3)","v":0},{"$f":"SUMIFS(Tableau_Data[Féminin],Tableau_Data[Province sanitaire],$B1,Tableau_Data[Lieu d''intervention],$P$2,Tableau_Data[Annee],$D$3)","v":0},{"$f":"SUMIFS(Tableau_Data[Féminin],Tableau_Data[Province sanitaire],$B1,Tableau_Data[Lieu d''intervention],$Q$2,Tableau_Data[Annee],$D$3)","v":0},{"$f":"SUMIFS(Tableau_Data[Féminin],Tableau_Data[Province sanitaire],$B1,Tableau_Data[Lieu d''intervention],$R$2,Tableau_Data[Annee],$D$3)","v":0},{"$f":"SUMIFS(Tableau_Data[Féminin],Tableau_Data[Province sanitaire],$B1,Tableau_Data[Lieu d''intervention],$S$2,Tableau_Data[Annee],$D$3)","v":0},null,{"$f":"COUNTIFS(Tableau_Data[Cible],$U$3,Tableau_Data[Province sanitaire],$B$1,Tableau_Data[Annee],$D$3)","v":0},{"$f":"COUNTIFS(Tableau_Data[Cible],$V$3,Tableau_Data[Province sanitaire],$B$1,Tableau_Data[Annee],$D$3)","v":0},{"$f":"COUNTIFS(Tableau_Data[Cible],$W$3,Tableau_Data[Province sanitaire],$B$1,Tableau_Data[Annee],$D$3)","v":0},{"$f":"COUNTIFS(Tableau_Data[Cible],$X$3,Tableau_Data[Province sanitaire],$B$1,Tableau_Data[Annee],$D$3)","v":0},{"$f":"COUNTIFS(Tableau_Data[Tranche d''age],$Y$3,Tableau_Data[District sanitaire],$B$1,Tableau_Data[Date],$D$3)","v":0},{"$f":"COUNTIFS(Tableau_Data[Tranche d''age],$Z$3,Tableau_Data[District sanitaire],$B$1,Tableau_Data[Date],$D$3)","v":0},{"$f":"COUNTIFS(Tableau_Data[Tranche d''age],$AA$3,Tableau_Data[District sanitaire],$B$1,Tableau_Data[Date],$D$3)","v":0},null,{"$f":"COUNTIFS(Tableau_Data[Province sanitaire],$B$1,Tableau_Data[Annee],$D$3)","v":0}]
[null,null,null,null,null,null,null,null,null,null,null,null,null,"Total",{"$f":"SUM(O3:O4)","v":0},{"$f":"SUM(P3:P4)","v":0},{"$f":"SUM(Q3:Q4)","v":0},{"$f":"SUM(R3:R4)","v":0},{"$f":"SUM(S3:S4)","v":0},null,{"$f":"U4/AC4","v":{"$error":"#DIV/0!"}},{"$f":"V4/AC4","v":{"$error":"#DIV/0!"}},{"$f":"W4/AC4","v":{"$error":"#DIV/0!"}},{"$f":"X4/AC4","v":{"$error":"#DIV/0!"}},{"$f":"Y4/AC4","v":{"$error":"#DIV/0!"}},{"$f":"Z4/AC4","v":{"$error":"#DIV/0!"}},{"$f":"AA4/AC4","v":{"$error":"#DIV/0!"}}]
[null,null,null,"Total Masculin",null,"Total Féminin",null,null,"TOTAL"]
[null,null,null,{"$f":"SUMIFS(Tableau_Data[Masculin],Tableau_Data[Province sanitaire],$B1,Tableau_Data[Annee],$D$3)","v":0},null,{"$f":"SUMIFS(Tableau_Data[Féminin],Tableau_Data[Province sanitaire],$B1,Tableau_Data[Annee],$D$3)","v":0},null,null,{"$f":"SUM(D7:F7)","v":0}]
[]
[]
[]
[]
[]
[]
[]
[]
[]
[]
[]
[]
[]
[]
[]
[]
[]
[null,null,null,null,null,null,null,null,null,null,null,null,null,"Synthèse : Lieu d'Intervention",null,null,null,null,null,null,"DEMO. PRESERVATIF",null,null,"TEMOIGNAGE",null,null,null,"TOTAL FICHES"]
[null,null,null,null,null,null,null,null,null,null,null,null,"PS",{"$f":"B1","v":"Gitega"},null,null,null,null,null,null,null,null,null,null,null,null,null,{"$f":"COUNTIFS(Tableau_Data[Province sanitaire],$B$1,Tableau_Data[Annee],$D$3)","v":0}]
[null,null,null,null,null,null,null,null,null,null,null,null,null,null,null,null,null,null,null,null,"OUI","NON",null,"OUI","NON"]
[null,null,null,null,null,null,null,null,null,null,null,null,null,null,null,null,null,null,null,null,{"$f":"COUNTIFS(Tableau_Data[Démo Preservatif],$U$27,Tableau_Data[Province sanitaire],$B$1,Tableau_Data[Annee],$D$3)","v":0},{"$f":"COUNTIFS(Tableau_Data[Démo Preservatif],$V$27,Tableau_Data[Province sanitaire],$B$1,Tableau_Data[Annee],$D$3)","v":0},null,{"$f":"COUNTIFS(Tableau_Data[Témoignage],$X$27,Tableau_Data[Province sanitaire],$B$1,Tableau_Data[Annee],$D$3)","v":0},{"$f":"COUNTIFS(Tableau_Data[Témoignage],$Y$27,Tableau_Data[Province sanitaire],$B$1,Tableau_Data[Annee],$D$3)","v":0}]
[null,null,null,null,null,null,null,null,null,null,null,null,"A","B","C","D",null,null,null,null,{"$f":"U28/AB26","v":{"$error":"#DIV/0!"}},{"$f":"V28/AB26","v":{"$error":"#DIV/0!"}},null,{"$f":"X28/AB26","v":{"$error":"#DIV/0!"}},{"$f":"Y28/AB26","v":{"$error":"#DIV/0!"}}]
[null,null,null,null,null,null,null,null,null,null,null,null,{"$f":"Paramètres!F7","v":"IST/VIH-SIDA"},{"$f":"Paramètres!F8","v":"VSBG"},{"$f":"Paramètres!F9","v":"PF"},{"$f":"Paramètres!F10","v":"Autres thèmes SSRAJ"}]
[null,null,null,null,null,null,null,null,null,null,null,"Masculin",{"$f":"SUMIFS(Tableau_Data[Masculin],Tableau_Data[Province sanitaire],$B1,Tableau_Data[Thèmes],$M$30,Tableau_Data[Annee],$D$3)","v":0},{"$f":"SUMIFS(Tableau_Data[Masculin],Tableau_Data[Province sanitaire],$B1,Tableau_Data[Thèmes],$N$30,Tableau_Data[Annee],$D$3)","v":0},{"$f":"SUMIFS(Tableau_Data[Masculin],Tableau_Data[Province sanitaire],$B1,Tableau_Data[Thèmes],$O$30,Tableau_Data[Annee],$D$3)","v":0},{"$f":"SUMIFS(Tableau_Data[Masculin],Tableau_Data[Province sanitaire],$B1,Tableau_Data[Thèmes],$P$30,Tableau_Data[Annee],$D$3)","v":0}]
[null,null,null,null,null,null,null,null,null,null,null,"Féminin",{"$f":"SUMIFS(Tableau_Data[Féminin],Tableau_Data[Province sanitaire],$B1,Tableau_Data[Thèmes],$M$30,Tableau_Data[Annee],$D$3)","v":0},{"$f":"SUMIFS(Tableau_Data[Féminin],Tableau_Data[Province sanitaire],$B1,Tableau_Data[Thèmes],$N$30,Tableau_Data[Annee],$D$3)","v":0},{"$f":"SUMIFS(Tableau_Data[Féminin],Tableau_Data[Province sanitaire],$B1,Tableau_Data[Thèmes],$O$30,Tableau_Data[Annee],$D$3)","v":0},{"$f":"SUMIFS(Tableau_Data[Féminin],Tableau_Data[Province sanitaire],$B1,Tableau_Data[Thèmes],$P$30,Tableau_Data[Annee],$D$3)","v":0}]
[null,null,"PS",null,{"$f":"B1","v":"Gitega"},null,null,null,null,null,null,"Total",{"$f":"SUM(M31:M32)","v":0},{"$f":"SUM(N31:N32)","v":0},{"$f":"SUM(O31:O32)","v":0},{"$f":"SUM(P31:P32)","v":0}]
[]
[]
[]
[]
[]
[]
[]
[]
[null,"Rapport de :",null,{"$f":"Paramètres!I18","v":"GIZ"},null,null,"Imprimé le :",null,{"$f":"TODAY()","v":"2023-03-21"}]
[]
[]
[]
[]
[]
[]
[]
[]
[]
[null,null,null,null,null,null,null,null,null,null,null,null,null,"Synthèse : Thèmes traités"]
[]
[]
[]
[]
[]
[null,null,null,null,null,null,null,null,null,null,null,null,"Rapport de :",null,{"$f":"Paramètres!I18","v":"GIZ"},null,null,"Imprimé le :",{"$f":"TODAY()","v":"2023-03-21"}]

{"sheet":"Feuil8","index":30,"n_rows":0,"n_cols":0,"rows_kept":0,"cut":false,"hidden":true,"merged":[]}

{"sheet":"Feuil7","index":31,"n_rows":0,"n_cols":0,"rows_kept":0,"cut":false,"hidden":true,"merged":[]}

{"sheet":"Feuil6","index":32,"n_rows":0,"n_cols":0,"rows_kept":0,"cut":false,"hidden":true,"merged":[]}

{"sheet":"ASBL-année","index":33,"n_rows":58,"n_cols":29,"rows_kept":58,"cut":false,"hidden":false,"merged":[[57,12,57,13],[57,14,57,15],[57,18,57,19],[6,3,6,4],[6,5,6,6],[24,13,24,15],[25,12,26,12],[25,13,26,17],[32,4,33,8],[0,21,0,26],[41,1,41,2],[41,3,41,4],[51,13,51,15],[32,2,33,2],[0,1,0,4],[0,7,0,8],[2,3,2,5],[3,3,3,5],[5,3,5,4],[5,5,5,6]]}
[null,"FVS AMADE",null,null,null,null,null,"ASBL",null,null,null,null,null,null,null,null,null,null,null,null,null,"Analyse axée sur les cibles"]
[null,null,null,null,null,null,null,null,null,null,null,null,null,null,{"$f":"Paramètres!B7","v":"ECOLE"},{"$f":"Paramètres!B8","v":"CENTRE DE SANTE"},{"$f":"Paramètres!B9","v":"COMMUNAUTE"},{"$f":"Paramètres!B10","v":"CENTRE PVH"},{"$f":"Paramètres!B11","v":"EGLISE"},null,"J-ADO-S","H","F","M","J-ADO-NS","B","P-H"]
[null,null,"RAPPORT",2019,null,null,null,null,null,null,null,null,null,"Masculin",{"$f":"SUMIFS(Tableau_Data[Masculin],Tableau_Data[ASBL],$B1,Tableau_Data[Lieu d''intervention],$O$2,Tableau_Data[Annee],$D$3)","v":0},{"$f":"SUMIFS(Tableau_Data[Masculin],Tableau_Data[ASBL],$B1,Tableau_Data[Lieu d''intervention],$P$2,Tableau_Data[Annee],$D$3)","v":0},{"$f":"SUMIFS(Tableau_Data[Masculin],Tableau_Data[ASBL],$B1,Tableau_Data[Lieu d''intervention],$Q$2,Tableau_Data[Annee],$D$3)","v":0},{"$f":"SUMIFS(Tableau_Data[Masculin],Tableau_Data[ASBL],$B1,Tableau_Data[Lieu d''intervention],$R$2,Tableau_Data[Annee],$D$3)","v":0},{"$f":"SUMIFS(Tableau_Data[Masculin],Tableau_Data[ASBL],$B1,Tableau_Data[Lieu d''intervention],$S$2,Tableau_Data[Annee],$D$3)","v":0},null,{"$f":"Paramètres!K7","v":"Jeunes et Adolescents scolarisés"},{"$f":"Paramètres!K8","v":"Hommes"},{"$f":"Paramètres!K9","v":"Femmes"},{"$f":"Paramètres!K10","v":"Mixte"},{"$f":"Paramètres!K11","v":"Jeunes et Adolescents non scolarisés"},{"$f":"Paramètres!K12","v":"Batwa"},{"$f":"Paramètres!K13","v":"Personnes avec Handicap"},null,"TOTAL FICHES"]
[null,null,null,"Sélectinnez l'année",null,null,null,null,null,null,null,null,null,"Féminin",{"$f":"SUMIFS(Tableau_Data[Féminin],Tableau_Data[ASBL],$B1,Tableau_Data[Lieu d''intervention],$O$2,Tableau_Data[Annee],$D$3)","v":0},{"$f":"SUMIFS(Tableau_Data[Féminin],Tableau_Data[ASBL],$B1,Tableau_Data[Lieu d''intervention],$P$2,Tableau_Data[Annee],$D$3)","v":0},{"$f":"SUMIFS(Tableau_Data[Féminin],Tableau_Data[ASBL],$B1,Tableau_Data[Lieu d''intervention],$Q$2,Tableau_Data[Annee],$D$3)","v":0},{"$f":"SUMIFS(Tableau_Data[Féminin],Tableau_Data[ASBL],$B1,Tableau_Data[Lieu d''intervention],$R$2,Tableau_Data[Annee],$D$3)","v":0},{"$f":"SUMIFS(Tableau_Data[Féminin],Tableau_Data[ASBL],$B1,Tableau_Data[Lieu d''intervention],$S$2,Tableau_Data[Annee],$D$3)","v":0},null,{"$f":"COUNTIFS(Tableau_Data[Cible],$U$3,Tableau_Data[ASBL],$B$1,Tableau_Data[Annee],$D$3)","v":0},{"$f":"COUNTIFS(Tableau_Data[Cible],$V$3,Tableau_Data[ASBL],$B$1,Tableau_Data[Annee],$D$3)","v":0},{"$f":"COUNTIFS(Tableau_Data[Cible],$W$3,Tableau_Data[ASBL],$B$1,Tableau_Data[Annee],$D$3)","v":0},{"$f":"COUNTIFS(Tableau_Data[Cible],$X$3,Tableau_Data[ASBL],$B$1,Tableau_Data[Annee],$D$3)","v":0},{"$f":"COUNTIFS(Tableau_Data[Tranche d''age],$Y$3,Tableau_Data[Durée (En minutes)],$B$1,Tableau_Data[Date],$D$3)","v":0},{"$f":"COUNTIFS(Tableau_Data[Tranche d''age],$Z$3,Tableau_Data[Durée (En minutes)],$B$1,Tableau_Data[Date],$D$3)","v":0},{"$f":"COUNTIFS(Tableau_Data[Tranche d''age],$AA$3,Tableau_Data[Durée (En minutes)],$B$1,Tableau_Data[Date],$D$3)","v":0},null,{"$f":"COUNTIFS(Tableau_Data[ASBL],$B$1,Tableau_Data[Annee],$D$3)","v":0}]
[null,null,null,null,null,null,null,null,null,null,null,null,null,"Total",{"$f":"SUM(O3:O4)","v":0},{"$f":"SUM(P3:P4)","v":0},{"$f":"SUM(Q3:Q4)","v":0},{"$f":"SUM(R3:R4)","v":0},{"$f":"SUM(S3:S4)","v":0},null,{"$f":"U4/AC4","v":{"$error":"#DIV/0!"}},{"$f":"V4/AC4","v":{"$error":"#DIV/0!"}},{"$f":"W4/AC4","v":{"$error":"#DIV/0!"}},{"$f":"X4/AC4","v":{"$error":"#DIV/0!"}},{"$f":"Y4/AC4","v":{"$error":"#DIV/0!"}},{"$f":"Z4/AC4","v":{"$error":"#DIV/0!"}},{"$f":"AA4/AC4","v":{"$error":"#DIV/0!"}}]
[null,null,null,"Total Masculin",null,"Total Féminin",null,null,"TOTAL"]
[null,null,null,{"$f":"SUMIFS(Tableau_Data[Masculin],Tableau_Data[ASBL],$B1,Tableau_Data[Annee],$D$3)","v":0},null,{"$f":"SUMIFS(Tableau_Data[Féminin],Tableau_Data[ASBL],$B1,Tableau_Data[Annee],$D$3)","v":0},null,null,{"$f":"SUM(D7:F7)","v":0}]
[]
[]
[]
[]
[]
[]
[]
[]
[]
[]
[]
[]
[]
[]
[]
[]
[]
[null,null,null,null,null,null,null,null,null,null,null,null,null,"Synthèse : Lieu d'Intervention"]
[null,null,null,null,null,null,null,null,null,null,null,null,"ASBL",{"$f":"B1","v":"FVS AMADE"},null,null,null,null,null,null,"DEMO. PRESERVATIF",null,null,"TEMOIGNAGE",null,null,null,"TOTAL FICHES"]
[null,null,null,null,null,null,null,null,null,null,null,null,null,null,null,null,null,null,null,null,null,null,null,null,null,null,null,{"$f":"COUNTIFS(Tableau_Data[ASBL],$B$1,Tableau_Data[Annee],$D$3)","v":0}]
[null,null,null,null,null,null,null,null,null,null,null,null,null,null,null,null,null,null,null,null,"OUI","NON",null,"OUI","NON"]
[null,null,null,null,null,null,null,null,null,null,null,null,"A","B","C","D",null,null,null,null,{"$f":"COUNTIFS(Tableau_Data[Démo Preservatif],$U$28,Tableau_Data[ASBL],$B$1,Tableau_Data[Annee],$D$3)","v":0},{"$f":"COUNTIFS(Tableau_Data[Démo Preservatif],$V$28,Tableau_Data[ASBL],$B$1,Tableau_Data[Annee],$D$3)","v":0},null,{"$f":"COUNTIFS(Tableau_Data[Témoignage],$X$28,Tableau_Data[ASBL],$B$1,Tableau_Data[Annee],$D$3)","v":0},{"$f":"COUNTIFS(Tableau_Data[Témoignage],$Y$28,Tableau_Data[ASBL],$B$1,Tableau_Data[Annee],$D$3)","v":0}]
[null,null,null,null,null,null,null,null,null,null,null,null,{"$f":"Paramètres!F7","v":"IST/VIH-SIDA"},{"$f":"Paramètres!F8","v":"VSBG"},{"$f":"Paramètres!F9","v":"PF"},{"$f":"Paramètres!F10","v":"Autres thèmes SSRAJ"},null,null,null,null,{"$f":"U29/AB27","v":{"$error":"#DIV/0!"}},{"$f":"V29/AB27","v":{"$error":"#DIV/0!"}},null,{"$f":"X29/AB27","v":{"$error":"#DIV/0!"}},{"$f":"Y29/AB27","v":{"$error":"#DIV/0!"}}]
[null,null,null,null,null,null,null,null,null,null,null,"Masculin",{"$f":"SUMIFS(Tableau_Data[Masculin],Tableau_Data[ASBL],$B1,Tableau_Data[Thèmes],$M$30,Tableau_Data[Annee],$D$3)","v":0},{"$f":"SUMIFS(Tableau_Data[Masculin],Tableau_Data[ASBL],$B1,Tableau_Data[Thèmes],$N$30,Tableau_Data[Annee],$D$3)","v":0},{"$f":"SUMIFS(Tableau_Data[Masculin],Tableau_Data[ASBL],$B1,Tableau_Data[Thèmes],$O$30,Tableau_Data[Annee],$D$3)","v":0},{"$f":"SUMIFS(Tableau_Data[Masculin],Tableau_Data[ASBL],$B1,Tableau_Data[Thèmes],$P$30,Tableau_Data[Annee],$D$3)","v":0}]
[null,null,null,null,null,null,null,null,null,null,null,"Féminin",{"$f":"SUMIFS(Tableau_Data[Féminin],Tableau_Data[ASBL],$B1,Tableau_Data[Thèmes],$M$30,Tableau_Data[Annee],$D$3)","v":0},{"$f":"SUMIFS(Tableau_Data[Féminin],Tableau_Data[ASBL],$B1,Tableau_Data[Thèmes],$N$30,Tableau_Data[Annee],$D$3)","v":0},{"$f":"SUMIFS(Tableau_Data[Féminin],Tableau_Data[ASBL],$B1,Tableau_Data[Thèmes],$O$30,Tableau_Data[Annee],$D$3)","v":0},{"$f":"SUMIFS(Tableau_Data[Féminin],Tableau_Data[ASBL],$B1,Tableau_Data[Thèmes],$P$30,Tableau_Data[Annee],$D$3)","v":0}]
[null,null,"ASBL",null,{"$f":"B1","v":"FVS AMADE"},null,null,null,null,null,null,"Total",{"$f":"SUM(M31:M32)","v":0},{"$f":"SUM(N31:N32)","v":0},{"$f":"SUM(O31:O32)","v":0},{"$f":"SUM(P31:P32)","v":0}]
[]
[]
[]
[]
[]
[]
[]
[]
[null,"Rapport de :",null,{"$f":"Paramètres!I18","v":"GIZ"},null,null,"Imprimé le :",null,{"$f":"TODAY()","v":"2023-03-21"}]
[]
[]
[]
[]
[]
[]
[]
[]
[]
[null,null,null,null,null,null,null,null,null,null,null,null,null,"Synthèse : Thèmes traités"]
[]
[]
[]
[]
[]
[null,null,null,null,null,null,null,null,null,null,null,null,"Rapport de :",null,{"$f":"Paramètres!I18","v":"GIZ"},null,null,"Imprimé le :",{"$f":"TODAY()","v":"2023-03-21"}]

{"sheet":"Accès","index":34,"n_rows":19,"n_cols":29,"rows_kept":19,"cut":false,"hidden":false,"merged":[]}
["NOM","Mot de Passe","Paramètres","Données","Menu","Programme","Espace Admin","Reseaux","DS","PS","ASBL","RecapGlobal","Reseaux-mois","DS-mois","PS-mois","ASBL-mois","Reseaux-année","DS-année","PS-année","ASBL-année","Reseaux-Période","DS-Période","PS-Période","ASBL-Période","Reseaux-Tranche age","DS-Tranche age","PS-Tranche age","ASBL-Tranche age","Accès"]
["BACKUP","USER","x","x","x","x","x","x","x","x","x","x","x","x","x","x","x","x","x","x","x","x","x","x","x","x","x","x","x"]
["LAETITIA","laety","x","x","x","x","x","x","x","x","x","x","x","x","x","x","x","x","x","x","x","x","x","x","x","x","x","x","x"]
["REMY","remix","x","x","x","x","x","x","x","x","x","x","x","x","x","x","x","x","x","x","x","x","x","x","x","x","x","x","x"]
["BLAISE","blaise","x","x","x","x","x","x","x","x","x","x","x","x","x","x","x","x","x","x","x","x","x","x","x","x","x","x","x"]
["PIERRE","peter","x","x","x","x","x","x","x","x","x","x","x","x","x","x","x","x","x","x","x","x","x","x","x","x","x","x","x"]
["NTURENGAHO","nturengaho",null,"x","x","x",null,"x","x","x","x","x","x","x","x","x","x","x","x","x","x","x","x","x","x","x","x","x"]
["FVS","amade",null,"x","x","x",null,"x","x","x","x","x","x","x","x","x","x","x","x","x","x","x","x","x","x","x","x","x"]
["RCBIF","rcbif",null,"x","x","x",null,"x","x","x","x","x","x","x","x","x","x","x","x","x","x","x","x","x","x","x","x","x"]
["UPHB","uphb",null,"x","x","x",null,"x","x","x","x","x","x","x","x","x","x","x","x","x","x","x","x","x","x","x","x","x"]
["SYM","sym",null,"x","x","x",null,"x","x","x","x","x","x","x","x","x","x","x","x","x","x","x","x","x","x","x","x","x"]
[]
[]
[]
[]
[]
[]
[]
[null,null,null,null,null,null,null,null,null,null,null,null,"X = je donne accès"]